{"text_format":"2","workbook":"xlsx","n_sheets":77,"sheets":["New Listings Graph","New Listings","Inventory","Residential Inventory 23","Total Res Inv 23 - Line","Total Inventory 23- Line","Total Inventory 23","YOY New Inventory","Total Sold by Class 23","Total Property Sold","Unit Sales Data","Active Distressed prop","Year to Year Sales 23","Total Year to Year Sales"," Three Year Snapshot 23","3 Yr Snapshot","One Year Snapshot 23","1 YR Snapshot","Distressed Sales 23","Distressed Inventory 23","Distressed Data","Median Sale Price SFD","Month to Month Res Median Sale","Y-O-Y Sales comparison","Residential Sales 23","Res Median Sale Price 23","SFD Median Sale Price 23","Condo Median Sale Price 23","Residential","Sold Listings by Town - Chart","Sold Residential by Town","Land by Type 23","Lots  Land Units Sold 23","Lots Land Median Sale Price 23","Land Data","Lots Land Inventory Line","Res Inventory 23","Lots Land Inventory 23","Total Inventory 24","YOY Inventory","Sold Price per SF 23","Sold Price per SF data","Absorption Rate","Absorption Rate data","Residential DOM 23","Lots Land DOM 23","Avg DOM","UCs - Line Graph","Total Under Contract 23","Total Under Contract","2020 Buliding Permits","2021 DC Building Permits","2022","2023","NC Numbers","New Const Permits","New Const Value Graph","2019 Building Permit Value","2020 Building Permit Value","2021 DC  Building Permit Value","DC Permit Value 2022","DC Building Permit Value 2023","DC New Const Value","YOY DC Building Permit Value 21","YOY DC Building Permit Value 20","DC Building Permit ","YOY DC Building Permit Value","NC Building Permit Data","Total CC Permit Value y-o y21-","CC Permit Value 2022 vs 2023","Total CC Permit Value y-o-y","Total CC Building Permits 21 22","CC Buildig Permints 22-23","Total CC Permits y-o-y","Data Tables","Raw Data","Sheet1"],"not_rendered":{"charts":105,"images":0,"macros":0,"external_links":0,"defined_names":1,"comments":0,"pivot_tables":0},"unopened":[{"sheet":"New Listings Graph","index":0,"reason":"not_a_worksheet"},{"sheet":"Inventory","index":2,"reason":"not_a_worksheet"},{"sheet":"Residential Inventory 23","index":3,"reason":"not_a_worksheet"},{"sheet":"Total Res Inv 23 - Line","index":4,"reason":"not_a_worksheet"},{"sheet":"Total Inventory 23- Line","index":5,"reason":"not_a_worksheet"},{"sheet":"Total Inventory 23","index":6,"reason":"not_a_worksheet"},{"sheet":"Total Sold by Class 23","index":8,"reason":"not_a_worksheet"},{"sheet":"Total Property Sold","index":9,"reason":"not_a_worksheet"},{"sheet":"Active Distressed prop","index":11,"reason":"not_a_worksheet"},{"sheet":"Year to Year Sales 23","index":12,"reason":"not_a_worksheet"},{"sheet":" Three Year Snapshot 23","index":14,"reason":"not_a_worksheet"},{"sheet":"One Year Snapshot 23","index":16,"reason":"not_a_worksheet"},{"sheet":"Distressed Sales 23","index":18,"reason":"not_a_worksheet"},{"sheet":"Distressed Inventory 23","index":19,"reason":"not_a_worksheet"},{"sheet":"Median Sale Price SFD","index":21,"reason":"not_a_worksheet"},{"sheet":"Month to Month Res Median Sale","index":22,"reason":"not_a_worksheet"},{"sheet":"Y-O-Y Sales comparison","index":23,"reason":"not_a_worksheet"},{"sheet":"Residential Sales 23","index":24,"reason":"not_a_worksheet"},{"sheet":"Res Median Sale Price 23","index":25,"reason":"not_a_worksheet"},{"sheet":"SFD Median Sale Price 23","index":26,"reason":"not_a_worksheet"},{"sheet":"Condo Median Sale Price 23","index":27,"reason":"not_a_worksheet"},{"sheet":"Sold Listings by Town - Chart","index":29,"reason":"not_a_worksheet"},{"sheet":"Land by Type 23","index":31,"reason":"not_a_worksheet"},{"sheet":"Lots  Land Units Sold 23","index":32,"reason":"not_a_worksheet"},{"sheet":"Lots Land Median Sale Price 23","index":33,"reason":"not_a_worksheet"},{"sheet":"Lots Land Inventory Line","index":35,"reason":"not_a_worksheet"},{"sheet":"Res Inventory 23","index":36,"reason":"not_a_worksheet"},{"sheet":"Lots Land Inventory 23","index":37,"reason":"not_a_worksheet"},{"sheet":"Total Inventory 24","index":38,"reason":"not_a_worksheet"},{"sheet":"Sold Price per SF 23","index":40,"reason":"not_a_worksheet"},{"sheet":"Absorption Rate","index":42,"reason":"not_a_worksheet"},{"sheet":"Residential DOM 23","index":44,"reason":"not_a_worksheet"},{"sheet":"Lots Land DOM 23","index":45,"reason":"not_a_worksheet"},{"sheet":"UCs - Line Graph","index":47,"reason":"not_a_worksheet"},{"sheet":"Total Under Contract 23","index":48,"reason":"not_a_worksheet"},{"sheet":"2020 Buliding Permits","index":50,"reason":"not_a_worksheet"},{"sheet":"2021 DC Building Permits","index":51,"reason":"not_a_worksheet"},{"sheet":"2022","index":52,"reason":"not_a_worksheet"},{"sheet":"2023","index":53,"reason":"not_a_worksheet"},{"sheet":"New Const Value Graph","index":56,"reason":"not_a_worksheet"},{"sheet":"2019 Building Permit Value","index":57,"reason":"not_a_worksheet"},{"sheet":"2020 Building Permit Value","index":58,"reason":"not_a_worksheet"},{"sheet":"2021 DC  Building Permit Value","index":59,"reason":"not_a_worksheet"},{"sheet":"DC Permit Value 2022","index":60,"reason":"not_a_worksheet"},{"sheet":"DC Building Permit Value 2023","index":61,"reason":"not_a_worksheet"},{"sheet":"YOY DC Building Permit Value 21","index":63,"reason":"not_a_worksheet"},{"sheet":"YOY DC Building Permit Value 20","index":64,"reason":"not_a_worksheet"},{"sheet":"DC Building Permit ","index":65,"reason":"not_a_worksheet"},{"sheet":"Total CC Permit Value y-o y21-","index":68,"reason":"not_a_worksheet"},{"sheet":"CC Permit Value 2022 vs 2023","index":69,"reason":"not_a_worksheet"},{"sheet":"Total CC Building Permits 21 22","index":71,"reason":"not_a_worksheet"},{"sheet":"CC Buildig Permints 22-23","index":72,"reason":"not_a_worksheet"}],"bounds":{"document_bytes":16777216,"sheet_cells":100000,"run_cost":"one","rows_first":2000,"rows_last":500,"rows_between":2000,"halvings":0,"cell_chars":16384,"cell_head_chars":4096},"cells_cut":0,"cells_raw":0,"read":"whole","date_system":"1900"}

{"sheet":"New Listings","index":1,"n_rows":2,"n_cols":237,"rows_kept":2,"cut":false,"hidden":false,"merged":[]}
["2004-08-01","2004-09-01","2004-10-01","2004-11-01","2004-12-01","2005-01-01","2005-02-01","2005-03-01","2005-04-01","2005-05-01","2005-06-01","2005-07-01","2005-08-01","2005-09-01","2005-10-01","2005-11-01","2005-12-01","2006-01-01","2006-02-01","2006-03-01","2006-04-01","2006-05-01","2006-06-01","2006-07-01","2006-08-01","2006-09-01","2006-10-01","2006-11-01","2006-12-01","2007-01-01","2007-02-01","2007-03-01","2007-04-01","2007-05-01","2007-06-01","2007-07-01","2007-08-01","2007-09-01","2007-10-01","2007-11-01","2007-12-01","2008-01-01","2008-02-01","2008-03-01","2008-04-01","2008-05-01","2008-06-01","2008-07-01","2008-08-01","2008-09-01","2008-10-01","2008-11-01","2008-12-01","2009-01-01","2009-02-01","2009-03-01","2009-04-01","2009-05-01","2009-06-01","2009-07-01","2009-08-01","2009-09-01","2009-10-01","2009-11-01","2009-12-01","2010-01-01","2010-02-01","2010-03-01","2010-04-01","2010-05-01","2010-06-01","2010-07-01","2010-08-01","2010-09-01","2010-10-01","2010-11-01","2010-12-01","2011-01-01","2011-02-01","2011-03-01","2011-04-01","2011-05-01","2011-06-01","2011-07-01","2011-08-01","2011-09-01","2011-10-01","2011-11-01","2011-12-01","2012-01-01","2012-02-01","2012-03-01","2012-04-01","2012-05-01","2012-06-01","2012-07-01","2012-08-01","2012-09-01","2012-10-01","2012-11-01","2012-12-01","2013-01-01","2013-02-01","2013-03-01","2013-04-01","2013-05-01","2013-06-01","2013-07-01","2013-08-01","2013-09-01","2013-10-01","2013-11-01","2013-12-01","2014-01-01","2014-02-01","2014-03-01","2014-04-01","2014-05-01","2014-06-01","2014-07-01","2014-08-01","2014-09-01","2014-10-01","2014-11-01","2014-12-01","2015-01-01","2015-02-01","2015-03-01","2015-04-01","2015-05-01","2015-06-01","2015-07-01","2015-08-01","2015-09-01","2015-10-01","2015-11-01","2015-12-01","2016-01-01","2016-02-01","2016-03-01","2016-04-01","2016-05-01","2016-06-01","2016-07-01","2016-08-01","2016-09-01","2016-10-01","2016-11-01","2016-12-01","2017-01-01","2017-02-01","2017-03-01","2017-04-01","2017-05-01","2017-06-01","2017-07-01","2017-08-01","2017-09-01","2017-10-01","2017-11-01","2017-12-01","2018-01-01","2018-02-01","2018-03-01","2018-04-01","2018-05-01","2018-06-01","2018-07-01","2018-08-01","2018-09-01","2018-10-01","2018-11-01","2018-12-01","2019-01-01","2019-02-01","2019-03-01","2019-04-01","2019-05-01","2019-06-01","2019-07-01","2019-08-01","2019-09-01","2019-10-01","2019-11-01","2019-12-01","2020-01-01","2020-02-01","2020-03-01","2020-04-01","2020-05-01","2020-06-01","2020-07-01","2020-08-01","2020-09-01","2020-10-01","2020-11-01","2020-12-01","2021-01-01","2021-02-01","2021-03-01","2021-04-01","2021-05-01","2021-06-01","2021-07-01","2021-08-01","2021-09-01","2021-10-01","2021-11-01","2021-12-01","2022-01-01","2022-02-01","2022-03-01","2022-04-01","2022-05-01","2022-06-01","2022-07-01","2022-08-01","2022-09-01","2022-10-01","2022-11-01","2022-12-01","2023-01-01","2023-02-01","2023-03-01","2023-04-01","2023-05-01","2023-06-01","2023-07-01","2023-08-01","2023-09-01","2023-10-01","2023-11-01","2023-12-01","2024-01-01","2024-02-01","2024-03-01","2024-04-01"]
[{"$f":"'Raw Data'!P3","v":233},{"$f":"'Raw Data'!Q3","v":303},{"$f":"'Raw Data'!R3","v":282},{"$f":"'Raw Data'!S3","v":296},{"$f":"'Raw Data'!T3","v":196},{"$f":"'Raw Data'!U3","v":328},{"$f":"'Raw Data'!V3","v":367},{"$f":"'Raw Data'!W3","v":411},{"$f":"'Raw Data'!X3","v":451},{"$f":"'Raw Data'!Y3","v":385},{"$f":"'Raw Data'!Z3","v":424},{"$f":"'Raw Data'!AA3","v":474},{"$f":"'Raw Data'!AB3","v":591},{"$f":"'Raw Data'!AC3","v":560},{"$f":"'Raw Data'!AD3","v":618},{"$f":"'Raw Data'!AE3","v":631},{"$f":"'Raw Data'!AF3","v":480},{"$f":"'Raw Data'!AG3","v":637},{"$f":"'Raw Data'!AH3","v":721},{"$f":"'Raw Data'!AI3","v":833},{"$f":"'Raw Data'!AJ3","v":809},{"$f":"'Raw Data'!AK3","v":792},{"$f":"'Raw Data'!AL3","v":659},{"$f":"'Raw Data'!AM3","v":549},{"$f":"'Raw Data'!AN3","v":573},{"$f":"'Raw Data'!AO3","v":567},{"$f":"'Raw Data'!AP3","v":502},{"$f":"'Raw Data'!AQ3","v":453},{"$f":"'Raw Data'!AR3","v":333},{"$f":"'Raw Data'!AS3","v":670},{"$f":"'Raw Data'!AT3","v":639},{"$f":"'Raw Data'!AU3","v":744},{"$f":"'Raw Data'!AV3","v":678},{"$f":"'Raw Data'!AW3","v":637},{"$f":"'Raw Data'!AX3","v":510},{"$f":"'Raw Data'!AY3","v":537},{"$f":"'Raw Data'!AZ3","v":569},{"$f":"'Raw Data'!BA3","v":492},{"$f":"'Raw Data'!BB3","v":544},{"$f":"'Raw Data'!BC3","v":479},{"$f":"'Raw Data'!BD3","v":314},{"$f":"'Raw Data'!BE3","v":571},{"$f":"'Raw Data'!BF3","v":579},{"$f":"'Raw Data'!BG3","v":592},{"$f":"'Raw Data'!BH3","v":467},{"$f":"'Raw Data'!BI3","v":426},{"$f":"'Raw Data'!BJ3","v":466},{"$f":"'Raw Data'!BK3","v":424},{"$f":"'Raw Data'!BL3","v":458},{"$f":"'Raw Data'!BM3","v":498},{"$f":"'Raw Data'!BN3","v":442},{"$f":"'Raw Data'!BO3","v":341},{"$f":"'Raw Data'!BP3","v":249},{"$f":"'Raw Data'!BQ3","v":497},{"$f":"'Raw Data'!BR3","v":497},{"$f":"'Raw Data'!BS3","v":584},{"$f":"'Raw Data'!BT3","v":445},{"$f":"'Raw Data'!BU3","v":499},{"$f":"'Raw Data'!BV3","v":484},{"$f":"'Raw Data'!BW3","v":435},{"$f":"'Raw Data'!BX3","v":414},{"$f":"'Raw Data'!BY3","v":448},{"$f":"'Raw Data'!BZ3","v":401},{"$f":"'Raw Data'!CA3","v":308},{"$f":"'Raw Data'!CB3","v":233},{"$f":"'Raw Data'!CC3","v":361},{"$f":"'Raw Data'!CD3","v":424},{"$f":"'Raw Data'!CE3","v":573},{"$f":"'Raw Data'!CF3","v":516},{"$f":"'Raw Data'!CG3","v":398},{"$f":"'Raw Data'!CH3","v":400},{"$f":"'Raw Data'!CI3","v":324},{"$f":"'Raw Data'!CJ3","v":369},{"$f":"'Raw Data'!CK3","v":339},{"$f":"'Raw Data'!CL3","v":298},{"$f":"'Raw Data'!CM3","v":300},{"$f":"'Raw Data'!CN3","v":198},{"$f":"'Raw Data'!CO3","v":340},{"$f":"'Raw Data'!CP3","v":364},{"$f":"'Raw Data'!CQ3","v":470},{"$f":"'Raw Data'!CR3","v":365},{"$f":"'Raw Data'!CS3","v":353},{"$f":"'Raw Data'!CT3","v":342},{"$f":"'Raw Data'!CU3","v":282},{"$f":"'Raw Data'!CV3","v":252},{"$f":"'Raw Data'!CW3","v":264},{"$f":"'Raw Data'!CX3","v":398},{"$f":"'Raw Data'!CY3","v":340},{"$f":"'Raw Data'!CZ3","v":268},{"$f":"'Raw Data'!DA3","v":361},{"$f":"'Raw Data'!DB3","v":467},{"$f":"'Raw Data'!DC3","v":477},{"$f":"'Raw Data'!DD3","v":441},{"$f":"'Raw Data'!DE3","v":381},{"$f":"'Raw Data'!DF3","v":324},{"$f":"'Raw Data'!DG3","v":349},{"$f":"'Raw Data'!DH3","v":346},{"$f":"'Raw Data'!DI3","v":328},{"$f":"'Raw Data'!DJ3","v":342},{"$f":"'Raw Data'!DK3","v":268},{"$f":"'Raw Data'!DL3","v":215},{"$f":"'Raw Data'!DM3","v":416},{"$f":"'Raw Data'!DN3","v":337},{"$f":"'Raw Data'!DO3","v":435},{"$f":"'Raw Data'!DP3","v":465},{"$f":"'Raw Data'!DQ3","v":388},{"$f":"'Raw Data'!DR3","v":351},{"$f":"'Raw Data'!DS3","v":353},{"$f":"'Raw Data'!DT3","v":377},{"$f":"'Raw Data'!DU3","v":342},{"$f":"'Raw Data'!DV3","v":425},{"$f":"'Raw Data'!DW3","v":347},{"$f":"'Raw Data'!DX3","v":213},{"$f":"'Raw Data'!DY3","v":373},{"$f":"'Raw Data'!DZ3","v":378},{"$f":"'Raw Data'!EA3","v":514},{"$f":"'Raw Data'!EB3","v":455},{"$f":"'Raw Data'!EC3","v":437},{"$f":"'Raw Data'!ED3","v":382},{"$f":"'Raw Data'!EE3","v":368},{"$f":"'Raw Data'!EF3","v":360},{"$f":"'Raw Data'!EG3","v":361},{"$f":"'Raw Data'!EH3","v":331},{"$f":"'Raw Data'!EI3","v":276},{"$f":"'Raw Data'!EJ3","v":198},{"$f":"'Raw Data'!EK3","v":394},{"$f":"'Raw Data'!EL3","v":378},{"$f":"'Raw Data'!EM3","v":464},{"$f":"'Raw Data'!EN3","v":458},{"$f":"'Raw Data'!EO3","v":419},{"$f":"'Raw Data'!EP3","v":359},{"$f":"'Raw Data'!EQ3","v":344},{"$f":"'Raw Data'!ER3","v":326},{"$f":"'Raw Data'!ES3","v":418},{"$f":"'Raw Data'!ET3","v":331},{"$f":"'Raw Data'!EU3","v":296},{"$f":"'Raw Data'!EV3","v":245},{"$f":"'Raw Data'!EW3","v":326},{"$f":"'Raw Data'!EX3","v":394},{"$f":"'Raw Data'!EY3","v":440},{"$f":"'Raw Data'!EZ3","v":449},{"$f":"'Raw Data'!FA3","v":335},{"$f":"'Raw Data'!FB3","v":384},{"$f":"'Raw Data'!FC3","v":305},{"$f":"'Raw Data'!FD3","v":304},{"$f":"'Raw Data'!FE3","v":367},{"$f":"'Raw Data'!FF3","v":256},{"$f":"'Raw Data'!FG3","v":270},{"$f":"'Raw Data'!FH3","v":213},{"$f":"'Raw Data'!FI3","v":343},{"$f":"'Raw Data'!FJ3","v":358},{"$f":"'Raw Data'!FK3","v":471},{"$f":"'Raw Data'!FL3","v":366},{"$f":"'Raw Data'!FM3","v":397},{"$f":"'Raw Data'!FN3","v":325},{"$f":"'Raw Data'!FO3","v":329},{"$f":"'Raw Data'!FP3","v":347},{"$f":"'Raw Data'!FQ3","v":310},{"$f":"'Raw Data'!FR3","v":366},{"$f":"'Raw Data'!FS3","v":275},{"$f":"'Raw Data'!FT3","v":204},{"$f":"'Raw Data'!FU3","v":283},{"$f":"'Raw Data'!FV3","v":354},{"$f":"'Raw Data'!FW3","v":457},{"$f":"'Raw Data'!FX3","v":390},{"$f":"'Raw Data'!FY3","v":429},{"$f":"'Raw Data'!FZ3","v":368},{"$f":"'Raw Data'!GA3","v":356},{"$f":"'Raw Data'!GB3","v":405},{"$f":"'Raw Data'!GC3","v":269},{"$f":"'Raw Data'!GD3","v":404},{"$f":"'Raw Data'!GE3","v":320},{"$f":"'Raw Data'!GF3","v":224},{"$f":"'Raw Data'!GG3","v":409},{"$f":"'Raw Data'!GH3","v":433},{"$f":"'Raw Data'!GI3","v":564},{"$f":"'Raw Data'!GJ3","v":479},{"$f":"'Raw Data'!GK3","v":397},{"$f":"'Raw Data'!GL3","v":321},{"$f":"'Raw Data'!GM3","v":339},{"$f":"'Raw Data'!GN3","v":385},{"$f":"'Raw Data'!GO3","v":321},{"$f":"'Raw Data'!GP3","v":431},{"$f":"'Raw Data'!GQ3","v":335},{"$f":"'Raw Data'!GR3","v":214},{"$f":"'Raw Data'!GS3","v":401},{"$f":"'Raw Data'!GT3","v":423},{"$f":"'Raw Data'!GU3","v":384},{"$f":"'Raw Data'!GV3","v":151},{"$f":"'Raw Data'!GW3","v":387},{"$f":"'Raw Data'!GX3","v":418},{"$f":"'Raw Data'!GY3","v":448},{"$f":"'Raw Data'!GZ3","v":411},{"$f":"'Raw Data'!HA3","v":482},{"$f":"'Raw Data'!HB3","v":429},{"$f":"'Raw Data'!HC3","v":346},{"$f":"'Raw Data'!HD3","v":254},{"$f":"'Raw Data'!HE3","v":357},{"$f":"'Raw Data'!HF3","v":411},{"$f":"'Raw Data'!HG3","v":478},{"$f":"'Raw Data'!HH3","v":524},{"$f":"'Raw Data'!HI3","v":488},{"$f":"'Raw Data'!HJ3","v":395},{"$f":"'Raw Data'!HK3","v":485},{"$f":"'Raw Data'!HL3","v":413},{"$f":"'Raw Data'!HM3","v":373},{"$f":"'Raw Data'!HN3","v":342},{"$f":"'Raw Data'!HO3","v":289},{"$f":"'Raw Data'!HP3","v":217},{"$f":"'Raw Data'!HQ3","v":321},{"$f":"'Raw Data'!HR3","v":321},{"$f":"'Raw Data'!HS3","v":440},{"$f":"'Raw Data'!HT3","v":426},{"$f":"'Raw Data'!HU3","v":415},{"$f":"'Raw Data'!HV3","v":437},{"$f":"'Raw Data'!HW3","v":367},{"$f":"'Raw Data'!HX3","v":317},{"$f":"'Raw Data'!HY3","v":258},{"$f":"'Raw Data'!HZ3","v":234},{"$f":"'Raw Data'!IA3","v":229},{"$f":"'Raw Data'!IB3","v":151},{"$f":"'Raw Data'!IC3","v":212},{"$f":"'Raw Data'!ID3","v":255},{"$f":"'Raw Data'!IE3","v":275},{"$f":"'Raw Data'!IF3","v":264},{"$f":"'Raw Data'!IG3","v":285},{"$f":"'Raw Data'!IH3","v":267},{"$f":"'Raw Data'!II3","v":312},{"$f":"'Raw Data'!IJ3","v":0},{"$f":"'Raw Data'!IK3","v":0},{"$f":"'Raw Data'!IL3","v":0},{"$f":"'Raw Data'!IM3","v":0},{"$f":"'Raw Data'!IN3","v":0},{"$f":"'Raw Data'!IO3","v":0},{"$f":"'Raw Data'!IP3","v":0},{"$f":"'Raw Data'!IQ3","v":0},{"$f":"'Raw Data'!IR3","v":0}]

{"sheet":"YOY New Inventory","index":7,"n_rows":45,"n_cols":203,"rows_kept":45,"cut":false,"hidden":false,"merged":[[30,5,30,7],[30,9,30,11]]}
["Total Inventory"]
[null,"Jan","Feb","Mar","Apr","May","Jun","July","Aug","Sep","Oct","Nov","Dec"]
[2012,{"$f":"'Raw Data'!DA34","v":2893},{"$f":"'Raw Data'!DB34","v":3076},{"$f":"'Raw Data'!DC34","v":3152},{"$f":"'Raw Data'!DD34","v":3191},{"$f":"'Raw Data'!DE34","v":3240},{"$f":"'Raw Data'!DF34","v":3145},{"$f":"'Raw Data'!DG34","v":3153},{"$f":"'Raw Data'!DH34","v":3073},{"$f":"'Raw Data'!DI34","v":3069},{"$f":"'Raw Data'!DJ34","v":3068},{"$f":"'Raw Data'!DK34","v":3016},{"$f":"'Raw Data'!DL34","v":2736}]
[2013,{"$f":"'Raw Data'!DM34","v":2852},{"$f":"'Raw Data'!DN34","v":2919},{"$f":"'Raw Data'!DO34","v":2954},{"$f":"'Raw Data'!DP34","v":3113},{"$f":"'Raw Data'!DQ34","v":3126},{"$f":"'Raw Data'!DR34","v":3080},{"$f":"'Raw Data'!DS34","v":3074},{"$f":"'Raw Data'!DT34","v":3119},{"$f":"'Raw Data'!DU34","v":2950},{"$f":"'Raw Data'!DV34","v":3014},{"$f":"'Raw Data'!DW34","v":2969},{"$f":"'Raw Data'!DX34","v":2787}]
[2014,{"$f":"'Raw Data'!DY34","v":2820},{"$f":"'Raw Data'!DZ34","v":2890},{"$f":"'Raw Data'!EA34","v":3105},{"$f":"'Raw Data'!EB34","v":3086},{"$f":"'Raw Data'!EC34","v":3177},{"$f":"'Raw Data'!ED34","v":3209},{"$f":"'Raw Data'!EE34","v":3125},{"$f":"'Raw Data'!EF34","v":3218},{"$f":"'Raw Data'!EG34","v":3093},{"$f":"'Raw Data'!EH34","v":3051},{"$f":"'Raw Data'!EI34","v":3007},{"$f":"'Raw Data'!EJ34","v":2691}]
[2015,{"$f":"'Raw Data'!EK34","v":2771},{"$f":"'Raw Data'!EL34","v":2866},{"$f":"'Raw Data'!EM34","v":2942},{"$f":"'Raw Data'!EN34","v":3015},{"$f":"'Raw Data'!EO34","v":3055},{"$f":"'Raw Data'!EP34","v":3039},{"$f":"'Raw Data'!EQ34","v":2989},{"$f":"'Raw Data'!ER34","v":2971},{"$f":"'Raw Data'!ES34","v":2944},{"$f":"'Raw Data'!ET34","v":2900},{"$f":"'Raw Data'!EU34","v":2824},{"$f":"'Raw Data'!EV34","v":2585}]
[2016,{"$f":"'Raw Data'!EW34","v":2587},{"$f":"'Raw Data'!EX34","v":2666},{"$f":"'Raw Data'!EY34","v":2769},{"$f":"'Raw Data'!EZ34","v":2850},{"$f":"'Raw Data'!FA34","v":2730},{"$f":"'Raw Data'!FB34","v":2748},{"$f":"'Raw Data'!FC34","v":2672},{"$f":"'Raw Data'!FD34","v":2594},{"$f":"'Raw Data'!FE34","v":2571},{"$f":"'Raw Data'!FF34","v":2527},{"$f":"'Raw Data'!FG34","v":2415},{"$f":"'Raw Data'!FH34","v":2234}]
[2017,{"$f":"'Raw Data'!FI34","v":2290},{"$f":"'Raw Data'!FJ34","v":2367},{"$f":"'Raw Data'!FK34","v":2386},{"$f":"'Raw Data'!FL34","v":2408},{"$f":"'Raw Data'!FM34","v":2418},{"$f":"'Raw Data'!FN34","v":2370},{"$f":"'Raw Data'!FO34","v":2370},{"$f":"'Raw Data'!FP34","v":2361},{"$f":"'Raw Data'!FQ34","v":2297},{"$f":"'Raw Data'!FR34","v":2310},{"$f":"'Raw Data'!FS34","v":2247},{"$f":"'Raw Data'!FT34","v":2083}]
[2018,{"$f":"'Raw Data'!FU34","v":2095},{"$f":"'Raw Data'!FV34","v":2141},{"$f":"'Raw Data'!FW34","v":2236},{"$f":"'Raw Data'!FX34","v":2237},{"$f":"'Raw Data'!FY34","v":2264},{"$f":"'Raw Data'!FZ34","v":2253},{"$f":"'Raw Data'!GA34","v":2246},{"$f":"'Raw Data'!GB34","v":2324},{"$f":"'Raw Data'!GC34","v":2304},{"$f":"'Raw Data'!GD34","v":2344},{"$f":"'Raw Data'!GE34","v":2340},{"$f":"'Raw Data'!GF34","v":2189}]
[2019,{"$f":"'Raw Data'!GG34","v":2264},{"$f":"'Raw Data'!GH34","v":2362},{"$f":"'Raw Data'!GI34","v":2482},{"$f":"'Raw Data'!GJ34","v":2554},{"$f":"'Raw Data'!GK34","v":2540},{"$f":"'Raw Data'!GL34","v":2464},{"$f":"'Raw Data'!GM34","v":2395},{"$f":"'Raw Data'!GN34","v":2405},{"$f":"'Raw Data'!GO34","v":2371},{"$f":"'Raw Data'!GP34","v":2367},{"$f":"'Raw Data'!GQ34","v":2346},{"$f":"'Raw Data'!GR34","v":2092}]
[2020,{"$f":"'Raw Data'!GS34","v":2107},{"$f":"'Raw Data'!GT34","v":2121},{"$f":"'Raw Data'!GU34","v":2162},{"$f":"'Raw Data'!GV34","v":2116},{"$f":"'Raw Data'!GW34","v":2042},{"$f":"'Raw Data'!GX34","v":1736},{"$f":"'Raw Data'!GY34","v":1622},{"$f":"'Raw Data'!GZ34","v":1428},{"$f":"'Raw Data'!HA34","v":1400},{"$f":"'Raw Data'!HB34","v":1327},{"$f":"'Raw Data'!HC34","v":1274},{"$f":"'Raw Data'!HD34","v":1142}]
[2021,{"$f":"'Raw Data'!HE34","v":1030},{"$f":"'Raw Data'!HF34","v":1050},{"$f":"'Raw Data'!HG34","v":966},{"$f":"'Raw Data'!HH34","v":1012},{"$f":"'Raw Data'!HI34","v":1027},{"$f":"'Raw Data'!HJ34","v":1070},{"$f":"'Raw Data'!HK34","v":1113},{"$f":"'Raw Data'!HL34","v":1114},{"$f":"'Raw Data'!HM34","v":1085},{"$f":"'Raw Data'!HN34","v":942},{"$f":"'Raw Data'!HO34","v":883},{"$f":"'Raw Data'!HP34","v":757}]
[2022,{"$f":"'Raw Data'!HQ34","v":727},{"$f":"'Raw Data'!HR34","v":694},{"$f":"'Raw Data'!HS34","v":733},{"$f":"'Raw Data'!HT34","v":767},{"$f":"'Raw Data'!HU34","v":896},{"$f":"'Raw Data'!HV34","v":1039},{"$f":"'Raw Data'!HW34","v":1071},{"$f":"'Raw Data'!HX34","v":1053},{"$f":"'Raw Data'!HY34","v":997},{"$f":"'Raw Data'!HZ34","v":991},{"$f":"'Raw Data'!IA34","v":955},{"$f":"'Raw Data'!IB34","v":872}]
[2023,{"$f":"'Raw Data'!IC34","v":808},{"$f":"'Raw Data'!ID34","v":789},{"$f":"'Raw Data'!IE34","v":759},{"$f":"'Raw Data'!IF34","v":768},{"$f":"'Raw Data'!IG34","v":767},{"$f":"'Raw Data'!IH34","v":784},{"$f":"'Raw Data'!II34","v":834},{"$f":"'Raw Data'!IJ34","v":0},{"$f":"'Raw Data'!IK34","v":0},{"$f":"'Raw Data'!IL34","v":0},{"$f":"'Raw Data'!IM34","v":0},{"$f":"'Raw Data'!IN34","v":0}]
[]
["Residential Listings"]
[null,"Jan","Feb","Mar","Apr","May","Jun","July","Aug","Sep","Oct","Nov","Dec"]
[2012,{"$f":"'Raw Data'!DA31","v":1726},{"$f":"'Raw Data'!DB31","v":1784},{"$f":"'Raw Data'!DC31","v":1836},{"$f":"'Raw Data'!DD31","v":1860},{"$f":"'Raw Data'!DE31","v":1873},{"$f":"'Raw Data'!DF31","v":1805},{"$f":"'Raw Data'!DG31","v":1815},{"$f":"'Raw Data'!DH31","v":1798},{"$f":"'Raw Data'!DI31","v":1782},{"$f":"'Raw Data'!DJ31","v":1806},{"$f":"'Raw Data'!DK31","v":1772},{"$f":"'Raw Data'!DL31","v":1640}]
[2013,{"$f":"'Raw Data'!DM31","v":1714},{"$f":"'Raw Data'!DN31","v":1783},{"$f":"'Raw Data'!DO31","v":1830},{"$f":"'Raw Data'!DP31","v":1899},{"$f":"'Raw Data'!DQ31","v":1895},{"$f":"'Raw Data'!DR31","v":1851},{"$f":"'Raw Data'!DS31","v":1826},{"$f":"'Raw Data'!DT31","v":1821},{"$f":"'Raw Data'!DU31","v":1688},{"$f":"'Raw Data'!DV31","v":1771},{"$f":"'Raw Data'!DW31","v":1751},{"$f":"'Raw Data'!DX31","v":1628}]
[2014,{"$f":"'Raw Data'!DY31","v":1685},{"$f":"'Raw Data'!DZ31","v":1765},{"$f":"'Raw Data'!EA31","v":1893},{"$f":"'Raw Data'!EB31","v":1899},{"$f":"'Raw Data'!EC31","v":1954},{"$f":"'Raw Data'!ED31","v":1959},{"$f":"'Raw Data'!EE31","v":1850},{"$f":"'Raw Data'!EF31","v":1964},{"$f":"'Raw Data'!EG31","v":1908},{"$f":"'Raw Data'!EH31","v":1883},{"$f":"'Raw Data'!EI31","v":1874},{"$f":"'Raw Data'!EJ31","v":1650}]
[2015,{"$f":"'Raw Data'!EK31","v":1718},{"$f":"'Raw Data'!EL31","v":1794},{"$f":"'Raw Data'!EM31","v":1864},{"$f":"'Raw Data'!EN31","v":1897},{"$f":"'Raw Data'!EO31","v":1896},{"$f":"'Raw Data'!EP31","v":1872},{"$f":"'Raw Data'!EQ31","v":1828},{"$f":"'Raw Data'!ER31","v":1828},{"$f":"'Raw Data'!ES31","v":1794},{"$f":"'Raw Data'!ET31","v":1751},{"$f":"'Raw Data'!EU31","v":1692},{"$f":"'Raw Data'!EV31","v":1551}]
[2016,{"$f":"'Raw Data'!EW31","v":1576},{"$f":"'Raw Data'!EX31","v":1649},{"$f":"'Raw Data'!EY31","v":1753},{"$f":"'Raw Data'!EZ31","v":1803},{"$f":"'Raw Data'!FA31","v":1722},{"$f":"'Raw Data'!FB31","v":1726},{"$f":"'Raw Data'!FC31","v":1668},{"$f":"'Raw Data'!FD31","v":1624},{"$f":"'Raw Data'!FE31","v":1617},{"$f":"'Raw Data'!FF31","v":1602},{"$f":"'Raw Data'!FG31","v":1508},{"$f":"'Raw Data'!FH31","v":1403}]
[2017,{"$f":"'Raw Data'!FI31","v":1439},{"$f":"'Raw Data'!FJ31","v":1494},{"$f":"'Raw Data'!FK31","v":1499},{"$f":"'Raw Data'!FL31","v":1526},{"$f":"'Raw Data'!FM31","v":1540},{"$f":"'Raw Data'!FN31","v":1508},{"$f":"'Raw Data'!FO31","v":1498},{"$f":"'Raw Data'!FP31","v":1504},{"$f":"'Raw Data'!FQ31","v":1477},{"$f":"'Raw Data'!FR31","v":1488},{"$f":"'Raw Data'!FS31","v":1443},{"$f":"'Raw Data'!FT31","v":1347}]
[2018,{"$f":"'Raw Data'!FU31","v":1358},{"$f":"'Raw Data'!FV31","v":1428},{"$f":"'Raw Data'!FW31","v":1500},{"$f":"'Raw Data'!FX31","v":1489},{"$f":"'Raw Data'!FY31","v":1507},{"$f":"'Raw Data'!FZ31","v":1459},{"$f":"'Raw Data'!GA31","v":1455},{"$f":"'Raw Data'!GB31","v":1519},{"$f":"'Raw Data'!GC31","v":1498},{"$f":"'Raw Data'!GD31","v":1523},{"$f":"'Raw Data'!GE31","v":1507},{"$f":"'Raw Data'!GF31","v":1434}]
[2019,{"$f":"'Raw Data'!GG31","v":1487},{"$f":"'Raw Data'!GH31","v":1547},{"$f":"'Raw Data'!GI31","v":1641},{"$f":"'Raw Data'!GJ31","v":1662},{"$f":"'Raw Data'!GK31","v":1620},{"$f":"'Raw Data'!GL31","v":1574},{"$f":"'Raw Data'!GM31","v":1502},{"$f":"'Raw Data'!GN31","v":1491},{"$f":"'Raw Data'!GO31","v":1465},{"$f":"'Raw Data'!GP31","v":1482},{"$f":"'Raw Data'!GQ31","v":1493},{"$f":"'Raw Data'!GR31","v":1336}]
[2020,{"$f":"'Raw Data'!GS31","v":1330},{"$f":"'Raw Data'!GT31","v":1324},{"$f":"'Raw Data'!GU31","v":1356},{"$f":"'Raw Data'!GV31","v":1316},{"$f":"'Raw Data'!GW31","v":1233},{"$f":"'Raw Data'!GX31","v":965},{"$f":"'Raw Data'!GY31","v":873},{"$f":"'Raw Data'!GZ31","v":715},{"$f":"'Raw Data'!HA31","v":679},{"$f":"'Raw Data'!HB31","v":646},{"$f":"'Raw Data'!HC31","v":618},{"$f":"'Raw Data'!HD31","v":556}]
[2021,{"$f":"'Raw Data'!HE31","v":443},{"$f":"'Raw Data'!HF31","v":413},{"$f":"'Raw Data'!HG31","v":359},{"$f":"'Raw Data'!HH31","v":388},{"$f":"'Raw Data'!HI31","v":400},{"$f":"'Raw Data'!HJ31","v":422},{"$f":"'Raw Data'!HK31","v":476},{"$f":"'Raw Data'!HL31","v":500},{"$f":"'Raw Data'!HM31","v":497},{"$f":"'Raw Data'!HN31","v":425},{"$f":"'Raw Data'!HO31","v":377},{"$f":"'Raw Data'!HP31","v":309}]
[2022,{"$f":"'Raw Data'!HQ31","v":281},{"$f":"'Raw Data'!HR31","v":261},{"$f":"'Raw Data'!HS31","v":264},{"$f":"'Raw Data'!HT31","v":322},{"$f":"'Raw Data'!HU31","v":412},{"$f":"'Raw Data'!HV31","v":529},{"$f":"'Raw Data'!HW31","v":560},{"$f":"'Raw Data'!HX31","v":546},{"$f":"'Raw Data'!HY31","v":509},{"$f":"'Raw Data'!HZ31","v":509},{"$f":"'Raw Data'!IA31","v":529},{"$f":"'Raw Data'!IB31","v":455}]
[2023,{"$f":"'Raw Data'!IC31","v":391},{"$f":"'Raw Data'!ID31","v":372},{"$f":"'Raw Data'!IE31","v":356},{"$f":"'Raw Data'!IF31","v":371},{"$f":"'Raw Data'!IG31","v":382},{"$f":"'Raw Data'!IH31","v":410},{"$f":"'Raw Data'!II31","v":451},{"$f":"'Raw Data'!IJ31","v":0},{"$f":"'Raw Data'!IK31","v":0},{"$f":"'Raw Data'!IL31","v":0},{"$f":"'Raw Data'!IM31","v":0},{"$f":"'Raw Data'!IN31","v":0}]
[]
[{"$nulls":5},"Active Residential Inventory",null,null,null,"Total Inventory"]
[{"$nulls":5},"Month / Year","Count","%Chg",null,"Month / Year","Count","%Chg"]
[{"$nulls":5},"Jul'23",{"$f":"H29","v":451},{"$f":"(G33-G34)/G34","v":-0.19464285714285715},null,"Jul'23",{"$f":"H14","v":834},{"$f":"(K33-K34)/K34","v":-0.22128851540616246}]
[{"$nulls":5},"Jul'22",{"$f":"H28","v":560},{"$f":"(G34-G35)/G35","v":0.17647058823529413},null,"Jul'22",{"$f":"H13","v":1071},{"$f":"(K34-K35)/K35","v":-3.7735849056603772E-2}]
[{"$nulls":5},"Jul'21",{"$f":"H27","v":476},{"$f":"(G35-G36)/G36","v":-0.4547537227949599},null,"Jul'21",{"$f":"H12","v":1113},{"$f":"(K35-K36)/K36","v":-0.31381011097410605}]
[{"$nulls":5},"Jul'20",{"$f":"H26","v":873},null,null,"Jul'20",{"$f":"H11","v":1622}]
[]
["Residential Inventory"]
[null,"2007-08-01","2007-09-01","2007-10-01","2007-11-01","2007-12-01","2008-01-01","2008-02-01","2008-03-01","2008-04-01","2008-05-01","2008-06-01","2008-07-01","2008-08-01","2008-09-01","2008-10-01","2008-11-01","2008-12-01","2009-01-01","2009-02-01","2009-03-01","2009-04-01","2009-05-01","2009-06-01","2009-07-01","2009-08-01","2009-09-01","2009-10-01","2009-11-01","2009-12-01","2010-01-01","2010-02-01","2010-03-01","2010-04-01","2010-05-01","2010-06-01","2010-07-01","2010-08-01","2010-09-01","2010-10-01","2010-11-01","2010-12-01","2011-01-01","2011-02-01","2011-03-01","2011-04-01","2011-05-01","2011-06-01","2011-07-01","2011-08-01","2011-09-01","2011-10-01","2011-11-01","2011-12-01","2012-01-01","2012-02-01","2012-03-01","2012-04-01","2012-05-01","2012-06-01","2012-07-01","2012-08-01","2012-09-01","2012-10-01","2012-11-01","2012-12-01","2013-01-01","2013-02-01","2013-03-01","2013-04-01","2013-05-01","2013-06-01","2013-07-01","2013-08-01","2013-09-01","2013-10-01","2013-11-01","2013-12-01","2014-01-01","2014-02-01","2014-03-01","2014-04-01","2014-05-01","2014-06-01","2014-07-01","2014-08-01","2014-09-01","2014-10-01","2014-11-01","2014-12-01","2015-01-01","2015-02-01","2015-03-01","2015-04-01","2015-05-01","2015-06-01","2015-07-01","2015-08-01","2015-09-01","2015-10-01","2015-11-01","2015-12-01","2016-01-01","2016-02-01","2016-03-01","2016-04-01","2016-05-01","2016-06-01","2016-07-01","2016-08-01","2016-09-01","2016-10-01","2016-11-01","2016-12-01","2017-01-01","2017-02-01","2017-03-01","2017-04-01","2017-05-01","2017-06-01","2017-07-01","2017-08-01","2017-09-01","2017-10-01","2017-11-01","2017-12-01","2018-01-01","2018-02-01","2018-03-01","2018-04-01","2018-05-01","2018-06-01","2018-07-01","2018-08-01","2018-09-01","2018-10-01","2018-11-01","2018-12-01","2019-01-01","2019-02-01","2019-03-01","2019-04-01","2019-05-01","2019-06-01","2019-07-01","2019-08-01","2019-09-01","2019-10-01","2019-11-01","2019-12-01","2020-01-01","2020-02-01","2020-03-01","2020-04-01","2020-05-01","2020-06-01","2020-07-01","2020-08-01","2020-09-01","2020-10-01","2020-11-01","2020-12-01","2021-01-01","2021-02-01","2021-03-01","2021-04-01","2021-05-01","2021-06-01","2021-07-01","2021-08-01","2021-09-01","2021-10-01","2021-11-01","2021-12-01","2022-01-01","2022-02-01","2022-03-01","2022-04-01","2022-05-01","2022-06-01","2022-07-01","2022-08-01","2022-09-01","2022-10-01","2022-11-01","2022-12-01","2023-01-01","2023-02-01","2023-03-01","2023-04-01","2023-05-01","2023-06-01","2023-07-01","2023-08-01","2023-09-01","2023-10-01","2023-11-01","2023-12-01","2024-01-01","2024-02-01","2024-03-01","2024-04-01","2024-05-01"]
[null,{"$f":"SUM('Raw Data'!AZ21)","v":2719},{"$f":"SUM('Raw Data'!BA21)","v":2712},{"$f":"SUM('Raw Data'!BB21)","v":2667},{"$f":"SUM('Raw Data'!BC21)","v":2657},{"$f":"SUM('Raw Data'!BD21)","v":2599},{"$f":"SUM('Raw Data'!BE21)","v":2350},{"$f":"SUM('Raw Data'!BF21)","v":2454},{"$f":"SUM('Raw Data'!BG21)","v":2499},{"$f":"SUM('Raw Data'!BH21)","v":2627},{"$f":"SUM('Raw Data'!BI21)","v":2527},{"$f":"SUM('Raw Data'!BJ21)","v":2553},{"$f":"SUM('Raw Data'!BK21)","v":2559},{"$f":"SUM('Raw Data'!BL21)","v":2420},{"$f":"SUM('Raw Data'!BM21)","v":2500},{"$f":"SUM('Raw Data'!BN21)","v":2500},{"$f":"SUM('Raw Data'!BO21)","v":2487},{"$f":"SUM('Raw Data'!BP21)","v":2226},{"$f":"SUM('Raw Data'!BQ21)","v":2331},{"$f":"SUM('Raw Data'!BR21)","v":2373},{"$f":"SUM('Raw Data'!BS21)","v":2468},{"$f":"SUM('Raw Data'!BT21)","v":2476},{"$f":"SUM('Raw Data'!BU21)","v":2484},{"$f":"SUM('Raw Data'!BV21)","v":2439},{"$f":"SUM('Raw Data'!BW21)","v":2423},{"$f":"SUM('Raw Data'!BX21)","v":2419},{"$f":"SUM('Raw Data'!BY21)","v":2383},{"$f":"SUM('Raw Data'!BZ21)","v":2373},{"$f":"SUM('Raw Data'!CA21)","v":2289},{"$f":"SUM('Raw Data'!CB21)","v":2028},{"$f":"SUM('Raw Data'!CC21)","v":2084},{"$f":"SUM('Raw Data'!CD21)","v":2181},{"$f":"SUM('Raw Data'!CE21)","v":2282},{"$f":"SUM('Raw Data'!CF21)","v":2324},{"$f":"SUM('Raw Data'!CG21)","v":2362},{"$f":"SUM('Raw Data'!CH21)","v":2283},{"$f":"SUM('Raw Data'!CI21)","v":2280},{"$f":"SUM('Raw Data'!CJ21)","v":2191},{"$f":"SUM('Raw Data'!CK21)","v":2132},{"$f":"SUM('Raw Data'!CL21)","v":2030},{"$f":"SUM('Raw Data'!CM21)","v":1984},{"$f":"SUM('Raw Data'!CN21)","v":1801},{"$f":"SUM('Raw Data'!CO21)","v":1847},{"$f":"SUM('Raw Data'!CP21)","v":1892},{"$f":"SUM('Raw Data'!CQ21)","v":1965},{"$f":"SUM('Raw Data'!CR21)","v":1949},{"$f":"SUM('Raw Data'!CS21)","v":1963},{"$f":"SUM('Raw Data'!CT21)","v":1938},{"$f":"SUM('Raw Data'!CU21)","v":1880},{"$f":"SUM('Raw Data'!CV21)","v":1849},{"$f":"SUM('Raw Data'!CW21)","v":1784},{"$f":"SUM('Raw Data'!CX21)","v":1872},{"$f":"SUM('Raw Data'!CY21)","v":1770},{"$f":"SUM('Raw Data'!CZ21)","v":1706},{"$f":"SUM('Raw Data'!DA21)","v":1726},{"$f":"SUM('Raw Data'!DB21)","v":1784},{"$f":"SUM('Raw Data'!DC21)","v":1836},{"$f":"SUM('Raw Data'!DD21)","v":1860},{"$f":"SUM('Raw Data'!DE21)","v":1873},{"$f":"SUM('Raw Data'!DF21)","v":1805},{"$f":"SUM('Raw Data'!DG21)","v":1815},{"$f":"SUM('Raw Data'!DH21)","v":1798},{"$f":"SUM('Raw Data'!DI21)","v":1782},{"$f":"SUM('Raw Data'!DJ21)","v":1806},{"$f":"SUM('Raw Data'!DK21)","v":1772},{"$f":"SUM('Raw Data'!DL21)","v":1640},{"$f":"SUM('Raw Data'!DM21)","v":1714},{"$f":"SUM('Raw Data'!DN21)","v":1783},{"$f":"SUM('Raw Data'!DO21)","v":1830},{"$f":"SUM('Raw Data'!DP21)","v":1899},{"$f":"SUM('Raw Data'!DQ21)","v":1895},{"$f":"SUM('Raw Data'!DR21)","v":1851},{"$f":"SUM('Raw Data'!DS21)","v":1826},{"$f":"SUM('Raw Data'!DT21)","v":1821},{"$f":"SUM('Raw Data'!DU21)","v":1818},{"$f":"SUM('Raw Data'!DV21)","v":1908},{"$f":"SUM('Raw Data'!DW21)","v":1863},{"$f":"SUM('Raw Data'!DX21)","v":1700},{"$f":"SUM('Raw Data'!DY21)","v":1792},{"$f":"SUM('Raw Data'!DZ21)","v":1892},{"$f":"SUM('Raw Data'!EA21)","v":2067},{"$f":"SUM('Raw Data'!EB21)","v":2053},{"$f":"SUM('Raw Data'!EC21)","v":2104},{"$f":"SUM('Raw Data'!ED21)","v":2095},{"$f":"SUM('Raw Data'!EE21)","v":2016},{"$f":"SUM('Raw Data'!EF21)","v":2119},{"$f":"SUM('Raw Data'!EG21)","v":2074},{"$f":"SUM('Raw Data'!EH21)","v":2054},{"$f":"SUM('Raw Data'!EI21)","v":2044},{"$f":"SUM('Raw Data'!EJ21)","v":1767},{"$f":"SUM('Raw Data'!EK21)","v":1870},{"$f":"SUM('Raw Data'!EL21)","v":1954},{"$f":"SUM('Raw Data'!EM21)","v":1914},{"$f":"SUM('Raw Data'!EN21)","v":1940},{"$f":"SUM('Raw Data'!EO21)","v":1930},{"$f":"SUM('Raw Data'!EP21)","v":1902},{"$f":"SUM('Raw Data'!EQ21)","v":1859},{"$f":"SUM('Raw Data'!ER21)","v":1853},{"$f":"SUM('Raw Data'!ES21)","v":1819},{"$f":"SUM('Raw Data'!ET21)","v":1780},{"$f":"SUM('Raw Data'!EU21)","v":1717},{"$f":"SUM('Raw Data'!EV21)","v":1569},{"$f":"SUM('Raw Data'!EW21)","v":1598},{"$f":"SUM('Raw Data'!EX21)","v":1667},{"$f":"SUM('Raw Data'!EY21)","v":1765},{"$f":"SUM('Raw Data'!EZ21)","v":1821},{"$f":"SUM('Raw Data'!FA21)","v":1742},{"$f":"SUM('Raw Data'!FB21)","v":1744},{"$f":"SUM('Raw Data'!FC21)","v":1685},{"$f":"SUM('Raw Data'!FD21)","v":1644},{"$f":"SUM('Raw Data'!FE21)","v":1642},{"$f":"SUM('Raw Data'!FF21)","v":1621},{"$f":"SUM('Raw Data'!FG21)","v":1531},{"$f":"SUM('Raw Data'!FH21)","v":1418},{"$f":"SUM('Raw Data'!FI21)","v":1454},{"$f":"SUM('Raw Data'!FJ21)","v":1506},{"$f":"SUM('Raw Data'!FK21)","v":1513},{"$f":"SUM('Raw Data'!FL21)","v":1545},{"$f":"SUM('Raw Data'!FM21)","v":1555},{"$f":"SUM('Raw Data'!FN21)","v":1526},{"$f":"SUM('Raw Data'!FO21)","v":1513},{"$f":"SUM('Raw Data'!FP21)","v":1513},{"$f":"SUM('Raw Data'!FQ21)","v":1484},{"$f":"SUM('Raw Data'!FR21)","v":1497},{"$f":"SUM('Raw Data'!FS21)","v":1452},{"$f":"SUM('Raw Data'!FT21)","v":1354},{"$f":"SUM('Raw Data'!FU21)","v":1369},{"$f":"SUM('Raw Data'!FV21)","v":1434},{"$f":"SUM('Raw Data'!FW21)","v":1508},{"$f":"SUM('Raw Data'!FX21)","v":1496},{"$f":"SUM('Raw Data'!FY21)","v":1514},{"$f":"SUM('Raw Data'!FZ21)","v":1469},{"$f":"SUM('Raw Data'!GA21)","v":1463},{"$f":"SUM('Raw Data'!GB21)","v":1528},{"$f":"SUM('Raw Data'!GC21)","v":1506},{"$f":"SUM('Raw Data'!GD21)","v":1531},{"$f":"SUM('Raw Data'!GE21)","v":1519},{"$f":"SUM('Raw Data'!GF21)","v":1441},{"$f":"SUM('Raw Data'!GG21)","v":1496},{"$f":"SUM('Raw Data'!GH21)","v":1558},{"$f":"SUM('Raw Data'!GI21)","v":1651},{"$f":"SUM('Raw Data'!GJ21)","v":1673},{"$f":"SUM('Raw Data'!GK21)","v":1627},{"$f":"SUM('Raw Data'!GL21)","v":1579},{"$f":"SUM('Raw Data'!GM21)","v":1506},{"$f":"SUM('Raw Data'!GN21)","v":1499},{"$f":"SUM('Raw Data'!GO21)","v":1472},{"$f":"SUM('Raw Data'!GP21)","v":1490},{"$f":"SUM('Raw Data'!GQ21)","v":1500},{"$f":"SUM('Raw Data'!GR21)","v":1341},{"$f":"SUM('Raw Data'!GS21)","v":1336},{"$f":"SUM('Raw Data'!GT21)","v":1330},{"$f":"SUM('Raw Data'!GU21)","v":1360},{"$f":"SUM('Raw Data'!GV21)","v":1324},{"$f":"SUM('Raw Data'!GW21)","v":1247},{"$f":"SUM('Raw Data'!GX21)","v":975},{"$f":"SUM('Raw Data'!GY21)","v":881},{"$f":"SUM('Raw Data'!GZ21)","v":723},{"$f":"SUM('Raw Data'!HA21)","v":689},{"$f":"SUM('Raw Data'!HB21)","v":656},{"$f":"SUM('Raw Data'!HC21)","v":623},{"$f":"SUM('Raw Data'!HD21)","v":560},{"$f":"SUM('Raw Data'!HE21)","v":447},{"$f":"SUM('Raw Data'!HF21)","v":418},{"$f":"SUM('Raw Data'!HG21)","v":380},{"$f":"SUM('Raw Data'!HH21)","v":392},{"$f":"SUM('Raw Data'!HI21)","v":402},{"$f":"SUM('Raw Data'!HJ21)","v":424},{"$f":"SUM('Raw Data'!HK21)","v":477},{"$f":"SUM('Raw Data'!HL21)","v":501},{"$f":"SUM('Raw Data'!HM21)","v":484},{"$f":"SUM('Raw Data'!HN21)","v":428},{"$f":"SUM('Raw Data'!HO21)","v":380},{"$f":"SUM('Raw Data'!HP21)","v":311},{"$f":"SUM('Raw Data'!HQ21)","v":284},{"$f":"SUM('Raw Data'!HR21)","v":267},{"$f":"SUM('Raw Data'!HS21)","v":266},{"$f":"SUM('Raw Data'!HT21)","v":326},{"$f":"SUM('Raw Data'!HU21)","v":413},{"$f":"SUM('Raw Data'!HV21)","v":529},{"$f":"SUM('Raw Data'!HW21)","v":561},{"$f":"SUM('Raw Data'!HX21)","v":548},{"$f":"SUM('Raw Data'!HY21)","v":510},{"$f":"SUM('Raw Data'!HZ21)","v":509},{"$f":"SUM('Raw Data'!IA21)","v":529},{"$f":"SUM('Raw Data'!IB21)","v":455},{"$f":"SUM('Raw Data'!IC21)","v":391},{"$f":"SUM('Raw Data'!ID21)","v":373},{"$f":"SUM('Raw Data'!IE21)","v":356},{"$f":"SUM('Raw Data'!IF21)","v":371},{"$f":"SUM('Raw Data'!IG21)","v":382},{"$f":"SUM('Raw Data'!IH21)","v":412},{"$f":"SUM('Raw Data'!II21)","v":456},{"$f":"SUM('Raw Data'!IJ21)","v":0},{"$f":"SUM('Raw Data'!IK21)","v":0},{"$f":"SUM('Raw Data'!IL21)","v":0},{"$f":"SUM('Raw Data'!IM21)","v":0},{"$f":"SUM('Raw Data'!IN21)","v":0},{"$f":"SUM('Raw Data'!IO21)","v":0},{"$f":"SUM('Raw Data'!IP21)","v":0},{"$f":"SUM('Raw Data'!IQ21)","v":0},{"$f":"SUM('Raw Data'!IR21)","v":0},{"$f":"SUM('Raw Data'!IS21)","v":0}]
[]
[]
["Total Inventory"]
[null,"2007-08-01","2007-09-01","2007-10-01","2007-11-01","2007-12-01","2008-01-01","2008-02-01","2008-03-01","2008-04-01","2008-05-01","2008-06-01","2008-07-01","2008-08-01","2008-09-01","2008-10-01","2008-11-01","2008-12-01","2009-01-01","2009-02-01","2009-03-01","2009-04-01","2009-05-01","2009-06-01","2009-07-01","2009-08-01","2009-09-01","2009-10-01","2009-11-01","2009-12-01","2010-01-01","2010-02-01","2010-03-01","2010-04-01","2010-05-01","2010-06-01","2010-07-01","2010-08-01","2010-09-01","2010-10-01","2010-11-01","2010-12-01","2011-01-01","2011-02-01","2011-03-01","2011-04-01","2011-05-01","2011-06-01","2011-07-01","2011-08-01","2011-09-01","2011-10-01","2011-11-01","2011-12-01","2012-01-01","2012-02-01","2012-03-01","2012-04-01","2012-05-01","2012-06-01","2012-07-01","2012-08-01","2012-09-01","2012-10-01","2012-11-01","2012-12-01","2013-01-01","2013-02-01","2013-03-01","2013-04-01","2013-05-01","2013-06-01","2013-07-01","2013-08-01","2013-09-01","2013-10-01","2013-11-01","2013-12-01","2014-01-01","2014-02-01","2014-03-01","2014-04-01","2014-05-01","2014-06-01","2014-07-01","2014-08-01","2014-09-01","2014-10-01","2014-11-01","2014-12-01","2015-01-01","2015-02-01","2015-03-01","2015-04-01","2015-05-01","2015-06-01","2015-07-01","2015-08-01","2015-09-01","2015-10-01","2015-11-01","2015-12-01","2016-01-01","2016-02-01","2016-03-01","2016-04-01","2016-05-01","2016-06-01","2016-07-01","2016-08-01","2016-09-01","2016-10-01","2016-11-01","2016-12-01","2017-01-01","2017-02-01","2017-03-01","2017-04-01","2017-05-01","2017-06-01","2017-07-01","2017-08-01","2017-09-01","2017-10-01","2017-11-01","2017-12-01","2018-01-01","2018-02-01","2018-03-01","2018-04-01","2018-05-01","2018-06-01","2018-07-01","2018-08-01","2018-09-01","2018-10-01","2018-11-01","2018-12-01","2019-01-01","2019-02-01","2019-03-01","2019-04-01","2019-05-01","2019-06-01","2019-07-01","2019-08-01","2019-09-01","2019-10-01","2019-11-01","2019-12-01","2020-01-01","2020-02-01","2020-03-01","2020-04-01","2020-05-01","2020-06-01","2020-07-01","2020-08-01","2020-09-01","2020-10-01","2020-11-01","2020-12-01","2021-01-01","2021-02-01","2021-03-01","2021-04-01","2021-05-01","2021-06-01","2021-07-01","2021-08-01","2021-09-01","2021-10-01","2021-11-01","2021-12-01","2022-01-01","2022-02-01","2022-03-01","2022-04-01","2022-05-01","2022-06-01","2022-07-01","2022-08-01","2022-09-01","2022-10-01","2022-11-01","2022-12-01","2023-01-01","2023-02-01","2023-03-01","2023-04-01","2023-05-01","2023-06-01","2023-07-01","2023-08-01","2023-09-01","2023-10-01","2023-11-01","2023-12-01","2024-01-01","2024-02-01","2024-03-01","2024-04-01","2024-05-01"]
[null,{"$f":"'Raw Data'!AZ34","v":4542},{"$f":"'Raw Data'!BA34","v":4463},{"$f":"'Raw Data'!BB34","v":4418},{"$f":"'Raw Data'!BC34","v":4456},{"$f":"'Raw Data'!BD34","v":4334},{"$f":"'Raw Data'!BE34","v":3886},{"$f":"'Raw Data'!BF34","v":4046},{"$f":"'Raw Data'!BG34","v":4122},{"$f":"'Raw Data'!BH34","v":4296},{"$f":"'Raw Data'!BI34","v":4184},{"$f":"'Raw Data'!BJ34","v":4180},{"$f":"'Raw Data'!BK34","v":4170},{"$f":"'Raw Data'!BL34","v":3991},{"$f":"'Raw Data'!BM34","v":4203},{"$f":"'Raw Data'!BN34","v":4144},{"$f":"'Raw Data'!BO34","v":4129},{"$f":"'Raw Data'!BP34","v":3638},{"$f":"'Raw Data'!BQ34","v":3743},{"$f":"'Raw Data'!BR34","v":3850},{"$f":"'Raw Data'!BS34","v":3923},{"$f":"'Raw Data'!BT34","v":3992},{"$f":"'Raw Data'!BU34","v":4087},{"$f":"'Raw Data'!BV34","v":4115},{"$f":"'Raw Data'!BW34","v":4141},{"$f":"'Raw Data'!BX34","v":4141},{"$f":"'Raw Data'!BY34","v":4087},{"$f":"'Raw Data'!BZ34","v":4018},{"$f":"'Raw Data'!CA34","v":3965},{"$f":"'Raw Data'!CB34","v":3513},{"$f":"'Raw Data'!CC34","v":3548},{"$f":"'Raw Data'!CD34","v":3621},{"$f":"'Raw Data'!CE34","v":3785},{"$f":"'Raw Data'!CF34","v":3868},{"$f":"'Raw Data'!CG34","v":3875},{"$f":"'Raw Data'!CH34","v":3776},{"$f":"'Raw Data'!CI34","v":3762},{"$f":"'Raw Data'!CJ34","v":3640},{"$f":"'Raw Data'!CK34","v":3516},{"$f":"'Raw Data'!CL34","v":3378},{"$f":"'Raw Data'!CM34","v":3296},{"$f":"'Raw Data'!CN34","v":2975},{"$f":"'Raw Data'!CO34","v":3058},{"$f":"'Raw Data'!CP34","v":3114},{"$f":"'Raw Data'!CQ34","v":3250},{"$f":"'Raw Data'!CR34","v":3235},{"$f":"'Raw Data'!CS34","v":3255},{"$f":"'Raw Data'!CT34","v":3251},{"$f":"'Raw Data'!CU34","v":3209},{"$f":"'Raw Data'!CV34","v":3142},{"$f":"'Raw Data'!CW34","v":3058},{"$f":"'Raw Data'!CX34","v":3141},{"$f":"'Raw Data'!CY34","v":3023},{"$f":"'Raw Data'!CZ34","v":2844},{"$f":"'Raw Data'!DA34","v":2893},{"$f":"'Raw Data'!DB34","v":3076},{"$f":"'Raw Data'!DC34","v":3152},{"$f":"'Raw Data'!DD34","v":3191},{"$f":"'Raw Data'!DE34","v":3240},{"$f":"'Raw Data'!DF34","v":3145},{"$f":"'Raw Data'!DG34","v":3153},{"$f":"'Raw Data'!DH34","v":3073},{"$f":"'Raw Data'!DI34","v":3069},{"$f":"'Raw Data'!DJ34","v":3068},{"$f":"'Raw Data'!DK34","v":3016},{"$f":"'Raw Data'!DL34","v":2736},{"$f":"'Raw Data'!DM34","v":2852},{"$f":"'Raw Data'!DN34","v":2919},{"$f":"'Raw Data'!DO34","v":2954},{"$f":"'Raw Data'!DP34","v":3113},{"$f":"'Raw Data'!DQ34","v":3126},{"$f":"'Raw Data'!DR34","v":3080},{"$f":"'Raw Data'!DS34","v":3074},{"$f":"'Raw Data'!DT34","v":3119},{"$f":"'Raw Data'!DU34","v":2950},{"$f":"'Raw Data'!DV34","v":3014},{"$f":"'Raw Data'!DW34","v":2969},{"$f":"'Raw Data'!DX34","v":2787},{"$f":"'Raw Data'!DY34","v":2820},{"$f":"'Raw Data'!DZ34","v":2890},{"$f":"'Raw Data'!EA34","v":3105},{"$f":"'Raw Data'!EB34","v":3086},{"$f":"'Raw Data'!EC34","v":3177},{"$f":"'Raw Data'!ED34","v":3209},{"$f":"'Raw Data'!EE34","v":3125},{"$f":"'Raw Data'!EF34","v":3218},{"$f":"'Raw Data'!EG34","v":3093},{"$f":"'Raw Data'!EH34","v":3051},{"$f":"'Raw Data'!EI34","v":3007},{"$f":"'Raw Data'!EJ34","v":2691},{"$f":"'Raw Data'!EK34","v":2771},{"$f":"'Raw Data'!EL34","v":2866},{"$f":"'Raw Data'!EM34","v":2942},{"$f":"'Raw Data'!EN34","v":3015},{"$f":"'Raw Data'!EO34","v":3055},{"$f":"'Raw Data'!EP34","v":3039},{"$f":"'Raw Data'!EQ34","v":2989},{"$f":"'Raw Data'!ER34","v":2971},{"$f":"'Raw Data'!ES34","v":2944},{"$f":"'Raw Data'!ET34","v":2900},{"$f":"'Raw Data'!EU34","v":2824},{"$f":"'Raw Data'!EV34","v":2585},{"$f":"'Raw Data'!EW34","v":2587},{"$f":"'Raw Data'!EX34","v":2666},{"$f":"'Raw Data'!EY34","v":2769},{"$f":"'Raw Data'!EZ34","v":2850},{"$f":"'Raw Data'!FA34","v":2730},{"$f":"'Raw Data'!FB34","v":2748},{"$f":"'Raw Data'!FC34","v":2672},{"$f":"'Raw Data'!FD34","v":2594},{"$f":"'Raw Data'!FE34","v":2571},{"$f":"'Raw Data'!FF34","v":2527},{"$f":"'Raw Data'!FG34","v":2415},{"$f":"'Raw Data'!FH34","v":2234},{"$f":"'Raw Data'!FI34","v":2290},{"$f":"'Raw Data'!FJ34","v":2367},{"$f":"'Raw Data'!FK34","v":2386},{"$f":"'Raw Data'!FL34","v":2408},{"$f":"'Raw Data'!FM34","v":2418},{"$f":"'Raw Data'!FN34","v":2370},{"$f":"'Raw Data'!FO34","v":2370},{"$f":"'Raw Data'!FP34","v":2361},{"$f":"'Raw Data'!FQ34","v":2297},{"$f":"'Raw Data'!FR34","v":2310},{"$f":"'Raw Data'!FS34","v":2247},{"$f":"'Raw Data'!FT34","v":2083},{"$f":"'Raw Data'!FU34","v":2095},{"$f":"'Raw Data'!FV34","v":2141},{"$f":"'Raw Data'!FW34","v":2236},{"$f":"'Raw Data'!FX34","v":2237},{"$f":"'Raw Data'!FY34","v":2264},{"$f":"'Raw Data'!FZ34","v":2253},{"$f":"'Raw Data'!GA34","v":2246},{"$f":"'Raw Data'!GB34","v":2324},{"$f":"'Raw Data'!GC34","v":2304},{"$f":"'Raw Data'!GD34","v":2344},{"$f":"'Raw Data'!GE34","v":2340},{"$f":"'Raw Data'!GF34","v":2189},{"$f":"'Raw Data'!GG34","v":2264},{"$f":"'Raw Data'!GH34","v":2362},{"$f":"'Raw Data'!GI34","v":2482},{"$f":"'Raw Data'!GJ34","v":2554},{"$f":"'Raw Data'!GK34","v":2540},{"$f":"'Raw Data'!GL34","v":2464},{"$f":"'Raw Data'!GM34","v":2395},{"$f":"'Raw Data'!GN34","v":2405},{"$f":"'Raw Data'!GO34","v":2371},{"$f":"'Raw Data'!GP34","v":2367},{"$f":"'Raw Data'!GQ34","v":2346},{"$f":"'Raw Data'!GR34","v":2092},{"$f":"'Raw Data'!GS34","v":2107},{"$f":"'Raw Data'!GT34","v":2121},{"$f":"'Raw Data'!GU34","v":2162},{"$f":"'Raw Data'!GV34","v":2116},{"$f":"'Raw Data'!GW34","v":2042},{"$f":"'Raw Data'!GX34","v":1736},{"$f":"'Raw Data'!GY34","v":1622},{"$f":"'Raw Data'!GZ34","v":1428},{"$f":"'Raw Data'!HA34","v":1400},{"$f":"'Raw Data'!HB34","v":1327},{"$f":"'Raw Data'!HC34","v":1274},{"$f":"'Raw Data'!HD34","v":1142},{"$f":"'Raw Data'!HE34","v":1030},{"$f":"'Raw Data'!HF34","v":1050},{"$f":"'Raw Data'!HG34","v":966},{"$f":"'Raw Data'!HH34","v":1012},{"$f":"'Raw Data'!HI34","v":1027},{"$f":"'Raw Data'!HJ34","v":1070},{"$f":"'Raw Data'!HK34","v":1113},{"$f":"'Raw Data'!HL34","v":1114},{"$f":"'Raw Data'!HM34","v":1085},{"$f":"'Raw Data'!HN34","v":942},{"$f":"'Raw Data'!HO34","v":883},{"$f":"'Raw Data'!HP34","v":757},{"$f":"'Raw Data'!HQ34","v":727},{"$f":"'Raw Data'!HR34","v":694},{"$f":"'Raw Data'!HS34","v":733},{"$f":"'Raw Data'!HT34","v":767},{"$f":"'Raw Data'!HU34","v":896},{"$f":"'Raw Data'!HV34","v":1039},{"$f":"'Raw Data'!HW34","v":1071},{"$f":"'Raw Data'!HX34","v":1053},{"$f":"'Raw Data'!HY34","v":997},{"$f":"'Raw Data'!HZ34","v":991},{"$f":"'Raw Data'!IA34","v":955},{"$f":"'Raw Data'!IB34","v":872},{"$f":"'Raw Data'!IC34","v":808},{"$f":"'Raw Data'!ID34","v":789},{"$f":"'Raw Data'!IE34","v":759},{"$f":"'Raw Data'!IF34","v":768},{"$f":"'Raw Data'!IG34","v":767},{"$f":"'Raw Data'!IH34","v":784},{"$f":"'Raw Data'!II34","v":834},{"$f":"'Raw Data'!IJ34","v":0},{"$f":"'Raw Data'!IK34","v":0},{"$f":"'Raw Data'!IL34","v":0},{"$f":"'Raw Data'!IM34","v":0},{"$f":"'Raw Data'!IN34","v":0},{"$f":"'Raw Data'!IO34","v":0},{"$f":"'Raw Data'!IP34","v":0},{"$f":"'Raw Data'!IQ34","v":0},{"$f":"'Raw Data'!IR34","v":0},{"$f":"'Raw Data'!IS34","v":0}]

{"sheet":"Unit Sales Data","index":10,"n_rows":5,"n_cols":242,"rows_kept":5,"cut":false,"hidden":false,"merged":[]}
["Sold Properties","2005-01-01","2005-02-01","2005-03-01","2005-04-01","2005-05-01","2005-06-01","2005-07-01","2005-08-01","2005-09-01","2005-10-01","2005-11-01","2005-12-01","2006-01-01","2006-02-01","2006-03-01","2006-04-01","2006-05-01","2006-06-01","2006-07-01","2006-08-01","2006-09-01","2006-10-01","2006-11-01","2006-12-01","2007-01-01","2007-02-01","2007-03-01","2007-04-01","2007-05-01","2007-06-01","2007-07-01","2007-08-01","2007-09-01","2007-10-01","2007-11-01","2007-12-01","2008-01-01","2008-02-01","2008-03-03","2008-04-01","2008-05-01","2008-06-01","2008-07-01","2008-08-01","2008-09-01","2008-10-08","2008-11-14","2008-12-21","2009-01-27","2009-02-09","2009-03-09","2009-04-09","2009-05-09","2009-06-09","2009-07-09","2009-08-09","2009-09-09","2009-10-09","2009-11-09","2009-12-09","2010-01-09","2010-02-09","2010-03-09","2010-04-09","2010-05-09","2010-06-09","2010-07-09","2010-08-09","2010-09-09","2010-10-09","2010-11-09","2010-12-09","2011-01-09","2011-02-09","2011-03-09","2011-04-09","2011-05-09","2011-06-09","2011-07-09","2011-08-09","2011-09-09","2011-10-09","2011-11-09","2011-12-09","2012-01-09","2012-02-09","2012-03-09","2012-04-09","2012-05-09","2012-06-09","2012-07-09","2012-08-09","2012-09-09","2012-10-09","2012-11-09","2012-12-09","2013-01-09","2013-02-09","2013-03-09","2013-04-09","2013-05-09","2013-06-09","2013-07-09","2013-08-09","2013-09-09","2013-10-09","2013-11-09","2013-12-09","2014-01-09","2014-02-09","2014-03-09","2014-04-09","2014-05-09","2014-06-09","2014-07-09","2014-08-09","2014-09-09","2014-10-09","2014-11-09","2014-12-09","2015-01-09","2015-02-09","2015-03-09","2015-04-09","2015-05-09","2015-06-09","2015-07-09","2015-08-09","2015-09-09","2015-10-09","2015-11-09","2015-12-09","2016-01-09","2016-02-09","2016-03-09","2016-04-09","2016-05-09","2016-06-09","2016-07-09","2016-08-09","2016-09-09","2016-10-09","2016-11-09","2016-12-09","2017-01-09","2017-02-09","2017-03-09","2017-04-09","2017-05-09","2017-06-09","2017-07-09","2017-08-09","2017-09-09","2017-10-09","2017-11-09","2017-12-09","2018-01-09","2018-02-09","2018-03-09","2018-04-09","2018-05-09","2018-06-09","2018-07-09","2018-08-09","2018-09-09","2018-10-09","2018-11-09","2018-12-09","2019-01-09","2019-02-09","2019-03-09","2019-04-09","2019-05-09","2019-06-09","2019-07-09","2019-08-09","2019-09-09","2019-10-09","2019-11-09","2019-12-09","2020-01-09","2020-02-09","2020-03-09","2020-04-09","2020-05-09","2020-06-09","2020-07-09","2020-08-09","2020-09-09","2020-10-09","2020-11-09","2020-12-09","2021-01-09","2021-02-09","2021-03-09","2021-04-09","2021-05-09","2021-06-09","2021-07-09","2021-08-09","2021-09-09","2021-10-09","2021-11-09","2021-12-09","2022-01-09","2022-02-09","2022-03-09","2022-04-09","2022-05-09","2022-06-09","2022-07-09","2022-08-09","2022-09-09","2022-10-09","2022-11-09","2022-12-09","2023-01-09","2023-02-09","2023-03-09","2023-04-09","2023-05-09","2023-06-09","2023-07-09","2023-08-09","2023-09-09","2023-10-09","2023-11-09","2023-12-09","2024-01-09","2024-02-09","2024-03-09","2024-04-09","2024-05-09","2024-06-09","2024-07-09","2024-08-09","2024-09-09","2024-10-09","2024-11-09","2024-12-09","2025-01-09"]
["Residential",{"$f":"'Raw Data'!U45","v":149},{"$f":"'Raw Data'!V45","v":119},{"$f":"'Raw Data'!W45","v":190},{"$f":"'Raw Data'!X45","v":208},{"$f":"'Raw Data'!Y45","v":286},{"$f":"'Raw Data'!Z45","v":234},{"$f":"'Raw Data'!AA45","v":167},{"$f":"'Raw Data'!AB45","v":178},{"$f":"'Raw Data'!AC45","v":177},{"$f":"'Raw Data'!AD45","v":162},{"$f":"'Raw Data'!AE45","v":126},{"$f":"'Raw Data'!AF45","v":108},{"$f":"'Raw Data'!AG45","v":97},{"$f":"'Raw Data'!AH45","v":93},{"$f":"'Raw Data'!AI45","v":122},{"$f":"'Raw Data'!AJ45","v":118},{"$f":"'Raw Data'!AK45","v":151},{"$f":"'Raw Data'!AL45","v":117},{"$f":"'Raw Data'!AM45","v":83},{"$f":"'Raw Data'!AN45","v":106},{"$f":"'Raw Data'!AO45","v":93},{"$f":"'Raw Data'!AP45","v":119},{"$f":"'Raw Data'!AQ45","v":81},{"$f":"'Raw Data'!AR45","v":89},{"$f":"'Raw Data'!AS45","v":76},{"$f":"'Raw Data'!AT45","v":103},{"$f":"'Raw Data'!AU45","v":100},{"$f":"'Raw Data'!AV45","v":119},{"$f":"'Raw Data'!AW45","v":137},{"$f":"'Raw Data'!AX45","v":117},{"$f":"'Raw Data'!AY45","v":103},{"$f":"'Raw Data'!AZ45","v":106},{"$f":"'Raw Data'!BA45","v":104},{"$f":"'Raw Data'!BB45","v":95},{"$f":"'Raw Data'!BC45","v":93},{"$f":"'Raw Data'!BD45","v":82},{"$f":"'Raw Data'!BE45","v":57},{"$f":"'Raw Data'!BF45","v":75},{"$f":"'Raw Data'!BG45","v":96},{"$f":"'Raw Data'!BH45","v":92},{"$f":"'Raw Data'!BI45","v":111},{"$f":"'Raw Data'!BJ45","v":110},{"$f":"'Raw Data'!BK45","v":94},{"$f":"'Raw Data'!BL45","v":103},{"$f":"'Raw Data'!BM45","v":93},{"$f":"'Raw Data'!BN45","v":85},{"$f":"'Raw Data'!BO45","v":60},{"$f":"'Raw Data'!BP45","v":69},{"$f":"'Raw Data'!BQ45","v":42},{"$f":"'Raw Data'!BR45","v":68},{"$f":"'Raw Data'!BS45","v":84},{"$f":"'Raw Data'!BT45","v":81},{"$f":"'Raw Data'!BU45","v":111},{"$f":"'Raw Data'!BV45","v":114},{"$f":"'Raw Data'!BW45","v":105},{"$f":"'Raw Data'!BX45","v":105},{"$f":"'Raw Data'!BY45","v":104},{"$f":"'Raw Data'!BZ45","v":106},{"$f":"'Raw Data'!CA45","v":106},{"$f":"'Raw Data'!CB45","v":100},{"$f":"'Raw Data'!CC45","v":86},{"$f":"'Raw Data'!CD45","v":72},{"$f":"'Raw Data'!CE45","v":113},{"$f":"'Raw Data'!CF45","v":136},{"$f":"'Raw Data'!CG45","v":151},{"$f":"'Raw Data'!CH45","v":137},{"$f":"'Raw Data'!CI45","v":125},{"$f":"'Raw Data'!CJ45","v":99},{"$f":"'Raw Data'!CK45","v":109},{"$f":"'Raw Data'!CL45","v":115},{"$f":"'Raw Data'!CM45","v":106},{"$f":"'Raw Data'!CN45","v":125},{"$f":"'Raw Data'!CO45","v":83},{"$f":"'Raw Data'!CP45","v":87},{"$f":"'Raw Data'!CQ45","v":130},{"$f":"'Raw Data'!CR45","v":137},{"$f":"'Raw Data'!CS45","v":124},{"$f":"'Raw Data'!CT45","v":142},{"$f":"'Raw Data'!CU45","v":127},{"$f":"'Raw Data'!CV45","v":105},{"$f":"'Raw Data'!CW45","v":113},{"$f":"'Raw Data'!CX45","v":109},{"$f":"'Raw Data'!CY45","v":74},{"$f":"'Raw Data'!CZ45","v":102},{"$f":"'Raw Data'!DA45","v":94},{"$f":"'Raw Data'!DB45","v":112},{"$f":"'Raw Data'!DC45","v":171},{"$f":"'Raw Data'!DD45","v":131},{"$f":"'Raw Data'!DE45","v":165},{"$f":"'Raw Data'!DF45","v":146},{"$f":"'Raw Data'!DG45","v":121},{"$f":"'Raw Data'!DH45","v":125},{"$f":"'Raw Data'!DI45","v":146},{"$f":"'Raw Data'!DJ45","v":134},{"$f":"'Raw Data'!DK45","v":129},{"$f":"'Raw Data'!DL45","v":109},{"$f":"'Raw Data'!DM45","v":89},{"$f":"'Raw Data'!DN45","v":91},{"$f":"'Raw Data'!DO45","v":136},{"$f":"'Raw Data'!DP45","v":168},{"$f":"'Raw Data'!DQ45","v":157},{"$f":"'Raw Data'!DR45","v":150},{"$f":"'Raw Data'!DS45","v":161},{"$f":"'Raw Data'!DT45","v":136},{"$f":"'Raw Data'!DU45","v":127},{"$f":"'Raw Data'!DV45","v":114},{"$f":"'Raw Data'!DW45","v":115},{"$f":"'Raw Data'!DX45","v":125},{"$f":"'Raw Data'!DY45","v":106},{"$f":"'Raw Data'!DZ45","v":88},{"$f":"'Raw Data'!EA45","v":115},{"$f":"'Raw Data'!EB45","v":149},{"$f":"'Raw Data'!EC45","v":192},{"$f":"'Raw Data'!ED45","v":147},{"$f":"'Raw Data'!EE45","v":122},{"$f":"'Raw Data'!EF45","v":127},{"$f":"'Raw Data'!EG45","v":142},{"$f":"'Raw Data'!EH45","v":144},{"$f":"'Raw Data'!EI45","v":118},{"$f":"'Raw Data'!EJ45","v":157},{"$f":"'Raw Data'!EK45","v":96},{"$f":"'Raw Data'!EL45","v":105},{"$f":"'Raw Data'!EM45","v":140},{"$f":"'Raw Data'!EN45","v":153},{"$f":"'Raw Data'!EO45","v":202},{"$f":"'Raw Data'!EP45","v":185},{"$f":"'Raw Data'!EQ45","v":171},{"$f":"'Raw Data'!ER45","v":146},{"$f":"'Raw Data'!ES45","v":143},{"$f":"'Raw Data'!ET45","v":159},{"$f":"'Raw Data'!EU45","v":143},{"$f":"'Raw Data'!EV45","v":148},{"$f":"'Raw Data'!EW45","v":111},{"$f":"'Raw Data'!EX45","v":92},{"$f":"'Raw Data'!EY45","v":138},{"$f":"'Raw Data'!EZ45","v":158},{"$f":"'Raw Data'!FA45","v":175},{"$f":"'Raw Data'!FB45","v":185},{"$f":"'Raw Data'!FC45","v":155},{"$f":"'Raw Data'!FD45","v":159},{"$f":"'Raw Data'!FE45","v":159},{"$f":"'Raw Data'!FF45","v":145},{"$f":"'Raw Data'!FG45","v":140},{"$f":"'Raw Data'!FH45","v":173},{"$f":"'Raw Data'!FI45","v":112},{"$f":"'Raw Data'!FJ45","v":129},{"$f":"'Raw Data'!FK45","v":180},{"$f":"'Raw Data'!FL45","v":180},{"$f":"'Raw Data'!FM45","v":203},{"$f":"'Raw Data'!FN45","v":218},{"$f":"'Raw Data'!FO45","v":136},{"$f":"'Raw Data'!FP45","v":171},{"$f":"'Raw Data'!FQ45","v":162},{"$f":"'Raw Data'!FR45","v":166},{"$f":"'Raw Data'!FS45","v":164},{"$f":"'Raw Data'!FT45","v":164},{"$f":"'Raw Data'!FU45","v":118},{"$f":"'Raw Data'!FV45","v":89},{"$f":"'Raw Data'!FW45","v":187},{"$f":"'Raw Data'!FX45","v":186},{"$f":"'Raw Data'!FY45","v":219},{"$f":"'Raw Data'!FZ45","v":188},{"$f":"'Raw Data'!GA45","v":172},{"$f":"'Raw Data'!GB45","v":189},{"$f":"'Raw Data'!GC45","v":142},{"$f":"'Raw Data'!GD45","v":176},{"$f":"'Raw Data'!GE45","v":135},{"$f":"'Raw Data'!GF45","v":166},{"$f":"'Raw Data'!GG45","v":119},{"$f":"'Raw Data'!GH45","v":123},{"$f":"'Raw Data'!GI45","v":184},{"$f":"'Raw Data'!GJ45","v":189},{"$f":"'Raw Data'!GK45","v":217},{"$f":"'Raw Data'!GL45","v":190},{"$f":"'Raw Data'!GM45","v":185},{"$f":"'Raw Data'!GN45","v":201},{"$f":"'Raw Data'!GO45","v":162},{"$f":"'Raw Data'!GP45","v":189},{"$f":"'Raw Data'!GQ45","v":206},{"$f":"'Raw Data'!GR45","v":174},{"$f":"'Raw Data'!GS45","v":148},{"$f":"'Raw Data'!GT45","v":146},{"$f":"'Raw Data'!GU45","v":198},{"$f":"'Raw Data'!GV45","v":154},{"$f":"'Raw Data'!GW45","v":150},{"$f":"'Raw Data'!GX45","v":221},{"$f":"'Raw Data'!GY45","v":396},{"$f":"'Raw Data'!GZ45","v":322},{"$f":"'Raw Data'!HA45","v":358},{"$f":"'Raw Data'!HB45","v":372},{"$f":"'Raw Data'!HC45","v":310},{"$f":"'Raw Data'!HD45","v":316},{"$f":"'Raw Data'!HE45","v":263},{"$f":"'Raw Data'!HF45","v":237},{"$f":"'Raw Data'!HG45","v":377},{"$f":"'Raw Data'!HH45","v":349},{"$f":"'Raw Data'!HI45","v":337},{"$f":"'Raw Data'!HJ45","v":326},{"$f":"'Raw Data'!HK45","v":263},{"$f":"'Raw Data'!HL45","v":234},{"$f":"'Raw Data'!HM45","v":230},{"$f":"'Raw Data'!HN45","v":253},{"$f":"'Raw Data'!HO45","v":267},{"$f":"'Raw Data'!HP45","v":240},{"$f":"'Raw Data'!HQ45","v":225},{"$f":"'Raw Data'!HR45","v":182},{"$f":"'Raw Data'!HS45","v":300},{"$f":"'Raw Data'!HT45","v":265},{"$f":"'Raw Data'!HU45","v":247},{"$f":"'Raw Data'!HV45","v":235},{"$f":"'Raw Data'!HW45","v":171},{"$f":"'Raw Data'!HX45","v":201},{"$f":"'Raw Data'!HY45","v":179},{"$f":"'Raw Data'!HZ45","v":161},{"$f":"'Raw Data'!IA45","v":161},{"$f":"'Raw Data'!IB45","v":131},{"$f":"'Raw Data'!IC45","v":101},{"$f":"'Raw Data'!ID45","v":137},{"$f":"'Raw Data'!IE45","v":193},{"$f":"'Raw Data'!IF45","v":166},{"$f":"'Raw Data'!IG45","v":185},{"$f":"'Raw Data'!IH45","v":189},{"$f":"'Raw Data'!II45","v":126},{"$f":"'Raw Data'!IJ45","v":0},{"$f":"'Raw Data'!IK45","v":0},{"$f":"'Raw Data'!IL45","v":0},{"$f":"'Raw Data'!IM45","v":0},{"$f":"'Raw Data'!IN45","v":0},{"$f":"'Raw Data'!IO45","v":0},{"$f":"'Raw Data'!IP45","v":0},{"$f":"'Raw Data'!IQ45","v":0},{"$f":"'Raw Data'!IR45","v":0},{"$f":"'Raw Data'!IS45","v":0},{"$f":"'Raw Data'!IT45","v":0},{"$f":"'Raw Data'!IU45","v":0},{"$f":"'Raw Data'!IV45","v":0},{"$f":"'Raw Data'!IW45","v":0},{"$f":"'Raw Data'!IX45","v":0},{"$f":"'Raw Data'!IY45","v":0},{"$f":"'Raw Data'!IZ45","v":0},{"$f":"'Raw Data'!JA45","v":0}]
["Land",{"$f":"'Raw Data'!U46","v":96},{"$f":"'Raw Data'!V46","v":61},{"$f":"'Raw Data'!W46","v":91},{"$f":"'Raw Data'!X46","v":106},{"$f":"'Raw Data'!Y46","v":111},{"$f":"'Raw Data'!Z46","v":114},{"$f":"'Raw Data'!AA46","v":69},{"$f":"'Raw Data'!AB46","v":83},{"$f":"'Raw Data'!AC46","v":115},{"$f":"'Raw Data'!AD46","v":71},{"$f":"'Raw Data'!AE46","v":77},{"$f":"'Raw Data'!AF46","v":55},{"$f":"'Raw Data'!AG46","v":63},{"$f":"'Raw Data'!AH46","v":22},{"$f":"'Raw Data'!AI46","v":48},{"$f":"'Raw Data'!AJ46","v":33},{"$f":"'Raw Data'!AK46","v":53},{"$f":"'Raw Data'!AL46","v":34},{"$f":"'Raw Data'!AM46","v":38},{"$f":"'Raw Data'!AN46","v":31},{"$f":"'Raw Data'!AO46","v":21},{"$f":"'Raw Data'!AP46","v":52},{"$f":"'Raw Data'!AQ46","v":20},{"$f":"'Raw Data'!AR46","v":35},{"$f":"'Raw Data'!AS46","v":19},{"$f":"'Raw Data'!AT46","v":19},{"$f":"'Raw Data'!AU46","v":11},{"$f":"'Raw Data'!AV46","v":22},{"$f":"'Raw Data'!AW46","v":33},{"$f":"'Raw Data'!AX46","v":23},{"$f":"'Raw Data'!AY46","v":17},{"$f":"'Raw Data'!AZ46","v":20},{"$f":"'Raw Data'!BA46","v":28},{"$f":"'Raw Data'!BB46","v":26},{"$f":"'Raw Data'!BC46","v":35},{"$f":"'Raw Data'!BD46","v":19},{"$f":"'Raw Data'!BE46","v":30},{"$f":"'Raw Data'!BF46","v":22},{"$f":"'Raw Data'!BG46","v":13},{"$f":"'Raw Data'!BH46","v":29},{"$f":"'Raw Data'!BI46","v":22},{"$f":"'Raw Data'!BJ46","v":25},{"$f":"'Raw Data'!BK46","v":17},{"$f":"'Raw Data'!BL46","v":24},{"$f":"'Raw Data'!BM46","v":33},{"$f":"'Raw Data'!BN46","v":16},{"$f":"'Raw Data'!BO46","v":20},{"$f":"'Raw Data'!BP46","v":13},{"$f":"'Raw Data'!BQ46","v":9},{"$f":"'Raw Data'!BR46","v":9},{"$f":"'Raw Data'!BS46","v":15},{"$f":"'Raw Data'!BT46","v":6},{"$f":"'Raw Data'!BU46","v":15},{"$f":"'Raw Data'!BV46","v":28},{"$f":"'Raw Data'!BW46","v":16},{"$f":"'Raw Data'!BX46","v":29},{"$f":"'Raw Data'!BY46","v":33},{"$f":"'Raw Data'!BZ46","v":34},{"$f":"'Raw Data'!CA46","v":22},{"$f":"'Raw Data'!CB46","v":24},{"$f":"'Raw Data'!CC46","v":12},{"$f":"'Raw Data'!CD46","v":20},{"$f":"'Raw Data'!CE46","v":12},{"$f":"'Raw Data'!CF46","v":26},{"$f":"'Raw Data'!CG46","v":18},{"$f":"'Raw Data'!CH46","v":28},{"$f":"'Raw Data'!CI46","v":21},{"$f":"'Raw Data'!CJ46","v":30},{"$f":"'Raw Data'!CK46","v":33},{"$f":"'Raw Data'!CL46","v":23},{"$f":"'Raw Data'!CM46","v":30},{"$f":"'Raw Data'!CN46","v":29},{"$f":"'Raw Data'!CO46","v":15},{"$f":"'Raw Data'!CP46","v":18},{"$f":"'Raw Data'!CQ46","v":37},{"$f":"'Raw Data'!CR46","v":27},{"$f":"'Raw Data'!CS46","v":32},{"$f":"'Raw Data'!CT46","v":33},{"$f":"'Raw Data'!CU46","v":18},{"$f":"'Raw Data'!CV46","v":27},{"$f":"'Raw Data'!CW46","v":23},{"$f":"'Raw Data'!CX46","v":18},{"$f":"'Raw Data'!CY46","v":45},{"$f":"'Raw Data'!CZ46","v":38},{"$f":"'Raw Data'!DA46","v":19},{"$f":"'Raw Data'!DB46","v":30},{"$f":"'Raw Data'!DC46","v":50},{"$f":"'Raw Data'!DD46","v":51},{"$f":"'Raw Data'!DE46","v":40},{"$f":"'Raw Data'!DF46","v":35},{"$f":"'Raw Data'!DG46","v":30},{"$f":"'Raw Data'!DH46","v":46},{"$f":"'Raw Data'!DI46","v":29},{"$f":"'Raw Data'!DJ46","v":40},{"$f":"'Raw Data'!DK46","v":30},{"$f":"'Raw Data'!DL46","v":27},{"$f":"'Raw Data'!DM46","v":25},{"$f":"'Raw Data'!DN46","v":52},{"$f":"'Raw Data'!DO46","v":44},{"$f":"'Raw Data'!DP46","v":41},{"$f":"'Raw Data'!DQ46","v":36},{"$f":"'Raw Data'!DR46","v":34},{"$f":"'Raw Data'!DS46","v":39},{"$f":"'Raw Data'!DT46","v":44},{"$f":"'Raw Data'!DU46","v":38},{"$f":"'Raw Data'!DV46","v":48},{"$f":"'Raw Data'!DW46","v":30},{"$f":"'Raw Data'!DX46","v":59},{"$f":"'Raw Data'!DY46","v":22},{"$f":"'Raw Data'!DZ46","v":26},{"$f":"'Raw Data'!EA46","v":30},{"$f":"'Raw Data'!EB46","v":38},{"$f":"'Raw Data'!EC46","v":33},{"$f":"'Raw Data'!ED46","v":51},{"$f":"'Raw Data'!EE46","v":75},{"$f":"'Raw Data'!EF46","v":46},{"$f":"'Raw Data'!EG46","v":53},{"$f":"'Raw Data'!EH46","v":48},{"$f":"'Raw Data'!EI46","v":34},{"$f":"'Raw Data'!EJ46","v":35},{"$f":"'Raw Data'!EK46","v":32},{"$f":"'Raw Data'!EL46","v":31},{"$f":"'Raw Data'!EM46","v":40},{"$f":"'Raw Data'!EN46","v":38},{"$f":"'Raw Data'!EO46","v":37},{"$f":"'Raw Data'!EP46","v":42},{"$f":"'Raw Data'!EQ46","v":44},{"$f":"'Raw Data'!ER46","v":39},{"$f":"'Raw Data'!ES46","v":51},{"$f":"'Raw Data'!ET46","v":39},{"$f":"'Raw Data'!EU46","v":28},{"$f":"'Raw Data'!EV46","v":46},{"$f":"'Raw Data'!EW46","v":32},{"$f":"'Raw Data'!EX46","v":37},{"$f":"'Raw Data'!EY46","v":43},{"$f":"'Raw Data'!EZ46","v":38},{"$f":"'Raw Data'!FA46","v":39},{"$f":"'Raw Data'!FB46","v":48},{"$f":"'Raw Data'!FC46","v":46},{"$f":"'Raw Data'!FD46","v":44},{"$f":"'Raw Data'!FE46","v":51},{"$f":"'Raw Data'!FF46","v":44},{"$f":"'Raw Data'!FG46","v":26},{"$f":"'Raw Data'!FH46","v":23},{"$f":"'Raw Data'!FI46","v":29},{"$f":"'Raw Data'!FJ46","v":19},{"$f":"'Raw Data'!FK46","v":54},{"$f":"'Raw Data'!FL46","v":33},{"$f":"'Raw Data'!FM46","v":45},{"$f":"'Raw Data'!FN46","v":76},{"$f":"'Raw Data'!FO46","v":49},{"$f":"'Raw Data'!FP46","v":52},{"$f":"'Raw Data'!FQ46","v":44},{"$f":"'Raw Data'!FR46","v":66},{"$f":"'Raw Data'!FS46","v":42},{"$f":"'Raw Data'!FT46","v":38},{"$f":"'Raw Data'!FU46","v":35},{"$f":"'Raw Data'!FV46","v":22},{"$f":"'Raw Data'!FW46","v":43},{"$f":"'Raw Data'!FX46","v":36},{"$f":"'Raw Data'!FY46","v":44},{"$f":"'Raw Data'!FZ46","v":53},{"$f":"'Raw Data'!GA46","v":37},{"$f":"'Raw Data'!GB46","v":39},{"$f":"'Raw Data'!GC46","v":35},{"$f":"'Raw Data'!GD46","v":36},{"$f":"'Raw Data'!GE46","v":26},{"$f":"'Raw Data'!GF46","v":24},{"$f":"'Raw Data'!GG46","v":21},{"$f":"'Raw Data'!GH46","v":37},{"$f":"'Raw Data'!GI46","v":30},{"$f":"'Raw Data'!GJ46","v":37},{"$f":"'Raw Data'!GK46","v":35},{"$f":"'Raw Data'!GL46","v":39},{"$f":"'Raw Data'!GM46","v":45},{"$f":"'Raw Data'!GN46","v":39},{"$f":"'Raw Data'!GO46","v":35},{"$f":"'Raw Data'!GP46","v":32},{"$f":"'Raw Data'!GQ46","v":43},{"$f":"'Raw Data'!GR46","v":41},{"$f":"'Raw Data'!GS46","v":29},{"$f":"'Raw Data'!GT46","v":33},{"$f":"'Raw Data'!GU46","v":38},{"$f":"'Raw Data'!GV46","v":25},{"$f":"'Raw Data'!GW46","v":27},{"$f":"'Raw Data'!GX46","v":27},{"$f":"'Raw Data'!GY46","v":55},{"$f":"'Raw Data'!GZ46","v":78},{"$f":"'Raw Data'!HA46","v":80},{"$f":"'Raw Data'!HB46","v":86},{"$f":"'Raw Data'!HC46","v":71},{"$f":"'Raw Data'!HD46","v":80},{"$f":"'Raw Data'!HE46","v":68},{"$f":"'Raw Data'!HF46","v":57},{"$f":"'Raw Data'!HG46","v":67},{"$f":"'Raw Data'!HH46","v":93},{"$f":"'Raw Data'!HI46","v":99},{"$f":"'Raw Data'!HJ46","v":103},{"$f":"'Raw Data'!HK46","v":97},{"$f":"'Raw Data'!HL46","v":89},{"$f":"'Raw Data'!HM46","v":81},{"$f":"'Raw Data'!HN46","v":75},{"$f":"'Raw Data'!HO46","v":70},{"$f":"'Raw Data'!HP46","v":76},{"$f":"'Raw Data'!HQ46","v":56},{"$f":"'Raw Data'!HR46","v":61},{"$f":"'Raw Data'!HS46","v":80},{"$f":"'Raw Data'!HT46","v":75},{"$f":"'Raw Data'!HU46","v":81},{"$f":"'Raw Data'!HV46","v":51},{"$f":"'Raw Data'!HW46","v":56},{"$f":"'Raw Data'!HX46","v":62},{"$f":"'Raw Data'!HY46","v":49},{"$f":"'Raw Data'!HZ46","v":43},{"$f":"'Raw Data'!IA46","v":31},{"$f":"'Raw Data'!IB46","v":36},{"$f":"'Raw Data'!IC46","v":38},{"$f":"'Raw Data'!ID46","v":36},{"$f":"'Raw Data'!IE46","v":43},{"$f":"'Raw Data'!IF46","v":48},{"$f":"'Raw Data'!IG46","v":41},{"$f":"'Raw Data'!IH46","v":55},{"$f":"'Raw Data'!II46","v":43},{"$f":"'Raw Data'!IJ46","v":0},{"$f":"'Raw Data'!IK46","v":0},{"$f":"'Raw Data'!IL46","v":0},{"$f":"'Raw Data'!IM46","v":0},{"$f":"'Raw Data'!IN46","v":0},{"$f":"'Raw Data'!IO46","v":0},{"$f":"'Raw Data'!IP46","v":0},{"$f":"'Raw Data'!IQ46","v":0},{"$f":"'Raw Data'!IR46","v":0},{"$f":"'Raw Data'!IS46","v":0},{"$f":"'Raw Data'!IT46","v":0},{"$f":"'Raw Data'!IU46","v":0},{"$f":"'Raw Data'!IV46","v":0},{"$f":"'Raw Data'!IW46","v":0},{"$f":"'Raw Data'!IX46","v":0},{"$f":"'Raw Data'!IY46","v":0},{"$f":"'Raw Data'!IZ46","v":0},{"$f":"'Raw Data'!JA46","v":0}]
["Commercial",{"$f":"'Raw Data'!U47","v":1},{"$f":"'Raw Data'!V47","v":3},{"$f":"'Raw Data'!W47","v":3},{"$f":"'Raw Data'!X47","v":4},{"$f":"'Raw Data'!Y47","v":4},{"$f":"'Raw Data'!Z47","v":6},{"$f":"'Raw Data'!AA47","v":4},{"$f":"'Raw Data'!AB47","v":4},{"$f":"'Raw Data'!AC47","v":1},{"$f":"'Raw Data'!AD47","v":14},{"$f":"'Raw Data'!AE47","v":1},{"$f":"'Raw Data'!AF47","v":3},{"$f":"'Raw Data'!AG47","v":2},{"$f":"'Raw Data'!AH47","v":1},{"$f":"'Raw Data'!AI47","v":6},{"$f":"'Raw Data'!AJ47","v":2},{"$f":"'Raw Data'!AK47","v":3},{"$f":"'Raw Data'!AL47","v":5},{"$f":"'Raw Data'!AM47","v":2},{"$f":"'Raw Data'!AN47","v":2},{"$f":"'Raw Data'!AO47","v":9},{"$f":"'Raw Data'!AP47","v":5},{"$f":"'Raw Data'!AQ47","v":0},{"$f":"'Raw Data'!AR47","v":1},{"$f":"'Raw Data'!AS47","v":2},{"$f":"'Raw Data'!AT47","v":0},{"$f":"'Raw Data'!AU47","v":1},{"$f":"'Raw Data'!AV47","v":2},{"$f":"'Raw Data'!AW47","v":1},{"$f":"'Raw Data'!AX47","v":0},{"$f":"'Raw Data'!AY47","v":3},{"$f":"'Raw Data'!AZ47","v":3},{"$f":"'Raw Data'!BA47","v":1},{"$f":"'Raw Data'!BB47","v":0},{"$f":"'Raw Data'!BC47","v":2},{"$f":"'Raw Data'!BD47","v":0},{"$f":"'Raw Data'!BE47","v":0},{"$f":"'Raw Data'!BF47","v":1},{"$f":"'Raw Data'!BG47","v":1},{"$f":"'Raw Data'!BH47","v":3},{"$f":"'Raw Data'!BI47","v":2},{"$f":"'Raw Data'!BJ47","v":1},{"$f":"'Raw Data'!BK47","v":3},{"$f":"'Raw Data'!BL47","v":1},{"$f":"'Raw Data'!BM47","v":0},{"$f":"'Raw Data'!BN47","v":0},{"$f":"'Raw Data'!BO47","v":0},{"$f":"'Raw Data'!BP47","v":1},{"$f":"'Raw Data'!BQ47","v":2},{"$f":"'Raw Data'!BR47","v":1},{"$f":"'Raw Data'!BS47","v":2},{"$f":"'Raw Data'!BT47","v":1},{"$f":"'Raw Data'!BU47","v":0},{"$f":"'Raw Data'!BV47","v":0},{"$f":"'Raw Data'!BW47","v":1},{"$f":"'Raw Data'!BX47","v":0},{"$f":"'Raw Data'!BY47","v":0},{"$f":"'Raw Data'!BZ47","v":0},{"$f":"'Raw Data'!CA47","v":1},{"$f":"'Raw Data'!CB47","v":11},{"$f":"'Raw Data'!CC47","v":1},{"$f":"'Raw Data'!CD47","v":1},{"$f":"'Raw Data'!CE47","v":1},{"$f":"'Raw Data'!CF47","v":2},{"$f":"'Raw Data'!CG47","v":1},{"$f":"'Raw Data'!CH47","v":3},{"$f":"'Raw Data'!CI47","v":2},{"$f":"'Raw Data'!CJ47","v":0},{"$f":"'Raw Data'!CK47","v":1},{"$f":"'Raw Data'!CL47","v":0},{"$f":"'Raw Data'!CM47","v":0},{"$f":"'Raw Data'!CN47","v":1},{"$f":"'Raw Data'!CO47","v":1},{"$f":"'Raw Data'!CP47","v":2},{"$f":"'Raw Data'!CQ47","v":2},{"$f":"'Raw Data'!CR47","v":3},{"$f":"'Raw Data'!CS47","v":3},{"$f":"'Raw Data'!CT47","v":2},{"$f":"'Raw Data'!CU47","v":2},{"$f":"'Raw Data'!CV47","v":0},{"$f":"'Raw Data'!CW47","v":2},{"$f":"'Raw Data'!CX47","v":5},{"$f":"'Raw Data'!CY47","v":3},{"$f":"'Raw Data'!CZ47","v":0},{"$f":"'Raw Data'!DA47","v":3},{"$f":"'Raw Data'!DB47","v":1},{"$f":"'Raw Data'!DC47","v":6},{"$f":"'Raw Data'!DD47","v":4},{"$f":"'Raw Data'!DE47","v":1},{"$f":"'Raw Data'!DF47","v":1},{"$f":"'Raw Data'!DG47","v":0},{"$f":"'Raw Data'!DH47","v":2},{"$f":"'Raw Data'!DI47","v":1},{"$f":"'Raw Data'!DJ47","v":3},{"$f":"'Raw Data'!DK47","v":6},{"$f":"'Raw Data'!DL47","v":4},{"$f":"'Raw Data'!DM47","v":1},{"$f":"'Raw Data'!DN47","v":3},{"$f":"'Raw Data'!DO47","v":0},{"$f":"'Raw Data'!DP47","v":4},{"$f":"'Raw Data'!DQ47","v":1},{"$f":"'Raw Data'!DR47","v":3},{"$f":"'Raw Data'!DS47","v":2},{"$f":"'Raw Data'!DT47","v":4},{"$f":"'Raw Data'!DU47","v":7},{"$f":"'Raw Data'!DV47","v":2},{"$f":"'Raw Data'!DW47","v":2},{"$f":"'Raw Data'!DX47","v":5},{"$f":"'Raw Data'!DY47","v":5},{"$f":"'Raw Data'!DZ47","v":3},{"$f":"'Raw Data'!EA47","v":1},{"$f":"'Raw Data'!EB47","v":2},{"$f":"'Raw Data'!EC47","v":6},{"$f":"'Raw Data'!ED47","v":2},{"$f":"'Raw Data'!EE47","v":4},{"$f":"'Raw Data'!EF47","v":1},{"$f":"'Raw Data'!EG47","v":6},{"$f":"'Raw Data'!EH47","v":0},{"$f":"'Raw Data'!EI47","v":1},{"$f":"'Raw Data'!EJ47","v":10},{"$f":"'Raw Data'!EK47","v":1},{"$f":"'Raw Data'!EL47","v":6},{"$f":"'Raw Data'!EM47","v":4},{"$f":"'Raw Data'!EN47","v":2},{"$f":"'Raw Data'!EO47","v":2},{"$f":"'Raw Data'!EP47","v":0},{"$f":"'Raw Data'!EQ47","v":3},{"$f":"'Raw Data'!ER47","v":2},{"$f":"'Raw Data'!ES47","v":4},{"$f":"'Raw Data'!ET47","v":0},{"$f":"'Raw Data'!EU47","v":6},{"$f":"'Raw Data'!EV47","v":4},{"$f":"'Raw Data'!EW47","v":2},{"$f":"'Raw Data'!EX47","v":1},{"$f":"'Raw Data'!EY47","v":3},{"$f":"'Raw Data'!EZ47","v":5},{"$f":"'Raw Data'!FA47","v":3},{"$f":"'Raw Data'!FB47","v":5},{"$f":"'Raw Data'!FC47","v":0},{"$f":"'Raw Data'!FD47","v":1},{"$f":"'Raw Data'!FE47","v":1},{"$f":"'Raw Data'!FF47","v":4},{"$f":"'Raw Data'!FG47","v":1},{"$f":"'Raw Data'!FH47","v":6},{"$f":"'Raw Data'!FI47","v":0},{"$f":"'Raw Data'!FJ47","v":1},{"$f":"'Raw Data'!FK47","v":1},{"$f":"'Raw Data'!FL47","v":6},{"$f":"'Raw Data'!FM47","v":6},{"$f":"'Raw Data'!FN47","v":1},{"$f":"'Raw Data'!FO47","v":0},{"$f":"'Raw Data'!FP47","v":1},{"$f":"'Raw Data'!FQ47","v":0},{"$f":"'Raw Data'!FR47","v":2},{"$f":"'Raw Data'!FS47","v":2},{"$f":"'Raw Data'!FT47","v":6},{"$f":"'Raw Data'!FU47","v":0},{"$f":"'Raw Data'!FV47","v":1},{"$f":"'Raw Data'!FW47","v":2},{"$f":"'Raw Data'!FX47","v":3},{"$f":"'Raw Data'!FY47","v":4},{"$f":"'Raw Data'!FZ47","v":4},{"$f":"'Raw Data'!GA47","v":0},{"$f":"'Raw Data'!GB47","v":0},{"$f":"'Raw Data'!GC47","v":1},{"$f":"'Raw Data'!GD47","v":3},{"$f":"'Raw Data'!GE47","v":1},{"$f":"'Raw Data'!GF47","v":2},{"$f":"'Raw Data'!GG47","v":4},{"$f":"'Raw Data'!GH47","v":3},{"$f":"'Raw Data'!GI47","v":4},{"$f":"'Raw Data'!GJ47","v":3},{"$f":"'Raw Data'!GK47","v":1},{"$f":"'Raw Data'!GL47","v":3},{"$f":"'Raw Data'!GM47","v":2},{"$f":"'Raw Data'!GN47","v":3},{"$f":"'Raw Data'!GO47","v":2},{"$f":"'Raw Data'!GP47","v":3},{"$f":"'Raw Data'!GQ47","v":1},{"$f":"'Raw Data'!GR47","v":4},{"$f":"'Raw Data'!GS47","v":2},{"$f":"'Raw Data'!GT47","v":2},{"$f":"'Raw Data'!GU47","v":0},{"$f":"'Raw Data'!GV47","v":2},{"$f":"'Raw Data'!GW47","v":2},{"$f":"'Raw Data'!GX47","v":3},{"$f":"'Raw Data'!GY47","v":1},{"$f":"'Raw Data'!GZ47","v":3},{"$f":"'Raw Data'!HA47","v":7},{"$f":"'Raw Data'!HB47","v":2},{"$f":"'Raw Data'!HC47","v":2},{"$f":"'Raw Data'!HD47","v":5},{"$f":"'Raw Data'!HE47","v":4},{"$f":"'Raw Data'!HF47","v":4},{"$f":"'Raw Data'!HG47","v":3},{"$f":"'Raw Data'!HH47","v":3},{"$f":"'Raw Data'!HI47","v":4},{"$f":"'Raw Data'!HJ47","v":3},{"$f":"'Raw Data'!HK47","v":9},{"$f":"'Raw Data'!HL47","v":6},{"$f":"'Raw Data'!HM47","v":2},{"$f":"'Raw Data'!HN47","v":5},{"$f":"'Raw Data'!HO47","v":3},{"$f":"'Raw Data'!HP47","v":3},{"$f":"'Raw Data'!HQ47","v":4},{"$f":"'Raw Data'!HR47","v":5},{"$f":"'Raw Data'!HS47","v":7},{"$f":"'Raw Data'!HT47","v":4},{"$f":"'Raw Data'!HU47","v":3},{"$f":"'Raw Data'!HV47","v":4},{"$f":"'Raw Data'!HW47","v":6},{"$f":"'Raw Data'!HX47","v":2},{"$f":"'Raw Data'!HY47","v":3},{"$f":"'Raw Data'!HZ47","v":3},{"$f":"'Raw Data'!IA47","v":3},{"$f":"'Raw Data'!IB47","v":1},{"$f":"'Raw Data'!IC47","v":2},{"$f":"'Raw Data'!ID47","v":1},{"$f":"'Raw Data'!IE47","v":6},{"$f":"'Raw Data'!IF47","v":1},{"$f":"'Raw Data'!IG47","v":3},{"$f":"'Raw Data'!IH47","v":1},{"$f":"'Raw Data'!II47","v":0},{"$f":"'Raw Data'!IJ47","v":0},{"$f":"'Raw Data'!IK47","v":0},{"$f":"'Raw Data'!IL47","v":0},{"$f":"'Raw Data'!IM47","v":0},{"$f":"'Raw Data'!IN47","v":0},{"$f":"'Raw Data'!IO47","v":0},{"$f":"'Raw Data'!IP47","v":0},{"$f":"'Raw Data'!IQ47","v":0},{"$f":"'Raw Data'!IR47","v":0},{"$f":"'Raw Data'!IS47","v":0},{"$f":"'Raw Data'!IT47","v":0},{"$f":"'Raw Data'!IU47","v":0},{"$f":"'Raw Data'!IV47","v":0},{"$f":"'Raw Data'!IW47","v":0},{"$f":"'Raw Data'!IX47","v":0},{"$f":"'Raw Data'!IY47","v":0},{"$f":"'Raw Data'!IZ47","v":0},{"$f":"'Raw Data'!JA47","v":0}]
["Total",{"$f":"'Raw Data'!U48","v":246},{"$f":"'Raw Data'!V48","v":183},{"$f":"'Raw Data'!W48","v":284},{"$f":"'Raw Data'!X48","v":318},{"$f":"'Raw Data'!Y48","v":401},{"$f":"'Raw Data'!Z48","v":354},{"$f":"'Raw Data'!AA48","v":240},{"$f":"'Raw Data'!AB48","v":265},{"$f":"'Raw Data'!AC48","v":293},{"$f":"'Raw Data'!AD48","v":247},{"$f":"'Raw Data'!AE48","v":204},{"$f":"'Raw Data'!AF48","v":166},{"$f":"'Raw Data'!AG48","v":162},{"$f":"'Raw Data'!AH48","v":116},{"$f":"'Raw Data'!AI48","v":176},{"$f":"'Raw Data'!AJ48","v":153},{"$f":"'Raw Data'!AK48","v":207},{"$f":"'Raw Data'!AL48","v":156},{"$f":"'Raw Data'!AM48","v":123},{"$f":"'Raw Data'!AN48","v":139},{"$f":"'Raw Data'!AO48","v":123},{"$f":"'Raw Data'!AP48","v":176},{"$f":"'Raw Data'!AQ48","v":101},{"$f":"'Raw Data'!AR48","v":125},{"$f":"'Raw Data'!AS48","v":97},{"$f":"'Raw Data'!AT48","v":122},{"$f":"'Raw Data'!AU48","v":112},{"$f":"'Raw Data'!AV48","v":143},{"$f":"'Raw Data'!AW48","v":171},{"$f":"'Raw Data'!AX48","v":140},{"$f":"'Raw Data'!AY48","v":123},{"$f":"'Raw Data'!AZ48","v":129},{"$f":"'Raw Data'!BA48","v":133},{"$f":"'Raw Data'!BB48","v":121},{"$f":"'Raw Data'!BC48","v":130},{"$f":"'Raw Data'!BD48","v":101},{"$f":"'Raw Data'!BE48","v":87},{"$f":"'Raw Data'!BF48","v":98},{"$f":"'Raw Data'!BG48","v":110},{"$f":"'Raw Data'!BH48","v":124},{"$f":"'Raw Data'!BI48","v":135},{"$f":"'Raw Data'!BJ48","v":136},{"$f":"'Raw Data'!BK48","v":114},{"$f":"'Raw Data'!BL48","v":128},{"$f":"'Raw Data'!BM48","v":126},{"$f":"'Raw Data'!BN48","v":101},{"$f":"'Raw Data'!BO48","v":80},{"$f":"'Raw Data'!BP48","v":83},{"$f":"'Raw Data'!BQ48","v":53},{"$f":"'Raw Data'!BR48","v":78},{"$f":"'Raw Data'!BS48","v":101},{"$f":"'Raw Data'!BT48","v":88},{"$f":"'Raw Data'!BU48","v":126},{"$f":"'Raw Data'!BV48","v":142},{"$f":"'Raw Data'!BW48","v":122},{"$f":"'Raw Data'!BX48","v":134},{"$f":"'Raw Data'!BY48","v":137},{"$f":"'Raw Data'!BZ48","v":140},{"$f":"'Raw Data'!CA48","v":129},{"$f":"'Raw Data'!CB48","v":135},{"$f":"'Raw Data'!CC48","v":99},{"$f":"'Raw Data'!CD48","v":93},{"$f":"'Raw Data'!CE48","v":126},{"$f":"'Raw Data'!CF48","v":164},{"$f":"'Raw Data'!CG48","v":170},{"$f":"'Raw Data'!CH48","v":168},{"$f":"'Raw Data'!CI48","v":148},{"$f":"'Raw Data'!CJ48","v":129},{"$f":"'Raw Data'!CK48","v":143},{"$f":"'Raw Data'!CL48","v":138},{"$f":"'Raw Data'!CM48","v":136},{"$f":"'Raw Data'!CN48","v":155},{"$f":"'Raw Data'!CO48","v":99},{"$f":"'Raw Data'!CP48","v":107},{"$f":"'Raw Data'!CQ48","v":169},{"$f":"'Raw Data'!CR48","v":167},{"$f":"'Raw Data'!CS48","v":159},{"$f":"'Raw Data'!CT48","v":177},{"$f":"'Raw Data'!CU48","v":147},{"$f":"'Raw Data'!CV48","v":132},{"$f":"'Raw Data'!CW48","v":138},{"$f":"'Raw Data'!CX48","v":132},{"$f":"'Raw Data'!CY48","v":122},{"$f":"'Raw Data'!CZ48","v":140},{"$f":"'Raw Data'!DA48","v":116},{"$f":"'Raw Data'!DB48","v":143},{"$f":"'Raw Data'!DC48","v":227},{"$f":"'Raw Data'!DD48","v":186},{"$f":"'Raw Data'!DE48","v":206},{"$f":"'Raw Data'!DF48","v":182},{"$f":"'Raw Data'!DG48","v":151},{"$f":"'Raw Data'!DH48","v":173},{"$f":"'Raw Data'!DI48","v":176},{"$f":"'Raw Data'!DJ48","v":177},{"$f":"'Raw Data'!DK48","v":165},{"$f":"'Raw Data'!DL48","v":140},{"$f":"'Raw Data'!DM48","v":115},{"$f":"'Raw Data'!DN48","v":146},{"$f":"'Raw Data'!DO48","v":180},{"$f":"'Raw Data'!DP48","v":213},{"$f":"'Raw Data'!DQ48","v":194},{"$f":"'Raw Data'!DR48","v":187},{"$f":"'Raw Data'!DS48","v":202},{"$f":"'Raw Data'!DT48","v":184},{"$f":"'Raw Data'!DU48","v":172},{"$f":"'Raw Data'!DV48","v":164},{"$f":"'Raw Data'!DW48","v":147},{"$f":"'Raw Data'!DX48","v":189},{"$f":"'Raw Data'!DY48","v":133},{"$f":"'Raw Data'!DZ48","v":117},{"$f":"'Raw Data'!EA48","v":146},{"$f":"'Raw Data'!EB48","v":189},{"$f":"'Raw Data'!EC48","v":231},{"$f":"'Raw Data'!ED48","v":200},{"$f":"'Raw Data'!EE48","v":201},{"$f":"'Raw Data'!EF48","v":174},{"$f":"'Raw Data'!EG48","v":201},{"$f":"'Raw Data'!EH48","v":192},{"$f":"'Raw Data'!EI48","v":153},{"$f":"'Raw Data'!EJ48","v":202},{"$f":"'Raw Data'!EK48","v":129},{"$f":"'Raw Data'!EL48","v":142},{"$f":"'Raw Data'!EM48","v":184},{"$f":"'Raw Data'!EN48","v":193},{"$f":"'Raw Data'!EO48","v":241},{"$f":"'Raw Data'!EP48","v":227},{"$f":"'Raw Data'!EQ48","v":218},{"$f":"'Raw Data'!ER48","v":187},{"$f":"'Raw Data'!ES48","v":198},{"$f":"'Raw Data'!ET48","v":198},{"$f":"'Raw Data'!EU48","v":177},{"$f":"'Raw Data'!EV48","v":198},{"$f":"'Raw Data'!EW48","v":145},{"$f":"'Raw Data'!EX48","v":130},{"$f":"'Raw Data'!EY48","v":184},{"$f":"'Raw Data'!EZ48","v":201},{"$f":"'Raw Data'!FA48","v":217},{"$f":"'Raw Data'!FB48","v":238},{"$f":"'Raw Data'!FC48","v":201},{"$f":"'Raw Data'!FD48","v":204},{"$f":"'Raw Data'!FE48","v":211},{"$f":"'Raw Data'!FF48","v":193},{"$f":"'Raw Data'!FG48","v":167},{"$f":"'Raw Data'!FH48","v":202},{"$f":"'Raw Data'!FI48","v":141},{"$f":"'Raw Data'!FJ48","v":149},{"$f":"'Raw Data'!FK48","v":235},{"$f":"'Raw Data'!FL48","v":219},{"$f":"'Raw Data'!FM48","v":254},{"$f":"'Raw Data'!FN48","v":295},{"$f":"'Raw Data'!FO48","v":185},{"$f":"'Raw Data'!FP48","v":224},{"$f":"'Raw Data'!FQ48","v":206},{"$f":"'Raw Data'!FR48","v":234},{"$f":"'Raw Data'!FS48","v":208},{"$f":"'Raw Data'!FT48","v":208},{"$f":"'Raw Data'!FU48","v":153},{"$f":"'Raw Data'!FV48","v":112},{"$f":"'Raw Data'!FW48","v":232},{"$f":"'Raw Data'!FX48","v":225},{"$f":"'Raw Data'!FY48","v":267},{"$f":"'Raw Data'!FZ48","v":245},{"$f":"'Raw Data'!GA48","v":209},{"$f":"'Raw Data'!GB48","v":228},{"$f":"'Raw Data'!GC48","v":178},{"$f":"'Raw Data'!GD48","v":215},{"$f":"'Raw Data'!GE48","v":162},{"$f":"'Raw Data'!GF48","v":192},{"$f":"'Raw Data'!GG48","v":144},{"$f":"'Raw Data'!GH48","v":163},{"$f":"'Raw Data'!GI48","v":218},{"$f":"'Raw Data'!GJ48","v":229},{"$f":"'Raw Data'!GK48","v":253},{"$f":"'Raw Data'!GL48","v":232},{"$f":"'Raw Data'!GM48","v":232},{"$f":"'Raw Data'!GN48","v":243},{"$f":"'Raw Data'!GO48","v":199},{"$f":"'Raw Data'!GP48","v":224},{"$f":"'Raw Data'!GQ48","v":250},{"$f":"'Raw Data'!GR48","v":219},{"$f":"'Raw Data'!GS48","v":179},{"$f":"'Raw Data'!GT48","v":181},{"$f":"'Raw Data'!GU48","v":236},{"$f":"'Raw Data'!GV48","v":181},{"$f":"'Raw Data'!GW48","v":179},{"$f":"'Raw Data'!GX48","v":251},{"$f":"'Raw Data'!GY48","v":452},{"$f":"'Raw Data'!GZ48","v":403},{"$f":"'Raw Data'!HA48","v":445},{"$f":"'Raw Data'!HB48","v":460},{"$f":"'Raw Data'!HC48","v":383},{"$f":"'Raw Data'!HD48","v":401},{"$f":"'Raw Data'!HE48","v":335},{"$f":"'Raw Data'!HF48","v":298},{"$f":"'Raw Data'!HG48","v":447},{"$f":"'Raw Data'!HH48","v":445},{"$f":"'Raw Data'!HI48","v":440},{"$f":"'Raw Data'!HJ48","v":432},{"$f":"'Raw Data'!HK48","v":369},{"$f":"'Raw Data'!HL48","v":329},{"$f":"'Raw Data'!HM48","v":313},{"$f":"'Raw Data'!HN48","v":333},{"$f":"'Raw Data'!HO48","v":340},{"$f":"'Raw Data'!HP48","v":319},{"$f":"'Raw Data'!HQ48","v":285},{"$f":"'Raw Data'!HR48","v":248},{"$f":"'Raw Data'!HS48","v":387},{"$f":"'Raw Data'!HT48","v":344},{"$f":"'Raw Data'!HU48","v":331},{"$f":"'Raw Data'!HV48","v":290},{"$f":"'Raw Data'!HW48","v":233},{"$f":"'Raw Data'!HX48","v":265},{"$f":"'Raw Data'!HY48","v":231},{"$f":"'Raw Data'!HZ48","v":207},{"$f":"'Raw Data'!IA48","v":195},{"$f":"'Raw Data'!IB48","v":168},{"$f":"'Raw Data'!IC48","v":141},{"$f":"'Raw Data'!ID48","v":174},{"$f":"'Raw Data'!IE48","v":242},{"$f":"'Raw Data'!IF48","v":215},{"$f":"'Raw Data'!IG48","v":229},{"$f":"'Raw Data'!IH48","v":245},{"$f":"'Raw Data'!II48","v":169},{"$f":"'Raw Data'!IJ48","v":0},{"$f":"'Raw Data'!IK48","v":0},{"$f":"'Raw Data'!IL48","v":0},{"$f":"'Raw Data'!IM48","v":0},{"$f":"'Raw Data'!IN48","v":0},{"$f":"'Raw Data'!IO48","v":0},{"$f":"'Raw Data'!IP48","v":0},{"$f":"'Raw Data'!IQ48","v":0},{"$f":"'Raw Data'!IR48","v":0},{"$f":"'Raw Data'!IS48","v":0},{"$f":"'Raw Data'!IT48","v":0},{"$f":"'Raw Data'!IU48","v":0},{"$f":"'Raw Data'!IV48","v":0},{"$f":"'Raw Data'!IW48","v":0},{"$f":"'Raw Data'!IX48","v":0},{"$f":"'Raw Data'!IY48","v":0},{"$f":"'Raw Data'!IZ48","v":0},{"$f":"'Raw Data'!JA48","v":0}]

{"sheet":"Total Year to Year Sales","index":13,"n_rows":29,"n_cols":15,"rows_kept":29,"cut":false,"hidden":false,"merged":[[21,4,21,6],[21,8,21,10]]}
[null,"Jan","Feb","Mar","Apr","May","Jun","July","Aug","Sep","Oct","Nov","Dec"]
[2005,{"$f":"'Raw Data'!U48","v":246},{"$f":"'Raw Data'!V48","v":183},{"$f":"'Raw Data'!W48","v":284},{"$f":"'Raw Data'!X48","v":318},{"$f":"'Raw Data'!Y48","v":401},{"$f":"'Raw Data'!Z48","v":354},{"$f":"'Raw Data'!AA48","v":240},{"$f":"'Raw Data'!AB48","v":265},{"$f":"'Raw Data'!AC48","v":293},{"$f":"'Raw Data'!AD48","v":247},{"$f":"'Raw Data'!AE48","v":204},{"$f":"'Raw Data'!AF48","v":166},{"$f":"SUM(B2:M2)","v":3201}]
[2006,{"$f":"'Raw Data'!AG48","v":162},{"$f":"'Raw Data'!AH48","v":116},{"$f":"'Raw Data'!AI48","v":176},{"$f":"'Raw Data'!AJ48","v":153},{"$f":"'Raw Data'!AK48","v":207},{"$f":"'Raw Data'!AL48","v":156},{"$f":"'Raw Data'!AM48","v":123},{"$f":"'Raw Data'!AN48","v":139},{"$f":"'Raw Data'!AO48","v":123},{"$f":"'Raw Data'!AP48","v":176},{"$f":"'Raw Data'!AQ48","v":101},{"$f":"'Raw Data'!AR48","v":125},1757]
[2007,{"$f":"'Raw Data'!AS48","v":97},{"$f":"'Raw Data'!AT48","v":122},{"$f":"'Raw Data'!AU48","v":112},{"$f":"'Raw Data'!AV48","v":143},{"$f":"'Raw Data'!AW48","v":171},{"$f":"'Raw Data'!AX48","v":140},{"$f":"'Raw Data'!AY48","v":123},{"$f":"'Raw Data'!AZ48","v":129},{"$f":"'Raw Data'!BA48","v":133},{"$f":"'Raw Data'!BB48","v":121},{"$f":"'Raw Data'!BC48","v":130},{"$f":"'Raw Data'!BD48","v":101},1522]
[2008,{"$f":"'Raw Data'!BE48","v":87},{"$f":"'Raw Data'!BF48","v":98},{"$f":"'Raw Data'!BG48","v":110},{"$f":"'Raw Data'!BH48","v":124},{"$f":"'Raw Data'!BI48","v":135},{"$f":"'Raw Data'!BJ48","v":136},{"$f":"'Raw Data'!BK48","v":114},{"$f":"'Raw Data'!BL48","v":128},{"$f":"'Raw Data'!BM48","v":126},{"$f":"'Raw Data'!BN48","v":101},{"$f":"'Raw Data'!BO48","v":80},{"$f":"'Raw Data'!BP48","v":83},1322]
[2009,{"$f":"'Raw Data'!BQ48","v":53},{"$f":"'Raw Data'!BR48","v":78},{"$f":"'Raw Data'!BS48","v":101},{"$f":"'Raw Data'!BT48","v":88},{"$f":"'Raw Data'!BU48","v":126},{"$f":"'Raw Data'!BV48","v":142},{"$f":"'Raw Data'!BW48","v":122},{"$f":"'Raw Data'!BX48","v":134},{"$f":"'Raw Data'!BY48","v":137},{"$f":"'Raw Data'!BZ48","v":140},{"$f":"'Raw Data'!CA48","v":129},{"$f":"'Raw Data'!CB48","v":135},1385]
[2010,{"$f":"'Raw Data'!CC48","v":99},{"$f":"'Raw Data'!CD48","v":93},{"$f":"'Raw Data'!CE48","v":126},{"$f":"'Raw Data'!CF48","v":164},{"$f":"'Raw Data'!CG48","v":170},{"$f":"'Raw Data'!CH48","v":168},{"$f":"'Raw Data'!CI48","v":148},{"$f":"'Raw Data'!CJ48","v":129},{"$f":"'Raw Data'!CK48","v":143},{"$f":"'Raw Data'!CL48","v":138},{"$f":"'Raw Data'!CM48","v":136},{"$f":"'Raw Data'!CN48","v":155},1669]
[2011,{"$f":"'Raw Data'!CO48","v":99},{"$f":"'Raw Data'!CP48","v":107},{"$f":"'Raw Data'!CQ48","v":169},{"$f":"'Raw Data'!CR48","v":167},{"$f":"'Raw Data'!CS48","v":159},{"$f":"'Raw Data'!CT48","v":177},{"$f":"'Raw Data'!CU48","v":147},{"$f":"'Raw Data'!CV48","v":132},{"$f":"'Raw Data'!CW48","v":138},{"$f":"'Raw Data'!CX48","v":132},{"$f":"'Raw Data'!CY48","v":122},{"$f":"'Raw Data'!CZ48","v":140},1689]
[2012,{"$f":"'Raw Data'!DA48","v":116},{"$f":"'Raw Data'!DB48","v":143},{"$f":"'Raw Data'!DC48","v":227},{"$f":"'Raw Data'!DD48","v":186},{"$f":"'Raw Data'!DE48","v":206},{"$f":"'Raw Data'!DF48","v":182},{"$f":"'Raw Data'!DG48","v":151},{"$f":"'Raw Data'!DH48","v":173},{"$f":"'Raw Data'!DI48","v":176},{"$f":"'Raw Data'!DJ48","v":177},{"$f":"'Raw Data'!DK48","v":165},{"$f":"'Raw Data'!DL48","v":140},2042]
[2013,{"$f":"'Raw Data'!DM48","v":115},{"$f":"'Raw Data'!DN48","v":146},{"$f":"'Raw Data'!DO48","v":180},{"$f":"'Raw Data'!DP48","v":213},{"$f":"'Raw Data'!DQ48","v":194},{"$f":"'Raw Data'!DR48","v":187},{"$f":"'Raw Data'!DS48","v":202},{"$f":"'Raw Data'!DT48","v":184},{"$f":"'Raw Data'!DU48","v":172},{"$f":"'Raw Data'!DV48","v":164},{"$f":"'Raw Data'!DW48","v":147},{"$f":"'Raw Data'!DX48","v":189},2093]
[2014,{"$f":"'Raw Data'!DY48","v":133},{"$f":"'Raw Data'!DZ48","v":117},{"$f":"'Raw Data'!EA48","v":146},{"$f":"'Raw Data'!EB48","v":189},{"$f":"'Raw Data'!EC48","v":231},{"$f":"'Raw Data'!ED48","v":200},{"$f":"'Raw Data'!EE48","v":201},{"$f":"'Raw Data'!EF48","v":174},{"$f":"'Raw Data'!EG48","v":201},{"$f":"'Raw Data'!EH48","v":192},{"$f":"'Raw Data'!EI48","v":153},{"$f":"'Raw Data'!EJ48","v":202},2139]
[2015,{"$f":"'Raw Data'!EK48","v":129},{"$f":"'Raw Data'!EL48","v":142},{"$f":"'Raw Data'!EM48","v":184},{"$f":"'Raw Data'!EN48","v":193},{"$f":"'Raw Data'!EO48","v":241},{"$f":"'Raw Data'!EP48","v":227},{"$f":"'Raw Data'!EQ48","v":218},{"$f":"'Raw Data'!ER48","v":187},{"$f":"'Raw Data'!ES48","v":198},{"$f":"'Raw Data'!ET48","v":198},{"$f":"'Raw Data'!EU48","v":177},{"$f":"'Raw Data'!EV48","v":198},2292]
[2016,{"$f":"'Raw Data'!EW48","v":145},{"$f":"'Raw Data'!EX48","v":130},{"$f":"'Raw Data'!EY48","v":184},{"$f":"'Raw Data'!EZ48","v":201},{"$f":"'Raw Data'!FA48","v":217},{"$f":"'Raw Data'!FB48","v":238},{"$f":"'Raw Data'!FC48","v":201},{"$f":"'Raw Data'!FD48","v":204},{"$f":"'Raw Data'!FE48","v":211},{"$f":"'Raw Data'!FF48","v":193},{"$f":"'Raw Data'!FG48","v":167},{"$f":"'Raw Data'!FH48","v":202},{"$f":"SUM(B13:L13)","v":2091}]
[2017,{"$f":"'Raw Data'!FI48","v":141},{"$f":"'Raw Data'!FJ48","v":149},{"$f":"'Raw Data'!FK48","v":235},{"$f":"'Raw Data'!FL48","v":219},{"$f":"'Raw Data'!FM48","v":254},{"$f":"'Raw Data'!FN48","v":295},{"$f":"'Raw Data'!FO48","v":185},{"$f":"'Raw Data'!FP48","v":224},{"$f":"'Raw Data'!FQ48","v":206},{"$f":"'Raw Data'!FR48","v":234},{"$f":"'Raw Data'!FS48","v":208},{"$f":"'Raw Data'!FT48","v":208},null,{"$f":"SUM(B14:C14)","v":290}]
[2018,{"$f":"'Raw Data'!FU48","v":153},{"$f":"'Raw Data'!FV48","v":112},{"$f":"'Raw Data'!FW48","v":232},{"$f":"'Raw Data'!FX48","v":225},{"$f":"'Raw Data'!FY48","v":267},{"$f":"'Raw Data'!FZ48","v":245},{"$f":"'Raw Data'!GA48","v":209},{"$f":"'Raw Data'!GB48","v":228},{"$f":"'Raw Data'!GC48","v":178},{"$f":"'Raw Data'!GD48","v":215},{"$f":"'Raw Data'!GE48","v":162},{"$f":"'Raw Data'!GF48","v":192},null,{"$f":"SUM(B15)","v":153}]
[2019,{"$f":"'Raw Data'!GG48","v":144},{"$f":"'Raw Data'!GH48","v":163},{"$f":"'Raw Data'!GI48","v":218},{"$f":"'Raw Data'!GJ48","v":229},{"$f":"'Raw Data'!GK48","v":253},{"$f":"'Raw Data'!GL48","v":232},{"$f":"'Raw Data'!GM48","v":232},{"$f":"'Raw Data'!GN48","v":243},{"$f":"'Raw Data'!GO48","v":199},{"$f":"'Raw Data'!GP48","v":224},{"$f":"'Raw Data'!GQ48","v":250},{"$f":"'Raw Data'!GR48","v":219},null,{"$f":"SUM(B16:M16)","v":2606}]
[2020,{"$f":"'Raw Data'!GS48","v":179},{"$f":"'Raw Data'!GT48","v":181},{"$f":"'Raw Data'!GU48","v":236},{"$f":"'Raw Data'!GV48","v":181},{"$f":"'Raw Data'!GW48","v":179},{"$f":"'Raw Data'!GX48","v":251},{"$f":"'Raw Data'!GY48","v":452},{"$f":"'Raw Data'!GZ48","v":403},{"$f":"'Raw Data'!HA48","v":445},{"$f":"'Raw Data'!HB48","v":460},{"$f":"'Raw Data'!HC48","v":383},{"$f":"'Raw Data'!HD48","v":401},null,{"$f":"SUM(B17:H17)","v":1659}]
[2021,{"$f":"'Raw Data'!HE48","v":335},{"$f":"'Raw Data'!HF48","v":298},{"$f":"'Raw Data'!HG48","v":447},{"$f":"'Raw Data'!HH48","v":445},{"$f":"'Raw Data'!HI48","v":440},{"$f":"'Raw Data'!HJ48","v":432},{"$f":"'Raw Data'!HK48","v":369},{"$f":"'Raw Data'!HL48","v":329},{"$f":"'Raw Data'!HM48","v":313},{"$f":"'Raw Data'!HN48","v":333},{"$f":"'Raw Data'!HO48","v":340},{"$f":"'Raw Data'!HP48","v":319},null,{"$f":"SUM(B18:H18)","v":2766}]
[2022,{"$f":"'Raw Data'!HQ48","v":285},{"$f":"'Raw Data'!HR48","v":248},{"$f":"'Raw Data'!HS48","v":387},{"$f":"'Raw Data'!HT48","v":344},{"$f":"'Raw Data'!HU48","v":331},{"$f":"'Raw Data'!HV48","v":290},{"$f":"'Raw Data'!HW48","v":233},{"$f":"'Raw Data'!HX48","v":265},{"$f":"'Raw Data'!HY48","v":231},{"$f":"'Raw Data'!HZ48","v":207},{"$f":"'Raw Data'!IA48","v":195},{"$f":"'Raw Data'!IB48","v":168},null,{"$f":"SUM(B19:H19)","v":2118}]
[2023,{"$f":"'Raw Data'!IC48","v":141},{"$f":"'Raw Data'!ID48","v":174},{"$f":"'Raw Data'!IE48","v":242},{"$f":"'Raw Data'!IF48","v":215},{"$f":"'Raw Data'!IG48","v":229},{"$f":"'Raw Data'!IH48","v":245},{"$f":"'Raw Data'!II48","v":169},{"$f":"'Raw Data'!IJ48","v":0},{"$f":"'Raw Data'!IK48","v":0},{"$f":"'Raw Data'!IL48","v":0},{"$f":"'Raw Data'!IM48","v":0},{"$f":"'Raw Data'!IN48","v":0},null,{"$f":"SUM(B20:H20)","v":1415}]
[]
[{"$nulls":4},"Monthly Sales",null,null,null,"All Property Sales"]
[{"$nulls":4},"Month / Year","Count","%Chg",null,"Month / Year","Count","%Chg"]
[{"$nulls":4},"Jul'23",{"$f":"H20","v":169},{"$f":"(F24-F25)/F25","v":-0.27467811158798283},null,2023,{"$f":"O20","v":1415},{"$f":"(J24-J25)/J25","v":-0.3319169027384325}]
[{"$nulls":4},"Jul'22",{"$f":"H19","v":233},{"$f":"(F25-F26)/F26","v":-0.36856368563685638},null,2022,{"$f":"O19","v":2118},{"$f":"(J25-J26)/J26","v":-0.23427331887201736}]
[{"$nulls":4},"Jul'21",{"$f":"H18","v":369},{"$f":"(F26-F27)/F27","v":-0.1836283185840708},null,2021,{"$f":"O18","v":2766},{"$f":"(J26-J27)/J27","v":0.66726943942133821}]
[{"$nulls":4},"Jul'20",{"$f":"H17","v":452},null,null,2020,{"$f":"O17","v":1659}]
[]
[{"$nulls":4}," "]

{"sheet":"3 Yr Snapshot","index":15,"n_rows":5,"n_cols":242,"rows_kept":5,"cut":false,"hidden":false,"merged":[]}
[null,{"$f":"'Raw Data'!U36","v":"2005-01-05"},{"$f":"'Raw Data'!V36","v":"2005-02-05"},{"$f":"'Raw Data'!W36","v":"2005-03-05"},{"$f":"'Raw Data'!X36","v":"2005-04-05"},{"$f":"'Raw Data'!Y36","v":"2005-05-05"},{"$f":"'Raw Data'!Z36","v":"2005-06-05"},{"$f":"'Raw Data'!AA36","v":"2005-07-05"},{"$f":"'Raw Data'!AB36","v":"2005-08-05"},{"$f":"'Raw Data'!AC36","v":"2005-09-05"},{"$f":"'Raw Data'!AD36","v":"2005-10-05"},{"$f":"'Raw Data'!AE36","v":"2005-11-05"},{"$f":"'Raw Data'!AF36","v":"2005-12-05"},{"$f":"'Raw Data'!AG36","v":"2006-01-05"},{"$f":"'Raw Data'!AH36","v":"2006-02-05"},{"$f":"'Raw Data'!AI36","v":"2006-03-05"},{"$f":"'Raw Data'!AJ36","v":"2006-04-05"},{"$f":"'Raw Data'!AK36","v":"2006-05-06"},{"$f":"'Raw Data'!AL36","v":"2006-06-06"},{"$f":"'Raw Data'!AM36","v":"2006-07-06"},{"$f":"'Raw Data'!AN36","v":"2006-08-06"},{"$f":"'Raw Data'!AO36","v":"2006-09-06"},{"$f":"'Raw Data'!AP36","v":"2006-10-06"},{"$f":"'Raw Data'!AQ36","v":"2006-11-06"},{"$f":"'Raw Data'!AR36","v":"2006-12-06"},{"$f":"'Raw Data'!AS36","v":"2007-01-06"},{"$f":"'Raw Data'!AT36","v":"2007-02-06"},{"$f":"'Raw Data'!AU36","v":"2007-03-06"},{"$f":"'Raw Data'!AV36","v":"2007-04-06"},{"$f":"'Raw Data'!AW36","v":"2007-05-06"},{"$f":"'Raw Data'!AX36","v":"2007-06-06"},{"$f":"'Raw Data'!AY36","v":"2007-07-06"},{"$f":"'Raw Data'!AZ36","v":"2007-08-06"},{"$f":"'Raw Data'!BA36","v":"2007-09-06"},{"$f":"'Raw Data'!BB36","v":"2007-10-06"},{"$f":"'Raw Data'!BC36","v":"2007-11-06"},{"$f":"'Raw Data'!BD36","v":"2007-12-06"},{"$f":"'Raw Data'!BE36","v":"2008-01-06"},{"$f":"'Raw Data'!BF36","v":"2008-02-06"},{"$f":"'Raw Data'!BG36","v":"2008-03-06"},{"$f":"'Raw Data'!BH36","v":"2008-04-06"},{"$f":"'Raw Data'!BI36","v":"2008-05-06"},{"$f":"'Raw Data'!BJ36","v":"2008-06-06"},{"$f":"'Raw Data'!BK36","v":"2008-07-06"},{"$f":"'Raw Data'!BL36","v":"2008-08-06"},{"$f":"'Raw Data'!BM36","v":"2008-09-06"},{"$f":"'Raw Data'!BN36","v":"2008-10-06"},{"$f":"'Raw Data'!BO36","v":"2008-11-06"},{"$f":"'Raw Data'!BP36","v":"2008-12-06"},{"$f":"'Raw Data'!BQ36","v":"2009-01-06"},{"$f":"'Raw Data'!BR36","v":"2009-02-06"},{"$f":"'Raw Data'!BS36","v":"2009-03-06"},{"$f":"'Raw Data'!BT36","v":"2009-04-06"},{"$f":"'Raw Data'!BU36","v":"2009-05-06"},{"$f":"'Raw Data'!BV36","v":"2009-06-06"},{"$f":"'Raw Data'!BW36","v":"2009-07-06"},{"$f":"'Raw Data'!BX36","v":"2009-08-06"},{"$f":"'Raw Data'!BY36","v":"2009-09-06"},{"$f":"'Raw Data'!BZ36","v":"2009-10-06"},{"$f":"'Raw Data'!CA36","v":"2009-11-06"},{"$f":"'Raw Data'!CB36","v":"2009-12-06"},{"$f":"'Raw Data'!CC36","v":"2010-01-06"},{"$f":"'Raw Data'!CD36","v":"2010-02-06"},{"$f":"'Raw Data'!CE36","v":"2010-03-06"},{"$f":"'Raw Data'!CF36","v":"2010-04-06"},{"$f":"'Raw Data'!CG36","v":"2010-05-06"},{"$f":"'Raw Data'!CH36","v":"2010-06-06"},{"$f":"'Raw Data'!CI36","v":"2010-07-06"},{"$f":"'Raw Data'!CJ36","v":"2010-08-06"},{"$f":"'Raw Data'!CK36","v":"2010-09-06"},{"$f":"'Raw Data'!CL36","v":"2010-10-06"},{"$f":"'Raw Data'!CM36","v":"2010-11-06"},{"$f":"'Raw Data'!CN36","v":"2010-12-06"},{"$f":"'Raw Data'!CO36","v":"2011-01-06"},{"$f":"'Raw Data'!CP36","v":"2011-02-06"},{"$f":"'Raw Data'!CQ36","v":"2011-03-06"},{"$f":"'Raw Data'!CR36","v":"2011-04-06"},{"$f":"'Raw Data'!CS36","v":"2011-05-06"},{"$f":"'Raw Data'!CT36","v":"2011-06-06"},{"$f":"'Raw Data'!CU36","v":"2011-07-06"},{"$f":"'Raw Data'!CV36","v":"2011-08-06"},{"$f":"'Raw Data'!CW36","v":"2011-09-06"},{"$f":"'Raw Data'!CX36","v":"2011-10-06"},{"$f":"'Raw Data'!CY36","v":"2011-11-06"},{"$f":"'Raw Data'!CZ36","v":"2011-12-06"},{"$f":"'Raw Data'!DA36","v":"2012-01-06"},{"$f":"'Raw Data'!DB36","v":"2012-02-06"},{"$f":"'Raw Data'!DC36","v":"2012-03-06"},{"$f":"'Raw Data'!DD36","v":"2012-04-06"},{"$f":"'Raw Data'!DE36","v":"2012-05-06"},{"$f":"'Raw Data'!DF36","v":"2012-06-06"},{"$f":"'Raw Data'!DG36","v":"2012-07-06"},{"$f":"'Raw Data'!DH36","v":"2012-08-06"},{"$f":"'Raw Data'!DI36","v":"2012-09-06"},{"$f":"'Raw Data'!DJ36","v":"2012-10-06"},{"$f":"'Raw Data'!DK36","v":"2012-11-06"},{"$f":"'Raw Data'!DL36","v":"2012-12-06"},{"$f":"'Raw Data'!DM36","v":"2013-01-06"},{"$f":"'Raw Data'!DN36","v":"2013-02-06"},{"$f":"'Raw Data'!DO36","v":"2013-03-06"},{"$f":"'Raw Data'!DP36","v":"2013-04-06"},{"$f":"'Raw Data'!DQ36","v":"2013-05-06"},{"$f":"'Raw Data'!DR36","v":"2013-06-06"},{"$f":"'Raw Data'!DS36","v":"2013-07-06"},{"$f":"'Raw Data'!DT36","v":"2013-08-06"},{"$f":"'Raw Data'!DU36","v":"2013-09-06"},{"$f":"'Raw Data'!DV36","v":"2013-10-06"},{"$f":"'Raw Data'!DW36","v":"2013-11-06"},{"$f":"'Raw Data'!DX36","v":"2013-12-06"},{"$f":"'Raw Data'!DY36","v":"2014-01-06"},{"$f":"'Raw Data'!DZ36","v":"2014-02-06"},{"$f":"'Raw Data'!EA36","v":"2014-03-06"},{"$f":"'Raw Data'!EB36","v":"2014-04-06"},{"$f":"'Raw Data'!EC36","v":"2014-05-06"},{"$f":"'Raw Data'!ED36","v":"2014-06-06"},{"$f":"'Raw Data'!EE36","v":"2014-07-06"},{"$f":"'Raw Data'!EF36","v":"2014-08-06"},{"$f":"'Raw Data'!EG36","v":"2014-09-06"},{"$f":"'Raw Data'!EH36","v":"2014-10-06"},{"$f":"'Raw Data'!EI36","v":"2014-11-06"},{"$f":"'Raw Data'!EJ36","v":"2014-12-06"},{"$f":"'Raw Data'!EK36","v":"2015-01-06"},{"$f":"'Raw Data'!EL36","v":"2015-02-06"},{"$f":"'Raw Data'!EM36","v":"2015-03-06"},{"$f":"'Raw Data'!EN36","v":"2015-04-06"},{"$f":"'Raw Data'!EO36","v":"2015-05-06"},{"$f":"'Raw Data'!EP36","v":"2015-06-06"},{"$f":"'Raw Data'!EQ36","v":"2015-07-06"},{"$f":"'Raw Data'!ER36","v":"2015-08-06"},{"$f":"'Raw Data'!ES36","v":"2015-09-06"},{"$f":"'Raw Data'!ET36","v":"2015-10-06"},{"$f":"'Raw Data'!EU36","v":"2015-11-06"},{"$f":"'Raw Data'!EV36","v":"2015-12-06"},{"$f":"'Raw Data'!EW36","v":"2016-01-06"},{"$f":"'Raw Data'!EX36","v":"2016-02-06"},{"$f":"'Raw Data'!EY36","v":"2016-03-06"},{"$f":"'Raw Data'!EZ36","v":"2016-04-06"},{"$f":"'Raw Data'!FA36","v":"2016-05-06"},{"$f":"'Raw Data'!FB36","v":"2016-06-06"},{"$f":"'Raw Data'!FC36","v":"2016-07-06"},{"$f":"'Raw Data'!FD36","v":"2016-08-06"},{"$f":"'Raw Data'!FE36","v":"2016-09-06"},{"$f":"'Raw Data'!FF36","v":"2016-10-06"},{"$f":"'Raw Data'!FG36","v":"2016-11-06"},{"$f":"'Raw Data'!FH36","v":"2016-12-06"},{"$f":"'Raw Data'!FI36","v":"2017-01-06"},"2017-02-17","2017-03-17","2017-04-17","2017-05-17","2017-06-17","2017-07-17","2017-08-17","2017-09-17","2017-10-17","2017-11-17","2017-12-17","2018-01-17","2018-02-17","2018-03-17","2018-04-17","2018-05-17","2018-06-17","2018-07-17","2018-08-17","2018-09-17","2018-10-17","2018-11-17","2018-12-17","2019-01-17","2019-02-17","2019-03-17","2019-04-17","2019-05-17","2019-06-17","2019-07-17","2019-08-17","2019-09-17","2019-10-17","2019-11-17","2019-12-17","2020-01-17","2020-02-17","2020-03-17","2020-04-17","2020-05-17","2020-06-17","2020-07-17","2020-08-17","2020-09-17","2020-10-17","2020-11-17","2020-12-17","2021-01-17","2021-02-17","2021-03-17","2021-04-17","2021-05-17","2021-06-17","2021-07-17","2021-08-17","2021-09-17","2021-10-17","2021-11-17","2021-12-17","2022-01-17","2022-02-17","2022-03-17","2022-04-17","2022-05-17","2022-06-17","2022-07-17","2022-08-17","2022-09-17","2022-10-17","2022-11-17","2022-12-17","2023-01-17","2023-02-17","2023-03-17","2023-04-17","2023-05-17","2023-06-17","2023-07-17","2023-08-17","2023-09-17","2023-10-17","2023-11-17","2023-12-17","2024-01-17","2024-02-17","2024-03-17","2024-04-17","2024-05-17","2024-06-17","2024-07-17","2024-08-17","2024-09-17","2024-10-17","2024-11-17","2024-12-17","2025-01-17"]
["Sold Residential",{"$f":"'Raw Data'!U45","v":149},{"$f":"'Raw Data'!V45","v":119},{"$f":"'Raw Data'!W45","v":190},{"$f":"'Raw Data'!X45","v":208},{"$f":"'Raw Data'!Y45","v":286},{"$f":"'Raw Data'!Z45","v":234},{"$f":"'Raw Data'!AA45","v":167},{"$f":"'Raw Data'!AB45","v":178},{"$f":"'Raw Data'!AC45","v":177},{"$f":"'Raw Data'!AD45","v":162},{"$f":"'Raw Data'!AE45","v":126},{"$f":"'Raw Data'!AF45","v":108},{"$f":"'Raw Data'!AG45","v":97},{"$f":"'Raw Data'!AH45","v":93},{"$f":"'Raw Data'!AI45","v":122},{"$f":"'Raw Data'!AJ45","v":118},{"$f":"'Raw Data'!AK45","v":151},{"$f":"'Raw Data'!AL45","v":117},{"$f":"'Raw Data'!AM45","v":83},{"$f":"'Raw Data'!AN45","v":106},{"$f":"'Raw Data'!AO45","v":93},{"$f":"'Raw Data'!AP45","v":119},{"$f":"'Raw Data'!AQ45","v":81},{"$f":"'Raw Data'!AR45","v":89},{"$f":"'Raw Data'!AS45","v":76},{"$f":"'Raw Data'!AT45","v":103},{"$f":"'Raw Data'!AU45","v":100},{"$f":"'Raw Data'!AV45","v":119},{"$f":"'Raw Data'!AW45","v":137},{"$f":"'Raw Data'!AX45","v":117},{"$f":"'Raw Data'!AY45","v":103},{"$f":"'Raw Data'!AZ45","v":106},{"$f":"'Raw Data'!BA45","v":104},{"$f":"'Raw Data'!BB45","v":95},{"$f":"'Raw Data'!BC45","v":93},{"$f":"'Raw Data'!BD45","v":82},{"$f":"'Raw Data'!BE45","v":57},{"$f":"'Raw Data'!BF45","v":75},{"$f":"'Raw Data'!BG45","v":96},{"$f":"'Raw Data'!BH45","v":92},{"$f":"'Raw Data'!BI45","v":111},{"$f":"'Raw Data'!BJ45","v":110},{"$f":"'Raw Data'!BK45","v":94},{"$f":"'Raw Data'!BL45","v":103},{"$f":"'Raw Data'!BM45","v":93},{"$f":"'Raw Data'!BN45","v":85},{"$f":"'Raw Data'!BO45","v":60},{"$f":"'Raw Data'!BP45","v":69},{"$f":"'Raw Data'!BQ45","v":42},{"$f":"'Raw Data'!BR45","v":68},{"$f":"'Raw Data'!BS45","v":84},{"$f":"'Raw Data'!BT45","v":81},{"$f":"'Raw Data'!BU45","v":111},{"$f":"'Raw Data'!BV45","v":114},{"$f":"'Raw Data'!BW45","v":105},{"$f":"'Raw Data'!BX45","v":105},{"$f":"'Raw Data'!BY45","v":104},{"$f":"'Raw Data'!BZ45","v":106},{"$f":"'Raw Data'!CA45","v":106},{"$f":"'Raw Data'!CB45","v":100},{"$f":"'Raw Data'!CC45","v":86},{"$f":"'Raw Data'!CD45","v":72},{"$f":"'Raw Data'!CE45","v":113},{"$f":"'Raw Data'!CF45","v":136},{"$f":"'Raw Data'!CG45","v":151},{"$f":"'Raw Data'!CH45","v":137},{"$f":"'Raw Data'!CI45","v":125},{"$f":"'Raw Data'!CJ45","v":99},{"$f":"'Raw Data'!CK45","v":109},{"$f":"'Raw Data'!CL45","v":115},{"$f":"'Raw Data'!CM45","v":106},{"$f":"'Raw Data'!CN45","v":125},{"$f":"'Raw Data'!CO45","v":83},{"$f":"'Raw Data'!CP45","v":87},{"$f":"'Raw Data'!CQ45","v":130},{"$f":"'Raw Data'!CR45","v":137},{"$f":"'Raw Data'!CS45","v":124},{"$f":"'Raw Data'!CT45","v":142},{"$f":"'Raw Data'!CU45","v":127},{"$f":"'Raw Data'!CV45","v":105},{"$f":"'Raw Data'!CW45","v":113},{"$f":"'Raw Data'!CX45","v":109},{"$f":"'Raw Data'!CY45","v":74},{"$f":"'Raw Data'!CZ45","v":102},{"$f":"'Raw Data'!DA45","v":94},{"$f":"'Raw Data'!DB45","v":112},{"$f":"'Raw Data'!DC45","v":171},{"$f":"'Raw Data'!DD45","v":131},{"$f":"'Raw Data'!DE45","v":165},{"$f":"'Raw Data'!DF45","v":146},{"$f":"'Raw Data'!DG45","v":121},{"$f":"'Raw Data'!DH45","v":125},{"$f":"'Raw Data'!DI45","v":146},{"$f":"'Raw Data'!DJ45","v":134},{"$f":"'Raw Data'!DK45","v":129},{"$f":"'Raw Data'!DL45","v":109},{"$f":"'Raw Data'!DM45","v":89},{"$f":"'Raw Data'!DN45","v":91},{"$f":"'Raw Data'!DO45","v":136},{"$f":"'Raw Data'!DP45","v":168},{"$f":"'Raw Data'!DQ45","v":157},{"$f":"'Raw Data'!DR45","v":150},{"$f":"'Raw Data'!DS45","v":161},{"$f":"'Raw Data'!DT45","v":136},{"$f":"'Raw Data'!DU45","v":127},{"$f":"'Raw Data'!DV45","v":114},{"$f":"'Raw Data'!DW45","v":115},{"$f":"'Raw Data'!DX45","v":125},{"$f":"'Raw Data'!DY45","v":106},{"$f":"'Raw Data'!DZ45","v":88},{"$f":"'Raw Data'!EA45","v":115},{"$f":"'Raw Data'!EB45","v":149},{"$f":"'Raw Data'!EC45","v":192},{"$f":"'Raw Data'!ED45","v":147},{"$f":"'Raw Data'!EE45","v":122},{"$f":"'Raw Data'!EF45","v":127},{"$f":"'Raw Data'!EG45","v":142},{"$f":"'Raw Data'!EH45","v":144},{"$f":"'Raw Data'!EI45","v":118},{"$f":"'Raw Data'!EJ45","v":157},{"$f":"'Raw Data'!EK45","v":96},{"$f":"'Raw Data'!EL45","v":105},{"$f":"'Raw Data'!EM45","v":140},{"$f":"'Raw Data'!EN45","v":153},{"$f":"'Raw Data'!EO45","v":202},{"$f":"'Raw Data'!EP45","v":185},{"$f":"'Raw Data'!EQ45","v":171},{"$f":"'Raw Data'!ER45","v":146},{"$f":"'Raw Data'!ES45","v":143},{"$f":"'Raw Data'!ET45","v":159},{"$f":"'Raw Data'!EU45","v":143},{"$f":"'Raw Data'!EV45","v":148},{"$f":"'Raw Data'!EW45","v":111},{"$f":"'Raw Data'!EX45","v":92},{"$f":"'Raw Data'!EY45","v":138},{"$f":"'Raw Data'!EZ45","v":158},{"$f":"'Raw Data'!FA45","v":175},{"$f":"'Raw Data'!FB45","v":185},{"$f":"'Raw Data'!FC45","v":155},{"$f":"'Raw Data'!FD45","v":159},{"$f":"'Raw Data'!FE45","v":159},{"$f":"'Raw Data'!FF45","v":145},{"$f":"'Raw Data'!FG45","v":140},{"$f":"'Raw Data'!FH45","v":173},{"$f":"'Raw Data'!FI45","v":112},{"$f":"'Raw Data'!FJ45","v":129},{"$f":"'Raw Data'!FK45","v":180},{"$f":"'Raw Data'!FL45","v":180},{"$f":"'Raw Data'!FM45","v":203},{"$f":"'Raw Data'!FN45","v":218},{"$f":"'Raw Data'!FO45","v":136},{"$f":"'Raw Data'!FP45","v":171},{"$f":"'Raw Data'!FQ45","v":162},{"$f":"'Raw Data'!FR45","v":166},{"$f":"'Raw Data'!FS45","v":164},{"$f":"'Raw Data'!FT45","v":164},{"$f":"'Raw Data'!FU45","v":118},{"$f":"'Raw Data'!FV45","v":89},{"$f":"'Raw Data'!FW45","v":187},{"$f":"'Raw Data'!FX45","v":186},{"$f":"'Raw Data'!FY45","v":219},{"$f":"'Raw Data'!FZ45","v":188},{"$f":"'Raw Data'!GA45","v":172},{"$f":"'Raw Data'!GB45","v":189},{"$f":"'Raw Data'!GC45","v":142},{"$f":"'Raw Data'!GD45","v":176},{"$f":"'Raw Data'!GE45","v":135},{"$f":"'Raw Data'!GF45","v":166},{"$f":"'Raw Data'!GG45","v":119},{"$f":"'Raw Data'!GH45","v":123},{"$f":"'Raw Data'!GI45","v":184},{"$f":"'Raw Data'!GJ45","v":189},{"$f":"'Raw Data'!GK45","v":217},{"$f":"'Raw Data'!GL45","v":190},{"$f":"'Raw Data'!GM45","v":185},{"$f":"'Raw Data'!GN45","v":201},{"$f":"'Raw Data'!GO45","v":162},{"$f":"'Raw Data'!GP45","v":189},{"$f":"'Raw Data'!GQ45","v":206},{"$f":"'Raw Data'!GR45","v":174},{"$f":"'Raw Data'!GS45","v":148},{"$f":"'Raw Data'!GT45","v":146},{"$f":"'Raw Data'!GU45","v":198},{"$f":"'Raw Data'!GV45","v":154},{"$f":"'Raw Data'!GW45","v":150},{"$f":"'Raw Data'!GX45","v":221},{"$f":"'Raw Data'!GY45","v":396},{"$f":"'Raw Data'!GZ45","v":322},{"$f":"'Raw Data'!HA45","v":358},{"$f":"'Raw Data'!HB45","v":372},{"$f":"'Raw Data'!HC45","v":310},{"$f":"'Raw Data'!HD45","v":316},{"$f":"'Raw Data'!HE45","v":263},{"$f":"'Raw Data'!HF45","v":237},{"$f":"'Raw Data'!HG45","v":377},{"$f":"'Raw Data'!HH45","v":349},{"$f":"'Raw Data'!HI45","v":337},{"$f":"'Raw Data'!HJ45","v":326},{"$f":"'Raw Data'!HK45","v":263},{"$f":"'Raw Data'!HL45","v":234},{"$f":"'Raw Data'!HM45","v":230},{"$f":"'Raw Data'!HN45","v":253},{"$f":"'Raw Data'!HO45","v":267},{"$f":"'Raw Data'!HP45","v":240},{"$f":"'Raw Data'!HQ45","v":225},{"$f":"'Raw Data'!HR45","v":182},{"$f":"'Raw Data'!HS45","v":300},{"$f":"'Raw Data'!HT45","v":265},{"$f":"'Raw Data'!HU45","v":247},{"$f":"'Raw Data'!HV45","v":235},{"$f":"'Raw Data'!HW45","v":171},{"$f":"'Raw Data'!HX45","v":201},{"$f":"'Raw Data'!HY45","v":179},{"$f":"'Raw Data'!HZ45","v":161},{"$f":"'Raw Data'!IA45","v":161},{"$f":"'Raw Data'!IB45","v":131},{"$f":"'Raw Data'!IC45","v":101},{"$f":"'Raw Data'!ID45","v":137},{"$f":"'Raw Data'!IE45","v":193},{"$f":"'Raw Data'!IF45","v":166},{"$f":"'Raw Data'!IG45","v":185},{"$f":"'Raw Data'!IH45","v":189},{"$f":"'Raw Data'!II45","v":126},{"$f":"'Raw Data'!IJ45","v":0},{"$f":"'Raw Data'!IK45","v":0},{"$f":"'Raw Data'!IL45","v":0},{"$f":"'Raw Data'!IM45","v":0},{"$f":"'Raw Data'!IN45","v":0},{"$f":"'Raw Data'!IO45","v":0},{"$f":"'Raw Data'!IP45","v":0},{"$f":"'Raw Data'!IQ45","v":0},{"$f":"'Raw Data'!IR45","v":0},{"$f":"'Raw Data'!IS45","v":0},{"$f":"'Raw Data'!IT45","v":0},{"$f":"'Raw Data'!IU45","v":0},{"$f":"'Raw Data'!IV45","v":0},{"$f":"'Raw Data'!IW45","v":0},{"$f":"'Raw Data'!IX45","v":0},{"$f":"'Raw Data'!IY45","v":0},{"$f":"'Raw Data'!IZ45","v":0},{"$f":"'Raw Data'!JA45","v":0}]
["Sold Land",{"$f":"'Raw Data'!U46","v":96},{"$f":"'Raw Data'!V46","v":61},{"$f":"'Raw Data'!W46","v":91},{"$f":"'Raw Data'!X46","v":106},{"$f":"'Raw Data'!Y46","v":111},{"$f":"'Raw Data'!Z46","v":114},{"$f":"'Raw Data'!AA46","v":69},{"$f":"'Raw Data'!AB46","v":83},{"$f":"'Raw Data'!AC46","v":115},{"$f":"'Raw Data'!AD46","v":71},{"$f":"'Raw Data'!AE46","v":77},{"$f":"'Raw Data'!AF46","v":55},{"$f":"'Raw Data'!AG46","v":63},{"$f":"'Raw Data'!AH46","v":22},{"$f":"'Raw Data'!AI46","v":48},{"$f":"'Raw Data'!AJ46","v":33},{"$f":"'Raw Data'!AK46","v":53},{"$f":"'Raw Data'!AL46","v":34},{"$f":"'Raw Data'!AM46","v":38},{"$f":"'Raw Data'!AN46","v":31},{"$f":"'Raw Data'!AO46","v":21},{"$f":"'Raw Data'!AP46","v":52},{"$f":"'Raw Data'!AQ46","v":20},{"$f":"'Raw Data'!AR46","v":35},{"$f":"'Raw Data'!AS46","v":19},{"$f":"'Raw Data'!AT46","v":19},{"$f":"'Raw Data'!AU46","v":11},{"$f":"'Raw Data'!AV46","v":22},{"$f":"'Raw Data'!AW46","v":33},{"$f":"'Raw Data'!AX46","v":23},{"$f":"'Raw Data'!AY46","v":17},{"$f":"'Raw Data'!AZ46","v":20},{"$f":"'Raw Data'!BA46","v":28},{"$f":"'Raw Data'!BB46","v":26},{"$f":"'Raw Data'!BC46","v":35},{"$f":"'Raw Data'!BD46","v":19},{"$f":"'Raw Data'!BE46","v":30},{"$f":"'Raw Data'!BF46","v":22},{"$f":"'Raw Data'!BG46","v":13},{"$f":"'Raw Data'!BH46","v":29},{"$f":"'Raw Data'!BI46","v":22},{"$f":"'Raw Data'!BJ46","v":25},{"$f":"'Raw Data'!BK46","v":17},{"$f":"'Raw Data'!BL46","v":24},{"$f":"'Raw Data'!BM46","v":33},{"$f":"'Raw Data'!BN46","v":16},{"$f":"'Raw Data'!BO46","v":20},{"$f":"'Raw Data'!BP46","v":13},{"$f":"'Raw Data'!BQ46","v":9},{"$f":"'Raw Data'!BR46","v":9},{"$f":"'Raw Data'!BS46","v":15},{"$f":"'Raw Data'!BT46","v":6},{"$f":"'Raw Data'!BU46","v":15},{"$f":"'Raw Data'!BV46","v":28},{"$f":"'Raw Data'!BW46","v":16},{"$f":"'Raw Data'!BX46","v":29},{"$f":"'Raw Data'!BY46","v":33},{"$f":"'Raw Data'!BZ46","v":34},{"$f":"'Raw Data'!CA46","v":22},{"$f":"'Raw Data'!CB46","v":24},{"$f":"'Raw Data'!CC46","v":12},{"$f":"'Raw Data'!CD46","v":20},{"$f":"'Raw Data'!CE46","v":12},{"$f":"'Raw Data'!CF46","v":26},{"$f":"'Raw Data'!CG46","v":18},{"$f":"'Raw Data'!CH46","v":28},{"$f":"'Raw Data'!CI46","v":21},{"$f":"'Raw Data'!CJ46","v":30},{"$f":"'Raw Data'!CK46","v":33},{"$f":"'Raw Data'!CL46","v":23},{"$f":"'Raw Data'!CM46","v":30},{"$f":"'Raw Data'!CN46","v":29},{"$f":"'Raw Data'!CO46","v":15},{"$f":"'Raw Data'!CP46","v":18},{"$f":"'Raw Data'!CQ46","v":37},{"$f":"'Raw Data'!CR46","v":27},{"$f":"'Raw Data'!CS46","v":32},{"$f":"'Raw Data'!CT46","v":33},{"$f":"'Raw Data'!CU46","v":18},{"$f":"'Raw Data'!CV46","v":27},{"$f":"'Raw Data'!CW46","v":23},{"$f":"'Raw Data'!CX46","v":18},{"$f":"'Raw Data'!CY46","v":45},{"$f":"'Raw Data'!CZ46","v":38},{"$f":"'Raw Data'!DA46","v":19},{"$f":"'Raw Data'!DB46","v":30},{"$f":"'Raw Data'!DC46","v":50},{"$f":"'Raw Data'!DD46","v":51},{"$f":"'Raw Data'!DE46","v":40},{"$f":"'Raw Data'!DF46","v":35},{"$f":"'Raw Data'!DG46","v":30},{"$f":"'Raw Data'!DH46","v":46},{"$f":"'Raw Data'!DI46","v":29},{"$f":"'Raw Data'!DJ46","v":40},{"$f":"'Raw Data'!DK46","v":30},{"$f":"'Raw Data'!DL46","v":27},{"$f":"'Raw Data'!DM46","v":25},{"$f":"'Raw Data'!DN46","v":52},{"$f":"'Raw Data'!DO46","v":44},{"$f":"'Raw Data'!DP46","v":41},{"$f":"'Raw Data'!DQ46","v":36},{"$f":"'Raw Data'!DR46","v":34},{"$f":"'Raw Data'!DS46","v":39},{"$f":"'Raw Data'!DT46","v":44},{"$f":"'Raw Data'!DU46","v":38},{"$f":"'Raw Data'!DV46","v":48},{"$f":"'Raw Data'!DW46","v":30},{"$f":"'Raw Data'!DX46","v":59},{"$f":"'Raw Data'!DY46","v":22},{"$f":"'Raw Data'!DZ46","v":26},{"$f":"'Raw Data'!EA46","v":30},{"$f":"'Raw Data'!EB46","v":38},{"$f":"'Raw Data'!EC46","v":33},{"$f":"'Raw Data'!ED46","v":51},{"$f":"'Raw Data'!EE46","v":75},{"$f":"'Raw Data'!EF46","v":46},{"$f":"'Raw Data'!EG46","v":53},{"$f":"'Raw Data'!EH46","v":48},{"$f":"'Raw Data'!EI46","v":34},{"$f":"'Raw Data'!EJ46","v":35},{"$f":"'Raw Data'!EK46","v":32},{"$f":"'Raw Data'!EL46","v":31},{"$f":"'Raw Data'!EM46","v":40},{"$f":"'Raw Data'!EN46","v":38},{"$f":"'Raw Data'!EO46","v":37},{"$f":"'Raw Data'!EP46","v":42},{"$f":"'Raw Data'!EQ46","v":44},{"$f":"'Raw Data'!ER46","v":39},{"$f":"'Raw Data'!ES46","v":51},{"$f":"'Raw Data'!ET46","v":39},{"$f":"'Raw Data'!EU46","v":28},{"$f":"'Raw Data'!EV46","v":46},{"$f":"'Raw Data'!EW46","v":32},{"$f":"'Raw Data'!EX46","v":37},{"$f":"'Raw Data'!EY46","v":43},{"$f":"'Raw Data'!EZ46","v":38},{"$f":"'Raw Data'!FA46","v":39},{"$f":"'Raw Data'!FB46","v":48},{"$f":"'Raw Data'!FC46","v":46},{"$f":"'Raw Data'!FD46","v":44},{"$f":"'Raw Data'!FE46","v":51},{"$f":"'Raw Data'!FF46","v":44},{"$f":"'Raw Data'!FG46","v":26},{"$f":"'Raw Data'!FH46","v":23},{"$f":"'Raw Data'!FI46","v":29},{"$f":"'Raw Data'!FJ46","v":19},{"$f":"'Raw Data'!FK46","v":54},{"$f":"'Raw Data'!FL46","v":33},{"$f":"'Raw Data'!FM46","v":45},{"$f":"'Raw Data'!FN46","v":76},{"$f":"'Raw Data'!FO46","v":49},{"$f":"'Raw Data'!FP46","v":52},{"$f":"'Raw Data'!FQ46","v":44},{"$f":"'Raw Data'!FR46","v":66},{"$f":"'Raw Data'!FS46","v":42},{"$f":"'Raw Data'!FT46","v":38},{"$f":"'Raw Data'!FU46","v":35},{"$f":"'Raw Data'!FV46","v":22},{"$f":"'Raw Data'!FW46","v":43},{"$f":"'Raw Data'!FX46","v":36},{"$f":"'Raw Data'!FY46","v":44},{"$f":"'Raw Data'!FZ46","v":53},{"$f":"'Raw Data'!GA46","v":37},{"$f":"'Raw Data'!GB46","v":39},{"$f":"'Raw Data'!GC46","v":35},{"$f":"'Raw Data'!GD46","v":36},{"$f":"'Raw Data'!GE46","v":26},{"$f":"'Raw Data'!GF46","v":24},{"$f":"'Raw Data'!GG46","v":21},{"$f":"'Raw Data'!GH46","v":37},{"$f":"'Raw Data'!GI46","v":30},{"$f":"'Raw Data'!GJ46","v":37},{"$f":"'Raw Data'!GK46","v":35},{"$f":"'Raw Data'!GL46","v":39},{"$f":"'Raw Data'!GM46","v":45},{"$f":"'Raw Data'!GN46","v":39},{"$f":"'Raw Data'!GO46","v":35},{"$f":"'Raw Data'!GP46","v":32},{"$f":"'Raw Data'!GQ46","v":43},{"$f":"'Raw Data'!GR46","v":41},{"$f":"'Raw Data'!GS46","v":29},{"$f":"'Raw Data'!GT46","v":33},{"$f":"'Raw Data'!GU46","v":38},{"$f":"'Raw Data'!GV46","v":25},{"$f":"'Raw Data'!GW46","v":27},{"$f":"'Raw Data'!GX46","v":27},{"$f":"'Raw Data'!GY46","v":55},{"$f":"'Raw Data'!GZ46","v":78},{"$f":"'Raw Data'!HA46","v":80},{"$f":"'Raw Data'!HB46","v":86},{"$f":"'Raw Data'!HC46","v":71},{"$f":"'Raw Data'!HD46","v":80},{"$f":"'Raw Data'!HE46","v":68},{"$f":"'Raw Data'!HF46","v":57},{"$f":"'Raw Data'!HG46","v":67},{"$f":"'Raw Data'!HH46","v":93},{"$f":"'Raw Data'!HI46","v":99},{"$f":"'Raw Data'!HJ46","v":103},{"$f":"'Raw Data'!HK46","v":97},{"$f":"'Raw Data'!HL46","v":89},{"$f":"'Raw Data'!HM46","v":81},{"$f":"'Raw Data'!HN46","v":75},{"$f":"'Raw Data'!HO46","v":70},{"$f":"'Raw Data'!HP46","v":76},{"$f":"'Raw Data'!HQ46","v":56},{"$f":"'Raw Data'!HR46","v":61},{"$f":"'Raw Data'!HS46","v":80},{"$f":"'Raw Data'!HT46","v":75},{"$f":"'Raw Data'!HU46","v":81},{"$f":"'Raw Data'!HV46","v":51},{"$f":"'Raw Data'!HW46","v":56},{"$f":"'Raw Data'!HX46","v":62},{"$f":"'Raw Data'!HY46","v":49},{"$f":"'Raw Data'!HZ46","v":43},{"$f":"'Raw Data'!IA46","v":31},{"$f":"'Raw Data'!IB46","v":36},{"$f":"'Raw Data'!IC46","v":38},{"$f":"'Raw Data'!ID46","v":36},{"$f":"'Raw Data'!IE46","v":43},{"$f":"'Raw Data'!IF46","v":48},{"$f":"'Raw Data'!IG46","v":41},{"$f":"'Raw Data'!IH46","v":55},{"$f":"'Raw Data'!II46","v":43},{"$f":"'Raw Data'!IJ46","v":0},{"$f":"'Raw Data'!IK46","v":0},{"$f":"'Raw Data'!IL46","v":0},{"$f":"'Raw Data'!IM46","v":0},{"$f":"'Raw Data'!IN46","v":0},{"$f":"'Raw Data'!IO46","v":0},{"$f":"'Raw Data'!IP46","v":0},{"$f":"'Raw Data'!IQ46","v":0},{"$f":"'Raw Data'!IR46","v":0},{"$f":"'Raw Data'!IS46","v":0},{"$f":"'Raw Data'!IT46","v":0},{"$f":"'Raw Data'!IU46","v":0},{"$f":"'Raw Data'!IV46","v":0},{"$f":"'Raw Data'!IW46","v":0},{"$f":"'Raw Data'!IX46","v":0},{"$f":"'Raw Data'!IY46","v":0},{"$f":"'Raw Data'!IZ46","v":0},{"$f":"'Raw Data'!JA46","v":0}]
["Sold Commercial",{"$f":"'Raw Data'!U47","v":1},{"$f":"'Raw Data'!V47","v":3},{"$f":"'Raw Data'!W47","v":3},{"$f":"'Raw Data'!X47","v":4},{"$f":"'Raw Data'!Y47","v":4},{"$f":"'Raw Data'!Z47","v":6},{"$f":"'Raw Data'!AA47","v":4},{"$f":"'Raw Data'!AB47","v":4},{"$f":"'Raw Data'!AC47","v":1},{"$f":"'Raw Data'!AD47","v":14},{"$f":"'Raw Data'!AE47","v":1},{"$f":"'Raw Data'!AF47","v":3},{"$f":"'Raw Data'!AG47","v":2},{"$f":"'Raw Data'!AH47","v":1},{"$f":"'Raw Data'!AI47","v":6},{"$f":"'Raw Data'!AJ47","v":2},{"$f":"'Raw Data'!AK47","v":3},{"$f":"'Raw Data'!AL47","v":5},{"$f":"'Raw Data'!AM47","v":2},{"$f":"'Raw Data'!AN47","v":2},{"$f":"'Raw Data'!AO47","v":9},{"$f":"'Raw Data'!AP47","v":5},{"$f":"'Raw Data'!AQ47","v":0},{"$f":"'Raw Data'!AR47","v":1},{"$f":"'Raw Data'!AS47","v":2},{"$f":"'Raw Data'!AT47","v":0},{"$f":"'Raw Data'!AU47","v":1},{"$f":"'Raw Data'!AV47","v":2},{"$f":"'Raw Data'!AW47","v":1},{"$f":"'Raw Data'!AX47","v":0},{"$f":"'Raw Data'!AY47","v":3},{"$f":"'Raw Data'!AZ47","v":3},{"$f":"'Raw Data'!BA47","v":1},{"$f":"'Raw Data'!BB47","v":0},{"$f":"'Raw Data'!BC47","v":2},{"$f":"'Raw Data'!BD47","v":0},{"$f":"'Raw Data'!BE47","v":0},{"$f":"'Raw Data'!BF47","v":1},{"$f":"'Raw Data'!BG47","v":1},{"$f":"'Raw Data'!BH47","v":3},{"$f":"'Raw Data'!BI47","v":2},{"$f":"'Raw Data'!BJ47","v":1},{"$f":"'Raw Data'!BK47","v":3},{"$f":"'Raw Data'!BL47","v":1},{"$f":"'Raw Data'!BM47","v":0},{"$f":"'Raw Data'!BN47","v":0},{"$f":"'Raw Data'!BO47","v":0},{"$f":"'Raw Data'!BP47","v":1},{"$f":"'Raw Data'!BQ47","v":2},{"$f":"'Raw Data'!BR47","v":1},{"$f":"'Raw Data'!BS47","v":2},{"$f":"'Raw Data'!BT47","v":1},{"$f":"'Raw Data'!BU47","v":0},{"$f":"'Raw Data'!BV47","v":0},{"$f":"'Raw Data'!BW47","v":1},{"$f":"'Raw Data'!BX47","v":0},{"$f":"'Raw Data'!BY47","v":0},{"$f":"'Raw Data'!BZ47","v":0},{"$f":"'Raw Data'!CA47","v":1},{"$f":"'Raw Data'!CB47","v":11},{"$f":"'Raw Data'!CC47","v":1},{"$f":"'Raw Data'!CD47","v":1},{"$f":"'Raw Data'!CE47","v":1},{"$f":"'Raw Data'!CF47","v":2},{"$f":"'Raw Data'!CG47","v":1},{"$f":"'Raw Data'!CH47","v":3},{"$f":"'Raw Data'!CI47","v":2},{"$f":"'Raw Data'!CJ47","v":0},{"$f":"'Raw Data'!CK47","v":1},{"$f":"'Raw Data'!CL47","v":0},{"$f":"'Raw Data'!CM47","v":0},{"$f":"'Raw Data'!CN47","v":1},{"$f":"'Raw Data'!CO47","v":1},{"$f":"'Raw Data'!CP47","v":2},{"$f":"'Raw Data'!CQ47","v":2},{"$f":"'Raw Data'!CR47","v":3},{"$f":"'Raw Data'!CS47","v":3},{"$f":"'Raw Data'!CT47","v":2},{"$f":"'Raw Data'!CU47","v":2},{"$f":"'Raw Data'!CV47","v":0},{"$f":"'Raw Data'!CW47","v":2},{"$f":"'Raw Data'!CX47","v":5},{"$f":"'Raw Data'!CY47","v":3},{"$f":"'Raw Data'!CZ47","v":0},{"$f":"'Raw Data'!DA47","v":3},{"$f":"'Raw Data'!DB47","v":1},{"$f":"'Raw Data'!DC47","v":6},{"$f":"'Raw Data'!DD47","v":4},{"$f":"'Raw Data'!DE47","v":1},{"$f":"'Raw Data'!DF47","v":1},{"$f":"'Raw Data'!DG47","v":0},{"$f":"'Raw Data'!DH47","v":2},{"$f":"'Raw Data'!DI47","v":1},{"$f":"'Raw Data'!DJ47","v":3},{"$f":"'Raw Data'!DK47","v":6},{"$f":"'Raw Data'!DL47","v":4},{"$f":"'Raw Data'!DM47","v":1},{"$f":"'Raw Data'!DN47","v":3},{"$f":"'Raw Data'!DO47","v":0},{"$f":"'Raw Data'!DP47","v":4},{"$f":"'Raw Data'!DQ47","v":1},{"$f":"'Raw Data'!DR47","v":3},{"$f":"'Raw Data'!DS47","v":2},{"$f":"'Raw Data'!DT47","v":4},{"$f":"'Raw Data'!DU47","v":7},{"$f":"'Raw Data'!DV47","v":2},{"$f":"'Raw Data'!DW47","v":2},{"$f":"'Raw Data'!DX47","v":5},{"$f":"'Raw Data'!DY47","v":5},{"$f":"'Raw Data'!DZ47","v":3},{"$f":"'Raw Data'!EA47","v":1},{"$f":"'Raw Data'!EB47","v":2},{"$f":"'Raw Data'!EC47","v":6},{"$f":"'Raw Data'!ED47","v":2},{"$f":"'Raw Data'!EE47","v":4},{"$f":"'Raw Data'!EF47","v":1},{"$f":"'Raw Data'!EG47","v":6},{"$f":"'Raw Data'!EH47","v":0},{"$f":"'Raw Data'!EI47","v":1},{"$f":"'Raw Data'!EJ47","v":10},{"$f":"'Raw Data'!EK47","v":1},{"$f":"'Raw Data'!EL47","v":6},{"$f":"'Raw Data'!EM47","v":4},{"$f":"'Raw Data'!EN47","v":2},{"$f":"'Raw Data'!EO47","v":2},{"$f":"'Raw Data'!EP47","v":0},{"$f":"'Raw Data'!EQ47","v":3},{"$f":"'Raw Data'!ER47","v":2},{"$f":"'Raw Data'!ES47","v":4},{"$f":"'Raw Data'!ET47","v":0},{"$f":"'Raw Data'!EU47","v":6},{"$f":"'Raw Data'!EV47","v":4},{"$f":"'Raw Data'!EW47","v":2},{"$f":"'Raw Data'!EX47","v":1},{"$f":"'Raw Data'!EY47","v":3},{"$f":"'Raw Data'!EZ47","v":5},{"$f":"'Raw Data'!FA47","v":3},{"$f":"'Raw Data'!FB47","v":5},{"$f":"'Raw Data'!FC47","v":0},{"$f":"'Raw Data'!FD47","v":1},{"$f":"'Raw Data'!FE47","v":1},{"$f":"'Raw Data'!FF47","v":4},{"$f":"'Raw Data'!FG47","v":1},{"$f":"'Raw Data'!FH47","v":6},{"$f":"'Raw Data'!FI47","v":0},{"$f":"'Raw Data'!FJ47","v":1},{"$f":"'Raw Data'!FK47","v":1},{"$f":"'Raw Data'!FL47","v":6},{"$f":"'Raw Data'!FM47","v":6},{"$f":"'Raw Data'!FN47","v":1},{"$f":"'Raw Data'!FO47","v":0},{"$f":"'Raw Data'!FP47","v":1},{"$f":"'Raw Data'!FQ47","v":0},{"$f":"'Raw Data'!FR47","v":2},{"$f":"'Raw Data'!FS47","v":2},{"$f":"'Raw Data'!FT47","v":6},{"$f":"'Raw Data'!FU47","v":0},{"$f":"'Raw Data'!FV47","v":1},{"$f":"'Raw Data'!FW47","v":2},{"$f":"'Raw Data'!FX47","v":3},{"$f":"'Raw Data'!FY47","v":4},{"$f":"'Raw Data'!FZ47","v":4},{"$f":"'Raw Data'!GA47","v":0},{"$f":"'Raw Data'!GB47","v":0},{"$f":"'Raw Data'!GC47","v":1},{"$f":"'Raw Data'!GD47","v":3},{"$f":"'Raw Data'!GE47","v":1},{"$f":"'Raw Data'!GF47","v":2},{"$f":"'Raw Data'!GG47","v":4},{"$f":"'Raw Data'!GH47","v":3},{"$f":"'Raw Data'!GI47","v":4},{"$f":"'Raw Data'!GJ47","v":3},{"$f":"'Raw Data'!GK47","v":1},{"$f":"'Raw Data'!GL47","v":3},{"$f":"'Raw Data'!GM47","v":2},{"$f":"'Raw Data'!GN47","v":3},{"$f":"'Raw Data'!GO47","v":2},{"$f":"'Raw Data'!GP47","v":3},{"$f":"'Raw Data'!GQ47","v":1},{"$f":"'Raw Data'!GR47","v":4},{"$f":"'Raw Data'!GS47","v":2},{"$f":"'Raw Data'!GT47","v":2},{"$f":"'Raw Data'!GU47","v":0},{"$f":"'Raw Data'!GV47","v":2},{"$f":"'Raw Data'!GW47","v":2},{"$f":"'Raw Data'!GX47","v":3},{"$f":"'Raw Data'!GY47","v":1},{"$f":"'Raw Data'!GZ47","v":3},{"$f":"'Raw Data'!HA47","v":7},{"$f":"'Raw Data'!HB47","v":2},{"$f":"'Raw Data'!HC47","v":2},{"$f":"'Raw Data'!HD47","v":5},{"$f":"'Raw Data'!HE47","v":4},{"$f":"'Raw Data'!HF47","v":4},{"$f":"'Raw Data'!HG47","v":3},{"$f":"'Raw Data'!HH47","v":3},{"$f":"'Raw Data'!HI47","v":4},{"$f":"'Raw Data'!HJ47","v":3},{"$f":"'Raw Data'!HK47","v":9},{"$f":"'Raw Data'!HL47","v":6},{"$f":"'Raw Data'!HM47","v":2},{"$f":"'Raw Data'!HN47","v":5},{"$f":"'Raw Data'!HO47","v":3},{"$f":"'Raw Data'!HP47","v":3},{"$f":"'Raw Data'!HQ47","v":4},{"$f":"'Raw Data'!HR47","v":5},{"$f":"'Raw Data'!HS47","v":7},{"$f":"'Raw Data'!HT47","v":4},{"$f":"'Raw Data'!HU47","v":3},{"$f":"'Raw Data'!HV47","v":4},{"$f":"'Raw Data'!HW47","v":6},{"$f":"'Raw Data'!HX47","v":2},{"$f":"'Raw Data'!HY47","v":3},{"$f":"'Raw Data'!HZ47","v":3},{"$f":"'Raw Data'!IA47","v":3},{"$f":"'Raw Data'!IB47","v":1},{"$f":"'Raw Data'!IC47","v":2},{"$f":"'Raw Data'!ID47","v":1},{"$f":"'Raw Data'!IE47","v":6},{"$f":"'Raw Data'!IF47","v":1},{"$f":"'Raw Data'!IG47","v":3},{"$f":"'Raw Data'!IH47","v":1},{"$f":"'Raw Data'!II47","v":0},{"$f":"'Raw Data'!IJ47","v":0},{"$f":"'Raw Data'!IK47","v":0},{"$f":"'Raw Data'!IL47","v":0},{"$f":"'Raw Data'!IM47","v":0},{"$f":"'Raw Data'!IN47","v":0},{"$f":"'Raw Data'!IO47","v":0},{"$f":"'Raw Data'!IP47","v":0},{"$f":"'Raw Data'!IQ47","v":0},{"$f":"'Raw Data'!IR47","v":0},{"$f":"'Raw Data'!IS47","v":0},{"$f":"'Raw Data'!IT47","v":0},{"$f":"'Raw Data'!IU47","v":0},{"$f":"'Raw Data'!IV47","v":0},{"$f":"'Raw Data'!IW47","v":0},{"$f":"'Raw Data'!IX47","v":0},{"$f":"'Raw Data'!IY47","v":0},{"$f":"'Raw Data'!IZ47","v":0},{"$f":"'Raw Data'!JA47","v":0}]
["Total",{"$f":"'Raw Data'!U48","v":246},{"$f":"'Raw Data'!V48","v":183},{"$f":"'Raw Data'!W48","v":284},{"$f":"'Raw Data'!X48","v":318},{"$f":"'Raw Data'!Y48","v":401},{"$f":"'Raw Data'!Z48","v":354},{"$f":"'Raw Data'!AA48","v":240},{"$f":"'Raw Data'!AB48","v":265},{"$f":"'Raw Data'!AC48","v":293},{"$f":"'Raw Data'!AD48","v":247},{"$f":"'Raw Data'!AE48","v":204},{"$f":"'Raw Data'!AF48","v":166},{"$f":"'Raw Data'!AG48","v":162},{"$f":"'Raw Data'!AH48","v":116},{"$f":"'Raw Data'!AI48","v":176},{"$f":"'Raw Data'!AJ48","v":153},{"$f":"'Raw Data'!AK48","v":207},{"$f":"'Raw Data'!AL48","v":156},{"$f":"'Raw Data'!AM48","v":123},{"$f":"'Raw Data'!AN48","v":139},{"$f":"'Raw Data'!AO48","v":123},{"$f":"'Raw Data'!AP48","v":176},{"$f":"'Raw Data'!AQ48","v":101},{"$f":"'Raw Data'!AR48","v":125},{"$f":"'Raw Data'!AS48","v":97},{"$f":"'Raw Data'!AT48","v":122},{"$f":"'Raw Data'!AU48","v":112},{"$f":"'Raw Data'!AV48","v":143},{"$f":"'Raw Data'!AW48","v":171},{"$f":"'Raw Data'!AX48","v":140},{"$f":"'Raw Data'!AY48","v":123},{"$f":"'Raw Data'!AZ48","v":129},{"$f":"'Raw Data'!BA48","v":133},{"$f":"'Raw Data'!BB48","v":121},{"$f":"'Raw Data'!BC48","v":130},{"$f":"'Raw Data'!BD48","v":101},{"$f":"'Raw Data'!BE48","v":87},{"$f":"'Raw Data'!BF48","v":98},{"$f":"'Raw Data'!BG48","v":110},{"$f":"'Raw Data'!BH48","v":124},{"$f":"'Raw Data'!BI48","v":135},{"$f":"'Raw Data'!BJ48","v":136},{"$f":"'Raw Data'!BK48","v":114},{"$f":"'Raw Data'!BL48","v":128},{"$f":"'Raw Data'!BM48","v":126},{"$f":"'Raw Data'!BN48","v":101},{"$f":"'Raw Data'!BO48","v":80},{"$f":"'Raw Data'!BP48","v":83},{"$f":"'Raw Data'!BQ48","v":53},{"$f":"'Raw Data'!BR48","v":78},{"$f":"'Raw Data'!BS48","v":101},{"$f":"'Raw Data'!BT48","v":88},{"$f":"'Raw Data'!BU48","v":126},{"$f":"'Raw Data'!BV48","v":142},{"$f":"'Raw Data'!BW48","v":122},{"$f":"'Raw Data'!BX48","v":134},{"$f":"'Raw Data'!BY48","v":137},{"$f":"'Raw Data'!BZ48","v":140},{"$f":"'Raw Data'!CA48","v":129},{"$f":"'Raw Data'!CB48","v":135},{"$f":"'Raw Data'!CC48","v":99},{"$f":"'Raw Data'!CD48","v":93},{"$f":"'Raw Data'!CE48","v":126},{"$f":"'Raw Data'!CF48","v":164},{"$f":"'Raw Data'!CG48","v":170},{"$f":"'Raw Data'!CH48","v":168},{"$f":"'Raw Data'!CI48","v":148},{"$f":"'Raw Data'!CJ48","v":129},{"$f":"'Raw Data'!CK48","v":143},{"$f":"'Raw Data'!CL48","v":138},{"$f":"'Raw Data'!CM48","v":136},{"$f":"'Raw Data'!CN48","v":155},{"$f":"'Raw Data'!CO48","v":99},{"$f":"'Raw Data'!CP48","v":107},{"$f":"'Raw Data'!CQ48","v":169},{"$f":"'Raw Data'!CR48","v":167},{"$f":"'Raw Data'!CS48","v":159},{"$f":"'Raw Data'!CT48","v":177},{"$f":"'Raw Data'!CU48","v":147},{"$f":"'Raw Data'!CV48","v":132},{"$f":"'Raw Data'!CW48","v":138},{"$f":"'Raw Data'!CX48","v":132},{"$f":"'Raw Data'!CY48","v":122},{"$f":"'Raw Data'!CZ48","v":140},{"$f":"'Raw Data'!DA48","v":116},{"$f":"'Raw Data'!DB48","v":143},{"$f":"'Raw Data'!DC48","v":227},{"$f":"'Raw Data'!DD48","v":186},{"$f":"'Raw Data'!DE48","v":206},{"$f":"'Raw Data'!DF48","v":182},{"$f":"'Raw Data'!DG48","v":151},{"$f":"'Raw Data'!DH48","v":173},{"$f":"'Raw Data'!DI48","v":176},{"$f":"'Raw Data'!DJ48","v":177},{"$f":"'Raw Data'!DK48","v":165},{"$f":"'Raw Data'!DL48","v":140},{"$f":"'Raw Data'!DM48","v":115},{"$f":"'Raw Data'!DN48","v":146},{"$f":"'Raw Data'!DO48","v":180},{"$f":"'Raw Data'!DP48","v":213},{"$f":"'Raw Data'!DQ48","v":194},{"$f":"'Raw Data'!DR48","v":187},{"$f":"'Raw Data'!DS48","v":202},{"$f":"'Raw Data'!DT48","v":184},{"$f":"'Raw Data'!DU48","v":172},{"$f":"'Raw Data'!DV48","v":164},{"$f":"'Raw Data'!DW48","v":147},{"$f":"'Raw Data'!DX48","v":189},{"$f":"'Raw Data'!DY48","v":133},{"$f":"'Raw Data'!DZ48","v":117},{"$f":"'Raw Data'!EA48","v":146},{"$f":"'Raw Data'!EB48","v":189},{"$f":"'Raw Data'!EC48","v":231},{"$f":"'Raw Data'!ED48","v":200},{"$f":"'Raw Data'!EE48","v":201},{"$f":"'Raw Data'!EF48","v":174},{"$f":"'Raw Data'!EG48","v":201},{"$f":"'Raw Data'!EH48","v":192},{"$f":"'Raw Data'!EI48","v":153},{"$f":"'Raw Data'!EJ48","v":202},{"$f":"'Raw Data'!EK48","v":129},{"$f":"'Raw Data'!EL48","v":142},{"$f":"'Raw Data'!EM48","v":184},{"$f":"'Raw Data'!EN48","v":193},{"$f":"'Raw Data'!EO48","v":241},{"$f":"'Raw Data'!EP48","v":227},{"$f":"'Raw Data'!EQ48","v":218},{"$f":"'Raw Data'!ER48","v":187},{"$f":"'Raw Data'!ES48","v":198},{"$f":"'Raw Data'!ET48","v":198},{"$f":"'Raw Data'!EU48","v":177},{"$f":"'Raw Data'!EV48","v":198},{"$f":"'Raw Data'!EW48","v":145},{"$f":"'Raw Data'!EX48","v":130},{"$f":"'Raw Data'!EY48","v":184},{"$f":"'Raw Data'!EZ48","v":201},{"$f":"'Raw Data'!FA48","v":217},{"$f":"'Raw Data'!FB48","v":238},{"$f":"'Raw Data'!FC48","v":201},{"$f":"'Raw Data'!FD48","v":204},{"$f":"'Raw Data'!FE48","v":211},{"$f":"'Raw Data'!FF48","v":193},{"$f":"'Raw Data'!FG48","v":167},{"$f":"'Raw Data'!FH48","v":202},{"$f":"'Raw Data'!FI48","v":141},{"$f":"'Raw Data'!FJ48","v":149},{"$f":"'Raw Data'!FK48","v":235},{"$f":"'Raw Data'!FL48","v":219},{"$f":"'Raw Data'!FM48","v":254},{"$f":"'Raw Data'!FN48","v":295},{"$f":"'Raw Data'!FO48","v":185},{"$f":"'Raw Data'!FP48","v":224},{"$f":"'Raw Data'!FQ48","v":206},{"$f":"'Raw Data'!FR48","v":234},{"$f":"'Raw Data'!FS48","v":208},{"$f":"'Raw Data'!FT48","v":208},{"$f":"'Raw Data'!FU48","v":153},{"$f":"'Raw Data'!FV48","v":112},{"$f":"'Raw Data'!FW48","v":232},{"$f":"'Raw Data'!FX48","v":225},{"$f":"'Raw Data'!FY48","v":267},{"$f":"'Raw Data'!FZ48","v":245},{"$f":"'Raw Data'!GA48","v":209},{"$f":"'Raw Data'!GB48","v":228},{"$f":"'Raw Data'!GC48","v":178},{"$f":"'Raw Data'!GD48","v":215},{"$f":"'Raw Data'!GE48","v":162},{"$f":"'Raw Data'!GF48","v":192},{"$f":"'Raw Data'!GG48","v":144},{"$f":"'Raw Data'!GH48","v":163},{"$f":"'Raw Data'!GI48","v":218},{"$f":"'Raw Data'!GJ48","v":229},{"$f":"'Raw Data'!GK48","v":253},{"$f":"'Raw Data'!GL48","v":232},{"$f":"'Raw Data'!GM48","v":232},{"$f":"'Raw Data'!GN48","v":243},{"$f":"'Raw Data'!GO48","v":199},{"$f":"'Raw Data'!GP48","v":224},{"$f":"'Raw Data'!GQ48","v":250},{"$f":"'Raw Data'!GR48","v":219},{"$f":"'Raw Data'!GS48","v":179},{"$f":"'Raw Data'!GT48","v":181},{"$f":"'Raw Data'!GU48","v":236},{"$f":"'Raw Data'!GV48","v":181},{"$f":"'Raw Data'!GW48","v":179},{"$f":"'Raw Data'!GX48","v":251},{"$f":"'Raw Data'!GY48","v":452},{"$f":"'Raw Data'!GZ48","v":403},{"$f":"'Raw Data'!HA48","v":445},{"$f":"'Raw Data'!HB48","v":460},{"$f":"'Raw Data'!HC48","v":383},{"$f":"'Raw Data'!HD48","v":401},{"$f":"'Raw Data'!HE48","v":335},{"$f":"'Raw Data'!HF48","v":298},{"$f":"'Raw Data'!HG48","v":447},{"$f":"'Raw Data'!HH48","v":445},{"$f":"'Raw Data'!HI48","v":440},{"$f":"'Raw Data'!HJ48","v":432},{"$f":"'Raw Data'!HK48","v":369},{"$f":"'Raw Data'!HL48","v":329},{"$f":"'Raw Data'!HM48","v":313},{"$f":"'Raw Data'!HN48","v":333},{"$f":"'Raw Data'!HO48","v":340},{"$f":"'Raw Data'!HP48","v":319},{"$f":"'Raw Data'!HQ48","v":285},{"$f":"'Raw Data'!HR48","v":248},{"$f":"'Raw Data'!HS48","v":387},{"$f":"'Raw Data'!HT48","v":344},{"$f":"'Raw Data'!HU48","v":331},{"$f":"'Raw Data'!HV48","v":290},{"$f":"'Raw Data'!HW48","v":233},{"$f":"'Raw Data'!HX48","v":265},{"$f":"'Raw Data'!HY48","v":231},{"$f":"'Raw Data'!HZ48","v":207},{"$f":"'Raw Data'!IA48","v":195},{"$f":"'Raw Data'!IB48","v":168},{"$f":"'Raw Data'!IC48","v":141},{"$f":"'Raw Data'!ID48","v":174},{"$f":"'Raw Data'!IE48","v":242},{"$f":"'Raw Data'!IF48","v":215},{"$f":"'Raw Data'!IG48","v":229},{"$f":"'Raw Data'!IH48","v":245},{"$f":"'Raw Data'!II48","v":169},{"$f":"'Raw Data'!IJ48","v":0},{"$f":"'Raw Data'!IK48","v":0},{"$f":"'Raw Data'!IL48","v":0},{"$f":"'Raw Data'!IM48","v":0},{"$f":"'Raw Data'!IN48","v":0},{"$f":"'Raw Data'!IO48","v":0},{"$f":"'Raw Data'!IP48","v":0},{"$f":"'Raw Data'!IQ48","v":0},{"$f":"'Raw Data'!IR48","v":0},{"$f":"'Raw Data'!IS48","v":0},{"$f":"'Raw Data'!IT48","v":0},{"$f":"'Raw Data'!IU48","v":0},{"$f":"'Raw Data'!IV48","v":0},{"$f":"'Raw Data'!IW48","v":0},{"$f":"'Raw Data'!IX48","v":0},{"$f":"'Raw Data'!IY48","v":0},{"$f":"'Raw Data'!IZ48","v":0},{"$f":"'Raw Data'!JA48","v":0}]

{"sheet":"1 YR Snapshot","index":17,"n_rows":35,"n_cols":235,"rows_kept":35,"cut":false,"hidden":false,"merged":[[29,220,29,222]]}
[null,{"$f":"'Raw Data'!U36","v":"2005-01-05"},{"$f":"'Raw Data'!V36","v":"2005-02-05"},{"$f":"'Raw Data'!W36","v":"2005-03-05"},{"$f":"'Raw Data'!X36","v":"2005-04-05"},{"$f":"'Raw Data'!Y36","v":"2005-05-05"},{"$f":"'Raw Data'!Z36","v":"2005-06-05"},{"$f":"'Raw Data'!AA36","v":"2005-07-05"},{"$f":"'Raw Data'!AB36","v":"2005-08-05"},{"$f":"'Raw Data'!AC36","v":"2005-09-05"},{"$f":"'Raw Data'!AD36","v":"2005-10-05"},{"$f":"'Raw Data'!AE36","v":"2005-11-05"},{"$f":"'Raw Data'!AF36","v":"2005-12-05"},{"$f":"'Raw Data'!AG36","v":"2006-01-05"},{"$f":"'Raw Data'!AH36","v":"2006-02-05"},{"$f":"'Raw Data'!AI36","v":"2006-03-05"},{"$f":"'Raw Data'!AJ36","v":"2006-04-05"},{"$f":"'Raw Data'!AK36","v":"2006-05-06"},{"$f":"'Raw Data'!AL36","v":"2006-06-06"},{"$f":"'Raw Data'!AM36","v":"2006-07-06"},{"$f":"'Raw Data'!AN36","v":"2006-08-06"},{"$f":"'Raw Data'!AO36","v":"2006-09-06"},{"$f":"'Raw Data'!AP36","v":"2006-10-06"},{"$f":"'Raw Data'!AQ36","v":"2006-11-06"},{"$f":"'Raw Data'!AR36","v":"2006-12-06"},{"$f":"'Raw Data'!AS36","v":"2007-01-06"},{"$f":"'Raw Data'!AT36","v":"2007-02-06"},{"$f":"'Raw Data'!AU36","v":"2007-03-06"},{"$f":"'Raw Data'!AV36","v":"2007-04-06"},{"$f":"'Raw Data'!AW36","v":"2007-05-06"},{"$f":"'Raw Data'!AX36","v":"2007-06-06"},{"$f":"'Raw Data'!AY36","v":"2007-07-06"},{"$f":"'Raw Data'!AZ36","v":"2007-08-06"},{"$f":"'Raw Data'!BA36","v":"2007-09-06"},{"$f":"'Raw Data'!BB36","v":"2007-10-06"},{"$f":"'Raw Data'!BC36","v":"2007-11-06"},{"$f":"'Raw Data'!BD36","v":"2007-12-06"},{"$f":"'Raw Data'!BE36","v":"2008-01-06"},{"$f":"'Raw Data'!BF36","v":"2008-02-06"},{"$f":"'Raw Data'!BG36","v":"2008-03-06"},{"$f":"'Raw Data'!BH36","v":"2008-04-06"},{"$f":"'Raw Data'!BI36","v":"2008-05-06"},{"$f":"'Raw Data'!BJ36","v":"2008-06-06"},{"$f":"'Raw Data'!BK36","v":"2008-07-06"},{"$f":"'Raw Data'!BL36","v":"2008-08-06"},{"$f":"'Raw Data'!BM36","v":"2008-09-06"},{"$f":"'Raw Data'!BN36","v":"2008-10-06"},{"$f":"'Raw Data'!BO36","v":"2008-11-06"},{"$f":"'Raw Data'!BP36","v":"2008-12-06"},{"$f":"'Raw Data'!BQ36","v":"2009-01-06"},{"$f":"'Raw Data'!BR36","v":"2009-02-06"},{"$f":"'Raw Data'!BS36","v":"2009-03-06"},{"$f":"'Raw Data'!BT36","v":"2009-04-06"},{"$f":"'Raw Data'!BU36","v":"2009-05-06"},{"$f":"'Raw Data'!BV36","v":"2009-06-06"},{"$f":"'Raw Data'!BW36","v":"2009-07-06"},{"$f":"'Raw Data'!BX36","v":"2009-08-06"},{"$f":"'Raw Data'!BY36","v":"2009-09-06"},{"$f":"'Raw Data'!BZ36","v":"2009-10-06"},{"$f":"'Raw Data'!CA36","v":"2009-11-06"},{"$f":"'Raw Data'!CB36","v":"2009-12-06"},{"$f":"'Raw Data'!CC36","v":"2010-01-06"},{"$f":"'Raw Data'!CD36","v":"2010-02-06"},{"$f":"'Raw Data'!CE36","v":"2010-03-06"},{"$f":"'Raw Data'!CF36","v":"2010-04-06"},{"$f":"'Raw Data'!CG36","v":"2010-05-06"},{"$f":"'Raw Data'!CH36","v":"2010-06-06"},{"$f":"'Raw Data'!CI36","v":"2010-07-06"},{"$f":"'Raw Data'!CJ36","v":"2010-08-06"},{"$f":"'Raw Data'!CK36","v":"2010-09-06"},{"$f":"'Raw Data'!CL36","v":"2010-10-06"},{"$f":"'Raw Data'!CM36","v":"2010-11-06"},{"$f":"'Raw Data'!CN36","v":"2010-12-06"},{"$f":"'Raw Data'!CO36","v":"2011-01-06"},{"$f":"'Raw Data'!CP36","v":"2011-02-06"},{"$f":"'Raw Data'!CQ36","v":"2011-03-06"},{"$f":"'Raw Data'!CR36","v":"2011-04-06"},{"$f":"'Raw Data'!CS36","v":"2011-05-06"},{"$f":"'Raw Data'!CT36","v":"2011-06-06"},{"$f":"'Raw Data'!CU36","v":"2011-07-06"},{"$f":"'Raw Data'!CV36","v":"2011-08-06"},{"$f":"'Raw Data'!CW36","v":"2011-09-06"},{"$f":"'Raw Data'!CX36","v":"2011-10-06"},{"$f":"'Raw Data'!CY36","v":"2011-11-06"},{"$f":"'Raw Data'!CZ36","v":"2011-12-06"},{"$f":"'Raw Data'!DA36","v":"2012-01-06"},{"$f":"'Raw Data'!DB36","v":"2012-02-06"},{"$f":"'Raw Data'!DC36","v":"2012-03-06"},{"$f":"'Raw Data'!DD36","v":"2012-04-06"},{"$f":"'Raw Data'!DE36","v":"2012-05-06"},{"$f":"'Raw Data'!DF36","v":"2012-06-06"},{"$f":"'Raw Data'!DG36","v":"2012-07-06"},{"$f":"'Raw Data'!DH36","v":"2012-08-06"},{"$f":"'Raw Data'!DI36","v":"2012-09-06"},{"$f":"'Raw Data'!DJ36","v":"2012-10-06"},{"$f":"'Raw Data'!DK36","v":"2012-11-06"},{"$f":"'Raw Data'!DL36","v":"2012-12-06"},{"$f":"'Raw Data'!DM36","v":"2013-01-06"},{"$f":"'Raw Data'!DN36","v":"2013-02-06"},{"$f":"'Raw Data'!DO36","v":"2013-03-06"},{"$f":"'Raw Data'!DP36","v":"2013-04-06"},{"$f":"'Raw Data'!DQ36","v":"2013-05-06"},{"$f":"'Raw Data'!DR36","v":"2013-06-06"},{"$f":"'Raw Data'!DS36","v":"2013-07-06"},{"$f":"'Raw Data'!DT36","v":"2013-08-06"},{"$f":"'Raw Data'!DU36","v":"2013-09-06"},{"$f":"'Raw Data'!DV36","v":"2013-10-06"},{"$f":"'Raw Data'!DW36","v":"2013-11-06"},{"$f":"'Raw Data'!DX36","v":"2013-12-06"},{"$f":"'Raw Data'!DY36","v":"2014-01-06"},{"$f":"'Raw Data'!DZ36","v":"2014-02-06"},{"$f":"'Raw Data'!EA36","v":"2014-03-06"},{"$f":"'Raw Data'!EB36","v":"2014-04-06"},{"$f":"'Raw Data'!EC36","v":"2014-05-06"},{"$f":"'Raw Data'!ED36","v":"2014-06-06"},{"$f":"'Raw Data'!EE36","v":"2014-07-06"},{"$f":"'Raw Data'!EF36","v":"2014-08-06"},{"$f":"'Raw Data'!EG36","v":"2014-09-06"},{"$f":"'Raw Data'!EH36","v":"2014-10-06"},{"$f":"'Raw Data'!EI36","v":"2014-11-06"},{"$f":"'Raw Data'!EJ36","v":"2014-12-06"},{"$f":"'Raw Data'!EK36","v":"2015-01-06"},{"$f":"'Raw Data'!EL36","v":"2015-02-06"},{"$f":"'Raw Data'!EM36","v":"2015-03-06"},{"$f":"'Raw Data'!EN36","v":"2015-04-06"},{"$f":"'Raw Data'!EO36","v":"2015-05-06"},{"$f":"'Raw Data'!EP36","v":"2015-06-06"},{"$f":"'Raw Data'!EQ36","v":"2015-07-06"},{"$f":"'Raw Data'!ER36","v":"2015-08-06"},{"$f":"'Raw Data'!ES36","v":"2015-09-06"},{"$f":"'Raw Data'!ET36","v":"2015-10-06"},{"$f":"'Raw Data'!EU36","v":"2015-11-06"},{"$f":"'Raw Data'!EV36","v":"2015-12-06"},{"$f":"'Raw Data'!EW36","v":"2016-01-06"},{"$f":"'Raw Data'!EX36","v":"2016-02-06"},{"$f":"'Raw Data'!EY36","v":"2016-03-06"},{"$f":"'Raw Data'!EZ36","v":"2016-04-06"},{"$f":"'Raw Data'!FA36","v":"2016-05-06"},{"$f":"'Raw Data'!FB36","v":"2016-06-06"},{"$f":"'Raw Data'!FC36","v":"2016-07-06"},{"$f":"'Raw Data'!FD36","v":"2016-08-06"},{"$f":"'Raw Data'!FE36","v":"2016-09-06"},{"$f":"'Raw Data'!FF36","v":"2016-10-06"},{"$f":"'Raw Data'!FG36","v":"2016-11-06"},{"$f":"'Raw Data'!FH36","v":"2016-12-06"},{"$f":"'Raw Data'!FI36","v":"2017-01-06"},{"$f":"'Raw Data'!FJ36","v":"2017-02-06"},{"$f":"'Raw Data'!FK36","v":"2017-03-06"},{"$f":"'Raw Data'!FL36","v":"2017-04-06"},{"$f":"'Raw Data'!FM36","v":"2017-05-06"},{"$f":"'Raw Data'!FN36","v":"2017-06-06"},{"$f":"'Raw Data'!FO36","v":"2017-07-06"},{"$f":"'Raw Data'!FP36","v":"2017-08-06"},{"$f":"'Raw Data'!FQ36","v":"2017-09-06"},{"$f":"'Raw Data'!FR36","v":"2017-10-06"},{"$f":"'Raw Data'!FS36","v":"2017-11-06"},{"$f":"'Raw Data'!FT36","v":"2017-12-06"},{"$f":"'Raw Data'!FU36","v":"2018-01-06"},{"$f":"'Raw Data'!FV36","v":"2018-02-06"},{"$f":"'Raw Data'!FW36","v":"2018-03-06"},{"$f":"'Raw Data'!FX36","v":"2018-04-06"},{"$f":"'Raw Data'!FY36","v":"2018-05-06"},{"$f":"'Raw Data'!FZ36","v":"2018-06-01"},{"$f":"'Raw Data'!GA36","v":"2018-07-06"},{"$f":"'Raw Data'!GB36","v":"2018-08-06"},{"$f":"'Raw Data'!GC36","v":"2018-09-06"},{"$f":"'Raw Data'!GD36","v":"2018-10-06"},{"$f":"'Raw Data'!GE36","v":"2018-11-06"},{"$f":"'Raw Data'!GF36","v":"2018-12-06"},{"$f":"'Raw Data'!GG36","v":"2019-01-06"},{"$f":"'Raw Data'!GH36","v":"2019-02-06"},{"$f":"'Raw Data'!GI36","v":"2019-03-06"},{"$f":"'Raw Data'!GJ36","v":"2019-04-06"},{"$f":"'Raw Data'!GK36","v":"2019-05-06"},{"$f":"'Raw Data'!GL36","v":"2019-06-06"},{"$f":"'Raw Data'!GM36","v":"2019-07-06"},{"$f":"'Raw Data'!GN36","v":"2019-08-06"},{"$f":"'Raw Data'!GO36","v":"2019-09-06"},{"$f":"'Raw Data'!GP36","v":"2019-10-06"},{"$f":"'Raw Data'!GQ36","v":"2019-11-06"},{"$f":"'Raw Data'!GR36","v":"2019-12-01"},{"$f":"'Raw Data'!GS36","v":"2020-01-06"},{"$f":"'Raw Data'!GT36","v":"2020-02-06"},{"$f":"'Raw Data'!GU36","v":"2020-03-06"},{"$f":"'Raw Data'!GV36","v":"2020-04-06"},{"$f":"'Raw Data'!GW36","v":"2020-05-06"},{"$f":"'Raw Data'!GX36","v":"2020-06-06"},{"$f":"'Raw Data'!GY36","v":"2020-07-06"},{"$f":"'Raw Data'!GZ36","v":"2020-08-06"},{"$f":"'Raw Data'!HA36","v":"2020-09-06"},{"$f":"'Raw Data'!HB36","v":"2020-10-06"},{"$f":"'Raw Data'!HC36","v":"2020-11-06"},{"$f":"'Raw Data'!HD36","v":"2020-12-06"},{"$f":"'Raw Data'!HE36","v":"2021-01-06"},{"$f":"'Raw Data'!HF36","v":"2021-02-06"},{"$f":"'Raw Data'!HG36","v":"2021-03-06"},{"$f":"'Raw Data'!HH36","v":"2021-04-06"},{"$f":"'Raw Data'!HI36","v":"2021-05-06"},{"$f":"'Raw Data'!HJ36","v":"2021-06-06"},{"$f":"'Raw Data'!HK36","v":"2021-07-06"},{"$f":"'Raw Data'!HL36","v":"2021-08-06"},{"$f":"'Raw Data'!HM36","v":"2021-09-06"},{"$f":"'Raw Data'!HN36","v":"2021-10-06"},{"$f":"'Raw Data'!HO36","v":"2021-11-06"},{"$f":"'Raw Data'!HP36","v":"2021-12-06"},{"$f":"'Raw Data'!HQ36","v":"2022-01-06"},{"$f":"'Raw Data'!HR36","v":"2022-02-06"},{"$f":"'Raw Data'!HS36","v":"2022-03-06"},{"$f":"'Raw Data'!HT36","v":"2022-04-06"},{"$f":"'Raw Data'!HU36","v":"2022-05-06"},{"$f":"'Raw Data'!HV36","v":"2022-06-06"},{"$f":"'Raw Data'!HW36","v":"2022-07-06"},{"$f":"'Raw Data'!HX36","v":"2022-08-06"},{"$f":"'Raw Data'!HY36","v":"2022-09-06"},{"$f":"'Raw Data'!HZ36","v":"2022-10-06"},{"$f":"'Raw Data'!IA36","v":"2022-11-06"},{"$f":"'Raw Data'!IB36","v":"2022-12-06"},{"$f":"'Raw Data'!IC36","v":"2023-01-06"},{"$f":"'Raw Data'!ID36","v":"2023-02-23"},{"$f":"'Raw Data'!IE36","v":"2023-03-23"},{"$f":"'Raw Data'!IF36","v":"2023-04-23"},{"$f":"'Raw Data'!IG36","v":"2023-05-23"},{"$f":"'Raw Data'!IH36","v":"2023-06-23"},{"$f":"'Raw Data'!II36","v":"2023-07-23"},{"$f":"'Raw Data'!IJ36","v":"2023-08-23"},{"$f":"'Raw Data'!IK36","v":"2023-09-23"},{"$f":"'Raw Data'!IL36","v":"2023-10-23"},{"$f":"'Raw Data'!IM36","v":"2023-11-23"},{"$f":"'Raw Data'!IN36","v":"2023-12-23"},{"$f":"'Raw Data'!IO36","v":"2024-01-23"},{"$f":"'Raw Data'!IP36","v":"00:00:00"},{"$f":"'Raw Data'!IQ36","v":"00:00:00"},{"$f":"'Raw Data'!IR36","v":"00:00:00"},{"$f":"'Raw Data'!IS36","v":"00:00:00"},{"$f":"'Raw Data'!IT36","v":"00:00:00"}]
["Sold Residential",{"$f":"'Raw Data'!U45","v":149},{"$f":"'Raw Data'!V45","v":119},{"$f":"'Raw Data'!W45","v":190},{"$f":"'Raw Data'!X45","v":208},{"$f":"'Raw Data'!Y45","v":286},{"$f":"'Raw Data'!Z45","v":234},{"$f":"'Raw Data'!AA45","v":167},{"$f":"'Raw Data'!AB45","v":178},{"$f":"'Raw Data'!AC45","v":177},{"$f":"'Raw Data'!AD45","v":162},{"$f":"'Raw Data'!AE45","v":126},{"$f":"'Raw Data'!AF45","v":108},{"$f":"'Raw Data'!AG45","v":97},{"$f":"'Raw Data'!AH45","v":93},{"$f":"'Raw Data'!AI45","v":122},{"$f":"'Raw Data'!AJ45","v":118},{"$f":"'Raw Data'!AK45","v":151},{"$f":"'Raw Data'!AL45","v":117},{"$f":"'Raw Data'!AM45","v":83},{"$f":"'Raw Data'!AN45","v":106},{"$f":"'Raw Data'!AO45","v":93},{"$f":"'Raw Data'!AP45","v":119},{"$f":"'Raw Data'!AQ45","v":81},{"$f":"'Raw Data'!AR45","v":89},{"$f":"'Raw Data'!AS45","v":76},{"$f":"'Raw Data'!AT45","v":103},{"$f":"'Raw Data'!AU45","v":100},{"$f":"'Raw Data'!AV45","v":119},{"$f":"'Raw Data'!AW45","v":137},{"$f":"'Raw Data'!AX45","v":117},{"$f":"'Raw Data'!AY45","v":103},{"$f":"'Raw Data'!AZ45","v":106},{"$f":"'Raw Data'!BA45","v":104},{"$f":"'Raw Data'!BB45","v":95},{"$f":"'Raw Data'!BC45","v":93},{"$f":"'Raw Data'!BD45","v":82},{"$f":"'Raw Data'!BE45","v":57},{"$f":"'Raw Data'!BF45","v":75},{"$f":"'Raw Data'!BG45","v":96},{"$f":"'Raw Data'!BH45","v":92},{"$f":"'Raw Data'!BI45","v":111},{"$f":"'Raw Data'!BJ45","v":110},{"$f":"'Raw Data'!BK45","v":94},{"$f":"'Raw Data'!BL45","v":103},{"$f":"'Raw Data'!BM45","v":93},{"$f":"'Raw Data'!BN45","v":85},{"$f":"'Raw Data'!BO45","v":60},{"$f":"'Raw Data'!BP45","v":69},{"$f":"'Raw Data'!BQ45","v":42},{"$f":"'Raw Data'!BR45","v":68},{"$f":"'Raw Data'!BS45","v":84},{"$f":"'Raw Data'!BT45","v":81},{"$f":"'Raw Data'!BU45","v":111},{"$f":"'Raw Data'!BV45","v":114},{"$f":"'Raw Data'!BW45","v":105},{"$f":"'Raw Data'!BX45","v":105},{"$f":"'Raw Data'!BY45","v":104},{"$f":"'Raw Data'!BZ45","v":106},{"$f":"'Raw Data'!CA45","v":106},{"$f":"'Raw Data'!CB45","v":100},{"$f":"'Raw Data'!CC45","v":86},{"$f":"'Raw Data'!CD45","v":72},{"$f":"'Raw Data'!CE45","v":113},{"$f":"'Raw Data'!CF45","v":136},{"$f":"'Raw Data'!CG45","v":151},{"$f":"'Raw Data'!CH45","v":137},{"$f":"'Raw Data'!CI45","v":125},{"$f":"'Raw Data'!CJ45","v":99},{"$f":"'Raw Data'!CK45","v":109},{"$f":"'Raw Data'!CL45","v":115},{"$f":"'Raw Data'!CM45","v":106},{"$f":"'Raw Data'!CN45","v":125},{"$f":"'Raw Data'!CO45","v":83},{"$f":"'Raw Data'!CP45","v":87},{"$f":"'Raw Data'!CQ45","v":130},{"$f":"'Raw Data'!CR45","v":137},{"$f":"'Raw Data'!CS45","v":124},{"$f":"'Raw Data'!CT45","v":142},{"$f":"'Raw Data'!CU45","v":127},{"$f":"'Raw Data'!CV45","v":105},{"$f":"'Raw Data'!CW45","v":113},{"$f":"'Raw Data'!CX45","v":109},{"$f":"'Raw Data'!CY45","v":74},{"$f":"'Raw Data'!CZ45","v":102},{"$f":"'Raw Data'!DA45","v":94},{"$f":"'Raw Data'!DB45","v":112},{"$f":"'Raw Data'!DC45","v":171},{"$f":"'Raw Data'!DD45","v":131},{"$f":"'Raw Data'!DE45","v":165},{"$f":"'Raw Data'!DF45","v":146},{"$f":"'Raw Data'!DG45","v":121},{"$f":"'Raw Data'!DH45","v":125},{"$f":"'Raw Data'!DI45","v":146},{"$f":"'Raw Data'!DJ45","v":134},{"$f":"'Raw Data'!DK45","v":129},{"$f":"'Raw Data'!DL45","v":109},{"$f":"'Raw Data'!DM45","v":89},{"$f":"'Raw Data'!DN45","v":91},{"$f":"'Raw Data'!DO45","v":136},{"$f":"'Raw Data'!DP45","v":168},{"$f":"'Raw Data'!DQ45","v":157},{"$f":"'Raw Data'!DR45","v":150},{"$f":"'Raw Data'!DS45","v":161},{"$f":"'Raw Data'!DT45","v":136},{"$f":"'Raw Data'!DU45","v":127},{"$f":"'Raw Data'!DV45","v":114},{"$f":"'Raw Data'!DW45","v":115},{"$f":"'Raw Data'!DX45","v":125},{"$f":"'Raw Data'!DY45","v":106},{"$f":"'Raw Data'!DZ45","v":88},{"$f":"'Raw Data'!EA45","v":115},{"$f":"'Raw Data'!EB45","v":149},{"$f":"'Raw Data'!EC45","v":192},{"$f":"'Raw Data'!ED45","v":147},{"$f":"'Raw Data'!EE45","v":122},{"$f":"'Raw Data'!EF45","v":127},{"$f":"'Raw Data'!EG45","v":142},{"$f":"'Raw Data'!EH45","v":144},{"$f":"'Raw Data'!EI45","v":118},{"$f":"'Raw Data'!EJ45","v":157},{"$f":"'Raw Data'!EK45","v":96},{"$f":"'Raw Data'!EL45","v":105},{"$f":"'Raw Data'!EM45","v":140},{"$f":"'Raw Data'!EN45","v":153},{"$f":"'Raw Data'!EO45","v":202},{"$f":"'Raw Data'!EP45","v":185},{"$f":"'Raw Data'!EQ45","v":171},{"$f":"'Raw Data'!ER45","v":146},{"$f":"'Raw Data'!ES45","v":143},{"$f":"'Raw Data'!ET45","v":159},{"$f":"'Raw Data'!EU45","v":143},{"$f":"'Raw Data'!EV45","v":148},{"$f":"'Raw Data'!EW45","v":111},{"$f":"'Raw Data'!EX45","v":92},{"$f":"'Raw Data'!EY45","v":138},{"$f":"'Raw Data'!EZ45","v":158},{"$f":"'Raw Data'!FA45","v":175},{"$f":"'Raw Data'!FB45","v":185},{"$f":"'Raw Data'!FC45","v":155},{"$f":"'Raw Data'!FD45","v":159},{"$f":"'Raw Data'!FE45","v":159},{"$f":"'Raw Data'!FF45","v":145},{"$f":"'Raw Data'!FG45","v":140},{"$f":"'Raw Data'!FH45","v":173},{"$f":"'Raw Data'!FI45","v":112},{"$f":"'Raw Data'!FJ45","v":129},{"$f":"'Raw Data'!FK45","v":180},{"$f":"'Raw Data'!FL45","v":180},{"$f":"'Raw Data'!FM45","v":203},{"$f":"'Raw Data'!FN45","v":218},{"$f":"'Raw Data'!FO45","v":136},{"$f":"'Raw Data'!FP45","v":171},{"$f":"'Raw Data'!FQ45","v":162},{"$f":"'Raw Data'!FR45","v":166},{"$f":"'Raw Data'!FS45","v":164},{"$f":"'Raw Data'!FT45","v":164},{"$f":"'Raw Data'!FU45","v":118},{"$f":"'Raw Data'!FV45","v":89},{"$f":"'Raw Data'!FW45","v":187},{"$f":"'Raw Data'!FX45","v":186},{"$f":"'Raw Data'!FY45","v":219},{"$f":"'Raw Data'!FZ45","v":188},{"$f":"'Raw Data'!GA45","v":172},{"$f":"'Raw Data'!GB45","v":189},{"$f":"'Raw Data'!GC45","v":142},{"$f":"'Raw Data'!GD45","v":176},{"$f":"'Raw Data'!GE45","v":135},{"$f":"'Raw Data'!GF45","v":166},{"$f":"'Raw Data'!GG45","v":119},{"$f":"'Raw Data'!GH45","v":123},{"$f":"'Raw Data'!GI45","v":184},{"$f":"'Raw Data'!GJ45","v":189},{"$f":"'Raw Data'!GK45","v":217},{"$f":"'Raw Data'!GL45","v":190},{"$f":"'Raw Data'!GM45","v":185},{"$f":"'Raw Data'!GN45","v":201},{"$f":"'Raw Data'!GO45","v":162},{"$f":"'Raw Data'!GP45","v":189},{"$f":"'Raw Data'!GQ45","v":206},{"$f":"'Raw Data'!GR45","v":174},{"$f":"'Raw Data'!GS45","v":148},{"$f":"'Raw Data'!GT45","v":146},{"$f":"'Raw Data'!GU45","v":198},{"$f":"'Raw Data'!GV45","v":154},{"$f":"'Raw Data'!GW45","v":150},{"$f":"'Raw Data'!GX45","v":221},{"$f":"'Raw Data'!GY45","v":396},{"$f":"'Raw Data'!GZ45","v":322},{"$f":"'Raw Data'!HA45","v":358},{"$f":"'Raw Data'!HB45","v":372},{"$f":"'Raw Data'!HC45","v":310},{"$f":"'Raw Data'!HD45","v":316},{"$f":"'Raw Data'!HE45","v":263},{"$f":"'Raw Data'!HF45","v":237},{"$f":"'Raw Data'!HG45","v":377},{"$f":"'Raw Data'!HH45","v":349},{"$f":"'Raw Data'!HI45","v":337},{"$f":"'Raw Data'!HJ45","v":326},{"$f":"'Raw Data'!HK45","v":263},{"$f":"'Raw Data'!HL45","v":234},{"$f":"'Raw Data'!HM45","v":230},{"$f":"'Raw Data'!HN45","v":253},{"$f":"'Raw Data'!HO45","v":267},{"$f":"'Raw Data'!HP45","v":240},{"$f":"'Raw Data'!HQ45","v":225},{"$f":"'Raw Data'!HR45","v":182},{"$f":"'Raw Data'!HS45","v":300},{"$f":"'Raw Data'!HT45","v":265},{"$f":"'Raw Data'!HU45","v":247},{"$f":"'Raw Data'!HV45","v":235},{"$f":"'Raw Data'!HW45","v":171},{"$f":"'Raw Data'!HX45","v":201},{"$f":"'Raw Data'!HY45","v":179},{"$f":"'Raw Data'!HZ45","v":161},{"$f":"'Raw Data'!IA45","v":161},{"$f":"'Raw Data'!IB45","v":131},{"$f":"'Raw Data'!IC45","v":101},{"$f":"'Raw Data'!ID45","v":137},{"$f":"'Raw Data'!IE45","v":193},{"$f":"'Raw Data'!IF45","v":166},{"$f":"'Raw Data'!IG45","v":185},{"$f":"'Raw Data'!IH45","v":189},{"$f":"'Raw Data'!II45","v":126},{"$f":"'Raw Data'!IJ45","v":0},{"$f":"'Raw Data'!IK45","v":0},{"$f":"'Raw Data'!IL45","v":0},{"$f":"'Raw Data'!IM45","v":0},{"$f":"'Raw Data'!IN45","v":0},{"$f":"'Raw Data'!IO45","v":0},{"$f":"'Raw Data'!IP45","v":0},{"$f":"'Raw Data'!IQ45","v":0},{"$f":"'Raw Data'!IR45","v":0},{"$f":"'Raw Data'!IS45","v":0},{"$f":"'Raw Data'!IT45","v":0}]
["Sold Land",{"$f":"'Raw Data'!U46","v":96},{"$f":"'Raw Data'!V46","v":61},{"$f":"'Raw Data'!W46","v":91},{"$f":"'Raw Data'!X46","v":106},{"$f":"'Raw Data'!Y46","v":111},{"$f":"'Raw Data'!Z46","v":114},{"$f":"'Raw Data'!AA46","v":69},{"$f":"'Raw Data'!AB46","v":83},{"$f":"'Raw Data'!AC46","v":115},{"$f":"'Raw Data'!AD46","v":71},{"$f":"'Raw Data'!AE46","v":77},{"$f":"'Raw Data'!AF46","v":55},{"$f":"'Raw Data'!AG46","v":63},{"$f":"'Raw Data'!AH46","v":22},{"$f":"'Raw Data'!AI46","v":48},{"$f":"'Raw Data'!AJ46","v":33},{"$f":"'Raw Data'!AK46","v":53},{"$f":"'Raw Data'!AL46","v":34},{"$f":"'Raw Data'!AM46","v":38},{"$f":"'Raw Data'!AN46","v":31},{"$f":"'Raw Data'!AO46","v":21},{"$f":"'Raw Data'!AP46","v":52},{"$f":"'Raw Data'!AQ46","v":20},{"$f":"'Raw Data'!AR46","v":35},{"$f":"'Raw Data'!AS46","v":19},{"$f":"'Raw Data'!AT46","v":19},{"$f":"'Raw Data'!AU46","v":11},{"$f":"'Raw Data'!AV46","v":22},{"$f":"'Raw Data'!AW46","v":33},{"$f":"'Raw Data'!AX46","v":23},{"$f":"'Raw Data'!AY46","v":17},{"$f":"'Raw Data'!AZ46","v":20},{"$f":"'Raw Data'!BA46","v":28},{"$f":"'Raw Data'!BB46","v":26},{"$f":"'Raw Data'!BC46","v":35},{"$f":"'Raw Data'!BD46","v":19},{"$f":"'Raw Data'!BE46","v":30},{"$f":"'Raw Data'!BF46","v":22},{"$f":"'Raw Data'!BG46","v":13},{"$f":"'Raw Data'!BH46","v":29},{"$f":"'Raw Data'!BI46","v":22},{"$f":"'Raw Data'!BJ46","v":25},{"$f":"'Raw Data'!BK46","v":17},{"$f":"'Raw Data'!BL46","v":24},{"$f":"'Raw Data'!BM46","v":33},{"$f":"'Raw Data'!BN46","v":16},{"$f":"'Raw Data'!BO46","v":20},{"$f":"'Raw Data'!BP46","v":13},{"$f":"'Raw Data'!BQ46","v":9},{"$f":"'Raw Data'!BR46","v":9},{"$f":"'Raw Data'!BS46","v":15},{"$f":"'Raw Data'!BT46","v":6},{"$f":"'Raw Data'!BU46","v":15},{"$f":"'Raw Data'!BV46","v":28},{"$f":"'Raw Data'!BW46","v":16},{"$f":"'Raw Data'!BX46","v":29},{"$f":"'Raw Data'!BY46","v":33},{"$f":"'Raw Data'!BZ46","v":34},{"$f":"'Raw Data'!CA46","v":22},{"$f":"'Raw Data'!CB46","v":24},{"$f":"'Raw Data'!CC46","v":12},{"$f":"'Raw Data'!CD46","v":20},{"$f":"'Raw Data'!CE46","v":12},{"$f":"'Raw Data'!CF46","v":26},{"$f":"'Raw Data'!CG46","v":18},{"$f":"'Raw Data'!CH46","v":28},{"$f":"'Raw Data'!CI46","v":21},{"$f":"'Raw Data'!CJ46","v":30},{"$f":"'Raw Data'!CK46","v":33},{"$f":"'Raw Data'!CL46","v":23},{"$f":"'Raw Data'!CM46","v":30},{"$f":"'Raw Data'!CN46","v":29},{"$f":"'Raw Data'!CO46","v":15},{"$f":"'Raw Data'!CP46","v":18},{"$f":"'Raw Data'!CQ46","v":37},{"$f":"'Raw Data'!CR46","v":27},{"$f":"'Raw Data'!CS46","v":32},{"$f":"'Raw Data'!CT46","v":33},{"$f":"'Raw Data'!CU46","v":18},{"$f":"'Raw Data'!CV46","v":27},{"$f":"'Raw Data'!CW46","v":23},{"$f":"'Raw Data'!CX46","v":18},{"$f":"'Raw Data'!CY46","v":45},{"$f":"'Raw Data'!CZ46","v":38},{"$f":"'Raw Data'!DA46","v":19},{"$f":"'Raw Data'!DB46","v":30},{"$f":"'Raw Data'!DC46","v":50},{"$f":"'Raw Data'!DD46","v":51},{"$f":"'Raw Data'!DE46","v":40},{"$f":"'Raw Data'!DF46","v":35},{"$f":"'Raw Data'!DG46","v":30},{"$f":"'Raw Data'!DH46","v":46},{"$f":"'Raw Data'!DI46","v":29},{"$f":"'Raw Data'!DJ46","v":40},{"$f":"'Raw Data'!DK46","v":30},{"$f":"'Raw Data'!DL46","v":27},{"$f":"'Raw Data'!DM46","v":25},{"$f":"'Raw Data'!DN46","v":52},{"$f":"'Raw Data'!DO46","v":44},{"$f":"'Raw Data'!DP46","v":41},{"$f":"'Raw Data'!DQ46","v":36},{"$f":"'Raw Data'!DR46","v":34},{"$f":"'Raw Data'!DS46","v":39},{"$f":"'Raw Data'!DT46","v":44},{"$f":"'Raw Data'!DU46","v":38},{"$f":"'Raw Data'!DV46","v":48},{"$f":"'Raw Data'!DW46","v":30},{"$f":"'Raw Data'!DX46","v":59},{"$f":"'Raw Data'!DY46","v":22},{"$f":"'Raw Data'!DZ46","v":26},{"$f":"'Raw Data'!EA46","v":30},{"$f":"'Raw Data'!EB46","v":38},{"$f":"'Raw Data'!EC46","v":33},{"$f":"'Raw Data'!ED46","v":51},{"$f":"'Raw Data'!EE46","v":75},{"$f":"'Raw Data'!EF46","v":46},{"$f":"'Raw Data'!EG46","v":53},{"$f":"'Raw Data'!EH46","v":48},{"$f":"'Raw Data'!EI46","v":34},{"$f":"'Raw Data'!EJ46","v":35},{"$f":"'Raw Data'!EK46","v":32},{"$f":"'Raw Data'!EL46","v":31},{"$f":"'Raw Data'!EM46","v":40},{"$f":"'Raw Data'!EN46","v":38},{"$f":"'Raw Data'!EO46","v":37},{"$f":"'Raw Data'!EP46","v":42},{"$f":"'Raw Data'!EQ46","v":44},{"$f":"'Raw Data'!ER46","v":39},{"$f":"'Raw Data'!ES46","v":51},{"$f":"'Raw Data'!ET46","v":39},{"$f":"'Raw Data'!EU46","v":28},{"$f":"'Raw Data'!EV46","v":46},{"$f":"'Raw Data'!EW46","v":32},{"$f":"'Raw Data'!EX46","v":37},{"$f":"'Raw Data'!EY46","v":43},{"$f":"'Raw Data'!EZ46","v":38},{"$f":"'Raw Data'!FA46","v":39},{"$f":"'Raw Data'!FB46","v":48},{"$f":"'Raw Data'!FC46","v":46},{"$f":"'Raw Data'!FD46","v":44},{"$f":"'Raw Data'!FE46","v":51},{"$f":"'Raw Data'!FF46","v":44},{"$f":"'Raw Data'!FG46","v":26},{"$f":"'Raw Data'!FH46","v":23},{"$f":"'Raw Data'!FI46","v":29},{"$f":"'Raw Data'!FJ46","v":19},{"$f":"'Raw Data'!FK46","v":54},{"$f":"'Raw Data'!FL46","v":33},{"$f":"'Raw Data'!FM46","v":45},{"$f":"'Raw Data'!FN46","v":76},{"$f":"'Raw Data'!FO46","v":49},{"$f":"'Raw Data'!FP46","v":52},{"$f":"'Raw Data'!FQ46","v":44},{"$f":"'Raw Data'!FR46","v":66},{"$f":"'Raw Data'!FS46","v":42},{"$f":"'Raw Data'!FT46","v":38},{"$f":"'Raw Data'!FU46","v":35},{"$f":"'Raw Data'!FV46","v":22},{"$f":"'Raw Data'!FW46","v":43},{"$f":"'Raw Data'!FX46","v":36},{"$f":"'Raw Data'!FY46","v":44},{"$f":"'Raw Data'!FZ46","v":53},{"$f":"'Raw Data'!GA46","v":37},{"$f":"'Raw Data'!GB46","v":39},{"$f":"'Raw Data'!GC46","v":35},{"$f":"'Raw Data'!GD46","v":36},{"$f":"'Raw Data'!GE46","v":26},{"$f":"'Raw Data'!GF46","v":24},{"$f":"'Raw Data'!GG46","v":21},{"$f":"'Raw Data'!GH46","v":37},{"$f":"'Raw Data'!GI46","v":30},{"$f":"'Raw Data'!GJ46","v":37},{"$f":"'Raw Data'!GK46","v":35},{"$f":"'Raw Data'!GL46","v":39},{"$f":"'Raw Data'!GM46","v":45},{"$f":"'Raw Data'!GN46","v":39},{"$f":"'Raw Data'!GO46","v":35},{"$f":"'Raw Data'!GP46","v":32},{"$f":"'Raw Data'!GQ46","v":43},{"$f":"'Raw Data'!GR46","v":41},{"$f":"'Raw Data'!GS46","v":29},{"$f":"'Raw Data'!GT46","v":33},{"$f":"'Raw Data'!GU46","v":38},{"$f":"'Raw Data'!GV46","v":25},{"$f":"'Raw Data'!GW46","v":27},{"$f":"'Raw Data'!GX46","v":27},{"$f":"'Raw Data'!GY46","v":55},{"$f":"'Raw Data'!GZ46","v":78},{"$f":"'Raw Data'!HA46","v":80},{"$f":"'Raw Data'!HB46","v":86},{"$f":"'Raw Data'!HC46","v":71},{"$f":"'Raw Data'!HD46","v":80},{"$f":"'Raw Data'!HE46","v":68},{"$f":"'Raw Data'!HF46","v":57},{"$f":"'Raw Data'!HG46","v":67},{"$f":"'Raw Data'!HH46","v":93},{"$f":"'Raw Data'!HI46","v":99},{"$f":"'Raw Data'!HJ46","v":103},{"$f":"'Raw Data'!HK46","v":97},{"$f":"'Raw Data'!HL46","v":89},{"$f":"'Raw Data'!HM46","v":81},{"$f":"'Raw Data'!HN46","v":75},{"$f":"'Raw Data'!HO46","v":70},{"$f":"'Raw Data'!HP46","v":76},{"$f":"'Raw Data'!HQ46","v":56},{"$f":"'Raw Data'!HR46","v":61},{"$f":"'Raw Data'!HS46","v":80},{"$f":"'Raw Data'!HT46","v":75},{"$f":"'Raw Data'!HU46","v":81},{"$f":"'Raw Data'!HV46","v":51},{"$f":"'Raw Data'!HW46","v":56},{"$f":"'Raw Data'!HX46","v":62},{"$f":"'Raw Data'!HY46","v":49},{"$f":"'Raw Data'!HZ46","v":43},{"$f":"'Raw Data'!IA46","v":31},{"$f":"'Raw Data'!IB46","v":36},{"$f":"'Raw Data'!IC46","v":38},{"$f":"'Raw Data'!ID46","v":36},{"$f":"'Raw Data'!IE46","v":43},{"$f":"'Raw Data'!IF46","v":48},{"$f":"'Raw Data'!IG46","v":41},{"$f":"'Raw Data'!IH46","v":55},{"$f":"'Raw Data'!II46","v":43},{"$f":"'Raw Data'!IJ46","v":0},{"$f":"'Raw Data'!IK46","v":0},{"$f":"'Raw Data'!IL46","v":0},{"$f":"'Raw Data'!IM46","v":0},{"$f":"'Raw Data'!IN46","v":0},{"$f":"'Raw Data'!IO46","v":0},{"$f":"'Raw Data'!IP46","v":0},{"$f":"'Raw Data'!IQ46","v":0},{"$f":"'Raw Data'!IR46","v":0},{"$f":"'Raw Data'!IS46","v":0},{"$f":"'Raw Data'!IT46","v":0}]
["Sold Commercial",{"$f":"'Raw Data'!U47","v":1},{"$f":"'Raw Data'!V47","v":3},{"$f":"'Raw Data'!W47","v":3},{"$f":"'Raw Data'!X47","v":4},{"$f":"'Raw Data'!Y47","v":4},{"$f":"'Raw Data'!Z47","v":6},{"$f":"'Raw Data'!AA47","v":4},{"$f":"'Raw Data'!AB47","v":4},{"$f":"'Raw Data'!AC47","v":1},{"$f":"'Raw Data'!AD47","v":14},{"$f":"'Raw Data'!AE47","v":1},{"$f":"'Raw Data'!AF47","v":3},{"$f":"'Raw Data'!AG47","v":2},{"$f":"'Raw Data'!AH47","v":1},{"$f":"'Raw Data'!AI47","v":6},{"$f":"'Raw Data'!AJ47","v":2},{"$f":"'Raw Data'!AK47","v":3},{"$f":"'Raw Data'!AL47","v":5},{"$f":"'Raw Data'!AM47","v":2},{"$f":"'Raw Data'!AN47","v":2},{"$f":"'Raw Data'!AO47","v":9},{"$f":"'Raw Data'!AP47","v":5},{"$f":"'Raw Data'!AQ47","v":0},{"$f":"'Raw Data'!AR47","v":1},{"$f":"'Raw Data'!AS47","v":2},{"$f":"'Raw Data'!AT47","v":0},{"$f":"'Raw Data'!AU47","v":1},{"$f":"'Raw Data'!AV47","v":2},{"$f":"'Raw Data'!AW47","v":1},{"$f":"'Raw Data'!AX47","v":0},{"$f":"'Raw Data'!AY47","v":3},{"$f":"'Raw Data'!AZ47","v":3},{"$f":"'Raw Data'!BA47","v":1},{"$f":"'Raw Data'!BB47","v":0},{"$f":"'Raw Data'!BC47","v":2},{"$f":"'Raw Data'!BD47","v":0},{"$f":"'Raw Data'!BE47","v":0},{"$f":"'Raw Data'!BF47","v":1},{"$f":"'Raw Data'!BG47","v":1},{"$f":"'Raw Data'!BH47","v":3},{"$f":"'Raw Data'!BI47","v":2},{"$f":"'Raw Data'!BJ47","v":1},{"$f":"'Raw Data'!BK47","v":3},{"$f":"'Raw Data'!BL47","v":1},{"$f":"'Raw Data'!BM47","v":0},{"$f":"'Raw Data'!BN47","v":0},{"$f":"'Raw Data'!BO47","v":0},{"$f":"'Raw Data'!BP47","v":1},{"$f":"'Raw Data'!BQ47","v":2},{"$f":"'Raw Data'!BR47","v":1},{"$f":"'Raw Data'!BS47","v":2},{"$f":"'Raw Data'!BT47","v":1},{"$f":"'Raw Data'!BU47","v":0},{"$f":"'Raw Data'!BV47","v":0},{"$f":"'Raw Data'!BW47","v":1},{"$f":"'Raw Data'!BX47","v":0},{"$f":"'Raw Data'!BY47","v":0},{"$f":"'Raw Data'!BZ47","v":0},{"$f":"'Raw Data'!CA47","v":1},{"$f":"'Raw Data'!CB47","v":11},{"$f":"'Raw Data'!CC47","v":1},{"$f":"'Raw Data'!CD47","v":1},{"$f":"'Raw Data'!CE47","v":1},{"$f":"'Raw Data'!CF47","v":2},{"$f":"'Raw Data'!CG47","v":1},{"$f":"'Raw Data'!CH47","v":3},{"$f":"'Raw Data'!CI47","v":2},{"$f":"'Raw Data'!CJ47","v":0},{"$f":"'Raw Data'!CK47","v":1},{"$f":"'Raw Data'!CL47","v":0},{"$f":"'Raw Data'!CM47","v":0},{"$f":"'Raw Data'!CN47","v":1},{"$f":"'Raw Data'!CO47","v":1},{"$f":"'Raw Data'!CP47","v":2},{"$f":"'Raw Data'!CQ47","v":2},{"$f":"'Raw Data'!CR47","v":3},{"$f":"'Raw Data'!CS47","v":3},{"$f":"'Raw Data'!CT47","v":2},{"$f":"'Raw Data'!CU47","v":2},{"$f":"'Raw Data'!CV47","v":0},{"$f":"'Raw Data'!CW47","v":2},{"$f":"'Raw Data'!CX47","v":5},{"$f":"'Raw Data'!CY47","v":3},{"$f":"'Raw Data'!CZ47","v":0},{"$f":"'Raw Data'!DA47","v":3},{"$f":"'Raw Data'!DB47","v":1},{"$f":"'Raw Data'!DC47","v":6},{"$f":"'Raw Data'!DD47","v":4},{"$f":"'Raw Data'!DE47","v":1},{"$f":"'Raw Data'!DF47","v":1},{"$f":"'Raw Data'!DG47","v":0},{"$f":"'Raw Data'!DH47","v":2},{"$f":"'Raw Data'!DI47","v":1},{"$f":"'Raw Data'!DJ47","v":3},{"$f":"'Raw Data'!DK47","v":6},{"$f":"'Raw Data'!DL47","v":4},{"$f":"'Raw Data'!DM47","v":1},{"$f":"'Raw Data'!DN47","v":3},{"$f":"'Raw Data'!DO47","v":0},{"$f":"'Raw Data'!DP47","v":4},{"$f":"'Raw Data'!DQ47","v":1},{"$f":"'Raw Data'!DR47","v":3},{"$f":"'Raw Data'!DS47","v":2},{"$f":"'Raw Data'!DT47","v":4},{"$f":"'Raw Data'!DU47","v":7},{"$f":"'Raw Data'!DV47","v":2},{"$f":"'Raw Data'!DW47","v":2},{"$f":"'Raw Data'!DX47","v":5},{"$f":"'Raw Data'!DY47","v":5},{"$f":"'Raw Data'!DZ47","v":3},{"$f":"'Raw Data'!EA47","v":1},{"$f":"'Raw Data'!EB47","v":2},{"$f":"'Raw Data'!EC47","v":6},{"$f":"'Raw Data'!ED47","v":2},{"$f":"'Raw Data'!EE47","v":4},{"$f":"'Raw Data'!EF47","v":1},{"$f":"'Raw Data'!EG47","v":6},{"$f":"'Raw Data'!EH47","v":0},{"$f":"'Raw Data'!EI47","v":1},{"$f":"'Raw Data'!EJ47","v":10},{"$f":"'Raw Data'!EK47","v":1},{"$f":"'Raw Data'!EL47","v":6},{"$f":"'Raw Data'!EM47","v":4},{"$f":"'Raw Data'!EN47","v":2},{"$f":"'Raw Data'!EO47","v":2},{"$f":"'Raw Data'!EP47","v":0},{"$f":"'Raw Data'!EQ47","v":3},{"$f":"'Raw Data'!ER47","v":2},{"$f":"'Raw Data'!ES47","v":4},{"$f":"'Raw Data'!ET47","v":0},{"$f":"'Raw Data'!EU47","v":6},{"$f":"'Raw Data'!EV47","v":4},{"$f":"'Raw Data'!EW47","v":2},{"$f":"'Raw Data'!EX47","v":1},{"$f":"'Raw Data'!EY47","v":3},{"$f":"'Raw Data'!EZ47","v":5},{"$f":"'Raw Data'!FA47","v":3},{"$f":"'Raw Data'!FB47","v":5},{"$f":"'Raw Data'!FC47","v":0},{"$f":"'Raw Data'!FD47","v":1},{"$f":"'Raw Data'!FE47","v":1},{"$f":"'Raw Data'!FF47","v":4},{"$f":"'Raw Data'!FG47","v":1},{"$f":"'Raw Data'!FH47","v":6},{"$f":"'Raw Data'!FI47","v":0},{"$f":"'Raw Data'!FJ47","v":1},{"$f":"'Raw Data'!FK47","v":1},{"$f":"'Raw Data'!FL47","v":6},{"$f":"'Raw Data'!FM47","v":6},{"$f":"'Raw Data'!FN47","v":1},{"$f":"'Raw Data'!FO47","v":0},{"$f":"'Raw Data'!FP47","v":1},{"$f":"'Raw Data'!FQ47","v":0},{"$f":"'Raw Data'!FR47","v":2},{"$f":"'Raw Data'!FS47","v":2},{"$f":"'Raw Data'!FT47","v":6},{"$f":"'Raw Data'!FU47","v":0},{"$f":"'Raw Data'!FV47","v":1},{"$f":"'Raw Data'!FW47","v":2},{"$f":"'Raw Data'!FX47","v":3},{"$f":"'Raw Data'!FY47","v":4},{"$f":"'Raw Data'!FZ47","v":4},{"$f":"'Raw Data'!GA47","v":0},{"$f":"'Raw Data'!GB47","v":0},{"$f":"'Raw Data'!GC47","v":1},{"$f":"'Raw Data'!GD47","v":3},{"$f":"'Raw Data'!GE47","v":1},{"$f":"'Raw Data'!GF47","v":2},{"$f":"'Raw Data'!GG47","v":4},{"$f":"'Raw Data'!GH47","v":3},{"$f":"'Raw Data'!GI47","v":4},{"$f":"'Raw Data'!GJ47","v":3},{"$f":"'Raw Data'!GK47","v":1},{"$f":"'Raw Data'!GL47","v":3},{"$f":"'Raw Data'!GM47","v":2},{"$f":"'Raw Data'!GN47","v":3},{"$f":"'Raw Data'!GO47","v":2},{"$f":"'Raw Data'!GP47","v":3},{"$f":"'Raw Data'!GQ47","v":1},{"$f":"'Raw Data'!GR47","v":4},{"$f":"'Raw Data'!GS47","v":2},{"$f":"'Raw Data'!GT47","v":2},{"$f":"'Raw Data'!GU47","v":0},{"$f":"'Raw Data'!GV47","v":2},{"$f":"'Raw Data'!GW47","v":2},{"$f":"'Raw Data'!GX47","v":3},{"$f":"'Raw Data'!GY47","v":1},{"$f":"'Raw Data'!GZ47","v":3},{"$f":"'Raw Data'!HA47","v":7},{"$f":"'Raw Data'!HB47","v":2},{"$f":"'Raw Data'!HC47","v":2},{"$f":"'Raw Data'!HD47","v":5},{"$f":"'Raw Data'!HE47","v":4},{"$f":"'Raw Data'!HF47","v":4},{"$f":"'Raw Data'!HG47","v":3},{"$f":"'Raw Data'!HH47","v":3},{"$f":"'Raw Data'!HI47","v":4},{"$f":"'Raw Data'!HJ47","v":3},{"$f":"'Raw Data'!HK47","v":9},{"$f":"'Raw Data'!HL47","v":6},{"$f":"'Raw Data'!HM47","v":2},{"$f":"'Raw Data'!HN47","v":5},{"$f":"'Raw Data'!HO47","v":3},{"$f":"'Raw Data'!HP47","v":3},{"$f":"'Raw Data'!HQ47","v":4},{"$f":"'Raw Data'!HR47","v":5},{"$f":"'Raw Data'!HS47","v":7},{"$f":"'Raw Data'!HT47","v":4},{"$f":"'Raw Data'!HU47","v":3},{"$f":"'Raw Data'!HV47","v":4},{"$f":"'Raw Data'!HW47","v":6},{"$f":"'Raw Data'!HX47","v":2},{"$f":"'Raw Data'!HY47","v":3},{"$f":"'Raw Data'!HZ47","v":3},{"$f":"'Raw Data'!IA47","v":3},{"$f":"'Raw Data'!IB47","v":1},{"$f":"'Raw Data'!IC47","v":2},{"$f":"'Raw Data'!ID47","v":1},{"$f":"'Raw Data'!IE47","v":6},{"$f":"'Raw Data'!IF47","v":1},{"$f":"'Raw Data'!IG47","v":3},{"$f":"'Raw Data'!IH47","v":1},{"$f":"'Raw Data'!II47","v":0},{"$f":"'Raw Data'!IJ47","v":0},{"$f":"'Raw Data'!IK47","v":0},{"$f":"'Raw Data'!IL47","v":0},{"$f":"'Raw Data'!IM47","v":0},{"$f":"'Raw Data'!IN47","v":0},{"$f":"'Raw Data'!IO47","v":0},{"$f":"'Raw Data'!IP47","v":0},{"$f":"'Raw Data'!IQ47","v":0},{"$f":"'Raw Data'!IR47","v":0},{"$f":"'Raw Data'!IS47","v":0},{"$f":"'Raw Data'!IT47","v":0}]
["Total",{"$f":"'Raw Data'!U48","v":246},{"$f":"'Raw Data'!V48","v":183},{"$f":"'Raw Data'!W48","v":284},{"$f":"'Raw Data'!X48","v":318},{"$f":"'Raw Data'!Y48","v":401},{"$f":"'Raw Data'!Z48","v":354},{"$f":"'Raw Data'!AA48","v":240},{"$f":"'Raw Data'!AB48","v":265},{"$f":"'Raw Data'!AC48","v":293},{"$f":"'Raw Data'!AD48","v":247},{"$f":"'Raw Data'!AE48","v":204},{"$f":"'Raw Data'!AF48","v":166},{"$f":"'Raw Data'!AG48","v":162},{"$f":"'Raw Data'!AH48","v":116},{"$f":"'Raw Data'!AI48","v":176},{"$f":"'Raw Data'!AJ48","v":153},{"$f":"'Raw Data'!AK48","v":207},{"$f":"'Raw Data'!AL48","v":156},{"$f":"'Raw Data'!AM48","v":123},{"$f":"'Raw Data'!AN48","v":139},{"$f":"'Raw Data'!AO48","v":123},{"$f":"'Raw Data'!AP48","v":176},{"$f":"'Raw Data'!AQ48","v":101},{"$f":"'Raw Data'!AR48","v":125},{"$f":"'Raw Data'!AS48","v":97},{"$f":"'Raw Data'!AT48","v":122},{"$f":"'Raw Data'!AU48","v":112},{"$f":"'Raw Data'!AV48","v":143},{"$f":"'Raw Data'!AW48","v":171},{"$f":"'Raw Data'!AX48","v":140},{"$f":"'Raw Data'!AY48","v":123},{"$f":"'Raw Data'!AZ48","v":129},{"$f":"'Raw Data'!BA48","v":133},{"$f":"'Raw Data'!BB48","v":121},{"$f":"'Raw Data'!BC48","v":130},{"$f":"'Raw Data'!BD48","v":101},{"$f":"'Raw Data'!BE48","v":87},{"$f":"'Raw Data'!BF48","v":98},{"$f":"'Raw Data'!BG48","v":110},{"$f":"'Raw Data'!BH48","v":124},{"$f":"'Raw Data'!BI48","v":135},{"$f":"'Raw Data'!BJ48","v":136},{"$f":"'Raw Data'!BK48","v":114},{"$f":"'Raw Data'!BL48","v":128},{"$f":"'Raw Data'!BM48","v":126},{"$f":"'Raw Data'!BN48","v":101},{"$f":"'Raw Data'!BO48","v":80},{"$f":"'Raw Data'!BP48","v":83},{"$f":"'Raw Data'!BQ48","v":53},{"$f":"'Raw Data'!BR48","v":78},{"$f":"'Raw Data'!BS48","v":101},{"$f":"'Raw Data'!BT48","v":88},{"$f":"'Raw Data'!BU48","v":126},{"$f":"'Raw Data'!BV48","v":142},{"$f":"'Raw Data'!BW48","v":122},{"$f":"'Raw Data'!BX48","v":134},{"$f":"'Raw Data'!BY48","v":137},{"$f":"'Raw Data'!BZ48","v":140},{"$f":"'Raw Data'!CA48","v":129},{"$f":"'Raw Data'!CB48","v":135},{"$f":"'Raw Data'!CC48","v":99},{"$f":"'Raw Data'!CD48","v":93},{"$f":"'Raw Data'!CE48","v":126},{"$f":"'Raw Data'!CF48","v":164},{"$f":"'Raw Data'!CG48","v":170},{"$f":"'Raw Data'!CH48","v":168},{"$f":"'Raw Data'!CI48","v":148},{"$f":"'Raw Data'!CJ48","v":129},{"$f":"'Raw Data'!CK48","v":143},{"$f":"'Raw Data'!CL48","v":138},{"$f":"'Raw Data'!CM48","v":136},{"$f":"'Raw Data'!CN48","v":155},{"$f":"'Raw Data'!CO48","v":99},{"$f":"'Raw Data'!CP48","v":107},{"$f":"'Raw Data'!CQ48","v":169},{"$f":"'Raw Data'!CR48","v":167},{"$f":"'Raw Data'!CS48","v":159},{"$f":"'Raw Data'!CT48","v":177},{"$f":"'Raw Data'!CU48","v":147},{"$f":"'Raw Data'!CV48","v":132},{"$f":"'Raw Data'!CW48","v":138},{"$f":"'Raw Data'!CX48","v":132},{"$f":"'Raw Data'!CY48","v":122},{"$f":"'Raw Data'!CZ48","v":140},{"$f":"'Raw Data'!DA48","v":116},{"$f":"'Raw Data'!DB48","v":143},{"$f":"'Raw Data'!DC48","v":227},{"$f":"'Raw Data'!DD48","v":186},{"$f":"'Raw Data'!DE48","v":206},{"$f":"'Raw Data'!DF48","v":182},{"$f":"'Raw Data'!DG48","v":151},{"$f":"'Raw Data'!DH48","v":173},{"$f":"'Raw Data'!DI48","v":176},{"$f":"'Raw Data'!DJ48","v":177},{"$f":"'Raw Data'!DK48","v":165},{"$f":"'Raw Data'!DL48","v":140},{"$f":"'Raw Data'!DM48","v":115},{"$f":"'Raw Data'!DN48","v":146},{"$f":"'Raw Data'!DO48","v":180},{"$f":"'Raw Data'!DP48","v":213},{"$f":"'Raw Data'!DQ48","v":194},{"$f":"'Raw Data'!DR48","v":187},{"$f":"'Raw Data'!DS48","v":202},{"$f":"'Raw Data'!DT48","v":184},{"$f":"'Raw Data'!DU48","v":172},{"$f":"'Raw Data'!DV48","v":164},{"$f":"'Raw Data'!DW48","v":147},{"$f":"'Raw Data'!DX48","v":189},{"$f":"'Raw Data'!DY48","v":133},{"$f":"'Raw Data'!DZ48","v":117},{"$f":"'Raw Data'!EA48","v":146},{"$f":"'Raw Data'!EB48","v":189},{"$f":"'Raw Data'!EC48","v":231},{"$f":"'Raw Data'!ED48","v":200},{"$f":"'Raw Data'!EE48","v":201},{"$f":"'Raw Data'!EF48","v":174},{"$f":"'Raw Data'!EG48","v":201},{"$f":"'Raw Data'!EH48","v":192},{"$f":"'Raw Data'!EI48","v":153},{"$f":"'Raw Data'!EJ48","v":202},{"$f":"'Raw Data'!EK48","v":129},{"$f":"'Raw Data'!EL48","v":142},{"$f":"'Raw Data'!EM48","v":184},{"$f":"'Raw Data'!EN48","v":193},{"$f":"'Raw Data'!EO48","v":241},{"$f":"'Raw Data'!EP48","v":227},{"$f":"'Raw Data'!EQ48","v":218},{"$f":"'Raw Data'!ER48","v":187},{"$f":"'Raw Data'!ES48","v":198},{"$f":"'Raw Data'!ET48","v":198},{"$f":"'Raw Data'!EU48","v":177},{"$f":"'Raw Data'!EV48","v":198},{"$f":"'Raw Data'!EW48","v":145},{"$f":"'Raw Data'!EX48","v":130},{"$f":"'Raw Data'!EY48","v":184},{"$f":"'Raw Data'!EZ48","v":201},{"$f":"'Raw Data'!FA48","v":217},{"$f":"'Raw Data'!FB48","v":238},{"$f":"'Raw Data'!FC48","v":201},{"$f":"'Raw Data'!FD48","v":204},{"$f":"'Raw Data'!FE48","v":211},{"$f":"'Raw Data'!FF48","v":193},{"$f":"'Raw Data'!FG48","v":167},{"$f":"'Raw Data'!FH48","v":202},{"$f":"'Raw Data'!FI48","v":141},{"$f":"'Raw Data'!FJ48","v":149},{"$f":"'Raw Data'!FK48","v":235},{"$f":"'Raw Data'!FL48","v":219},{"$f":"'Raw Data'!FM48","v":254},{"$f":"'Raw Data'!FN48","v":295},{"$f":"'Raw Data'!FO48","v":185},{"$f":"'Raw Data'!FP48","v":224},{"$f":"'Raw Data'!FQ48","v":206},{"$f":"'Raw Data'!FR48","v":234},{"$f":"'Raw Data'!FS48","v":208},{"$f":"'Raw Data'!FT48","v":208},{"$f":"'Raw Data'!FU48","v":153},{"$f":"'Raw Data'!FV48","v":112},{"$f":"'Raw Data'!FW48","v":232},{"$f":"'Raw Data'!FX48","v":225},{"$f":"'Raw Data'!FY48","v":267},{"$f":"'Raw Data'!FZ48","v":245},{"$f":"'Raw Data'!GA48","v":209},{"$f":"'Raw Data'!GB48","v":228},{"$f":"'Raw Data'!GC48","v":178},{"$f":"'Raw Data'!GD48","v":215},{"$f":"'Raw Data'!GE48","v":162},{"$f":"'Raw Data'!GF48","v":192},{"$f":"'Raw Data'!GG48","v":144},{"$f":"'Raw Data'!GH48","v":163},{"$f":"'Raw Data'!GI48","v":218},{"$f":"'Raw Data'!GJ48","v":229},{"$f":"'Raw Data'!GK48","v":253},{"$f":"'Raw Data'!GL48","v":232},{"$f":"'Raw Data'!GM48","v":232},{"$f":"'Raw Data'!GN48","v":243},{"$f":"'Raw Data'!GO48","v":199},{"$f":"'Raw Data'!GP48","v":224},{"$f":"'Raw Data'!GQ48","v":250},{"$f":"'Raw Data'!GR48","v":219},{"$f":"'Raw Data'!GS48","v":179},{"$f":"'Raw Data'!GT48","v":181},{"$f":"'Raw Data'!GU48","v":236},{"$f":"'Raw Data'!GV48","v":181},{"$f":"'Raw Data'!GW48","v":179},{"$f":"'Raw Data'!GX48","v":251},{"$f":"'Raw Data'!GY48","v":452},{"$f":"'Raw Data'!GZ48","v":403},{"$f":"'Raw Data'!HA48","v":445},{"$f":"'Raw Data'!HB48","v":460},{"$f":"'Raw Data'!HC48","v":383},{"$f":"'Raw Data'!HD48","v":401},{"$f":"'Raw Data'!HE48","v":335},{"$f":"'Raw Data'!HF48","v":298},{"$f":"'Raw Data'!HG48","v":447},{"$f":"'Raw Data'!HH48","v":445},{"$f":"'Raw Data'!HI48","v":440},{"$f":"'Raw Data'!HJ48","v":432},{"$f":"'Raw Data'!HK48","v":369},{"$f":"'Raw Data'!HL48","v":329},{"$f":"'Raw Data'!HM48","v":313},{"$f":"'Raw Data'!HN48","v":333},{"$f":"'Raw Data'!HO48","v":340},{"$f":"'Raw Data'!HP48","v":319},{"$f":"'Raw Data'!HQ48","v":285},{"$f":"'Raw Data'!HR48","v":248},{"$f":"'Raw Data'!HS48","v":387},{"$f":"'Raw Data'!HT48","v":344},{"$f":"'Raw Data'!HU48","v":331},{"$f":"'Raw Data'!HV48","v":290},{"$f":"'Raw Data'!HW48","v":233},{"$f":"'Raw Data'!HX48","v":265},{"$f":"'Raw Data'!HY48","v":231},{"$f":"'Raw Data'!HZ48","v":207},{"$f":"'Raw Data'!IA48","v":195},{"$f":"'Raw Data'!IB48","v":168},{"$f":"'Raw Data'!IC48","v":141},{"$f":"'Raw Data'!ID48","v":174},{"$f":"'Raw Data'!IE48","v":242},{"$f":"'Raw Data'!IF48","v":215},{"$f":"'Raw Data'!IG48","v":229},{"$f":"'Raw Data'!IH48","v":245},{"$f":"'Raw Data'!II48","v":169},{"$f":"'Raw Data'!IJ48","v":0},{"$f":"'Raw Data'!IK48","v":0},{"$f":"'Raw Data'!IL48","v":0},{"$f":"'Raw Data'!IM48","v":0},{"$f":"'Raw Data'!IN48","v":0},{"$f":"'Raw Data'!IO48","v":0},{"$f":"'Raw Data'!IP48","v":0},{"$f":"'Raw Data'!IQ48","v":0},{"$f":"'Raw Data'!IR48","v":0},{"$f":"'Raw Data'!IS48","v":0},{"$f":"'Raw Data'!IT48","v":0}]
[]
[]
[{"$nulls":217},"Jan","Feb","Mar","Apr","May","Jun","July","Aug","Sep","Oct","Nov","Dec"]
[{"$nulls":216},2005,{"$f":"'Raw Data'!U45","v":149},{"$f":"'Raw Data'!V45","v":119},{"$f":"'Raw Data'!W45","v":190},{"$f":"'Raw Data'!X45","v":208},{"$f":"'Raw Data'!Y45","v":286},{"$f":"'Raw Data'!Z45","v":234},{"$f":"'Raw Data'!AA45","v":167},{"$f":"'Raw Data'!AB45","v":178},{"$f":"'Raw Data'!AC45","v":177},{"$f":"'Raw Data'!AD45","v":162},{"$f":"'Raw Data'!AE45","v":126},{"$f":"'Raw Data'!AF45","v":108},{"$f":"SUM(HJ9:HU9)","v":2104}]
[{"$nulls":216},2006,{"$f":"'Raw Data'!AG45","v":97},{"$f":"'Raw Data'!AH45","v":93},{"$f":"'Raw Data'!AI45","v":122},{"$f":"'Raw Data'!AJ45","v":118},{"$f":"'Raw Data'!AK45","v":151},{"$f":"'Raw Data'!AL45","v":117},{"$f":"'Raw Data'!AM45","v":83},{"$f":"'Raw Data'!AN45","v":106},{"$f":"'Raw Data'!AO45","v":93},{"$f":"'Raw Data'!AP45","v":119},{"$f":"'Raw Data'!AQ45","v":81},{"$f":"'Raw Data'!AR45","v":89},1269]
[{"$nulls":216},2007,{"$f":"'Raw Data'!AS45","v":76},{"$f":"'Raw Data'!AT45","v":103},{"$f":"'Raw Data'!AU45","v":100},{"$f":"'Raw Data'!AV45","v":119},{"$f":"'Raw Data'!AW45","v":137},{"$f":"'Raw Data'!AX45","v":117},{"$f":"'Raw Data'!AY45","v":103},{"$f":"'Raw Data'!AZ45","v":106},{"$f":"'Raw Data'!BA45","v":104},{"$f":"'Raw Data'!BB45","v":95},{"$f":"'Raw Data'!BC45","v":93},{"$f":"'Raw Data'!BD45","v":82},1235]
[{"$nulls":216},2008,{"$f":"'Raw Data'!BE45","v":57},{"$f":"'Raw Data'!BF45","v":75},{"$f":"'Raw Data'!BG45","v":96},{"$f":"'Raw Data'!BH45","v":92},{"$f":"'Raw Data'!BI45","v":111},{"$f":"'Raw Data'!BJ45","v":110},{"$f":"'Raw Data'!BK45","v":94},{"$f":"'Raw Data'!BL45","v":103},{"$f":"'Raw Data'!BM45","v":93},{"$f":"'Raw Data'!BN45","v":85},{"$f":"'Raw Data'!BO45","v":60},{"$f":"'Raw Data'!BP45","v":69},1045]
[{"$nulls":216},2009,{"$f":"'Raw Data'!BQ45","v":42},{"$f":"'Raw Data'!BR45","v":68},{"$f":"'Raw Data'!BS45","v":84},{"$f":"'Raw Data'!BT45","v":81},{"$f":"'Raw Data'!BU45","v":111},{"$f":"'Raw Data'!BV45","v":114},{"$f":"'Raw Data'!BW45","v":105},{"$f":"'Raw Data'!BX45","v":105},{"$f":"'Raw Data'!BY45","v":104},{"$f":"'Raw Data'!BZ45","v":106},{"$f":"'Raw Data'!CA45","v":106},{"$f":"'Raw Data'!CB45","v":100},1126]
[{"$nulls":216},2010,{"$f":"'Raw Data'!CC45","v":86},{"$f":"'Raw Data'!CD45","v":72},{"$f":"'Raw Data'!CE45","v":113},{"$f":"'Raw Data'!CF45","v":136},{"$f":"'Raw Data'!CG45","v":151},{"$f":"'Raw Data'!CH45","v":137},{"$f":"'Raw Data'!CI45","v":125},{"$f":"'Raw Data'!CJ45","v":99},{"$f":"'Raw Data'!CK45","v":109},{"$f":"'Raw Data'!CL45","v":115},{"$f":"'Raw Data'!CM45","v":106},{"$f":"'Raw Data'!CN45","v":125},1374]
[{"$nulls":216},2011,{"$f":"'Raw Data'!CO45","v":83},{"$f":"'Raw Data'!CP45","v":87},{"$f":"'Raw Data'!CQ45","v":130},{"$f":"'Raw Data'!CR45","v":137},{"$f":"'Raw Data'!CS45","v":124},{"$f":"'Raw Data'!CT45","v":142},{"$f":"'Raw Data'!CU45","v":127},{"$f":"'Raw Data'!CV45","v":105},{"$f":"'Raw Data'!CW45","v":113},{"$f":"'Raw Data'!CX45","v":109},{"$f":"'Raw Data'!CY45","v":74},{"$f":"'Raw Data'!CZ45","v":102},1333]
[{"$nulls":216},2012,{"$f":"'Raw Data'!DA45","v":94},{"$f":"'Raw Data'!DB45","v":112},{"$f":"'Raw Data'!DC45","v":171},{"$f":"'Raw Data'!DD45","v":131},{"$f":"'Raw Data'!DE45","v":165},{"$f":"'Raw Data'!DF45","v":146},{"$f":"'Raw Data'!DG45","v":121},{"$f":"'Raw Data'!DH45","v":125},{"$f":"'Raw Data'!DI45","v":146},{"$f":"'Raw Data'!DJ45","v":134},{"$f":"'Raw Data'!DK45","v":129},{"$f":"'Raw Data'!DL45","v":109},1583]
[{"$nulls":216},2013,{"$f":"'Raw Data'!DM45","v":89},{"$f":"'Raw Data'!DN45","v":91},{"$f":"'Raw Data'!DO45","v":136},{"$f":"'Raw Data'!DP45","v":168},{"$f":"'Raw Data'!DQ45","v":157},{"$f":"'Raw Data'!DR45","v":150},{"$f":"'Raw Data'!DS45","v":161},{"$f":"'Raw Data'!DT45","v":136},{"$f":"'Raw Data'!DU45","v":127},{"$f":"'Raw Data'!DV45","v":114},{"$f":"'Raw Data'!DW45","v":115},{"$f":"'Raw Data'!DX45","v":125},1569]
[{"$nulls":216},2014,{"$f":"'Raw Data'!DY45","v":106},{"$f":"'Raw Data'!DZ45","v":88},{"$f":"'Raw Data'!EA45","v":115},{"$f":"'Raw Data'!EB45","v":149},{"$f":"'Raw Data'!EC45","v":192},{"$f":"'Raw Data'!ED45","v":147},{"$f":"'Raw Data'!EE45","v":122},{"$f":"'Raw Data'!EF45","v":127},{"$f":"'Raw Data'!EG45","v":142},{"$f":"'Raw Data'!EH45","v":144},{"$f":"'Raw Data'!EI45","v":118},{"$f":"'Raw Data'!EJ45","v":157},1607]
[{"$nulls":216},2015,{"$f":"DR5","v":129},142,184,193,241,227,218,187,198,198,177,198,{"$f":"SUM(HJ19:HU19)","v":2292}]
[{"$nulls":216},2016,{"$f":"ED2","v":111},92,138,158,175,185,155,159,159,145,140,173,1790]
[{"$nulls":216},2017,{"$f":"EP2","v":112},129,180,180,203,218,136,171,162,166,164,164,1985]
[{"$nulls":216},2018,{"$f":"FB2","v":118},89,187,186,219,188,172,189,142,176,135,166,1967]
[{"$nulls":216},2019,{"$f":"FN2","v":119},123,184,189,217,190,185,201,162,189,206,174,2139]
[{"$nulls":216},2020,{"$f":"FZ2","v":148},146,198,154,150,221,396,322,358,372,310,316,3091]
[{"$nulls":216},2021,{"$f":"GL2","v":263},237,377,349,337,326,263,234,230,253,267,240,{"$f":"SUM(HJ25:HU25)","v":3376}]
[{"$nulls":216},2022,{"$f":"GX2","v":225},182,300,265,247,235,171,201,179,161,161,131,{"$f":"SUM(HJ26:HU26)","v":2458}]
[{"$nulls":216},2023,{"$f":"HJ2","v":101},137,193,166,185,189,126,0,0,0,0,0,{"$f":"SUM(HJ27:HU27)","v":1097}]
[]
[]
[{"$nulls":220},"Residential Sales"]
[{"$nulls":220},"Month / Year","Count","%Chg"]
[{"$nulls":220},"Jul'23",{"$f":"HP27","v":126},{"$f":"(HN32-HN33)/HN33","v":-0.26315789473684209}]
[{"$nulls":220},"Jul'22",{"$f":"HP26","v":171},{"$f":"(HN33-HN34)/HN34","v":-0.34980988593155893}]
[{"$nulls":220},"Jul'21",{"$f":"HP25","v":263},{"$f":"(HN34-HN35)/HN35","v":-0.33585858585858586}]
[{"$nulls":220},"Jul'20",{"$f":"HP24","v":396}]

{"sheet":"Distressed Data","index":20,"n_rows":69,"n_cols":186,"rows_kept":69,"cut":false,"hidden":false,"merged":[[63,183,63,185],[55,183,55,185],[55,179,55,181]]}
[null,{"$f":"'Raw Data'!BO44","v":"2008-11-14"},{"$f":"'Raw Data'!BP44","v":"2008-12-21"},{"$f":"'Raw Data'!BQ44","v":"2009-01-27"},{"$f":"'Raw Data'!BR44","v":"2009-02-09"},{"$f":"'Raw Data'!BS44","v":"2009-03-09"},{"$f":"'Raw Data'!BT44","v":"2009-04-09"},{"$f":"'Raw Data'!BU44","v":"2009-05-09"},{"$f":"'Raw Data'!BV44","v":"2009-06-09"},{"$f":"'Raw Data'!BW44","v":"2009-07-09"},{"$f":"'Raw Data'!BX44","v":"2009-08-09"},{"$f":"'Raw Data'!BY44","v":"2009-09-09"},{"$f":"'Raw Data'!BZ44","v":"2009-10-09"},{"$f":"'Raw Data'!CA44","v":"2009-11-09"},{"$f":"'Raw Data'!CB44","v":"2009-12-09"},{"$f":"'Raw Data'!CC44","v":"2010-01-09"},{"$f":"'Raw Data'!CD44","v":"2010-02-09"},{"$f":"'Raw Data'!CE44","v":"2010-03-09"},{"$f":"'Raw Data'!CF44","v":"2010-04-09"},{"$f":"'Raw Data'!CG44","v":"2010-05-09"},{"$f":"'Raw Data'!CH44","v":"2010-06-09"},{"$f":"'Raw Data'!CI44","v":"2010-07-09"},{"$f":"'Raw Data'!CJ44","v":"2010-08-09"},{"$f":"'Raw Data'!CK44","v":"2010-09-09"},{"$f":"'Raw Data'!CL44","v":"2010-10-09"},{"$f":"'Raw Data'!CM44","v":"2010-11-09"},{"$f":"'Raw Data'!CN44","v":"2010-12-09"},{"$f":"'Raw Data'!CO44","v":"2011-01-09"},{"$f":"'Raw Data'!CP44","v":"2011-02-09"},{"$f":"'Raw Data'!CQ44","v":"2011-03-09"},{"$f":"'Raw Data'!CR44","v":"2011-04-09"},{"$f":"'Raw Data'!CS44","v":"2011-05-09"},{"$f":"'Raw Data'!CT44","v":"2011-06-09"},{"$f":"'Raw Data'!CU44","v":"2011-07-09"},{"$f":"'Raw Data'!CV44","v":"2011-08-09"},{"$f":"'Raw Data'!CW44","v":"2011-09-09"},{"$f":"'Raw Data'!CX44","v":"2011-10-09"},{"$f":"'Raw Data'!CY44","v":"2011-11-09"},{"$f":"'Raw Data'!CZ44","v":"2011-12-09"},{"$f":"'Raw Data'!DA44","v":"2012-01-09"},{"$f":"'Raw Data'!DB44","v":"2012-02-09"},{"$f":"'Raw Data'!DC44","v":"2012-03-09"},{"$f":"'Raw Data'!DD44","v":"2012-04-09"},{"$f":"'Raw Data'!DE44","v":"2012-05-09"},{"$f":"'Raw Data'!DF44","v":"2012-06-09"},{"$f":"'Raw Data'!DG44","v":"2012-07-09"},{"$f":"'Raw Data'!DH44","v":"2012-08-09"},{"$f":"'Raw Data'!DI44","v":"2012-09-09"},{"$f":"'Raw Data'!DJ44","v":"2012-10-09"},{"$f":"'Raw Data'!DK44","v":"2012-11-09"},{"$f":"'Raw Data'!DL44","v":"2012-12-09"},{"$f":"'Raw Data'!DM44","v":"2013-01-09"},{"$f":"'Raw Data'!DN44","v":"2013-02-09"},{"$f":"'Raw Data'!DO44","v":"2013-03-09"},{"$f":"'Raw Data'!DP44","v":"2013-04-09"},{"$f":"'Raw Data'!DQ44","v":"2013-05-09"},{"$f":"'Raw Data'!DR44","v":"2013-06-09"},{"$f":"'Raw Data'!DS44","v":"2013-07-09"},{"$f":"'Raw Data'!DT44","v":"2013-08-09"},{"$f":"'Raw Data'!DU44","v":"2013-09-09"},{"$f":"'Raw Data'!DV44","v":"2013-10-09"},{"$f":"'Raw Data'!DW44","v":"2013-11-09"},{"$f":"'Raw Data'!DX44","v":"2013-12-09"},{"$f":"'Raw Data'!DY44","v":"2014-01-09"},{"$f":"'Raw Data'!DZ44","v":"2014-02-09"},{"$f":"'Raw Data'!EA44","v":"2014-03-09"},{"$f":"'Raw Data'!EB44","v":"2014-04-09"},{"$f":"'Raw Data'!EC44","v":"2014-05-09"},{"$f":"'Raw Data'!ED44","v":"2014-06-09"},{"$f":"'Raw Data'!EE44","v":"2014-07-09"},{"$f":"'Raw Data'!EF44","v":"2014-08-09"},{"$f":"'Raw Data'!EG44","v":"2014-09-09"},{"$f":"'Raw Data'!EH44","v":"2014-10-09"},{"$f":"'Raw Data'!EI44","v":"2014-11-09"},{"$f":"'Raw Data'!EJ44","v":"2014-12-09"},{"$f":"'Raw Data'!EK44","v":"2015-01-09"},{"$f":"'Raw Data'!EL44","v":"2015-02-09"},{"$f":"'Raw Data'!EM44","v":"2015-03-09"},{"$f":"'Raw Data'!EN44","v":"2015-04-09"},{"$f":"'Raw Data'!EO44","v":"2015-05-09"},{"$f":"'Raw Data'!EP44","v":"2015-06-09"},{"$f":"'Raw Data'!EQ44","v":"2015-07-09"},{"$f":"'Raw Data'!ER44","v":"2015-08-09"},{"$f":"'Raw Data'!ES44","v":"2015-09-09"},{"$f":"'Raw Data'!ET44","v":"2015-10-09"},{"$f":"'Raw Data'!EU44","v":"2015-11-09"},{"$f":"'Raw Data'!EV44","v":"2015-12-09"},{"$f":"'Raw Data'!EW44","v":"2016-01-09"},{"$f":"'Raw Data'!EX44","v":"2016-02-09"},{"$f":"'Raw Data'!EY44","v":"2016-03-09"},{"$f":"'Raw Data'!EZ44","v":"2016-04-09"},{"$f":"'Raw Data'!FA44","v":"2016-05-09"},{"$f":"'Raw Data'!FB44","v":"2016-06-09"},{"$f":"'Raw Data'!FC44","v":"2016-07-09"},{"$f":"'Raw Data'!FD44","v":"2016-08-09"},{"$f":"'Raw Data'!FE44","v":"2016-09-09"},{"$f":"'Raw Data'!FF44","v":"2016-10-09"},{"$f":"'Raw Data'!FG44","v":"2016-11-09"},{"$f":"'Raw Data'!FH44","v":"2016-12-09"},{"$f":"'Raw Data'!FI44","v":"2017-01-09"},{"$f":"'Raw Data'!FJ44","v":"2017-02-09"},{"$f":"'Raw Data'!FK44","v":"2017-03-09"},{"$f":"'Raw Data'!FL44","v":"2017-04-09"},{"$f":"'Raw Data'!FM44","v":"2017-05-09"},{"$f":"'Raw Data'!FN44","v":"2017-06-09"},{"$f":"'Raw Data'!FO44","v":"2017-07-09"},{"$f":"'Raw Data'!FP44","v":"2017-08-09"},{"$f":"'Raw Data'!FQ44","v":"2017-09-09"},{"$f":"'Raw Data'!FR44","v":"2017-10-09"},{"$f":"'Raw Data'!FS44","v":"2017-11-09"},{"$f":"'Raw Data'!FT44","v":"2017-12-09"},{"$f":"'Raw Data'!FU44","v":"2018-01-09"},{"$f":"'Raw Data'!FV44","v":"2018-02-09"},{"$f":"'Raw Data'!FW44","v":"2018-03-09"},{"$f":"'Raw Data'!FX44","v":"2018-04-09"},{"$f":"'Raw Data'!FY44","v":"2018-05-09"},{"$f":"'Raw Data'!FZ44","v":"2018-06-09"},{"$f":"'Raw Data'!GA44","v":"2018-07-09"},{"$f":"'Raw Data'!GB44","v":"2018-08-09"},{"$f":"'Raw Data'!GC44","v":"2018-09-09"},{"$f":"'Raw Data'!GD44","v":"2018-10-09"},{"$f":"'Raw Data'!GE44","v":"2018-11-09"},{"$f":"'Raw Data'!GF44","v":"2018-12-09"},{"$f":"'Raw Data'!GG44","v":"2019-01-09"},{"$f":"'Raw Data'!GH44","v":"2019-02-09"},{"$f":"'Raw Data'!GI44","v":"2019-03-09"},{"$f":"'Raw Data'!GJ44","v":"2019-04-09"},{"$f":"'Raw Data'!GK44","v":"2019-05-09"},{"$f":"'Raw Data'!GL44","v":"2019-06-09"},{"$f":"'Raw Data'!GM44","v":"2019-07-09"},{"$f":"'Raw Data'!GN44","v":"2019-08-09"},{"$f":"'Raw Data'!GO44","v":"2019-09-09"},{"$f":"'Raw Data'!GP44","v":"2019-10-09"},{"$f":"'Raw Data'!GQ44","v":"2019-11-09"},{"$f":"'Raw Data'!GR44","v":"2019-12-09"},{"$f":"'Raw Data'!GS44","v":"2020-01-09"},{"$f":"'Raw Data'!GT44","v":"2020-02-09"},{"$f":"'Raw Data'!GU44","v":"2020-03-09"},{"$f":"'Raw Data'!GV44","v":"2020-04-09"},{"$f":"'Raw Data'!GW44","v":"2020-05-09"},{"$f":"'Raw Data'!GX44","v":"2020-06-09"},{"$f":"'Raw Data'!GY44","v":"2020-07-09"},{"$f":"'Raw Data'!GZ44","v":"2020-08-09"},{"$f":"'Raw Data'!HA44","v":"2020-09-09"},{"$f":"'Raw Data'!HB44","v":"2020-10-09"},{"$f":"'Raw Data'!HC44","v":"2020-11-09"},{"$f":"'Raw Data'!HD44","v":"2020-12-09"},{"$f":"'Raw Data'!HE44","v":"2021-01-09"},{"$f":"'Raw Data'!HF44","v":"2021-02-09"},"2021-03-21","2021-04-21","2021-05-21","2021-06-21","2021-07-21","2021-08-21","2021-09-21","2021-10-21","2021-11-21","2021-12-21","2022-01-21","2022-02-21","2022-03-21","2022-04-21","2022-05-21","2022-06-21","2022-07-21","2022-08-21","2022-09-21","2022-10-21","2022-11-21","2022-12-21","2023-01-21","2023-02-21","2023-03-21","2023-04-21","2023-05-21","2023-06-21","2023-07-21","2023-08-21","2023-09-21","2023-10-21","2023-11-21","2023-12-21"]
["Total Residential Sold",{"$f":"'Raw Data'!BO45","v":60},{"$f":"'Raw Data'!BP45","v":69},{"$f":"'Raw Data'!BQ45","v":42},{"$f":"'Raw Data'!BR45","v":68},{"$f":"'Raw Data'!BS45","v":84},{"$f":"'Raw Data'!BT45","v":81},{"$f":"'Raw Data'!BU45","v":111},{"$f":"'Raw Data'!BV45","v":114},{"$f":"'Raw Data'!BW45","v":105},{"$f":"'Raw Data'!BX45","v":105},{"$f":"'Raw Data'!BY45","v":104},{"$f":"'Raw Data'!BZ45","v":106},{"$f":"'Raw Data'!CA45","v":106},{"$f":"'Raw Data'!CB45","v":100},{"$f":"'Raw Data'!CC45","v":86},{"$f":"'Raw Data'!CD45","v":72},{"$f":"'Raw Data'!CE45","v":113},{"$f":"'Raw Data'!CF45","v":136},{"$f":"'Raw Data'!CG45","v":151},{"$f":"'Raw Data'!CH45","v":137},{"$f":"'Raw Data'!CI45","v":125},{"$f":"'Raw Data'!CJ45","v":99},{"$f":"'Raw Data'!CK45","v":109},{"$f":"'Raw Data'!CL45","v":115},{"$f":"'Raw Data'!CM45","v":106},{"$f":"'Raw Data'!CN45","v":125},{"$f":"'Raw Data'!CO45","v":83},{"$f":"'Raw Data'!CP45","v":87},{"$f":"'Raw Data'!CQ45","v":130},{"$f":"'Raw Data'!CR45","v":137},{"$f":"'Raw Data'!CS45","v":124},{"$f":"'Raw Data'!CT45","v":142},{"$f":"'Raw Data'!CU45","v":127},{"$f":"'Raw Data'!CV45","v":105},{"$f":"'Raw Data'!CW45","v":113},{"$f":"'Raw Data'!CX45","v":109},{"$f":"'Raw Data'!CY45","v":74},{"$f":"'Raw Data'!CZ45","v":102},{"$f":"'Raw Data'!DA45","v":94},{"$f":"'Raw Data'!DB45","v":112},{"$f":"'Raw Data'!DC45","v":171},{"$f":"'Raw Data'!DD45","v":131},{"$f":"'Raw Data'!DE45","v":165},{"$f":"'Raw Data'!DF45","v":146},{"$f":"'Raw Data'!DG45","v":121},{"$f":"'Raw Data'!DH45","v":125},{"$f":"'Raw Data'!DI45","v":146},{"$f":"'Raw Data'!DJ45","v":134},{"$f":"'Raw Data'!DK45","v":129},{"$f":"'Raw Data'!DL45","v":109},{"$f":"'Raw Data'!DM45","v":89},{"$f":"'Raw Data'!DN45","v":91},{"$f":"'Raw Data'!DO45","v":136},{"$f":"'Raw Data'!DP45","v":168},{"$f":"'Raw Data'!DQ45","v":157},{"$f":"'Raw Data'!DR45","v":150},{"$f":"'Raw Data'!DS45","v":161},{"$f":"'Raw Data'!DT45","v":136},{"$f":"'Raw Data'!DU45","v":127},{"$f":"'Raw Data'!DV45","v":114},{"$f":"'Raw Data'!DW45","v":115},{"$f":"'Raw Data'!DX45","v":125},{"$f":"'Raw Data'!DY45","v":106},{"$f":"'Raw Data'!DZ45","v":88},{"$f":"'Raw Data'!EA45","v":115},{"$f":"'Raw Data'!EB45","v":149},{"$f":"'Raw Data'!EC45","v":192},{"$f":"'Raw Data'!ED45","v":147},{"$f":"'Raw Data'!EE45","v":122},{"$f":"'Raw Data'!EF45","v":127},{"$f":"'Raw Data'!EG45","v":142},{"$f":"'Raw Data'!EH45","v":144},{"$f":"'Raw Data'!EI45","v":118},{"$f":"'Raw Data'!EJ45","v":157},{"$f":"'Raw Data'!EK45","v":96},{"$f":"'Raw Data'!EL45","v":105},{"$f":"'Raw Data'!EM45","v":140},{"$f":"'Raw Data'!EN45","v":153},{"$f":"'Raw Data'!EO45","v":202},{"$f":"'Raw Data'!EP45","v":185},{"$f":"'Raw Data'!EQ45","v":171},{"$f":"'Raw Data'!ER45","v":146},{"$f":"'Raw Data'!ES45","v":143},{"$f":"'Raw Data'!ET45","v":159},{"$f":"'Raw Data'!EU45","v":143},{"$f":"'Raw Data'!EV45","v":148},{"$f":"'Raw Data'!EW45","v":111},{"$f":"'Raw Data'!EX45","v":92},{"$f":"'Raw Data'!EY45","v":138},{"$f":"'Raw Data'!EZ45","v":158},{"$f":"'Raw Data'!FA45","v":175},{"$f":"'Raw Data'!FB45","v":185},{"$f":"'Raw Data'!FC45","v":155},{"$f":"'Raw Data'!FD45","v":159},{"$f":"'Raw Data'!FE45","v":159},{"$f":"'Raw Data'!FF45","v":145},{"$f":"'Raw Data'!FG45","v":140},{"$f":"'Raw Data'!FH45","v":173},{"$f":"'Raw Data'!FI45","v":112},{"$f":"'Raw Data'!FJ45","v":129},{"$f":"'Raw Data'!FK45","v":180},{"$f":"'Raw Data'!FL45","v":180},{"$f":"'Raw Data'!FM45","v":203},{"$f":"'Raw Data'!FN45","v":218},{"$f":"'Raw Data'!FO45","v":136},{"$f":"'Raw Data'!FP45","v":171},{"$f":"'Raw Data'!FQ45","v":162},{"$f":"'Raw Data'!FR45","v":166},{"$f":"'Raw Data'!FS45","v":164},{"$f":"'Raw Data'!FT45","v":164},{"$f":"'Raw Data'!FU45","v":118},{"$f":"'Raw Data'!FV45","v":89},{"$f":"'Raw Data'!FW45","v":187},{"$f":"'Raw Data'!FX45","v":186},{"$f":"'Raw Data'!FY45","v":219},{"$f":"'Raw Data'!FZ45","v":188},{"$f":"'Raw Data'!GA45","v":172},{"$f":"'Raw Data'!GB45","v":189},{"$f":"'Raw Data'!GC45","v":142},{"$f":"'Raw Data'!GD45","v":176},{"$f":"'Raw Data'!GE45","v":135},{"$f":"'Raw Data'!GF45","v":166},{"$f":"'Raw Data'!GG45","v":119},{"$f":"'Raw Data'!GH45","v":123},{"$f":"'Raw Data'!GI45","v":184},{"$f":"'Raw Data'!GJ45","v":189},{"$f":"'Raw Data'!GK45","v":217},{"$f":"'Raw Data'!GL45","v":190},{"$f":"'Raw Data'!GM45","v":185},{"$f":"'Raw Data'!GN45","v":201},{"$f":"'Raw Data'!GO45","v":162},{"$f":"'Raw Data'!GP45","v":189},{"$f":"'Raw Data'!GQ45","v":206},{"$f":"'Raw Data'!GR45","v":174},{"$f":"'Raw Data'!GS45","v":148},{"$f":"'Raw Data'!GT45","v":146},{"$f":"'Raw Data'!GU45","v":198},{"$f":"'Raw Data'!GV45","v":154},{"$f":"'Raw Data'!GW45","v":150},{"$f":"'Raw Data'!GX45","v":221},{"$f":"'Raw Data'!GY45","v":396},{"$f":"'Raw Data'!GZ45","v":322},{"$f":"'Raw Data'!HA45","v":358},{"$f":"'Raw Data'!HB45","v":372},{"$f":"'Raw Data'!HC45","v":310},{"$f":"'Raw Data'!HD45","v":316},{"$f":"'Raw Data'!HE45","v":263},{"$f":"'Raw Data'!HF45","v":237},{"$f":"'Raw Data'!HG45","v":377},{"$f":"'Raw Data'!HH45","v":349},{"$f":"'Raw Data'!HI45","v":337},{"$f":"'Raw Data'!HJ45","v":326},{"$f":"'Raw Data'!HK45","v":263},{"$f":"'Raw Data'!HL45","v":234},{"$f":"'Raw Data'!HM45","v":230},{"$f":"'Raw Data'!HN45","v":253},{"$f":"'Raw Data'!HO45","v":267},{"$f":"'Raw Data'!HP45","v":240},{"$f":"'Raw Data'!HQ45","v":225},{"$f":"'Raw Data'!HR45","v":182},{"$f":"'Raw Data'!HS45","v":300},{"$f":"'Raw Data'!HT45","v":265},{"$f":"'Raw Data'!HU45","v":247},{"$f":"'Raw Data'!HV45","v":235},{"$f":"'Raw Data'!HW45","v":171},{"$f":"'Raw Data'!HX45","v":201},{"$f":"'Raw Data'!HY45","v":179},{"$f":"'Raw Data'!HZ45","v":161},{"$f":"'Raw Data'!IA45","v":161},{"$f":"'Raw Data'!IB45","v":131},{"$f":"'Raw Data'!IC45","v":101},{"$f":"'Raw Data'!ID45","v":137},{"$f":"'Raw Data'!IE45","v":193},{"$f":"'Raw Data'!IF45","v":166},{"$f":"'Raw Data'!IG45","v":185},{"$f":"'Raw Data'!IH45","v":189},{"$f":"'Raw Data'!II45","v":126},{"$f":"'Raw Data'!IJ45","v":0},{"$f":"'Raw Data'!IK45","v":0},{"$f":"'Raw Data'!IL45","v":0},{"$f":"'Raw Data'!IM45","v":0},{"$f":"'Raw Data'!IN45","v":0}]
["Potential Short Sale",{"$f":"'Raw Data'!BO85","v":2},{"$f":"'Raw Data'!BP85","v":7},{"$f":"'Raw Data'!BQ85","v":2},{"$f":"'Raw Data'!BR85","v":4},{"$f":"'Raw Data'!BS85","v":10},{"$f":"'Raw Data'!BT85","v":9},{"$f":"'Raw Data'!BU85","v":6},{"$f":"'Raw Data'!BV85","v":11},{"$f":"'Raw Data'!BW85","v":9},{"$f":"'Raw Data'!BX85","v":5},{"$f":"'Raw Data'!BY85","v":7},{"$f":"'Raw Data'!BZ85","v":8},{"$f":"'Raw Data'!CA85","v":10},{"$f":"'Raw Data'!CB85","v":14},{"$f":"'Raw Data'!CC85","v":13},{"$f":"'Raw Data'!CD85","v":8},{"$f":"'Raw Data'!CE85","v":16},{"$f":"'Raw Data'!CF85","v":22},{"$f":"'Raw Data'!CG85","v":12},{"$f":"'Raw Data'!CH85","v":11},{"$f":"'Raw Data'!CI85","v":9},{"$f":"'Raw Data'!CJ85","v":11},{"$f":"'Raw Data'!CK85","v":6},{"$f":"'Raw Data'!CL85","v":9},{"$f":"'Raw Data'!CM85","v":14},{"$f":"'Raw Data'!CN85","v":14},{"$f":"'Raw Data'!CO85","v":10},{"$f":"'Raw Data'!CP85","v":14},{"$f":"'Raw Data'!CQ85","v":19},{"$f":"'Raw Data'!CR85","v":17},{"$f":"'Raw Data'!CS85","v":25},{"$f":"'Raw Data'!CT85","v":20},{"$f":"'Raw Data'!CU85","v":15},{"$f":"'Raw Data'!CV85","v":9},{"$f":"'Raw Data'!CW85","v":16},{"$f":"'Raw Data'!CX85","v":15},{"$f":"'Raw Data'!CY85","v":12},{"$f":"'Raw Data'!CZ85","v":14},{"$f":"'Raw Data'!DA85","v":14},{"$f":"'Raw Data'!DB85","v":20},{"$f":"'Raw Data'!DC85","v":17},{"$f":"'Raw Data'!DD85","v":10},{"$f":"'Raw Data'!DE85","v":18},{"$f":"'Raw Data'!DF85","v":13},{"$f":"'Raw Data'!DG85","v":12},{"$f":"'Raw Data'!DH85","v":18},{"$f":"'Raw Data'!DI85","v":21},{"$f":"'Raw Data'!DJ85","v":8},{"$f":"'Raw Data'!DK85","v":16},{"$f":"'Raw Data'!DL85","v":11},{"$f":"'Raw Data'!DM85","v":11},{"$f":"'Raw Data'!DN85","v":11},{"$f":"'Raw Data'!DO85","v":12},{"$f":"'Raw Data'!DP85","v":10},{"$f":"'Raw Data'!DQ85","v":16},{"$f":"'Raw Data'!DR85","v":16},{"$f":"'Raw Data'!DS85","v":15},{"$f":"'Raw Data'!DT85","v":14},{"$f":"'Raw Data'!DU85","v":9},{"$f":"'Raw Data'!DV85","v":5},{"$f":"'Raw Data'!DW85","v":5},{"$f":"'Raw Data'!DX85","v":15},{"$f":"'Raw Data'!DY85","v":4},{"$f":"'Raw Data'!DZ85","v":1},{"$f":"'Raw Data'!EA85","v":7},{"$f":"'Raw Data'!EB85","v":13},{"$f":"'Raw Data'!EC85","v":12},{"$f":"'Raw Data'!ED85","v":6},{"$f":"'Raw Data'!EE85","v":6},{"$f":"'Raw Data'!EF85","v":6},{"$f":"'Raw Data'!EG85","v":6},{"$f":"'Raw Data'!EH85","v":10},{"$f":"'Raw Data'!EI85","v":1},{"$f":"'Raw Data'!EJ85","v":16},{"$f":"'Raw Data'!EK85","v":7},{"$f":"'Raw Data'!EL85","v":5},{"$f":"'Raw Data'!EM85","v":4},{"$f":"'Raw Data'!EN85","v":4},{"$f":"'Raw Data'!EO85","v":9},{"$f":"'Raw Data'!EP85","v":14},{"$f":"'Raw Data'!EQ85","v":7},{"$f":"'Raw Data'!ER85","v":6},{"$f":"'Raw Data'!ES85","v":5},{"$f":"'Raw Data'!ET85","v":2},{"$f":"'Raw Data'!EU85","v":7},{"$f":"'Raw Data'!EV85","v":4},{"$f":"'Raw Data'!EW85","v":5},{"$f":"'Raw Data'!EX85","v":4},{"$f":"'Raw Data'!EY85","v":1},{"$f":"'Raw Data'!EZ85","v":2},{"$f":"'Raw Data'!FA85","v":2},{"$f":"'Raw Data'!FB85","v":4},{"$f":"'Raw Data'!FC85","v":3},{"$f":"'Raw Data'!FD85","v":2},{"$f":"'Raw Data'!FE85","v":1},{"$f":"'Raw Data'!FF85","v":1},{"$f":"'Raw Data'!FG85","v":3},{"$f":"'Raw Data'!FH85","v":3},{"$f":"'Raw Data'!FI85","v":5},{"$f":"'Raw Data'!FJ85","v":2},{"$f":"'Raw Data'!FK85","v":2},{"$f":"'Raw Data'!FL85","v":0},{"$f":"'Raw Data'!FM85","v":5},{"$f":"'Raw Data'!FN85","v":4},{"$f":"'Raw Data'!FO85","v":0},{"$f":"'Raw Data'!FP85","v":1},{"$f":"'Raw Data'!FQ85","v":3},{"$f":"'Raw Data'!FR85","v":6},{"$f":"'Raw Data'!FS85","v":0},{"$f":"'Raw Data'!FT85","v":0},{"$f":"'Raw Data'!FU85","v":1},{"$f":"'Raw Data'!FV85","v":1},{"$f":"'Raw Data'!FW85","v":1},{"$f":"'Raw Data'!FX85","v":2},{"$f":"'Raw Data'!FY85","v":0},{"$f":"'Raw Data'!FZ85","v":0},{"$f":"'Raw Data'!GA85","v":1},{"$f":"'Raw Data'!GB85","v":1},{"$f":"'Raw Data'!GC85","v":1},{"$f":"'Raw Data'!GD85","v":0},{"$f":"'Raw Data'!GE85","v":0},{"$f":"'Raw Data'!GF85","v":3},{"$f":"'Raw Data'!GG85","v":0},{"$f":"'Raw Data'!GH85","v":1},{"$f":"'Raw Data'!GI85","v":1},{"$f":"'Raw Data'!GJ85","v":1},{"$f":"'Raw Data'!GK85","v":0},{"$f":"'Raw Data'!GL85","v":1},{"$f":"'Raw Data'!GM85","v":1},{"$f":"'Raw Data'!GN85","v":1},{"$f":"'Raw Data'!GO85","v":0},{"$f":"'Raw Data'!GP85","v":1},{"$f":"'Raw Data'!GQ85","v":0},{"$f":"'Raw Data'!GR85","v":1},{"$f":"'Raw Data'!GS85","v":1},{"$f":"'Raw Data'!GT85","v":1},{"$f":"'Raw Data'!GU85","v":0},{"$f":"'Raw Data'!GV85","v":0},{"$f":"'Raw Data'!GW85","v":0},{"$f":"'Raw Data'!GX85","v":2},{"$f":"'Raw Data'!GY85","v":0},{"$f":"'Raw Data'!GZ85","v":2},{"$f":"'Raw Data'!HA85","v":1},{"$f":"'Raw Data'!HB85","v":1},{"$f":"'Raw Data'!HC85","v":0},{"$f":"'Raw Data'!HD85","v":0},{"$f":"'Raw Data'!HE85","v":2},{"$f":"'Raw Data'!HF85","v":0},{"$f":"'Raw Data'!HG85","v":1},{"$f":"'Raw Data'!HH85","v":1},{"$f":"'Raw Data'!HI85","v":0},{"$f":"'Raw Data'!HJ85","v":1},{"$f":"'Raw Data'!HK85","v":1},{"$f":"'Raw Data'!HL85","v":1},{"$f":"'Raw Data'!HM85","v":0},{"$f":"'Raw Data'!HN85","v":0},{"$f":"'Raw Data'!HO85","v":0},{"$f":"'Raw Data'!HP85","v":1},{"$f":"'Raw Data'!HQ85","v":0},{"$f":"'Raw Data'!HR85","v":0},{"$f":"'Raw Data'!HS85","v":1},{"$f":"'Raw Data'!HT85","v":0},{"$f":"'Raw Data'!HU85","v":0},{"$f":"'Raw Data'!HV85","v":0},{"$f":"'Raw Data'!HW85","v":0},{"$f":"'Raw Data'!HX85","v":0},{"$f":"'Raw Data'!HY85","v":0},{"$f":"'Raw Data'!HZ85","v":0},{"$f":"'Raw Data'!IA85","v":0},{"$f":"'Raw Data'!IB85","v":0},{"$f":"'Raw Data'!IC85","v":0},{"$f":"'Raw Data'!ID85","v":1},{"$f":"'Raw Data'!IE85","v":0},{"$f":"'Raw Data'!IF85","v":1},{"$f":"'Raw Data'!IG85","v":0},{"$f":"'Raw Data'!IH85","v":0},{"$f":"'Raw Data'!II85","v":0},{"$f":"'Raw Data'!IJ85","v":0},{"$f":"'Raw Data'!IK85","v":0},{"$f":"'Raw Data'!IL85","v":0},{"$f":"'Raw Data'!IM85","v":0},{"$f":"'Raw Data'!IN85","v":0}]
["Bank Owned",{"$f":"'Raw Data'!BO86","v":6},{"$f":"'Raw Data'!BP86","v":6},{"$f":"'Raw Data'!BQ86","v":5},{"$f":"'Raw Data'!BR86","v":21},{"$f":"'Raw Data'!BS86","v":16},{"$f":"'Raw Data'!BT86","v":15},{"$f":"'Raw Data'!BU86","v":20},{"$f":"'Raw Data'!BV86","v":18},{"$f":"'Raw Data'!BW86","v":20},{"$f":"'Raw Data'!BX86","v":11},{"$f":"'Raw Data'!BY86","v":17},{"$f":"'Raw Data'!BZ86","v":25},{"$f":"'Raw Data'!CA86","v":17},{"$f":"'Raw Data'!CB86","v":43},{"$f":"'Raw Data'!CC86","v":21},{"$f":"'Raw Data'!CD86","v":19},{"$f":"'Raw Data'!CE86","v":27},{"$f":"'Raw Data'!CF86","v":36},{"$f":"'Raw Data'!CG86","v":40},{"$f":"'Raw Data'!CH86","v":43},{"$f":"'Raw Data'!CI86","v":32},{"$f":"'Raw Data'!CJ86","v":29},{"$f":"'Raw Data'!CK86","v":44},{"$f":"'Raw Data'!CL86","v":26},{"$f":"'Raw Data'!CM86","v":27},{"$f":"'Raw Data'!CN86","v":35},{"$f":"'Raw Data'!CO86","v":24},{"$f":"'Raw Data'!CP86","v":27},{"$f":"'Raw Data'!CQ86","v":35},{"$f":"'Raw Data'!CR86","v":34},{"$f":"'Raw Data'!CS86","v":30},{"$f":"'Raw Data'!CT86","v":32},{"$f":"'Raw Data'!CU86","v":34},{"$f":"'Raw Data'!CV86","v":21},{"$f":"'Raw Data'!CW86","v":20},{"$f":"'Raw Data'!CX86","v":19},{"$f":"'Raw Data'!CY86","v":10},{"$f":"'Raw Data'!CZ86","v":19},{"$f":"'Raw Data'!DA86","v":14},{"$f":"'Raw Data'!DB86","v":29},{"$f":"'Raw Data'!DC86","v":23},{"$f":"'Raw Data'!DD86","v":21},{"$f":"'Raw Data'!DE86","v":31},{"$f":"'Raw Data'!DF86","v":24},{"$f":"'Raw Data'!DG86","v":26},{"$f":"'Raw Data'!DH86","v":32},{"$f":"'Raw Data'!DI86","v":28},{"$f":"'Raw Data'!DJ86","v":26},{"$f":"'Raw Data'!DK86","v":21},{"$f":"'Raw Data'!DL86","v":24},{"$f":"'Raw Data'!DM86","v":21},{"$f":"'Raw Data'!DN86","v":28},{"$f":"'Raw Data'!DO86","v":32},{"$f":"'Raw Data'!DP86","v":27},{"$f":"'Raw Data'!DQ86","v":24},{"$f":"'Raw Data'!DR86","v":17},{"$f":"'Raw Data'!DS86","v":28},{"$f":"'Raw Data'!DT86","v":18},{"$f":"'Raw Data'!DU86","v":15},{"$f":"'Raw Data'!DV86","v":10},{"$f":"'Raw Data'!DW86","v":4},{"$f":"'Raw Data'!DX86","v":19},{"$f":"'Raw Data'!DY86","v":15},{"$f":"'Raw Data'!DZ86","v":22},{"$f":"'Raw Data'!EA86","v":13},{"$f":"'Raw Data'!EB86","v":11},{"$f":"'Raw Data'!EC86","v":19},{"$f":"'Raw Data'!ED86","v":12},{"$f":"'Raw Data'!EE86","v":13},{"$f":"'Raw Data'!EF86","v":12},{"$f":"'Raw Data'!EG86","v":18},{"$f":"'Raw Data'!EH86","v":8},{"$f":"'Raw Data'!EI86","v":11},{"$f":"'Raw Data'!EJ86","v":10},{"$f":"'Raw Data'!EK86","v":10},{"$f":"'Raw Data'!EL86","v":11},{"$f":"'Raw Data'!EM86","v":15},{"$f":"'Raw Data'!EN86","v":6},{"$f":"'Raw Data'!EO86","v":9},{"$f":"'Raw Data'!EP86","v":6},{"$f":"'Raw Data'!EQ86","v":14},{"$f":"'Raw Data'!ER86","v":5},{"$f":"'Raw Data'!ES86","v":7},{"$f":"'Raw Data'!ET86","v":5},{"$f":"'Raw Data'!EU86","v":7},{"$f":"'Raw Data'!EV86","v":9},{"$f":"'Raw Data'!EW86","v":5},{"$f":"'Raw Data'!EX86","v":5},{"$f":"'Raw Data'!EY86","v":8},{"$f":"'Raw Data'!EZ86","v":8},{"$f":"'Raw Data'!FA86","v":8},{"$f":"'Raw Data'!FB86","v":7},{"$f":"'Raw Data'!FC86","v":6},{"$f":"'Raw Data'!FD86","v":7},{"$f":"'Raw Data'!FE86","v":3},{"$f":"'Raw Data'!FF86","v":7},{"$f":"'Raw Data'!FG86","v":9},{"$f":"'Raw Data'!FH86","v":8},{"$f":"'Raw Data'!FI86","v":9},{"$f":"'Raw Data'!FJ86","v":8},{"$f":"'Raw Data'!FK86","v":8},{"$f":"'Raw Data'!FL86","v":6},{"$f":"'Raw Data'!FM86","v":9},{"$f":"'Raw Data'!FN86","v":7},{"$f":"'Raw Data'!FO86","v":6},{"$f":"'Raw Data'!FP86","v":4},{"$f":"'Raw Data'!FQ86","v":6},{"$f":"'Raw Data'!FR86","v":7},{"$f":"'Raw Data'!FS86","v":4},{"$f":"'Raw Data'!FT86","v":6},{"$f":"'Raw Data'!FU86","v":3},{"$f":"'Raw Data'!FV86","v":3},{"$f":"'Raw Data'!FW86","v":12},{"$f":"'Raw Data'!FX86","v":3},{"$f":"'Raw Data'!FY86","v":6},{"$f":"'Raw Data'!FZ86","v":6},{"$f":"'Raw Data'!GA86","v":2},{"$f":"'Raw Data'!GB86","v":10},{"$f":"'Raw Data'!GC86","v":3},{"$f":"'Raw Data'!GD86","v":4},{"$f":"'Raw Data'!GE86","v":7},{"$f":"'Raw Data'!GF86","v":5},{"$f":"'Raw Data'!GG86","v":2},{"$f":"'Raw Data'!GH86","v":1},{"$f":"'Raw Data'!GI86","v":5},{"$f":"'Raw Data'!GJ86","v":5},{"$f":"'Raw Data'!GK86","v":7},{"$f":"'Raw Data'!GL86","v":1},{"$f":"'Raw Data'!GM86","v":5},{"$f":"'Raw Data'!GN86","v":4},{"$f":"'Raw Data'!GO86","v":7},{"$f":"'Raw Data'!GP86","v":4},{"$f":"'Raw Data'!GQ86","v":4},{"$f":"'Raw Data'!GR86","v":2},{"$f":"'Raw Data'!GS86","v":8},{"$f":"'Raw Data'!GT86","v":7},{"$f":"'Raw Data'!GU86","v":8},{"$f":"'Raw Data'!GV86","v":4},{"$f":"'Raw Data'!GW86","v":5},{"$f":"'Raw Data'!GX86","v":7},{"$f":"'Raw Data'!GY86","v":3},{"$f":"'Raw Data'!GZ86","v":3},{"$f":"'Raw Data'!HA86","v":2},{"$f":"'Raw Data'!HB86","v":4},{"$f":"'Raw Data'!HC86","v":2},{"$f":"'Raw Data'!HD86","v":3},{"$f":"'Raw Data'!HE86","v":2},{"$f":"'Raw Data'!HF86","v":1},{"$f":"'Raw Data'!HG86","v":3},{"$f":"'Raw Data'!HH86","v":1},{"$f":"'Raw Data'!HI86","v":1},{"$f":"'Raw Data'!HJ86","v":2},{"$f":"'Raw Data'!HK86","v":1},{"$f":"'Raw Data'!HL86","v":4},{"$f":"'Raw Data'!HM86","v":0},{"$f":"'Raw Data'!HN86","v":1},{"$f":"'Raw Data'!HO86","v":2},{"$f":"'Raw Data'!HP86","v":0},{"$f":"'Raw Data'!HQ86","v":3},{"$f":"'Raw Data'!HR86","v":1},{"$f":"'Raw Data'!HS86","v":2},{"$f":"'Raw Data'!HT86","v":1},{"$f":"'Raw Data'!HU86","v":0},{"$f":"'Raw Data'!HV86","v":0},{"$f":"'Raw Data'!HW86","v":2},{"$f":"'Raw Data'!HX86","v":1},{"$f":"'Raw Data'!HY86","v":0},{"$f":"'Raw Data'!HZ86","v":1},{"$f":"'Raw Data'!IA86","v":1},{"$f":"'Raw Data'!IB86","v":1},{"$f":"'Raw Data'!IC86","v":0},{"$f":"'Raw Data'!ID86","v":0},{"$f":"'Raw Data'!IE86","v":1},{"$f":"'Raw Data'!IF86","v":2},{"$f":"'Raw Data'!IG86","v":1},{"$f":"'Raw Data'!IH86","v":3},{"$f":"'Raw Data'!II86","v":1},{"$f":"'Raw Data'!IJ86","v":0},{"$f":"'Raw Data'!IK86","v":0},{"$f":"'Raw Data'!IL86","v":0},{"$f":"'Raw Data'!IM86","v":0},{"$f":"'Raw Data'!IN86","v":0}]
["Percent Potential Short Sale",{"$f":"B3/B2","v":3.3333333333333333E-2},0.10144927536231885,4.7619047619047616E-2,5.8823529411764705E-2,0.11904761904761904,0.1111111111111111,5.4054054054054057E-2,9.6491228070175433E-2,8.5714285714285715E-2,4.7619047619047616E-2,6.7307692307692304E-2,7.5471698113207544E-2,9.4339622641509441E-2,0.14000000000000001,0.15116279069767441,0.1111111111111111,0.1415929203539823,0.16176470588235295,7.9470198675496692E-2,8.0291970802919707E-2,7.1999999999999995E-2,0.1111111111111111,5.5045871559633031E-2,7.8260869565217397E-2,0.13207547169811321,0.112,0.12048192771084337,0.16091954022988506,0.14615384615384616,0.12408759124087591,0.20161290322580644,0.14084507042253522,0.11811023622047244,8.5714285714285715E-2,0.1415929203539823,0.13761467889908258,0.16216216216216217,0.13725490196078433,0.14893617021276595,0.17857142857142858,9.9415204678362568E-2,7.6335877862595422E-2,0.10909090909090909,8.9041095890410954E-2,9.9173553719008267E-2,0.14399999999999999,0.14383561643835616,5.9701492537313432E-2,0.12403100775193798,0.10091743119266056,0.12359550561797752,0.12087912087912088,8.8235294117647065E-2,5.9523809523809521E-2,0.10191082802547771,0.10666666666666667,9.3167701863354033E-2,0.10294117647058823,7.0866141732283464E-2,4.3859649122807015E-2,4.3478260869565216E-2,0.12,3.7735849056603772E-2,1.1363636363636364E-2,6.0869565217391307E-2,8.7248322147651006E-2,6.25E-2,4.0816326530612242E-2,4.9180327868852458E-2,4.7244094488188976E-2,4.2253521126760563E-2,6.9444444444444448E-2,8.4745762711864406E-3,0.10191082802547771,7.2916666666666671E-2,4.7619047619047616E-2,2.8571428571428571E-2,2.6143790849673203E-2,4.4554455445544552E-2,7.567567567567568E-2,4.0935672514619881E-2,4.1095890410958902E-2,3.4965034965034968E-2,1.2578616352201259E-2,4.8951048951048952E-2,2.7027027027027029E-2,4.5045045045045043E-2,4.3478260869565216E-2,7.246376811594203E-3,1.2658227848101266E-2,1.1428571428571429E-2,2.1621621621621623E-2,1.935483870967742E-2,1.2578616352201259E-2,6.2893081761006293E-3,6.8965517241379309E-3,2.1428571428571429E-2,1.7341040462427744E-2,4.4642857142857144E-2,1.5503875968992248E-2,1.1111111111111112E-2,0,2.4630541871921183E-2,1.834862385321101E-2,0,5.8479532163742687E-3,1.8518518518518517E-2,3.614457831325301E-2,0,0,8.4745762711864406E-3,1.1235955056179775E-2,5.3475935828877002E-3,1.0752688172043012E-2,0,0,5.8139534883720929E-3,5.2910052910052907E-3,7.0422535211267607E-3,0,0,1.8072289156626505E-2,0,8.130081300813009E-3,5.434782608695652E-3,5.2910052910052907E-3,0,5.263157894736842E-3,5.4054054054054057E-3,4.9751243781094526E-3,0,5.2910052910052907E-3,0,5.7471264367816091E-3,6.7567567567567571E-3,6.8493150684931503E-3,0,0,0,9.0497737556561094E-3,0,6.2111801242236021E-3,2.7932960893854749E-3,2.6881720430107529E-3,0,{"$f":"EQ3/EQ2","v":0},7.6045627376425855E-3,0,2.6525198938992041E-3,2.8653295128939827E-3,0,3.0674846625766872E-3,3.8022813688212928E-3,4.2735042735042739E-3,0,0,0,4.1666666666666666E-3,{"$f":"FD3/FD2","v":0},0,3.3333333333333335E-3,0,0,0,0,0,0,0,0,0,0,{"$f":"FQ3/FQ2","v":7.2992700729927005E-3},0,6.024096385542169E-3,0,0,0,{"$error":"#DIV/0!"},{"$error":"#DIV/0!"},{"$error":"#DIV/0!"},{"$error":"#DIV/0!"},{"$error":"#DIV/0!"}]
["Percent Bank Owned",{"$f":"B4/B2","v":0.1},8.6956521739130432E-2,0.11904761904761904,0.30882352941176472,0.19047619047619047,0.18518518518518517,0.18018018018018017,0.15789473684210525,0.19047619047619047,0.10476190476190476,0.16346153846153846,0.23584905660377359,0.16037735849056603,0.43,0.2441860465116279,0.2638888888888889,0.23893805309734514,0.26470588235294118,0.26490066225165565,0.31386861313868614,0.25600000000000001,0.29292929292929293,0.40366972477064222,0.22608695652173913,0.25471698113207547,0.28000000000000003,0.28915662650602408,0.31034482758620691,0.26923076923076922,0.24817518248175183,0.24193548387096775,0.22535211267605634,0.26771653543307089,0.2,0.17699115044247787,0.1743119266055046,0.13513513513513514,0.18627450980392157,0.14893617021276595,0.25892857142857145,0.13450292397660818,0.16030534351145037,0.18787878787878787,0.16438356164383561,0.21487603305785125,0.25600000000000001,0.19178082191780821,0.19402985074626866,0.16279069767441862,0.22018348623853212,0.23595505617977527,0.30769230769230771,0.23529411764705882,0.16071428571428573,0.15286624203821655,0.11333333333333333,0.17391304347826086,0.13235294117647059,0.11811023622047244,8.771929824561403E-2,3.4782608695652174E-2,0.152,0.14150943396226415,0.25,0.11304347826086956,7.3825503355704702E-2,9.8958333333333329E-2,8.1632653061224483E-2,0.10655737704918032,9.4488188976377951E-2,0.12676056338028169,5.5555555555555552E-2,9.3220338983050849E-2,6.3694267515923567E-2,0.10416666666666667,0.10476190476190476,0.10714285714285714,3.9215686274509803E-2,4.4554455445544552E-2,3.2432432432432434E-2,8.1871345029239762E-2,3.4246575342465752E-2,4.8951048951048952E-2,3.1446540880503145E-2,4.8951048951048952E-2,6.0810810810810814E-2,4.5045045045045043E-2,5.434782608695652E-2,5.7971014492753624E-2,5.0632911392405063E-2,4.5714285714285714E-2,3.783783783783784E-2,3.870967741935484E-2,4.40251572327044E-2,1.8867924528301886E-2,4.8275862068965517E-2,6.4285714285714279E-2,4.6242774566473986E-2,8.0357142857142863E-2,6.2015503875968991E-2,4.4444444444444446E-2,3.3333333333333333E-2,4.4334975369458129E-2,3.2110091743119268E-2,4.4117647058823532E-2,2.3391812865497075E-2,3.7037037037037035E-2,4.2168674698795178E-2,2.4390243902439025E-2,3.6585365853658534E-2,2.5423728813559324E-2,3.3707865168539325E-2,6.4171122994652413E-2,1.6129032258064516E-2,2.7397260273972601E-2,3.1914893617021274E-2,1.1627906976744186E-2,5.2910052910052907E-2,2.1126760563380281E-2,2.2727272727272728E-2,5.185185185185185E-2,3.0120481927710843E-2,1.680672268907563E-2,8.130081300813009E-3,2.717391304347826E-2,2.6455026455026454E-2,3.2258064516129031E-2,5.263157894736842E-3,2.7027027027027029E-2,1.9900497512437811E-2,4.3209876543209874E-2,2.1164021164021163E-2,1.9417475728155338E-2,1.1494252873563218E-2,5.4054054054054057E-2,4.7945205479452052E-2,4.0404040404040407E-2,2.5974025974025976E-2,3.3333333333333333E-2,3.1674208144796379E-2,7.575757575757576E-3,9.316770186335404E-3,5.5865921787709499E-3,1.0752688172043012E-2,6.4516129032258064E-3,{"$f":"EQ4/EQ2","v":9.4936708860759497E-3},7.6045627376425855E-3,4.2194092827004216E-3,7.9575596816976128E-3,2.8653295128939827E-3,2.967359050445104E-3,6.1349693251533744E-3,3.8022813688212928E-3,1.7094017094017096E-2,0,3.952569169960474E-3,7.4906367041198503E-3,0,{"$f":"FD4/FD2","v":1.3333333333333334E-2},5.4945054945054949E-3,6.6666666666666671E-3,3.7735849056603774E-3,0,0,1.1695906432748537E-2,4.9751243781094526E-3,0,6.2111801242236021E-3,6.2111801242236021E-3,7.6335877862595417E-3,0,{"$f":"FQ4/FQ2","v":0},5.1813471502590676E-3,1.2048192771084338E-2,5.4054054054054057E-3,1.5873015873015872E-2,7.9365079365079361E-3,{"$error":"#DIV/0!"},{"$error":"#DIV/0!"},{"$error":"#DIV/0!"},{"$error":"#DIV/0!"},{"$error":"#DIV/0!"}]
["Total Percent",{"$f":"(B3+B4)/B2","v":0.13333333333333333},0.18840579710144928,0.16666666666666666,0.36764705882352944,0.30952380952380953,0.29629629629629628,0.23423423423423423,0.25438596491228072,0.27619047619047621,0.15238095238095239,0.23076923076923078,0.31132075471698112,0.25471698113207547,0.56999999999999995,0.39534883720930231,0.375,0.38053097345132741,0.4264705882352941,0.3443708609271523,0.39416058394160586,0.32800000000000001,0.40404040404040403,0.45871559633027525,0.30434782608695654,0.3867924528301887,0.39200000000000002,0.40963855421686746,0.47126436781609193,0.41538461538461541,0.37226277372262773,0.44354838709677419,0.36619718309859156,0.38582677165354329,0.2857142857142857,0.31858407079646017,0.31192660550458717,0.29729729729729731,0.3235294117647059,0.2978723404255319,0.4375,0.23391812865497075,0.23664122137404581,0.29696969696969699,0.25342465753424659,0.31404958677685951,0.4,0.33561643835616439,0.2537313432835821,0.2868217054263566,0.32110091743119268,0.3595505617977528,0.42857142857142855,0.3235294117647059,0.22023809523809523,0.25477707006369427,0.22,0.26708074534161491,0.23529411764705882,0.1889763779527559,0.13157894736842105,7.8260869565217397E-2,0.27200000000000002,0.17924528301886791,0.26136363636363635,0.17391304347826086,0.16107382550335569,0.16145833333333334,0.12244897959183673,0.15573770491803279,0.14173228346456693,0.16901408450704225,0.125,0.10169491525423729,0.16560509554140126,0.17708333333333334,0.15238095238095239,0.1357142857142857,6.535947712418301E-2,8.9108910891089105E-2,0.10810810810810811,0.12280701754385964,7.5342465753424653E-2,8.3916083916083919E-2,4.40251572327044E-2,9.7902097902097904E-2,8.7837837837837843E-2,9.0090090090090086E-2,9.7826086956521743E-2,6.5217391304347824E-2,6.3291139240506333E-2,5.7142857142857141E-2,5.9459459459459463E-2,5.8064516129032261E-2,5.6603773584905662E-2,2.5157232704402517E-2,5.5172413793103448E-2,8.5714285714285715E-2,6.358381502890173E-2,0.125,7.7519379844961239E-2,5.5555555555555552E-2,3.3333333333333333E-2,6.8965517241379309E-2,5.0458715596330278E-2,4.4117647058823532E-2,2.9239766081871343E-2,5.5555555555555552E-2,7.8313253012048195E-2,2.4390243902439025E-2,3.6585365853658534E-2,3.3898305084745763E-2,4.49438202247191E-2,6.9518716577540107E-2,2.6881720430107527E-2,2.7397260273972601E-2,3.1914893617021274E-2,1.7441860465116279E-2,5.8201058201058198E-2,2.8169014084507043E-2,2.2727272727272728E-2,5.185185185185185E-2,4.8192771084337352E-2,1.680672268907563E-2,1.6260162601626018E-2,3.2608695652173912E-2,3.1746031746031744E-2,3.2258064516129031E-2,1.0526315789473684E-2,3.2432432432432434E-2,2.4875621890547265E-2,4.3209876543209874E-2,2.6455026455026454E-2,1.9417475728155338E-2,1.7241379310344827E-2,6.0810810810810814E-2,5.4794520547945202E-2,4.0404040404040407E-2,2.5974025974025976E-2,3.3333333333333333E-2,4.072398190045249E-2,7.575757575757576E-3,1.5527950310559006E-2,8.3798882681564244E-3,1.3440860215053764E-2,6.4516129032258064E-3,{"$f":"(EQ3+EQ4)/EQ2","v":9.4936708860759497E-3},1.5209125475285171E-2,4.2194092827004216E-3,1.0610079575596816E-2,5.7306590257879654E-3,2.967359050445104E-3,9.202453987730062E-3,7.6045627376425855E-3,2.1367521367521368E-2,0,3.952569169960474E-3,7.4906367041198503E-3,4.1666666666666666E-3,{"$f":"(FD3+FD4)/FD2","v":1.3333333333333334E-2},5.4945054945054949E-3,0.01,3.7735849056603774E-3,0,0,1.1695906432748537E-2,4.9751243781094526E-3,0,6.2111801242236021E-3,6.2111801242236021E-3,7.6335877862595417E-3,0,{"$f":"(FQ3+FQ4)/FQ2","v":7.2992700729927005E-3},5.1813471502590676E-3,1.8072289156626505E-2,5.4054054054054057E-3,1.5873015873015872E-2,7.9365079365079361E-3,{"$error":"#DIV/0!"},{"$error":"#DIV/0!"},{"$error":"#DIV/0!"},{"$error":"#DIV/0!"},{"$error":"#DIV/0!"}]
[]
[]
["Total distressed sold",{"$f":"B3+B4","v":8},13,7,25,26,24,26,29,29,16,24,33,27,57,34,27,43,58,52,54,41,40,50,35,41,49,34,41,54,51,55,52,49,30,36,34,22,33,28,49,40,31,49,37,38,50,49,34,37,35,32,39,44,37,40,33,43,32,24,15,9,34,19,23,20,24,31,18,19,18,24,18,12,26,17,16,19,10,18,20,21,11,12,7,14,13,10,9,9,10,10,11,9,9,4,8,12,11,14,10,10,6,14,11,6,5,9,13,4,6,4,4,13,5,6,6,3,11,4,4,7,8,2,2,6,6,7,2,6,5,7,5,4,3,9,8,8,4,5,9,3,5,3,5,2,{"$f":"EQ3+EQ4","v":3},4,1,4,2,1,3,2,5,0,1,2,1,{"$f":"FD3+FD4","v":3},1,3,1,0,0,2,1,0,1,1,1,0,{"$f":"FQ3+FQ4","v":1},1,3,1,3,1,0,0,0,0,0]
["Total distressed inventory",{"$nulls":18},299,294,306,274,295,258,262,288,301,282,279,{"$f":"SUM(AE15:AE16)","v":273},251,248,239,244,229,251,182,237,201,228,236,242,230,221,205,185,188,196,212,218,200,202,192,192,178,156,145,133,142,147,145,126,133,136,135,123,124,121,124,134,131,119,117,98,112,110,104,91,77,78,70,64,69,68,58,55,58,59,54,56,53,58,52,57,36,55,55,45,39,40,32,26,32,35,25,23,21,22,24,30,23,25,32,25,22,18,25,26,25,21,19,23,20,22,18,21,18,11,16,20,9,20,24,21,21,16,17,23,24,10,13,10,7,1,7,{"$f":"SUM(EQ15:EQ16)","v":6},5,6,3,4,4,5,4,1,4,4,0,6,{"$f":"SUM(FD15:FD16)","v":6},3,1,0,2,1,0,2,0,2,1,2,0,{"$f":"SUM(FQ15:FQ16)","v":0},2,4,0,3,3,0,0,0,0,0]
["Percent of Inventory",{"$nulls":18},{"$f":"T10/T11","v":0.17391304347826086},0.18367346938775511,0.13398692810457516,0.145985401459854,0.16949152542372881,0.13565891472868216,0.15648854961832062,0.1701388888888889,0.11295681063122924,0.1453900709219858,0.19354838709677419,0.18681318681318682,0.21912350597609562,0.20967741935483872,0.20502092050209206,0.12295081967213115,0.15720524017467249,0.13545816733067728,0.12087912087912088,0.13924050632911392,0.13930348258706468,0.21491228070175439,0.16949152542372881,0.128099173553719,0.21304347826086956,0.167420814479638,0.18536585365853658,0.27027027027027029,0.26063829787234044,0.17346938775510204,0.17452830188679244,0.16055045871559634,0.16,0.19306930693069307,0.22916666666666666,0.19270833333333334,0.2247191011235955,0.21153846153846154,0.29655172413793102,0.24060150375939848,0.16901408450704225,0.10204081632653061,6.2068965517241378E-2,0.26984126984126983,0.14285714285714285,0.16911764705882354,0.14814814814814814,0.1951219512195122,0.25,0.1487603305785124,0.15322580645161291,0.13432835820895522,0.18320610687022901,0.15126050420168066,0.10256410256410256,0.26530612244897961,0.15178571428571427,0.14545454545454545,0.18269230769230768,0.10989010989010989,0.23376623376623376,0.25641025641025639,0.3,0.171875,0.17391304347826086,0.10294117647058823,0.2413793103448276,0.23636363636363636,0.17241379310344829,0.15254237288135594,0.16666666666666666,0.17857142857142858,0.18867924528301888,0.18965517241379309,0.17307692307692307,0.15789473684210525,0.1111111111111111,0.14545454545454545,0.21818181818181817,0.24444444444444444,0.35897435897435898,0.25,0.3125,0.23076923076923078,0.4375,0.31428571428571428,0.24,0.21739130434782608,0.42857142857142855,0.59090909090909094,0.16666666666666666,0.2,0.17391304347826086,0.16,0.40625,0.2,0.27272727272727271,0.33333333333333331,0.12,0.42307692307692307,0.16,0.19047619047619047,0.36842105263157893,0.34782608695652173,0.1,9.0909090909090912E-2,0.33333333333333331,0.2857142857142857,0.3888888888888889,0.18181818181818182,0.375,0.25,0.77777777777777779,0.25,0.16666666666666666,0.14285714285714285,0.42857142857142855,0.5,0.47058823529411764,0.17391304347826086,0.20833333333333334,0.9,0.23076923076923078,0.5,0.42857142857142855,5,0.2857142857142857,{"$f":"EQ10/EQ11","v":0.5},0.8,0.16666666666666666,1.3333333333333333,0.5,0.25,0.6,0.5,5,0,0.25,{"$error":"#DIV/0!"},0.16666666666666666,{"$f":"FD10/FD11","v":0.5},0.33333333333333331,3,{"$error":"#DIV/0!"},0,0,{"$error":"#DIV/0!"},0.5,{"$error":"#DIV/0!"},0.5,1,0.5,{"$error":"#DIV/0!"},{"$f":"FQ10/FQ11","v":{"$error":"#DIV/0!"}},0.5,0.75,{"$error":"#DIV/0!"},1,0.33333333333333331,{"$error":"#DIV/0!"},{"$error":"#DIV/0!"},{"$error":"#DIV/0!"},{"$error":"#DIV/0!"},{"$error":"#DIV/0!"}]
[]
[{"$nulls":30},"2011-04-01","2011-05-01","2011-06-01","2011-07-01","2011-08-01","2011-09-01","2011-10-01","2011-11-01","2011-12-01","2012-01-01","2012-02-01","2012-03-01","2012-04-01","2012-05-01","2012-06-01","2012-07-01","2012-08-01","2012-09-01","2012-10-01","2012-11-01","2012-12-01","2013-01-01","2013-02-01","2013-03-01","2013-04-01","2013-05-01","2013-06-01","2013-07-01","2013-08-01","2013-09-01","2013-10-01","2013-11-01","2013-12-01","2014-01-01","2014-02-01","2014-03-01","2014-04-01","2014-05-01","2014-06-01","2014-07-01","2014-08-01","2014-09-01","2014-10-01","2014-11-01","2014-12-01","2015-01-01","2015-02-01","2015-03-01","2015-04-01","2015-05-01","2015-06-01","2015-07-01","2015-08-01","2015-09-01","2015-10-01","2015-11-01","2015-12-01","2016-01-01","2016-02-01","2016-03-01","2016-04-01","2016-05-01","2016-06-01","2016-07-01","2016-08-01","2016-09-01","2016-10-01","2016-11-01","2016-12-01","2017-01-01","2017-02-01","2017-03-01","2017-04-01","2017-05-01","2017-06-01","2017-07-01","2017-08-01","2017-09-01","2017-10-01","2017-11-01","2017-12-01","2018-01-01","2018-02-01","2018-03-01","2018-04-01","2018-05-01","2018-06-01","2018-07-01","2018-08-01","2018-09-01","2018-10-01","2018-11-01","2018-12-01","2019-01-01","2019-02-01","2019-03-01","2019-04-01","2019-05-01","2019-06-01","2019-07-01","2019-08-01","2019-09-01","2019-10-01","2019-11-01","2019-12-01","2020-01-01","2020-02-01","2020-03-01","2020-04-01","2020-05-01","2020-06-01","2020-07-01","2020-08-01","2020-09-01","2020-10-01","2020-11-01","2020-12-01","2021-01-01","2021-02-01","2021-03-01","2021-04-01","2021-05-01","2021-06-01","2021-07-01","2021-08-01","2021-09-01","2021-10-01","2021-11-01","2021-12-01","2022-01-01","2022-02-01","2022-03-01","2022-04-01","2022-05-01","2022-06-01","2022-07-01","2022-08-01","2022-09-01","2022-10-01","2022-11-01","2022-12-01","2023-01-01","2023-02-01","2023-03-01","2023-04-01","2023-05-01","2023-06-01","2023-07-01","2023-08-01","2023-09-01","2023-10-01","2023-11-01","2023-12-01"]
["Short Sale Inventory",{"$nulls":28},"Short Sale Inventory",{"$f":"'Raw Data'!CR88","v":190},{"$f":"'Raw Data'!CS88","v":173},{"$f":"'Raw Data'!CT88","v":177},{"$f":"'Raw Data'!CU88","v":178},{"$f":"'Raw Data'!CV88","v":175},{"$f":"'Raw Data'!CW88","v":169},{"$f":"'Raw Data'!CX88","v":186},{"$f":"'Raw Data'!CY88","v":120},{"$f":"'Raw Data'!CZ88","v":152},{"$f":"'Raw Data'!DA88","v":126},{"$f":"'Raw Data'!DB88","v":150},{"$f":"'Raw Data'!DC88","v":162},{"$f":"'Raw Data'!DD88","v":160},{"$f":"'Raw Data'!DE88","v":161},{"$f":"'Raw Data'!DF88","v":153},{"$f":"'Raw Data'!DG88","v":145},{"$f":"'Raw Data'!DH88","v":129},{"$f":"'Raw Data'!DI88","v":127},{"$f":"'Raw Data'!DJ88","v":132},{"$f":"'Raw Data'!DK88","v":132},{"$f":"'Raw Data'!DL88","v":134},{"$f":"'Raw Data'!DM88","v":133},{"$f":"'Raw Data'!DN88","v":139},{"$f":"'Raw Data'!DO88","v":136},{"$f":"'Raw Data'!DP88","v":132},{"$f":"'Raw Data'!DQ88","v":120},{"$f":"'Raw Data'!DR88","v":105},{"$f":"'Raw Data'!DS88","v":98},{"$f":"'Raw Data'!DT88","v":93},{"$f":"'Raw Data'!DU88","v":89},{"$f":"'Raw Data'!DV88","v":91},{"$f":"'Raw Data'!DW88","v":87},{"$f":"'Raw Data'!DX88","v":78},{"$f":"'Raw Data'!DY88","v":91},{"$f":"'Raw Data'!DZ88","v":96},{"$f":"'Raw Data'!EA88","v":91},{"$f":"'Raw Data'!EB88","v":86},{"$f":"'Raw Data'!EC88","v":85},{"$f":"'Raw Data'!ED88","v":80},{"$f":"'Raw Data'!EE88","v":84},{"$f":"'Raw Data'!EF88","v":87},{"$f":"'Raw Data'!EG88","v":85},{"$f":"'Raw Data'!EH88","v":83},{"$f":"'Raw Data'!EI88","v":87},{"$f":"'Raw Data'!EJ88","v":66},{"$f":"'Raw Data'!EK88","v":80},{"$f":"'Raw Data'!EL88","v":82},{"$f":"'Raw Data'!EM88","v":82},{"$f":"'Raw Data'!EN88","v":74},{"$f":"'Raw Data'!EO88","v":57},{"$f":"'Raw Data'!EP88","v":54},{"$f":"'Raw Data'!EQ88","v":52},{"$f":"'Raw Data'!ER88","v":46},{"$f":"'Raw Data'!ES88","v":46},{"$f":"'Raw Data'!ET88","v":46},{"$f":"'Raw Data'!EU88","v":39},{"$f":"'Raw Data'!EV88","v":35},{"$f":"'Raw Data'!EW88","v":36},{"$f":"'Raw Data'!EX88","v":36},{"$f":"'Raw Data'!EY88","v":32},{"$f":"'Raw Data'!EZ88","v":31},{"$f":"'Raw Data'!FA88","v":30},{"$f":"'Raw Data'!FB88","v":32},{"$f":"'Raw Data'!FC88","v":30},{"$f":"'Raw Data'!FD88","v":34},{"$f":"'Raw Data'!FE88","v":17},{"$f":"'Raw Data'!FF88","v":30},{"$f":"'Raw Data'!FG88","v":31},{"$f":"'Raw Data'!FH88","v":22},{"$f":"'Raw Data'!FI88","v":18},{"$f":"'Raw Data'!FJ88","v":22},{"$f":"'Raw Data'!FK88","v":18},{"$f":"'Raw Data'!FL88","v":15},{"$f":"'Raw Data'!FM88","v":18},{"$f":"'Raw Data'!FN88","v":19},{"$f":"'Raw Data'!FO88","v":15},{"$f":"'Raw Data'!FP88","v":10},{"$f":"'Raw Data'!FQ88","v":10},{"$f":"'Raw Data'!FR88","v":7},{"$f":"'Raw Data'!FS88","v":8},{"$f":"'Raw Data'!FT88","v":10},{"$f":"'Raw Data'!FU88","v":7},{"$f":"'Raw Data'!FV88","v":9},{"$f":"'Raw Data'!FW88","v":13},{"$f":"'Raw Data'!FX88","v":8},{"$f":"'Raw Data'!FY88","v":7},{"$f":"'Raw Data'!FZ88","v":4},{"$f":"'Raw Data'!GA88","v":9},{"$f":"'Raw Data'!GB88","v":12},{"$f":"'Raw Data'!GC88","v":10},{"$f":"'Raw Data'!GD88","v":9},{"$f":"'Raw Data'!GE88","v":6},{"$f":"'Raw Data'!GF88","v":7},{"$f":"'Raw Data'!GG88","v":4},{"$f":"'Raw Data'!GH88","v":6},{"$f":"'Raw Data'!GI88","v":6},{"$f":"'Raw Data'!GJ88","v":8},{"$f":"'Raw Data'!GK88","v":8},{"$f":"'Raw Data'!GL88","v":4},{"$f":"'Raw Data'!GM88","v":5},{"$f":"'Raw Data'!GN88","v":7},{"$f":"'Raw Data'!GO88","v":4},{"$f":"'Raw Data'!GP88","v":5},{"$f":"'Raw Data'!GQ88","v":5},{"$f":"'Raw Data'!GR88","v":5},{"$f":"'Raw Data'!GS88","v":7},{"$f":"'Raw Data'!GT88","v":6},{"$f":"'Raw Data'!GU88","v":8},{"$f":"'Raw Data'!GV88","v":11},{"$f":"'Raw Data'!GW88","v":10},{"$f":"'Raw Data'!GX88","v":3},{"$f":"'Raw Data'!GY88","v":6},{"$f":"'Raw Data'!GZ88","v":6},{"$f":"'Raw Data'!HA88","v":5},{"$f":"'Raw Data'!HB88","v":1},{"$f":"'Raw Data'!HC88","v":4},{"$f":"'Raw Data'!HD88","v":3},{"$f":"'Raw Data'!HE88","v":4},{"$f":"'Raw Data'!HF88","v":5},{"$f":"'Raw Data'!HG88","v":3},{"$f":"'Raw Data'!HH88","v":3},{"$f":"'Raw Data'!HI88","v":2},{"$f":"'Raw Data'!HJ88","v":2},{"$f":"'Raw Data'!HK88","v":2},{"$f":"'Raw Data'!HL88","v":1},{"$f":"'Raw Data'!HM88","v":2},{"$f":"'Raw Data'!HN88","v":2},{"$f":"'Raw Data'!HO88","v":0},{"$f":"'Raw Data'!HP88","v":3},{"$f":"'Raw Data'!HQ88","v":2},{"$f":"'Raw Data'!HR88","v":0},{"$f":"'Raw Data'!HS88","v":1},{"$f":"'Raw Data'!HT88","v":0},{"$f":"'Raw Data'!HU88","v":0},{"$f":"'Raw Data'!HV88","v":0},{"$f":"'Raw Data'!HW88","v":0},{"$f":"'Raw Data'!HX88","v":0},{"$f":"'Raw Data'!HY88","v":0},{"$f":"'Raw Data'!HZ88","v":0},{"$f":"'Raw Data'!IA88","v":0},{"$f":"'Raw Data'!IB88","v":0},{"$f":"'Raw Data'!IC88","v":0},{"$f":"'Raw Data'!ID88","v":0},{"$f":"'Raw Data'!IE88","v":0},{"$f":"'Raw Data'!IF88","v":0},{"$f":"'Raw Data'!IG88","v":0},{"$f":"'Raw Data'!IH88","v":0},{"$f":"'Raw Data'!II88","v":0},{"$f":"'Raw Data'!IJ88","v":0},{"$f":"'Raw Data'!IK88","v":0},{"$f":"'Raw Data'!IL88","v":0},{"$f":"'Raw Data'!IM88","v":0},{"$f":"'Raw Data'!IN88","v":0}]
["Bank Owned Inventory",{"$nulls":28},"Bank Owned Inventory",{"$f":"'Raw Data'!CR89","v":83},{"$f":"'Raw Data'!CS89","v":78},{"$f":"'Raw Data'!CT89","v":71},{"$f":"'Raw Data'!CU89","v":61},{"$f":"'Raw Data'!CV89","v":69},{"$f":"'Raw Data'!CW89","v":60},{"$f":"'Raw Data'!CX89","v":65},{"$f":"'Raw Data'!CY89","v":62},{"$f":"'Raw Data'!CZ89","v":85},{"$f":"'Raw Data'!DA89","v":75},{"$f":"'Raw Data'!DB89","v":78},{"$f":"'Raw Data'!DC89","v":74},{"$f":"'Raw Data'!DD89","v":82},{"$f":"'Raw Data'!DE89","v":69},{"$f":"'Raw Data'!DF89","v":68},{"$f":"'Raw Data'!DG89","v":60},{"$f":"'Raw Data'!DH89","v":56},{"$f":"'Raw Data'!DI89","v":61},{"$f":"'Raw Data'!DJ89","v":64},{"$f":"'Raw Data'!DK89","v":80},{"$f":"'Raw Data'!DL89","v":84},{"$f":"'Raw Data'!DM89","v":67},{"$f":"'Raw Data'!DN89","v":63},{"$f":"'Raw Data'!DO89","v":56},{"$f":"'Raw Data'!DP89","v":60},{"$f":"'Raw Data'!DQ89","v":58},{"$f":"'Raw Data'!DR89","v":51},{"$f":"'Raw Data'!DS89","v":47},{"$f":"'Raw Data'!DT89","v":40},{"$f":"'Raw Data'!DU89","v":53},{"$f":"'Raw Data'!DV89","v":56},{"$f":"'Raw Data'!DW89","v":58},{"$f":"'Raw Data'!DX89","v":48},{"$f":"'Raw Data'!DY89","v":42},{"$f":"'Raw Data'!DZ89","v":40},{"$f":"'Raw Data'!EA89","v":44},{"$f":"'Raw Data'!EB89","v":37},{"$f":"'Raw Data'!EC89","v":39},{"$f":"'Raw Data'!ED89","v":41},{"$f":"'Raw Data'!EE89","v":40},{"$f":"'Raw Data'!EF89","v":47},{"$f":"'Raw Data'!EG89","v":46},{"$f":"'Raw Data'!EH89","v":36},{"$f":"'Raw Data'!EI89","v":30},{"$f":"'Raw Data'!EJ89","v":32},{"$f":"'Raw Data'!EK89","v":32},{"$f":"'Raw Data'!EL89","v":28},{"$f":"'Raw Data'!EM89","v":22},{"$f":"'Raw Data'!EN89","v":17},{"$f":"'Raw Data'!EO89","v":20},{"$f":"'Raw Data'!EP89","v":24},{"$f":"'Raw Data'!EQ89","v":18},{"$f":"'Raw Data'!ER89","v":18},{"$f":"'Raw Data'!ES89","v":23},{"$f":"'Raw Data'!ET89","v":22},{"$f":"'Raw Data'!EU89","v":19},{"$f":"'Raw Data'!EV89","v":20},{"$f":"'Raw Data'!EW89","v":22},{"$f":"'Raw Data'!EX89","v":23},{"$f":"'Raw Data'!EY89","v":22},{"$f":"'Raw Data'!EZ89","v":25},{"$f":"'Raw Data'!FA89","v":23},{"$f":"'Raw Data'!FB89","v":26},{"$f":"'Raw Data'!FC89","v":22},{"$f":"'Raw Data'!FD89","v":23},{"$f":"'Raw Data'!FE89","v":19},{"$f":"'Raw Data'!FF89","v":25},{"$f":"'Raw Data'!FG89","v":24},{"$f":"'Raw Data'!FH89","v":23},{"$f":"'Raw Data'!FI89","v":21},{"$f":"'Raw Data'!FJ89","v":18},{"$f":"'Raw Data'!FK89","v":14},{"$f":"'Raw Data'!FL89","v":11},{"$f":"'Raw Data'!FM89","v":14},{"$f":"'Raw Data'!FN89","v":16},{"$f":"'Raw Data'!FO89","v":10},{"$f":"'Raw Data'!FP89","v":13},{"$f":"'Raw Data'!FQ89","v":11},{"$f":"'Raw Data'!FR89","v":15},{"$f":"'Raw Data'!FS89","v":16},{"$f":"'Raw Data'!FT89","v":20},{"$f":"'Raw Data'!FU89","v":16},{"$f":"'Raw Data'!FV89","v":16},{"$f":"'Raw Data'!FW89","v":19},{"$f":"'Raw Data'!FX89","v":17},{"$f":"'Raw Data'!FY89","v":15},{"$f":"'Raw Data'!FZ89","v":14},{"$f":"'Raw Data'!GA89","v":16},{"$f":"'Raw Data'!GB89","v":14},{"$f":"'Raw Data'!GC89","v":15},{"$f":"'Raw Data'!GD89","v":12},{"$f":"'Raw Data'!GE89","v":13},{"$f":"'Raw Data'!GF89","v":16},{"$f":"'Raw Data'!GG89","v":16},{"$f":"'Raw Data'!GH89","v":16},{"$f":"'Raw Data'!GI89","v":12},{"$f":"'Raw Data'!GJ89","v":13},{"$f":"'Raw Data'!GK89","v":10},{"$f":"'Raw Data'!GL89","v":7},{"$f":"'Raw Data'!GM89","v":11},{"$f":"'Raw Data'!GN89","v":13},{"$f":"'Raw Data'!GO89","v":5},{"$f":"'Raw Data'!GP89","v":15},{"$f":"'Raw Data'!GQ89","v":19},{"$f":"'Raw Data'!GR89","v":16},{"$f":"'Raw Data'!GS89","v":14},{"$f":"'Raw Data'!GT89","v":10},{"$f":"'Raw Data'!GU89","v":9},{"$f":"'Raw Data'!GV89","v":12},{"$f":"'Raw Data'!GW89","v":14},{"$f":"'Raw Data'!GX89","v":7},{"$f":"'Raw Data'!GY89","v":7},{"$f":"'Raw Data'!GZ89","v":4},{"$f":"'Raw Data'!HA89","v":2},{"$f":"'Raw Data'!HB89","v":0},{"$f":"'Raw Data'!HC89","v":3},{"$f":"'Raw Data'!HD89","v":3},{"$f":"'Raw Data'!HE89","v":1},{"$f":"'Raw Data'!HF89","v":1},{"$f":"'Raw Data'!HG89","v":0},{"$f":"'Raw Data'!HH89","v":1},{"$f":"'Raw Data'!HI89","v":2},{"$f":"'Raw Data'!HJ89","v":3},{"$f":"'Raw Data'!HK89","v":2},{"$f":"'Raw Data'!HL89","v":0},{"$f":"'Raw Data'!HM89","v":2},{"$f":"'Raw Data'!HN89","v":2},{"$f":"'Raw Data'!HO89","v":0},{"$f":"'Raw Data'!HP89","v":3},{"$f":"'Raw Data'!HQ89","v":4},{"$f":"'Raw Data'!HR89","v":3},{"$f":"'Raw Data'!HS89","v":0},{"$f":"'Raw Data'!HT89","v":0},{"$f":"'Raw Data'!HU89","v":2},{"$f":"'Raw Data'!HV89","v":1},{"$f":"'Raw Data'!HW89","v":0},{"$f":"'Raw Data'!HX89","v":2},{"$f":"'Raw Data'!HY89","v":0},{"$f":"'Raw Data'!HZ89","v":2},{"$f":"'Raw Data'!IA89","v":1},{"$f":"'Raw Data'!IB89","v":2},{"$f":"'Raw Data'!IC89","v":0},{"$f":"'Raw Data'!ID89","v":0},{"$f":"'Raw Data'!IE89","v":2},{"$f":"'Raw Data'!IF89","v":4},{"$f":"'Raw Data'!IG89","v":0},{"$f":"'Raw Data'!IH89","v":3},{"$f":"'Raw Data'!II89","v":3},{"$f":"'Raw Data'!IJ89","v":0},{"$f":"'Raw Data'!IK89","v":0},{"$f":"'Raw Data'!IL89","v":0},{"$f":"'Raw Data'!IM89","v":0},{"$f":"'Raw Data'!IN89","v":0}]
["Percent of Active Inventory",{"$nulls":28},"Percent of Active Inventory",{"$f":"SUM(AE15:AE16)/'Raw Data'!CR21","v":0.14007183170856849},{"$f":"SUM(AF15:AF16)/'Raw Data'!CS21","v":0.12786551197147222},{"$f":"SUM(AG15:AG16)/'Raw Data'!CT21","v":0.12796697626418987},{"$f":"SUM(AH15:AH16)/'Raw Data'!CU21","v":0.12712765957446809},{"$f":"SUM(AI15:AI16)/'Raw Data'!CV21","v":0.13196322336398053},{"$f":"SUM(AJ15:AJ16)/'Raw Data'!CW21","v":0.12836322869955158},{"$f":"SUM(AK15:AK16)/'Raw Data'!CX21","v":0.13408119658119658},{"$f":"SUM(AL15:AL16)/'Raw Data'!CY21","v":0.10282485875706214},{"$f":"SUM(AM15:AM16)/'Raw Data'!CZ21","v":0.13892145369284878},{"$f":"SUM(AN15:AN16)/'Raw Data'!DA21","v":0.11645422943221322},{"$f":"SUM(AO15:AO16)/'Raw Data'!DB21","v":0.12780269058295965},{"$f":"SUM(AP15:AP16)/'Raw Data'!DC21","v":0.12854030501089325},{"$f":"SUM(AQ15:AQ16)/'Raw Data'!DD21","v":0.13010752688172042},{"$f":"SUM(AR15:AR16)/'Raw Data'!DE21","v":0.12279765082754938},{"$f":"SUM(AS15:AS16)/'Raw Data'!DF21","v":0.12243767313019391},{"$f":"SUM(AT15:AT16)/'Raw Data'!DG21","v":0.11294765840220386},{"$f":"SUM(AU15:AU16)/'Raw Data'!DH21","v":0.10289210233592881},{"$f":"SUM(AV15:AV16)/'Raw Data'!DI21","v":0.10549943883277217},{"$f":"SUM(AW15:AW16)/'Raw Data'!DJ21","v":0.10852713178294573},{"$f":"SUM(AX15:AX16)/'Raw Data'!DK21","v":0.11963882618510158},{"$f":"SUM(AY15:AY16)/'Raw Data'!DL21","v":0.13292682926829269},{"$f":"SUM(AZ15:AZ16)/'Raw Data'!DM21","v":0.11668611435239207},{"$f":"SUM(BA15:BA16)/'Raw Data'!DN21","v":0.11329220415030847},{"$f":"SUM(BB15:BB16)/'Raw Data'!DO21","v":0.10491803278688525},{"$f":"SUM(BC15:BC16)/'Raw Data'!DP21","v":0.10110584518167456},{"$f":"SUM(BD15:BD16)/'Raw Data'!DQ21","v":9.3931398416886538E-2},{"$f":"SUM(BE15:BE16)/'Raw Data'!DR21","v":8.4278768233387355E-2},{"$f":"SUM(BF15:BF16)/'Raw Data'!DS21","v":7.9408543263964945E-2},{"$f":"SUM(BG15:BG16)/'Raw Data'!DT21","v":7.3036792970895117E-2},{"$f":"SUM(BH15:BH16)/'Raw Data'!DU21","v":7.8107810781078105E-2},{"$f":"SUM(BI15:BI16)/'Raw Data'!DV21","v":7.7044025157232701E-2},{"$f":"SUM(BJ15:BJ16)/'Raw Data'!DW21","v":7.7831454643048845E-2},{"$f":"SUM(BK15:BK16)/'Raw Data'!DX21","v":7.4117647058823524E-2},{"$f":"SUM(BL15:BL16)/'Raw Data'!DY21","v":7.421875E-2},{"$f":"SUM(BM15:BM16)/'Raw Data'!DZ21","v":7.1881606765327691E-2},{"$f":"SUM(BN15:BN16)/'Raw Data'!EA21","v":6.5312046444121918E-2},{"$f":"SUM(BO15:BO16)/'Raw Data'!EB21","v":5.9912323429128105E-2},{"$f":"SUM(BP15:BP16)/'Raw Data'!EC21","v":5.8935361216730035E-2},{"$f":"SUM(BQ15:BQ16)/'Raw Data'!ED21","v":5.7756563245823386E-2},{"$f":"SUM(BR15:BR16)/'Raw Data'!EE21","v":6.1507936507936505E-2},{"$f":"SUM(BS15:BS16)/'Raw Data'!EF21","v":6.3237376120811706E-2},{"$f":"SUM(BT15:BT16)/'Raw Data'!EG21","v":6.3162970106075217E-2},{"$f":"SUM(BU15:BU16)/'Raw Data'!EH21","v":5.7935735150925025E-2},{"$f":"SUM(BV15:BV16)/'Raw Data'!EI21","v":5.724070450097847E-2},{"$f":"SUM(BW15:BW16)/'Raw Data'!EJ21","v":5.5461233729485006E-2},{"$f":"SUM(BX15:BX16)/'Raw Data'!EK21","v":5.9893048128342244E-2},{"$f":"SUM(BY15:BY16)/'Raw Data'!EL21","v":5.6294779938587509E-2},{"$f":"SUM(BZ15:BZ16)/'Raw Data'!EM21","v":5.4336468129571575E-2},{"$f":"SUM(CA15:CA16)/'Raw Data'!EN21","v":4.6907216494845361E-2},{"$f":"SUM(CB15:CB16)/'Raw Data'!EO21","v":3.9896373056994817E-2},{"$f":"SUM(CC15:CC16)/'Raw Data'!EP21","v":4.1009463722397478E-2},{"$f":"SUM(CD15:CD16)/'Raw Data'!EQ21","v":3.7654653039268425E-2},{"$f":"SUM(CE15:CE16)/'Raw Data'!ER21","v":3.4538586076632488E-2},{"$f":"SUM(CF15:CF16)/'Raw Data'!ES21","v":3.7932930181418363E-2},{"$f":"SUM(CG15:CG16)/'Raw Data'!ET21","v":3.8202247191011236E-2},{"$f":"SUM(CH15:CH16)/'Raw Data'!EU21","v":3.3779848573092602E-2},{"$f":"SUM(CI15:CI16)/'Raw Data'!EV21","v":3.5054174633524539E-2},{"$f":"SUM(CJ15:CJ16)/'Raw Data'!EW21","v":3.629536921151439E-2},{"$f":"SUM(CK15:CK16)/'Raw Data'!EX21","v":3.5392921415716858E-2},{"$f":"SUM(CL15:CL16)/'Raw Data'!EY21","v":3.0594900849858359E-2},{"$f":"SUM(CM15:CM16)/'Raw Data'!EZ21","v":3.0752333882482153E-2},{"$f":"SUM(CN15:CN16)/'Raw Data'!FA21","v":3.0424799081515498E-2},{"$f":"SUM(CO15:CO16)/'Raw Data'!FB21","v":3.3256880733944956E-2},{"$f":"SUM(CP15:CP16)/'Raw Data'!FC21","v":3.086053412462908E-2},{"$f":"SUM(CQ15:CQ16)/'Raw Data'!FD21","v":3.4671532846715328E-2},{"$f":"SUM(CR15:CR16)/'Raw Data'!FE21","v":2.192448233861145E-2},{"$f":"SUM(CS15:CS16)/'Raw Data'!FF21","v":3.3929673041332507E-2},{"$f":"SUM(CT15:CT16)/'Raw Data'!FG21","v":3.5924232527759635E-2},{"$f":"SUM(CU15:CU16)/'Raw Data'!FH21","v":3.1734837799717912E-2},{"$f":"SUM(CV15:CV16)/'Raw Data'!FI21","v":2.6822558459422285E-2},{"$f":"SUM(CW15:CW16)/'Raw Data'!FJ21","v":2.6560424966799469E-2},{"$f":"SUM(CX15:CX16)/'Raw Data'!FK21","v":2.1150033046926635E-2},{"$f":"SUM(CY15:CY16)/'Raw Data'!FL21","v":1.6828478964401296E-2},{"$f":"SUM(CZ15:CZ16)/'Raw Data'!FM21","v":2.0578778135048232E-2},{"$f":"SUM(DA15:DA16)/'Raw Data'!FN21","v":2.2935779816513763E-2},{"$f":"SUM(DB15:DB16)/'Raw Data'!FO21","v":1.6523463317911435E-2},{"$f":"SUM(DC15:DC16)/'Raw Data'!FP21","v":1.520158625247852E-2},{"$f":"SUM(DD15:DD16)/'Raw Data'!FQ21","v":1.4150943396226415E-2},{"$f":"SUM(DE15:DE16)/'Raw Data'!FR21","v":1.4696058784235137E-2},{"$f":"SUM(DF15:DF16)/'Raw Data'!FS21","v":1.6528925619834711E-2},{"$f":"SUM(DG15:DG16)/'Raw Data'!FT21","v":2.2156573116691284E-2},{"$f":"SUM(DH15:DH16)/'Raw Data'!FU21","v":1.6800584368151936E-2},{"$f":"SUM(DI15:DI16)/'Raw Data'!FV21","v":1.7433751743375175E-2},{"$f":"SUM(DJ15:DJ16)/'Raw Data'!FW21","v":2.1220159151193633E-2},{"$f":"SUM(DK15:DK16)/'Raw Data'!FX21","v":1.6711229946524065E-2},{"$f":"SUM(DL15:DL16)/'Raw Data'!FY21","v":1.4531043593130779E-2},{"$f":"SUM(DM15:DM16)/'Raw Data'!FZ21","v":1.2253233492171545E-2},{"$f":"SUM(DN15:DN16)/'Raw Data'!GA21","v":1.7088174982911826E-2},{"$f":"SUM(DO15:DO16)/'Raw Data'!GB21","v":1.7015706806282723E-2},{"$f":"SUM(DP15:DP16)/'Raw Data'!GC21","v":1.6600265604249667E-2},{"$f":"SUM(DQ15:DQ16)/'Raw Data'!GD21","v":1.3716525146962769E-2},{"$f":"SUM(DR15:DR16)/'Raw Data'!GE21","v":1.2508229098090849E-2},{"$f":"SUM(DS15:DS16)/'Raw Data'!GF21","v":1.5961138098542677E-2},{"$f":"SUM(DT15:DT16)/'Raw Data'!GG21","v":1.3368983957219251E-2},{"$f":"SUM(DU15:DU16)/'Raw Data'!GH21","v":1.4120667522464698E-2},{"$f":"SUM(DV15:DV16)/'Raw Data'!GI21","v":1.0902483343428226E-2},{"$f":"SUM(DW15:DW16)/'Raw Data'!GJ21","v":1.2552301255230125E-2},{"$f":"SUM(DX15:DX16)/'Raw Data'!GK21","v":1.1063306699446834E-2},{"$f":"SUM(DY15:DY16)/'Raw Data'!GL21","v":6.9664344521849272E-3},{"$f":"SUM(DZ15:DZ16)/'Raw Data'!GM21","v":1.0624169986719787E-2},{"$f":"SUM(EA15:EA16)/'Raw Data'!GN21","v":1.33422281521014E-2},{"$f":"SUM(EB15:EB16)/'Raw Data'!GO21","v":6.114130434782609E-3},{"$f":"SUM(EC15:EC16)/'Raw Data'!GP21","v":1.3422818791946308E-2},{"$f":"SUM(ED15:ED16)/'Raw Data'!GQ21","v":1.6E-2},{"$f":"SUM(EE15:EE16)/'Raw Data'!GR21","v":1.5659955257270694E-2},{"$f":"SUM(EF15:EF16)/'Raw Data'!GS21","v":1.5718562874251496E-2},{"$f":"SUM(EG15:EG16)/'Raw Data'!GT21","v":1.2030075187969926E-2},{"$f":"SUM(EH15:EH16)/'Raw Data'!GU21","v":1.2500000000000001E-2},{"$f":"SUM(EI15:EI16)/'Raw Data'!GV21","v":1.7371601208459216E-2},{"$f":"SUM(EJ15:EJ16)/'Raw Data'!GW21","v":1.9246190858059342E-2},{"$f":"SUM(EK15:EK16)/'Raw Data'!GX21","v":1.0256410256410256E-2},{"$f":"SUM(EL15:EL16)/'Raw Data'!GY21","v":1.4755959137343927E-2},{"$f":"SUM(EM15:EM16)/'Raw Data'!GZ21","v":1.3831258644536652E-2},{"$f":"SUM(EN15:EN16)/'Raw Data'!HA21","v":1.0159651669085631E-2},{"$f":"SUM(EO15:EO16)/'Raw Data'!HB21","v":1.5243902439024391E-3},{"$f":"SUM(EP15:EP16)/'Raw Data'!HC21","v":1.1235955056179775E-2},{"$f":"SUM(EQ15:EQ16)/'Raw Data'!HD21","v":1.0714285714285714E-2},{"$f":"SUM(ER15:ER16)/'Raw Data'!HE21","v":1.1185682326621925E-2},{"$f":"SUM(ES15:ES16)/'Raw Data'!HF21","v":1.4354066985645933E-2},{"$f":"SUM(ET15:ET16)/'Raw Data'!HG21","v":7.8947368421052634E-3},{"$f":"SUM(EU15:EU16)/'Raw Data'!HH21","v":1.020408163265306E-2},{"$f":"SUM(EV15:EV16)/'Raw Data'!HI21","v":9.9502487562189053E-3},{"$f":"SUM(EW15:EW16)/'Raw Data'!HJ21","v":1.179245283018868E-2},{"$f":"SUM(EX15:EX16)/'Raw Data'!HK21","v":8.385744234800839E-3},{"$f":"SUM(EY15:EY16)/'Raw Data'!HL21","v":1.996007984031936E-3},{"$f":"SUM(EZ15:EZ16)/'Raw Data'!HM21","v":8.2644628099173556E-3},{"$f":"SUM(FA15:FA16)/'Raw Data'!HN21","v":9.3457943925233638E-3},{"$f":"SUM(FB15:FB16)/'Raw Data'!HO21","v":0},{"$f":"SUM(FC15:FC16)/'Raw Data'!HP21","v":1.9292604501607719E-2},{"$f":"SUM(FD15:FD16)/'Raw Data'!HQ21","v":2.1126760563380281E-2},{"$f":"SUM(FE15:FE16)/'Raw Data'!HR21","v":1.1235955056179775E-2},{"$f":"SUM(FF15:FF16)/'Raw Data'!HS21","v":3.7593984962406013E-3},{"$f":"SUM(FG15:FG16)/'Raw Data'!HT21","v":0},{"$f":"SUM(FH15:FH16)/'Raw Data'!HU21","v":4.8426150121065378E-3},{"$f":"SUM(FI15:FI16)/'Raw Data'!HV21","v":1.890359168241966E-3},{"$f":"SUM(FJ15:FJ16)/'Raw Data'!HW21","v":0},{"$f":"SUM(FK15:FK16)/'Raw Data'!HX21","v":3.6496350364963502E-3},{"$f":"SUM(FL15:FL16)/'Raw Data'!HY21","v":0},{"$f":"SUM(FM15:FM16)/'Raw Data'!HZ21","v":3.929273084479371E-3},{"$f":"SUM(FN15:FN16)/'Raw Data'!IA21","v":1.890359168241966E-3},{"$f":"SUM(FO15:FO16)/'Raw Data'!IB21","v":4.3956043956043956E-3},{"$f":"SUM(FP15:FP16)/'Raw Data'!IC21","v":0},{"$f":"SUM(FQ15:FQ16)/'Raw Data'!ID21","v":0},{"$f":"SUM(FR15:FR16)/'Raw Data'!#REF!","v":{"$error":"#REF!"}},{"$f":"SUM(FS15:FS16)/'Raw Data'!IF21","v":1.078167115902965E-2},{"$f":"SUM(FT15:FT16)/'Raw Data'!IG21","v":0},{"$f":"SUM(FU15:FU16)/'Raw Data'!IH21","v":7.2815533980582527E-3},{"$f":"SUM(FV15:FV16)/'Raw Data'!II21","v":6.5789473684210523E-3},{"$f":"SUM(FW15:FW16)/'Raw Data'!IJ21","v":{"$error":"#DIV/0!"}},{"$f":"SUM(FX15:FX16)/'Raw Data'!IK21","v":{"$error":"#DIV/0!"}},{"$f":"SUM(FY15:FY16)/'Raw Data'!IL21","v":{"$error":"#DIV/0!"}},{"$f":"SUM(FZ15:FZ16)/'Raw Data'!IM21","v":{"$error":"#DIV/0!"}},{"$f":"SUM(GA15:GA16)/'Raw Data'!IN21","v":{"$error":"#DIV/0!"}}]
[]
[null,"2008-11-01","2008-12-01","2009-01-01","2009-02-01","2009-03-01","2009-04-01","2009-05-01","2009-06-01","2009-07-01","2009-08-01","2009-09-01","2009-10-01","2009-11-01","2009-12-01","2010-01-01","2010-02-01","2010-03-01","2010-04-01","2010-05-01","2010-06-01","2010-07-01","2010-08-01","2010-09-01","2010-10-01","2010-11-01","2010-12-01","2011-01-01","2011-02-01","2011-03-01","2011-04-01","2011-05-01","2011-06-01","2011-07-01","2011-08-01","2011-09-01","2011-10-01","2011-11-01","2011-12-01","2012-01-01","2012-02-01","2012-03-01","2012-04-01","2012-05-01","2012-06-01","2012-07-01","2012-08-01","2012-09-01","2012-10-01","2012-11-01","2012-12-01","2013-01-01","2013-02-01","2013-03-01","2013-04-01","2013-05-01","2013-06-01","2013-07-01","2013-08-01","2013-09-01","2013-10-01","2013-11-01","2013-12-01","2014-01-01","2014-02-01","2014-03-01","2014-04-01","2014-05-01","2014-06-01","2014-07-01","2014-08-01","2014-09-01","2014-10-01","2014-11-01","2014-12-01","2015-01-01","2015-02-01","2015-03-01","2015-04-01","2015-05-01","2015-06-01","2015-07-01","2015-08-01","2015-09-01","2015-10-01","2015-11-01","2015-12-01","2016-01-01","2016-02-01","2016-03-01","2016-04-01","2016-05-01","2016-06-01","2016-07-01","2016-08-01","2016-09-01","2016-10-01","2016-11-01","2016-12-01","2017-01-01","2017-02-01","2017-03-01","2017-04-01","2017-05-01","2017-06-01","2017-07-01","2017-08-01","2017-09-01","2017-10-01","2017-11-01","2017-12-01","2018-01-01","2018-02-01","2018-03-01","2018-04-01","2018-05-01","2018-06-01","2018-07-01","2018-08-01","2018-09-01","2018-10-01","2018-11-01","2018-12-01","2019-01-01","2019-02-01","2019-03-01","2019-04-01","2019-05-01","2019-06-01","2019-07-01","2019-08-01","2019-09-01","2019-10-01","2019-11-01","2019-12-01","2020-01-01","2020-02-01","2020-03-01","2020-04-01","2020-05-01","2020-06-01","2020-07-01","2020-08-01","2020-09-01","2020-10-01","2020-11-01","2020-12-01","2021-01-01","2021-02-01","2021-03-01","2021-04-01","2021-05-01","2021-06-01","2021-07-01","2021-08-01","2021-09-01","2021-10-01","2021-11-01","2021-12-01","2022-01-01","2022-02-01","2022-03-01","2022-04-01","2022-05-01","2022-06-01","2022-07-01","2022-08-01","2022-09-01","2022-10-01","2022-11-01","2022-12-01","2023-01-01","2023-02-01","2023-03-01","2023-04-01","2023-05-01","2023-06-01","2023-07-01","2023-08-01","2023-09-01","2023-10-01","2023-11-01","2023-12-01"]
[]
["Short Sale Inventory",{"$f":"B15","v":0},0,0,0,0,0,0,0,0,0,0,0,0,0,0,0,0,0,0,0,0,0,0,0,0,0,0,0,"Short Sale Inventory",190,173,177,178,175,169,186,120,152,126,150,162,160,161,153,145,129,127,132,132,134,133,139,136,132,120,105,98,93,89,91,87,78,91,96,91,86,85,80,84,87,85,83,87,66,80,82,82,74,57,54,52,46,46,46,39,35,36,36,32,31,30,32,30,34,17,30,31,22,18,22,18,15,18,19,15,10,10,7,8,10,7,9,13,8,7,4,9,12,10,9,6,7,4,6,6,8,8,4,5,7,4,5,5,5,7,6,8,11,10,3,6,6,5,1,4,{"$f":"EQ15","v":3},4,5,3,3,2,2,2,1,2,2,0,3,{"$f":"FD15","v":2},0,1,0,0,0,0,0,0,0,0,0,0,{"$f":"FQ15","v":0},0,0,0,0,0,0,0,0,0,0]
["Bank Owned Inventory",{"$f":"B16","v":0},0,0,0,0,0,0,0,0,0,0,0,0,0,0,0,0,0,0,0,0,0,0,0,0,0,0,0,"Bank Owned Inventory",83,78,71,61,69,60,65,62,85,75,78,74,82,69,68,60,56,61,64,80,84,67,63,56,60,58,51,47,40,53,56,58,48,42,40,44,37,39,41,40,47,46,36,30,32,32,28,22,17,20,24,18,18,23,22,19,20,22,23,22,25,23,26,22,23,19,25,24,23,21,18,14,11,14,16,10,13,11,15,16,20,16,16,19,17,15,14,16,14,15,12,13,16,16,16,12,13,10,7,11,13,5,15,19,16,14,10,9,12,14,7,7,4,2,0,3,{"$f":"EQ16","v":3},1,1,0,1,2,3,2,0,2,2,0,3,{"$f":"FD16","v":4},3,0,0,2,1,0,2,0,2,1,2,0,{"$f":"FQ16","v":0},2,4,0,3,3,0,0,0,0,0]
[null,"2008-11-01","2008-12-01","2009-01-01","2009-02-01","2009-03-01","2009-04-01","2009-05-01","2009-06-01","2009-07-01","2009-08-01","2009-09-01","2009-10-01","2009-11-01","2009-12-01","2010-01-01","2010-02-01","2010-03-01","2010-04-01","2010-05-01","2010-06-01","2010-07-01","2010-08-01","2010-09-01","2010-10-01","2010-11-01","2010-12-01","2011-01-01","2011-02-01","2011-03-01","2011-04-01","2011-05-01","2011-06-01","2011-07-01","2011-08-01","2011-09-01","2011-10-01","2011-11-01","2011-12-01","2012-01-01","2012-02-01","2012-03-01","2012-04-01","2012-05-01","2012-06-01","2012-07-01","2012-08-01","2012-09-01","2012-10-01","2012-11-01","2012-12-01","2013-01-01","2013-02-01","2013-03-01","2013-04-01","2013-05-01","2013-06-01","2013-07-01","2013-08-01","2013-09-01","2013-10-01","2013-11-01","2013-12-01","2014-01-01","2014-02-01","2014-03-01","2014-04-01","2014-05-01","2014-06-01","2014-07-01","2014-08-01","2014-09-01","2014-10-01","2014-11-01","2014-12-01","2015-01-01","2015-02-01","2015-03-01","2015-04-01","2015-05-01","2015-06-01","2015-07-01","2015-08-01","2015-09-01","2015-10-01","2015-11-01","2015-12-01","2016-01-01","2016-02-01","2016-03-01","2016-04-01","2016-05-01","2016-06-01","2016-07-01","2016-08-01","2016-09-01","2016-10-01","2016-11-01","2016-12-01","2017-01-01","2017-02-01","2017-03-01","2017-04-01","2017-05-01","2017-06-01","2017-07-01","2017-08-01","2017-09-01","2017-10-01","2017-11-01","2017-12-01","2018-01-01","2018-02-01","2018-03-01","2018-04-01","2018-05-01","2018-06-01","2018-07-01","2018-08-01","2018-09-01","2018-10-01","2018-11-01","2018-12-01","2019-01-01","2019-02-01","2019-03-01","2019-04-01","2019-05-01","2019-06-01","2019-07-01","2019-08-01","2019-09-01","2019-10-01","2019-11-01","2019-12-01","2020-01-01","2020-02-01","2020-03-01","2020-04-01","2020-05-01","2020-06-01","2020-07-01","2020-08-01","2020-09-01","2020-10-01","2020-11-01","2020-12-01","2021-01-01","2021-02-01","2021-03-01","2021-04-01","2021-05-01","2021-06-01","2021-07-01","2021-08-01","2021-09-01","2021-10-01","2021-11-01","2021-12-01","2022-01-01","2022-02-01","2022-03-01","2022-04-01","2022-05-01","2022-06-01","2022-07-01","2022-08-01","2022-09-01","2022-10-01","2022-11-01","2022-12-01","2023-01-01"]
["Total Distressed Inventory",{"$f":"B11","v":0},0,0,0,0,0,0,0,0,0,0,0,0,0,0,0,0,0,299,294,306,274,295,258,262,288,301,282,279,273,251,248,239,244,229,251,182,237,201,228,236,242,230,221,205,185,188,196,212,218,200,202,192,192,178,156,145,133,142,147,145,126,133,136,135,123,124,121,124,134,131,119,117,98,112,110,104,91,77,78,70,64,69,68,58,55,58,59,54,56,53,58,52,57,36,55,55,45,39,40,32,26,32,35,25,23,21,22,24,30,23,25,32,25,22,18,25,26,25,21,19,23,20,22,18,21,18,11,16,20,9,20,24,21,21,16,17,23,24,10,13,10,7,1,7,{"$f":"EQ11","v":6},5,6,3,4,4,5,4,1,4,4,0,6,{"$f":"FD11","v":6},3,1,0,2,1,0,2,0,2,1,2,0,{"$f":"FQ11","v":0},2,4,0,3,3,0,0,0,0,0]
["Total Distressed Sold",{"$f":"B10","v":8},13,7,25,26,24,26,29,29,16,24,33,27,57,34,27,43,58,52,54,41,40,50,35,41,49,34,41,54,51,55,52,49,30,36,34,22,33,28,49,40,31,49,37,38,50,49,34,37,35,32,39,44,37,40,33,43,32,24,15,9,34,19,23,20,24,31,18,19,18,24,18,12,26,17,16,19,10,18,20,21,11,12,7,14,13,10,9,9,10,10,11,9,9,4,8,12,11,14,10,10,6,14,11,6,5,9,13,4,6,4,4,13,5,6,6,3,11,4,4,7,8,2,2,6,6,7,2,6,5,7,5,4,3,9,8,8,4,5,9,3,5,3,5,2,{"$f":"EQ10","v":3},4,1,4,2,1,3,2,5,0,1,2,1,{"$f":"FD10","v":3},1,3,1,0,0,2,1,0,1,1,1,0,{"$f":"FQ10","v":1},1,3,1,3,1,0,0,0,0,0]
[]
[]
["Total Distressed Inventory",{"$nulls":170},"Jan","Feb","Mar","Apr","May","Jun","Jul","Aug","Sep","Oct","Nov","Dec"]
[{"$nulls":170},2023,{"$f":"FP24","v":0},0,2,4,0,3,3,0,0,0,0,0]
[{"$nulls":170},2022,{"$f":"FD24","v":6},3,1,0,2,1,0,2,0,2,1,2]
[{"$nulls":170},2021,{"$f":"ER24","v":5},6,3,4,4,5,4,1,4,4,0,6]
[{"$nulls":170},2020,{"$f":"EF24","v":21},16,17,23,24,10,13,10,7,1,7,6]
[{"$nulls":170},2019,{"$f":"DT24","v":20},22,18,21,18,11,16,20,9,20,24,21]
[{"$nulls":170},2018,{"$f":"DH24","v":23},25,32,25,22,18,25,26,25,21,19,23]
[{"$nulls":170},2017,{"$f":"CV24","v":39},40,32,26,32,35,25,23,21,22,24,30]
[{"$nulls":170},2016,{"$f":"CJ24","v":58},59,54,56,53,58,52,57,36,55,55,45]
[{"$nulls":170},2015,{"$f":"BX24","v":112},110,104,91,77,78,70,64,69,68,58,55]
[]
[]
[]
["Total Distressed Sold",{"$nulls":170},"Jan","Feb","Mar","Apr","May","Jun","Jul","Aug","Sep","Oct","Nov","Dec"]
[{"$nulls":170},2023,{"$f":"FP25","v":0},1,1,3,1,3,1,0,0,0,0,0]
[{"$nulls":170},2022,{"$f":"FD25","v":3},1,3,1,0,0,2,1,0,1,1,1]
[{"$nulls":170},2021,{"$f":"ER25","v":4},1,4,2,1,3,2,5,0,1,2,1]
[{"$nulls":170},2020,{"$f":"EF25","v":9},8,8,4,5,9,3,5,3,5,2,3]
[{"$nulls":168},2019,{"$f":"DT25","v":2},2,6,6,7,2,6,5,7,5,4,3]
[{"$nulls":168},2018,{"$f":"DH25","v":4},4,13,5,6,6,3,11,4,4,7,8]
[{"$nulls":168},2017,{"$f":"CV25","v":14},10,10,6,14,11,6,5,9,13,4,6]
[{"$nulls":168},2016,{"$f":"CJ25","v":10},9,9,10,10,11,9,9,4,8,12,11]
[{"$nulls":168},2015,{"$f":"BX25","v":17},16,19,10,18,20,21,11,12,7,14,13]
[]
[]
[]
[]
[]
[{"$nulls":179},"Distressed Sale Inventory",null,null,null,"Distressed Sales"]
[{"$nulls":179},"Month / Year","Count","%Chg",null,"Month / Year","Count","%Chg"]
[{"$nulls":179},"Jul'23",{"$f":"FV29","v":3},4,null,"Jul'23",{"$f":"FV42","v":1},{"$f":"SUM(GC59-GC58)/GC59*-1","v":-0.5}]
[{"$nulls":179},"Jul'22",{"$f":"FV30","v":0},{"$f":"SUM(FY60-FY59)/FY60*-1","v":-1},null,"Jul'22",{"$f":"FV43","v":2},{"$f":"SUM(GC60-GC59)/GC60*-1","v":0}]
[{"$nulls":179},"Jul'21",{"$f":"FV31","v":4},{"$f":"SUM(FY61-FY60)/FY61*-1","v":-0.69230769230769229},null,"Jul'21",{"$f":"FV44","v":2},{"$f":"SUM(GC61-GC60)/GC61*-1","v":-0.33333333333333331}]
[{"$nulls":179},"Jul'20",{"$f":"FV32","v":13},null,null,"Jul'20",{"$f":"FV45","v":3}]
[]
[]
[{"$nulls":183},"Yearly Distressed Sales"]
[{"$nulls":183},"Month / Year","Count","%Chg"]
[{"$nulls":183},2023,{"$f":"SUM(FP42:FV42)","v":10},{"$f":"SUM(GC67-GC66)/GC67*-1","v":0}]
[{"$nulls":183},2022,{"$f":"SUM(FP43:FV43)","v":10},{"$f":"SUM(GC68-GC67)/GC68*-1","v":-0.41176470588235292}]
[{"$nulls":183},2021,{"$f":"SUM(FP44:FV44)","v":17},{"$f":"SUM(GC69-GC68)/GC69*-1","v":-0.63043478260869568}]
[{"$nulls":183},2020,{"$f":"SUM(FP45:FV45)","v":46}]

{"sheet":"Residential","index":28,"n_rows":104,"n_cols":258,"rows_kept":104,"cut":false,"hidden":false,"merged":[[75,216,75,218],[98,208,98,210],[75,204,75,206],[98,204,98,206],[75,208,75,210],[75,212,75,214]]}
[null,{"$f":"'Raw Data'!P44","v":"00:00:00"},{"$f":"'Raw Data'!Q44","v":"00:00:00"},{"$f":"'Raw Data'!R44","v":"00:00:00"},{"$f":"'Raw Data'!S44","v":"00:00:00"},{"$f":"'Raw Data'!T44","v":"00:00:00"},{"$f":"'Raw Data'!U44","v":"2005-01-01"},{"$f":"'Raw Data'!V44","v":"2005-02-01"},{"$f":"'Raw Data'!W44","v":"2005-03-01"},{"$f":"'Raw Data'!X44","v":"2005-04-01"},{"$f":"'Raw Data'!Y44","v":"2005-05-01"},{"$f":"'Raw Data'!Z44","v":"2005-06-01"},{"$f":"'Raw Data'!AA44","v":"2005-07-01"},{"$f":"'Raw Data'!AB44","v":"2005-08-01"},{"$f":"'Raw Data'!AC44","v":"2005-09-01"},{"$f":"'Raw Data'!AD44","v":"2005-10-01"},{"$f":"'Raw Data'!AE44","v":"2005-11-01"},{"$f":"'Raw Data'!AF44","v":"2005-12-01"},{"$f":"'Raw Data'!AG44","v":"2006-01-01"},{"$f":"'Raw Data'!AH44","v":"2006-02-01"},{"$f":"'Raw Data'!AI44","v":"2006-03-01"},{"$f":"'Raw Data'!AJ44","v":"2006-04-01"},{"$f":"'Raw Data'!AK44","v":"2006-05-01"},{"$f":"'Raw Data'!AL44","v":"2006-06-01"},{"$f":"'Raw Data'!AM44","v":"2006-07-01"},{"$f":"'Raw Data'!AN44","v":"2006-08-01"},{"$f":"'Raw Data'!AO44","v":"2006-09-01"},{"$f":"'Raw Data'!AP44","v":"2006-10-01"},{"$f":"'Raw Data'!AQ44","v":"2006-11-01"},{"$f":"'Raw Data'!AR44","v":"2006-12-01"},{"$f":"'Raw Data'!AS44","v":"2007-01-01"},{"$f":"'Raw Data'!AT44","v":"2007-02-01"},{"$f":"'Raw Data'!AU44","v":"2007-03-01"},{"$f":"'Raw Data'!AV44","v":"2007-04-01"},{"$f":"'Raw Data'!AW44","v":"2007-05-01"},{"$f":"'Raw Data'!AX44","v":"2007-06-01"},{"$f":"'Raw Data'!AY44","v":"2007-07-01"},{"$f":"'Raw Data'!AZ44","v":"2007-08-01"},{"$f":"'Raw Data'!BA44","v":"2007-09-01"},{"$f":"'Raw Data'!BB44","v":"2007-10-01"},{"$f":"'Raw Data'!BC44","v":"2007-11-01"},{"$f":"'Raw Data'!BD44","v":"2007-12-01"},{"$f":"'Raw Data'!BE44","v":"2008-01-01"},{"$f":"'Raw Data'!BF44","v":"2008-02-01"},{"$f":"'Raw Data'!BG44","v":"2008-03-03"},{"$f":"'Raw Data'!BH44","v":"2008-04-01"},{"$f":"'Raw Data'!BI44","v":"2008-05-01"},{"$f":"'Raw Data'!BJ44","v":"2008-06-01"},{"$f":"'Raw Data'!BK44","v":"2008-07-01"},{"$f":"'Raw Data'!BL44","v":"2008-08-01"},{"$f":"'Raw Data'!BM44","v":"2008-09-01"},{"$f":"'Raw Data'!BN44","v":"2008-10-08"},{"$f":"'Raw Data'!BO44","v":"2008-11-14"},{"$f":"'Raw Data'!BP44","v":"2008-12-21"},{"$f":"'Raw Data'!BQ44","v":"2009-01-27"},{"$f":"'Raw Data'!BR44","v":"2009-02-09"},{"$f":"'Raw Data'!BS44","v":"2009-03-09"},{"$f":"'Raw Data'!BT44","v":"2009-04-09"},{"$f":"'Raw Data'!BU44","v":"2009-05-09"},{"$f":"'Raw Data'!BV44","v":"2009-06-09"},{"$f":"'Raw Data'!BW44","v":"2009-07-09"},{"$f":"'Raw Data'!BX44","v":"2009-08-09"},{"$f":"'Raw Data'!BY44","v":"2009-09-09"},{"$f":"'Raw Data'!BZ44","v":"2009-10-09"},{"$f":"'Raw Data'!CA44","v":"2009-11-09"},{"$f":"'Raw Data'!CB44","v":"2009-12-09"},{"$f":"'Raw Data'!CC44","v":"2010-01-09"},{"$f":"'Raw Data'!CD44","v":"2010-02-09"},{"$f":"'Raw Data'!CE44","v":"2010-03-09"},{"$f":"'Raw Data'!CF44","v":"2010-04-09"},{"$f":"'Raw Data'!CG44","v":"2010-05-09"},{"$f":"'Raw Data'!CH44","v":"2010-06-09"},{"$f":"'Raw Data'!CI44","v":"2010-07-09"},{"$f":"'Raw Data'!CJ44","v":"2010-08-09"},{"$f":"'Raw Data'!CK44","v":"2010-09-09"},{"$f":"'Raw Data'!CL44","v":"2010-10-09"},{"$f":"'Raw Data'!CM44","v":"2010-11-09"},{"$f":"'Raw Data'!CN44","v":"2010-12-09"},{"$f":"'Raw Data'!CO44","v":"2011-01-09"},{"$f":"'Raw Data'!CP44","v":"2011-02-09"},{"$f":"'Raw Data'!CQ44","v":"2011-03-09"},{"$f":"'Raw Data'!CR44","v":"2011-04-09"},{"$f":"'Raw Data'!CS44","v":"2011-05-09"},{"$f":"'Raw Data'!CT44","v":"2011-06-09"},{"$f":"'Raw Data'!CU44","v":"2011-07-09"},{"$f":"'Raw Data'!CV44","v":"2011-08-09"},{"$f":"'Raw Data'!CW44","v":"2011-09-09"},{"$f":"'Raw Data'!CX44","v":"2011-10-09"},{"$f":"'Raw Data'!CY44","v":"2011-11-09"},{"$f":"'Raw Data'!CZ44","v":"2011-12-09"},{"$f":"'Raw Data'!DA44","v":"2012-01-09"},{"$f":"'Raw Data'!DB44","v":"2012-02-09"},{"$f":"'Raw Data'!DC44","v":"2012-03-09"},{"$f":"'Raw Data'!DD44","v":"2012-04-09"},{"$f":"'Raw Data'!DE44","v":"2012-05-09"},{"$f":"'Raw Data'!DF44","v":"2012-06-09"},{"$f":"'Raw Data'!DG44","v":"2012-07-09"},{"$f":"'Raw Data'!DH44","v":"2012-08-09"},{"$f":"'Raw Data'!DI44","v":"2012-09-09"},{"$f":"'Raw Data'!DJ44","v":"2012-10-09"},{"$f":"'Raw Data'!DK44","v":"2012-11-09"},{"$f":"'Raw Data'!DL44","v":"2012-12-09"},{"$f":"'Raw Data'!DM44","v":"2013-01-09"},{"$f":"'Raw Data'!DN44","v":"2013-02-09"},{"$f":"'Raw Data'!DO44","v":"2013-03-09"},{"$f":"'Raw Data'!DP44","v":"2013-04-09"},{"$f":"'Raw Data'!DQ44","v":"2013-05-09"},{"$f":"'Raw Data'!DR44","v":"2013-06-09"},{"$f":"'Raw Data'!DS44","v":"2013-07-09"},{"$f":"'Raw Data'!DT44","v":"2013-08-09"},{"$f":"'Raw Data'!DU44","v":"2013-09-09"},{"$f":"'Raw Data'!DV44","v":"2013-10-09"},{"$f":"'Raw Data'!DW44","v":"2013-11-09"},{"$f":"'Raw Data'!DX44","v":"2013-12-09"},{"$f":"'Raw Data'!DY44","v":"2014-01-09"},{"$f":"'Raw Data'!DZ44","v":"2014-02-09"},{"$f":"'Raw Data'!EA44","v":"2014-03-09"},{"$f":"'Raw Data'!EB44","v":"2014-04-09"},{"$f":"'Raw Data'!EC44","v":"2014-05-09"},{"$f":"'Raw Data'!ED44","v":"2014-06-09"},{"$f":"'Raw Data'!EE44","v":"2014-07-09"},{"$f":"'Raw Data'!EF44","v":"2014-08-09"},{"$f":"'Raw Data'!EG44","v":"2014-09-09"},{"$f":"'Raw Data'!EH44","v":"2014-10-09"},{"$f":"'Raw Data'!EI44","v":"2014-11-09"},{"$f":"'Raw Data'!EJ44","v":"2014-12-09"},{"$f":"'Raw Data'!EK44","v":"2015-01-09"},{"$f":"'Raw Data'!EL44","v":"2015-02-09"},{"$f":"'Raw Data'!EM44","v":"2015-03-09"},{"$f":"'Raw Data'!EN44","v":"2015-04-09"},{"$f":"'Raw Data'!EO44","v":"2015-05-09"},{"$f":"'Raw Data'!EP44","v":"2015-06-09"},{"$f":"'Raw Data'!EQ44","v":"2015-07-09"},{"$f":"'Raw Data'!ER44","v":"2015-08-09"},{"$f":"'Raw Data'!ES44","v":"2015-09-09"},{"$f":"'Raw Data'!ET44","v":"2015-10-09"},{"$f":"'Raw Data'!EU44","v":"2015-11-09"},{"$f":"'Raw Data'!EV44","v":"2015-12-09"},{"$f":"'Raw Data'!EW44","v":"2016-01-09"},{"$f":"'Raw Data'!EX44","v":"2016-02-09"},{"$f":"'Raw Data'!EY44","v":"2016-03-09"},{"$f":"'Raw Data'!EZ44","v":"2016-04-09"},{"$f":"'Raw Data'!FA44","v":"2016-05-09"},{"$f":"'Raw Data'!FB44","v":"2016-06-09"},{"$f":"'Raw Data'!FC44","v":"2016-07-09"},{"$f":"'Raw Data'!FD44","v":"2016-08-09"},{"$f":"'Raw Data'!FE44","v":"2016-09-09"},{"$f":"'Raw Data'!FF44","v":"2016-10-09"},{"$f":"'Raw Data'!FG44","v":"2016-11-09"},{"$f":"'Raw Data'!FH44","v":"2016-12-09"},{"$f":"'Raw Data'!FI44","v":"2017-01-09"},{"$f":"'Raw Data'!FJ44","v":"2017-02-09"},{"$f":"'Raw Data'!FK44","v":"2017-03-09"},{"$f":"'Raw Data'!FL44","v":"2017-04-09"},{"$f":"'Raw Data'!FM44","v":"2017-05-09"},{"$f":"'Raw Data'!FN44","v":"2017-06-09"},{"$f":"'Raw Data'!FO44","v":"2017-07-09"},{"$f":"'Raw Data'!FP44","v":"2017-08-09"},{"$f":"'Raw Data'!FQ44","v":"2017-09-09"},{"$f":"'Raw Data'!FR44","v":"2017-10-09"},{"$f":"'Raw Data'!FS44","v":"2017-11-09"},{"$f":"'Raw Data'!FT44","v":"2017-12-09"},{"$f":"'Raw Data'!FU44","v":"2018-01-09"},{"$f":"'Raw Data'!FV44","v":"2018-02-09"},{"$f":"'Raw Data'!FW44","v":"2018-03-09"},{"$f":"'Raw Data'!FX44","v":"2018-04-09"},{"$f":"'Raw Data'!FY44","v":"2018-05-09"},{"$f":"'Raw Data'!FZ44","v":"2018-06-09"},{"$f":"'Raw Data'!GA44","v":"2018-07-09"},{"$f":"'Raw Data'!GB44","v":"2018-08-09"},{"$f":"'Raw Data'!GC44","v":"2018-09-09"},{"$f":"'Raw Data'!GD44","v":"2018-10-09"},{"$f":"'Raw Data'!GE44","v":"2018-11-09"},{"$f":"'Raw Data'!GF44","v":"2018-12-09"},{"$f":"'Raw Data'!GG44","v":"2019-01-09"},{"$f":"'Raw Data'!GH44","v":"2019-02-09"},{"$f":"'Raw Data'!GI44","v":"2019-03-09"},{"$f":"'Raw Data'!GJ44","v":"2019-04-09"},{"$f":"'Raw Data'!GK44","v":"2019-05-09"},{"$f":"'Raw Data'!GL44","v":"2019-06-09"},{"$f":"'Raw Data'!GM44","v":"2019-07-09"},{"$f":"'Raw Data'!GN44","v":"2019-08-09"},{"$f":"'Raw Data'!GO44","v":"2019-09-09"},{"$f":"'Raw Data'!GP44","v":"2019-10-09"},{"$f":"'Raw Data'!GQ44","v":"2019-11-09"},{"$f":"'Raw Data'!GR44","v":"2019-12-09"},{"$f":"'Raw Data'!GS44","v":"2020-01-09"},{"$f":"'Raw Data'!GT44","v":"2020-02-09"},{"$f":"'Raw Data'!GU44","v":"2020-03-09"},{"$f":"'Raw Data'!GV44","v":"2020-04-09"},{"$f":"'Raw Data'!GW44","v":"2020-05-09"},{"$f":"'Raw Data'!GX44","v":"2020-06-09"},{"$f":"'Raw Data'!GY44","v":"2020-07-09"},{"$f":"'Raw Data'!GZ44","v":"2020-08-09"},{"$f":"'Raw Data'!HA44","v":"2020-09-09"},{"$f":"'Raw Data'!HB44","v":"2020-10-09"},{"$f":"'Raw Data'!HC44","v":"2020-11-09"},{"$f":"'Raw Data'!HD44","v":"2020-12-09"},{"$f":"'Raw Data'!HE44","v":"2021-01-09"},{"$f":"'Raw Data'!HF44","v":"2021-02-09"},"2021-03-21","2021-04-21","2021-05-21","2021-06-21","2021-07-21","2021-08-21","2021-09-21","2021-10-21","2021-11-21","2021-12-21","2022-01-21","2022-02-21","2022-03-21","2022-04-21","2022-05-21","2022-06-21","2022-07-21","2022-08-21","2022-09-21","2022-10-21","2022-11-21","2022-12-21","2023-01-21","2023-02-21","2023-03-21","2023-04-21","2023-05-21","2023-06-21","2023-07-21","2023-08-21","2023-09-21","2023-10-21","2023-11-21","2023-12-21","2024-01-21","2024-02-21","2024-03-21","2024-04-21","2024-05-21","2024-06-21","2024-07-21","2024-08-21","2024-09-21","2024-10-21","2024-11-21","2024-12-21","2025-01-21","2025-02-21","2025-03-21","2025-04-21","2025-05-21","2025-06-21","2025-07-21","2025-08-21","2025-09-21","2025-10-21","2025-11-21","2025-12-21"]
[{"$f":"'Raw Data'!A45","v":"Residential"},{"$f":"'Raw Data'!P45","v":0},{"$f":"'Raw Data'!Q45","v":0},{"$f":"'Raw Data'!R45","v":0},{"$f":"'Raw Data'!S45","v":0},{"$f":"'Raw Data'!T45","v":2357},{"$f":"'Raw Data'!U45","v":149},{"$f":"'Raw Data'!V45","v":119},{"$f":"'Raw Data'!W45","v":190},{"$f":"'Raw Data'!X45","v":208},{"$f":"'Raw Data'!Y45","v":286},{"$f":"'Raw Data'!Z45","v":234},{"$f":"'Raw Data'!AA45","v":167},{"$f":"'Raw Data'!AB45","v":178},{"$f":"'Raw Data'!AC45","v":177},{"$f":"'Raw Data'!AD45","v":162},{"$f":"'Raw Data'!AE45","v":126},{"$f":"'Raw Data'!AF45","v":108},{"$f":"'Raw Data'!AG45","v":97},{"$f":"'Raw Data'!AH45","v":93},{"$f":"'Raw Data'!AI45","v":122},{"$f":"'Raw Data'!AJ45","v":118},{"$f":"'Raw Data'!AK45","v":151},{"$f":"'Raw Data'!AL45","v":117},{"$f":"'Raw Data'!AM45","v":83},{"$f":"'Raw Data'!AN45","v":106},{"$f":"'Raw Data'!AO45","v":93},{"$f":"'Raw Data'!AP45","v":119},{"$f":"'Raw Data'!AQ45","v":81},{"$f":"'Raw Data'!AR45","v":89},{"$f":"'Raw Data'!AS45","v":76},{"$f":"'Raw Data'!AT45","v":103},{"$f":"'Raw Data'!AU45","v":100},{"$f":"'Raw Data'!AV45","v":119},{"$f":"'Raw Data'!AW45","v":137},{"$f":"'Raw Data'!AX45","v":117},{"$f":"'Raw Data'!AY45","v":103},{"$f":"'Raw Data'!AZ45","v":106},{"$f":"'Raw Data'!BA45","v":104},{"$f":"'Raw Data'!BB45","v":95},{"$f":"'Raw Data'!BC45","v":93},{"$f":"'Raw Data'!BD45","v":82},{"$f":"'Raw Data'!BE45","v":57},{"$f":"'Raw Data'!BF45","v":75},{"$f":"'Raw Data'!BG45","v":96},{"$f":"'Raw Data'!BH45","v":92},{"$f":"'Raw Data'!BI45","v":111},{"$f":"'Raw Data'!BJ45","v":110},{"$f":"'Raw Data'!BK45","v":94},{"$f":"'Raw Data'!BL45","v":103},{"$f":"'Raw Data'!BM45","v":93},{"$f":"'Raw Data'!BN45","v":85},{"$f":"'Raw Data'!BO45","v":60},{"$f":"'Raw Data'!BP45","v":69},{"$f":"'Raw Data'!BQ45","v":42},{"$f":"'Raw Data'!BR45","v":68},{"$f":"'Raw Data'!BS45","v":84},{"$f":"'Raw Data'!BT45","v":81},{"$f":"'Raw Data'!BU45","v":111},{"$f":"'Raw Data'!BV45","v":114},{"$f":"'Raw Data'!BW45","v":105},{"$f":"'Raw Data'!BX45","v":105},{"$f":"'Raw Data'!BY45","v":104},{"$f":"'Raw Data'!BZ45","v":106},{"$f":"'Raw Data'!CA45","v":106},{"$f":"'Raw Data'!CB45","v":100},{"$f":"'Raw Data'!CC45","v":86},{"$f":"'Raw Data'!CD45","v":72},{"$f":"'Raw Data'!CE45","v":113},{"$f":"'Raw Data'!CF45","v":136},{"$f":"'Raw Data'!CG45","v":151},{"$f":"'Raw Data'!CH45","v":137},{"$f":"'Raw Data'!CI45","v":125},{"$f":"'Raw Data'!CJ45","v":99},{"$f":"'Raw Data'!CK45","v":109},{"$f":"'Raw Data'!CL45","v":115},{"$f":"'Raw Data'!CM45","v":106},{"$f":"'Raw Data'!CN45","v":125},{"$f":"'Raw Data'!CO45","v":83},{"$f":"'Raw Data'!CP45","v":87},{"$f":"'Raw Data'!CQ45","v":130},{"$f":"'Raw Data'!CR45","v":137},{"$f":"'Raw Data'!CS45","v":124},{"$f":"'Raw Data'!CT45","v":142},{"$f":"'Raw Data'!CU45","v":127},{"$f":"'Raw Data'!CV45","v":105},{"$f":"'Raw Data'!CW45","v":113},{"$f":"'Raw Data'!CX45","v":109},{"$f":"'Raw Data'!CY45","v":74},{"$f":"'Raw Data'!CZ45","v":102},{"$f":"'Raw Data'!DA45","v":94},{"$f":"'Raw Data'!DB45","v":112},{"$f":"'Raw Data'!DC45","v":171},{"$f":"'Raw Data'!DD45","v":131},{"$f":"'Raw Data'!DE45","v":165},{"$f":"'Raw Data'!DF45","v":146},{"$f":"'Raw Data'!DG45","v":121},{"$f":"'Raw Data'!DH45","v":125},{"$f":"'Raw Data'!DI45","v":146},{"$f":"'Raw Data'!DJ45","v":134},{"$f":"'Raw Data'!DK45","v":129},{"$f":"'Raw Data'!DL45","v":109},{"$f":"'Raw Data'!DM45","v":89},{"$f":"'Raw Data'!DN45","v":91},{"$f":"'Raw Data'!DO45","v":136},{"$f":"'Raw Data'!DP45","v":168},{"$f":"'Raw Data'!DQ45","v":157},{"$f":"'Raw Data'!DR45","v":150},{"$f":"'Raw Data'!DS45","v":161},{"$f":"'Raw Data'!DT45","v":136},{"$f":"'Raw Data'!DU45","v":127},{"$f":"'Raw Data'!DV45","v":114},{"$f":"'Raw Data'!DW45","v":115},{"$f":"'Raw Data'!DX45","v":125},{"$f":"'Raw Data'!DY45","v":106},{"$f":"'Raw Data'!DZ45","v":88},{"$f":"'Raw Data'!EA45","v":115},{"$f":"'Raw Data'!EB45","v":149},{"$f":"'Raw Data'!EC45","v":192},{"$f":"'Raw Data'!ED45","v":147},{"$f":"'Raw Data'!EE45","v":122},{"$f":"'Raw Data'!EF45","v":127},{"$f":"'Raw Data'!EG45","v":142},{"$f":"'Raw Data'!EH45","v":144},{"$f":"'Raw Data'!EI45","v":118},{"$f":"'Raw Data'!EJ45","v":157},{"$f":"'Raw Data'!EK45","v":96},{"$f":"'Raw Data'!EL45","v":105},{"$f":"'Raw Data'!EM45","v":140},{"$f":"'Raw Data'!EN45","v":153},{"$f":"'Raw Data'!EO45","v":202},{"$f":"'Raw Data'!EP45","v":185},{"$f":"'Raw Data'!EQ45","v":171},{"$f":"'Raw Data'!ER45","v":146},{"$f":"'Raw Data'!ES45","v":143},{"$f":"'Raw Data'!ET45","v":159},{"$f":"'Raw Data'!EU45","v":143},{"$f":"'Raw Data'!EV45","v":148},{"$f":"'Raw Data'!EW45","v":111},{"$f":"'Raw Data'!EX45","v":92},{"$f":"'Raw Data'!EY45","v":138},{"$f":"'Raw Data'!EZ45","v":158},{"$f":"'Raw Data'!FA45","v":175},{"$f":"'Raw Data'!FB45","v":185},{"$f":"'Raw Data'!FC45","v":155},{"$f":"'Raw Data'!FD45","v":159},{"$f":"'Raw Data'!FE45","v":159},{"$f":"'Raw Data'!FF45","v":145},{"$f":"'Raw Data'!FG45","v":140},{"$f":"'Raw Data'!FH45","v":173},{"$f":"'Raw Data'!FI45","v":112},{"$f":"'Raw Data'!FJ45","v":129},{"$f":"'Raw Data'!FK45","v":180},{"$f":"'Raw Data'!FL45","v":180},{"$f":"'Raw Data'!FM45","v":203},{"$f":"'Raw Data'!FN45","v":218},{"$f":"'Raw Data'!FO45","v":136},{"$f":"'Raw Data'!FP45","v":171},{"$f":"'Raw Data'!FQ45","v":162},{"$f":"'Raw Data'!FR45","v":166},{"$f":"'Raw Data'!FS45","v":164},{"$f":"'Raw Data'!FT45","v":164},{"$f":"'Raw Data'!FU45","v":118},{"$f":"'Raw Data'!FV45","v":89},{"$f":"'Raw Data'!FW45","v":187},{"$f":"'Raw Data'!FX45","v":186},{"$f":"'Raw Data'!FY45","v":219},{"$f":"'Raw Data'!FZ45","v":188},{"$f":"'Raw Data'!GA45","v":172},{"$f":"'Raw Data'!GB45","v":189},{"$f":"'Raw Data'!GC45","v":142},{"$f":"'Raw Data'!GD45","v":176},{"$f":"'Raw Data'!GE45","v":135},{"$f":"'Raw Data'!GF45","v":166},{"$f":"'Raw Data'!GG45","v":119},{"$f":"'Raw Data'!GH45","v":123},{"$f":"'Raw Data'!GI45","v":184},{"$f":"'Raw Data'!GJ45","v":189},{"$f":"'Raw Data'!GK45","v":217},{"$f":"'Raw Data'!GL45","v":190},{"$f":"'Raw Data'!GM45","v":185},{"$f":"'Raw Data'!GN45","v":201},{"$f":"'Raw Data'!GO45","v":162},{"$f":"'Raw Data'!GP45","v":189},{"$f":"'Raw Data'!GQ45","v":206},{"$f":"'Raw Data'!GR45","v":174},{"$f":"'Raw Data'!GS45","v":148},{"$f":"'Raw Data'!GT45","v":146},{"$f":"'Raw Data'!GU45","v":198},{"$f":"'Raw Data'!GV45","v":154},{"$f":"'Raw Data'!GW45","v":150},{"$f":"'Raw Data'!GX45","v":221},{"$f":"'Raw Data'!GY45","v":396},{"$f":"'Raw Data'!GZ45","v":322},{"$f":"'Raw Data'!HA45","v":358},{"$f":"'Raw Data'!HB45","v":372},{"$f":"'Raw Data'!HC45","v":310},{"$f":"'Raw Data'!HD45","v":316},{"$f":"'Raw Data'!HE45","v":263},{"$f":"'Raw Data'!HF45","v":237},{"$f":"'Raw Data'!HG45","v":377},{"$f":"'Raw Data'!HH45","v":349},{"$f":"'Raw Data'!HI45","v":337},{"$f":"'Raw Data'!HJ45","v":326},{"$f":"'Raw Data'!HK45","v":263},{"$f":"'Raw Data'!HL45","v":234},{"$f":"'Raw Data'!HM45","v":230},{"$f":"'Raw Data'!HN45","v":253},{"$f":"'Raw Data'!HO45","v":267},{"$f":"'Raw Data'!HP45","v":240},{"$f":"'Raw Data'!HQ45","v":225},{"$f":"'Raw Data'!HR45","v":182},{"$f":"'Raw Data'!HS45","v":300},{"$f":"'Raw Data'!HT45","v":265},{"$f":"'Raw Data'!HU45","v":247},{"$f":"'Raw Data'!HV45","v":235},{"$f":"'Raw Data'!HW45","v":171},{"$f":"'Raw Data'!HX45","v":201},{"$f":"'Raw Data'!HY45","v":179},{"$f":"'Raw Data'!HZ45","v":161},{"$f":"'Raw Data'!IA45","v":161},{"$f":"'Raw Data'!IB45","v":131},{"$f":"'Raw Data'!IC45","v":101},{"$f":"'Raw Data'!ID45","v":137},{"$f":"'Raw Data'!IE45","v":193},{"$f":"'Raw Data'!IF45","v":166},{"$f":"'Raw Data'!IG45","v":185},{"$f":"'Raw Data'!IH45","v":189},{"$f":"'Raw Data'!II45","v":126},{"$f":"'Raw Data'!IJ45","v":0},{"$f":"'Raw Data'!IK45","v":0},{"$f":"'Raw Data'!IL45","v":0},{"$f":"'Raw Data'!IM45","v":0},{"$f":"'Raw Data'!IN45","v":0},{"$f":"'Raw Data'!IO45","v":0},{"$f":"'Raw Data'!IP45","v":0},{"$f":"'Raw Data'!IQ45","v":0},{"$f":"'Raw Data'!IR45","v":0},{"$f":"'Raw Data'!IS45","v":0},{"$f":"'Raw Data'!IT45","v":0},{"$f":"'Raw Data'!IU45","v":0},{"$f":"'Raw Data'!IV45","v":0},{"$f":"'Raw Data'!IW45","v":0},{"$f":"'Raw Data'!IX45","v":0},{"$f":"'Raw Data'!IY45","v":0},{"$f":"'Raw Data'!IZ45","v":0},{"$f":"'Raw Data'!JA45","v":0},{"$f":"'Raw Data'!JB45","v":0},{"$f":"'Raw Data'!JC45","v":0},{"$f":"'Raw Data'!JD45","v":0},{"$f":"'Raw Data'!JE45","v":0},{"$f":"'Raw Data'!JF45","v":0},{"$f":"'Raw Data'!JG45","v":0},{"$f":"'Raw Data'!JH45","v":0},{"$f":"'Raw Data'!JI45","v":0},{"$f":"'Raw Data'!JJ45","v":0},{"$f":"'Raw Data'!JK45","v":0},{"$f":"'Raw Data'!JL45","v":0}]
["Total Sold Volume",{"$f":"'Raw Data'!P69","v":0},{"$f":"'Raw Data'!Q69","v":0},{"$f":"'Raw Data'!R69","v":0},{"$f":"'Raw Data'!S69","v":0},{"$f":"'Raw Data'!T69","v":0},{"$f":"'Raw Data'!U69","v":0},{"$f":"'Raw Data'!V69","v":0},{"$f":"'Raw Data'!W69","v":0},{"$f":"'Raw Data'!X69","v":0},{"$f":"'Raw Data'!Y69","v":0},{"$f":"'Raw Data'!Z69","v":0},{"$f":"'Raw Data'!AA69","v":0},{"$f":"'Raw Data'!AB69","v":0},{"$f":"'Raw Data'!AC69","v":0},{"$f":"'Raw Data'!AD69","v":0},{"$f":"'Raw Data'!AE69","v":0},{"$f":"'Raw Data'!AF69","v":0},{"$f":"'Raw Data'!AG69","v":47205399},{"$f":"'Raw Data'!AH69","v":42604901},{"$f":"'Raw Data'!AI69","v":34471262},{"$f":"'Raw Data'!AJ69","v":65265602},{"$f":"'Raw Data'!AK69","v":69520550},{"$f":"'Raw Data'!AL69","v":71410330},{"$f":"'Raw Data'!AM69","v":39816189},{"$f":"'Raw Data'!AN69","v":47717662},{"$f":"'Raw Data'!AO69","v":39526640},{"$f":"'Raw Data'!AP69","v":55853877},{"$f":"'Raw Data'!AQ69","v":40503552},{"$f":"'Raw Data'!AR69","v":44178183},{"$f":"'Raw Data'!AS69","v":40466294},{"$f":"'Raw Data'!AT69","v":46819475},{"$f":"'Raw Data'!AU69","v":55710954},{"$f":"'Raw Data'!AV69","v":62732539},{"$f":"'Raw Data'!AW69","v":62448361},{"$f":"'Raw Data'!AX69","v":50109260},{"$f":"'Raw Data'!AY69","v":59946824},{"$f":"'Raw Data'!AZ69","v":45920200},{"$f":"'Raw Data'!BA69","v":57090150},{"$f":"'Raw Data'!BB69","v":46714300},{"$f":"'Raw Data'!BC69","v":40503552},{"$f":"'Raw Data'!BD69","v":39565039},{"$f":"'Raw Data'!BE69","v":29895912},{"$f":"'Raw Data'!BF69","v":34091850},{"$f":"'Raw Data'!BG69","v":38789750},{"$f":"'Raw Data'!BH69","v":40704191},{"$f":"'Raw Data'!BI69","v":47407365},{"$f":"'Raw Data'!BJ69","v":44900829},{"$f":"'Raw Data'!BK69","v":43655189},{"$f":"'Raw Data'!BL69","v":40686545},{"$f":"'Raw Data'!BM69","v":37749435},{"$f":"'Raw Data'!BN69","v":35297989},{"$f":"'Raw Data'!BO69","v":30566326},{"$f":"'Raw Data'!BP69","v":31291849},{"$f":"'Raw Data'!BQ69","v":17389450},{"$f":"'Raw Data'!BR69","v":25328675},{"$f":"'Raw Data'!BS69","v":32464567},{"$f":"'Raw Data'!BT69","v":32852000},{"$f":"'Raw Data'!BU69","v":39288899},{"$f":"'Raw Data'!BV69","v":45943450},{"$f":"'Raw Data'!BW69","v":33608526},{"$f":"'Raw Data'!BX69","v":34830434},{"$f":"'Raw Data'!BY69","v":35700844},{"$f":"'Raw Data'!BZ69","v":38765085},{"$f":"'Raw Data'!CA69","v":36754930},{"$f":"'Raw Data'!CB69","v":42705700},{"$f":"'Raw Data'!CC69","v":38818500},{"$f":"'Raw Data'!CD69","v":28584449},{"$f":"'Raw Data'!CE69","v":42139213},{"$f":"'Raw Data'!CF69","v":47052654},{"$f":"'Raw Data'!CG69","v":56282280},{"$f":"'Raw Data'!CH69","v":46474846},{"$f":"'Raw Data'!CI69","v":38824552},{"$f":"'Raw Data'!CJ69","v":33043860},{"$f":"'Raw Data'!CK69","v":37634009},{"$f":"'Raw Data'!CL69","v":39431307},{"$f":"'Raw Data'!CM69","v":35531023},{"$f":"'Raw Data'!CN69","v":47323910},{"$f":"'Raw Data'!CO69","v":31881469},{"$f":"'Raw Data'!CP69","v":34630380},{"$f":"'Raw Data'!CQ69","v":47885276},{"$f":"'Raw Data'!CR69","v":51253523},{"$f":"'Raw Data'!CS69","v":52702977},{"$f":"'Raw Data'!CT69","v":51471051},{"$f":"'Raw Data'!CU69","v":39291126},{"$f":"'Raw Data'!CV69","v":30810405},{"$f":"'Raw Data'!CW69","v":45425058},{"$f":"'Raw Data'!CX69","v":34305520},{"$f":"'Raw Data'!CY69","v":23661088},{"$f":"'Raw Data'!CZ69","v":39944789},{"$f":"'Raw Data'!DA69","v":34849705},{"$f":"'Raw Data'!DB69","v":37622376},{"$f":"'Raw Data'!DC69","v":64782870},{"$f":"'Raw Data'!DD69","v":44171441},{"$f":"'Raw Data'!DE69","v":56930290},{"$f":"'Raw Data'!DF69","v":54067033},{"$f":"'Raw Data'!DG69","v":40109155},{"$f":"'Raw Data'!DH69","v":40622120},{"$f":"'Raw Data'!DI69","v":42910709},{"$f":"'Raw Data'!DJ69","v":48155487},{"$f":"'Raw Data'!DK69","v":50105950},{"$f":"'Raw Data'!DL69","v":46591321},{"$f":"'Raw Data'!DM69","v":29025378},{"$f":"'Raw Data'!DN69","v":28634562},{"$f":"'Raw Data'!DO69","v":51596237},{"$f":"'Raw Data'!DP69","v":53703510},{"$f":"'Raw Data'!DQ69","v":58312054},{"$f":"'Raw Data'!DR69","v":55867599},{"$f":"'Raw Data'!DS69","v":57774133},{"$f":"'Raw Data'!DT69","v":44799538},{"$f":"'Raw Data'!DU69","v":38887863},{"$f":"'Raw Data'!DV69","v":43728710},{"$f":"'Raw Data'!DW69","v":39376616},{"$f":"'Raw Data'!DX69","v":46505857},{"$f":"'Raw Data'!DY69","v":41558956},{"$f":"'Raw Data'!DZ69","v":30797923},{"$f":"'Raw Data'!EA69","v":44973561},{"$f":"'Raw Data'!EB69","v":64870853},{"$f":"'Raw Data'!EC69","v":75392586},{"$f":"'Raw Data'!ED69","v":54630189},{"$f":"'Raw Data'!EE69","v":42500893},{"$f":"'Raw Data'!EF69","v":38587393},{"$f":"'Raw Data'!EG69","v":47717101},{"$f":"'Raw Data'!EH69","v":50919644},{"$f":"'Raw Data'!EI69","v":48613801},{"$f":"'Raw Data'!EJ69","v":61219467},{"$f":"'Raw Data'!EK69","v":37825852},{"$f":"'Raw Data'!EL69","v":36899888},{"$f":"'Raw Data'!EM69","v":47172437},{"$f":"'Raw Data'!EN69","v":60797939},{"$f":"'Raw Data'!EO69","v":67662469},{"$f":"'Raw Data'!EP69","v":74699702},{"$f":"'Raw Data'!EQ69","v":63168186},{"$f":"'Raw Data'!ER69","v":51303745},{"$f":"'Raw Data'!ES69","v":50863793},{"$f":"'Raw Data'!ET69","v":48597661},{"$f":"'Raw Data'!EU69","v":54310986},{"$f":"'Raw Data'!EV69","v":56364805},{"$f":"'Raw Data'!EW69","v":47379563},{"$f":"'Raw Data'!EX69","v":33437008},{"$f":"'Raw Data'!EY69","v":52363972},{"$f":"'Raw Data'!EZ69","v":58917871},{"$f":"'Raw Data'!FA69","v":63408941},{"$f":"'Raw Data'!FB69","v":71863377},{"$f":"'Raw Data'!FC69","v":53939277},{"$f":"'Raw Data'!FD69","v":55109188},{"$f":"'Raw Data'!FE69","v":55925776},{"$f":"'Raw Data'!FF69","v":51278488},{"$f":"'Raw Data'!FG69","v":51150392},{"$f":"'Raw Data'!FH69","v":68382407},{"$f":"'Raw Data'!FI69","v":46171775},{"$f":"'Raw Data'!FJ69","v":49404971},{"$f":"'Raw Data'!FK69","v":66557269},{"$f":"'Raw Data'!FL69","v":72187652},{"$f":"'Raw Data'!FM69","v":81978227},{"$f":"'Raw Data'!FN69","v":83911384},{"$f":"'Raw Data'!FO69","v":53770962},{"$f":"'Raw Data'!FP69","v":60870546},{"$f":"'Raw Data'!FQ69","v":60920419},{"$f":"'Raw Data'!FR69","v":57534728},{"$f":"'Raw Data'!FS69","v":61423739},{"$f":"'Raw Data'!FT69","v":71325400},{"$f":"'Raw Data'!FU69","v":53806022},{"$f":"'Raw Data'!FV69","v":37775593},{"$f":"'Raw Data'!FW69","v":74855305},{"$f":"'Raw Data'!FX69","v":72701705},{"$f":"'Raw Data'!FY69","v":95944777},{"$f":"'Raw Data'!FZ69","v":77879484},{"$f":"'Raw Data'!GA69","v":71991330},{"$f":"'Raw Data'!GB69","v":70552463},{"$f":"'Raw Data'!GC69","v":51055445},{"$f":"'Raw Data'!GD69","v":68813556},{"$f":"'Raw Data'!GE69","v":53716537},{"$f":"'Raw Data'!GF69","v":75011518},{"$f":"'Raw Data'!GG69","v":47996645},{"$f":"'Raw Data'!GH69","v":47520857},{"$f":"'Raw Data'!GI69","v":73175948},{"$f":"'Raw Data'!GJ69","v":77882329},{"$f":"'Raw Data'!GK69","v":85644128},{"$f":"'Raw Data'!GL69","v":77881539},{"$f":"'Raw Data'!GM69","v":68405376},{"$f":"'Raw Data'!GN69","v":75137084},{"$f":"'Raw Data'!GO69","v":66950.350000000006},{"$f":"'Raw Data'!GP69","v":75993539},{"$f":"'Raw Data'!GQ69","v":90283404},{"$f":"'Raw Data'!GR69","v":73319980},{"$f":"'Raw Data'!GS69","v":59692538},{"$f":"'Raw Data'!GT69","v":52783977},{"$f":"'Raw Data'!GU69","v":86642322},{"$f":"'Raw Data'!GV69","v":63917397},{"$f":"'Raw Data'!GW69","v":60473571},{"$f":"'Raw Data'!GX69","v":87099309},{"$f":"'Raw Data'!GY69","v":175725314},{"$f":"'Raw Data'!GZ69","v":151135811},{"$f":"'Raw Data'!HA69","v":175448586},{"$f":"'Raw Data'!HB69","v":199247577},{"$f":"'Raw Data'!HC69","v":173614022},{"$f":"'Raw Data'!HD69","v":182162109},{"$f":"'Raw Data'!HE69","v":139019355},{"$f":"'Raw Data'!HF69","v":125519815},{"$f":"'Raw Data'!HG69","v":224932131},{"$f":"'Raw Data'!HH69","v":210979465},{"$f":"'Raw Data'!HI69","v":216393628},{"$f":"'Raw Data'!HJ69","v":221039293},{"$f":"'Raw Data'!HK69","v":165370385},{"$f":"'Raw Data'!HL69","v":143034410},{"$f":"'Raw Data'!HM69","v":142413206},{"$f":"'Raw Data'!HN69","v":168784558},{"$f":"'Raw Data'!HO69","v":164928718},{"$f":"'Raw Data'!HP69","v":167048527},{"$f":"'Raw Data'!HQ69","v":163275539},{"$f":"'Raw Data'!HR69","v":140682279},{"$f":"'Raw Data'!HS69","v":222154531},{"$f":"'Raw Data'!HT69","v":199253257},{"$f":"'Raw Data'!HU69","v":189034064},{"$f":"'Raw Data'!HV69","v":167309528},{"$f":"'Raw Data'!HW69","v":131792618},{"$f":"'Raw Data'!HX69","v":123473834},{"$f":"'Raw Data'!HY69","v":115771984},{"$f":"'Raw Data'!HZ69","v":114476319},{"$f":"'Raw Data'!IA69","v":101846155},{"$f":"'Raw Data'!IB69","v":91030096},{"$f":"'Raw Data'!IC69","v":72043087},{"$f":"'Raw Data'!ID69","v":77678473},{"$f":"'Raw Data'!IE69","v":135010870},{"$f":"'Raw Data'!IF69","v":105684431},{"$f":"'Raw Data'!IG69","v":127769028},{"$f":"'Raw Data'!IH69","v":141557759},{"$f":"'Raw Data'!II69","v":77712888},{"$f":"'Raw Data'!IJ69","v":0},{"$f":"'Raw Data'!IK69","v":0},{"$f":"'Raw Data'!IL69","v":0},{"$f":"'Raw Data'!IM69","v":0},{"$f":"'Raw Data'!IN69","v":0},{"$f":"'Raw Data'!IO69","v":0},{"$f":"'Raw Data'!IP69","v":0},{"$f":"'Raw Data'!IQ69","v":0},{"$f":"'Raw Data'!IR69","v":0},{"$f":"'Raw Data'!IS69","v":0},{"$f":"'Raw Data'!IT69","v":0},{"$f":"'Raw Data'!IU69","v":0},{"$f":"'Raw Data'!IV69","v":0},{"$f":"'Raw Data'!IW69","v":0},{"$f":"'Raw Data'!IX69","v":0},{"$f":"'Raw Data'!IY69","v":0},{"$f":"'Raw Data'!IZ69","v":0},{"$f":"'Raw Data'!JA69","v":0},{"$f":"'Raw Data'!JB69","v":0},{"$f":"'Raw Data'!JC69","v":0},{"$f":"'Raw Data'!JD69","v":0},{"$f":"'Raw Data'!JE69","v":0},{"$f":"'Raw Data'!JF69","v":0},{"$f":"'Raw Data'!JG69","v":0},{"$f":"'Raw Data'!JH69","v":0},{"$f":"'Raw Data'!JI69","v":0},{"$f":"'Raw Data'!JJ69","v":0},{"$f":"'Raw Data'!JK69","v":0},{"$f":"'Raw Data'!JL69","v":0}]
[]
[{"$nulls":44},{"$f":"AS1","v":"2008-03-03"},"2008-04-01","2008-05-01","2008-06-01","2008-07-01","2008-08-01","2008-09-01","2008-10-08","2008-11-14","2008-12-21","2009-01-27","2009-02-09","2009-03-09","2009-04-09","2009-05-09","2009-06-09","2009-07-09","2009-08-09","2009-09-09","2009-10-09","2009-11-09","2009-12-09","2010-01-09","2010-02-09","2010-03-09","2010-04-09","2010-05-09","2010-06-09","2010-07-09","2010-08-09","2010-09-09","2010-10-09","2010-11-09","2010-12-09","2011-01-09","2011-02-09","2011-03-09","2011-04-09","2011-05-09","2011-06-09","2011-07-09","2011-08-09","2011-09-09","2011-10-09","2011-11-09","2011-12-09","2012-01-09","2012-02-09","2012-03-09","2012-04-09","2012-05-09","2012-06-09","2012-07-09","2012-08-09","2012-09-09","2012-10-09","2012-11-09","2012-12-09","2013-01-09","2013-02-09","2013-03-09","2013-04-09","2013-05-09","2013-06-09","2013-07-09","2013-08-09","2013-09-09","2013-10-09","2013-11-09","2013-12-09","2014-01-09","2014-02-09","2014-03-09","2014-04-09","2014-05-09","2014-06-09","2014-07-09","2014-08-09","2014-09-09","2014-10-09","2014-11-09","2014-12-09","2015-01-09","2015-02-09","2015-03-09","2015-04-09","2015-05-09","2015-06-09","2015-07-09","2015-08-09","2015-09-09","2015-10-09","2015-11-09","2015-12-09","2016-01-09","2016-02-09","2016-03-09","2016-04-09","2016-05-09","2016-06-09","2016-07-09","2016-08-09","2016-09-09","2016-10-09","2016-11-09","2016-12-09","2017-01-09","2017-02-09","2017-03-09","2017-04-09","2017-05-09","2017-06-09","2017-07-09","2017-08-09","2017-09-09","2017-10-09","2017-11-09","2017-12-09","2018-01-09","2018-02-09","2018-03-09","2018-04-09","2018-05-09","2018-06-09","2018-07-09","2018-08-09","2018-09-09","2018-10-09","2018-11-09","2018-12-09","2019-01-09","2019-02-09","2019-03-09","2019-04-09","2019-05-09","2019-06-09","2019-07-09","2019-08-09","2019-09-09","2019-10-09","2019-11-09","2019-12-09","2020-01-09","2020-02-09","2020-03-09","2020-04-09","2020-05-09","2020-06-09","2020-07-20","2020-08-20","2020-09-20","2020-10-20","2020-11-20","2020-12-20","2021-01-20","2021-02-20","2021-03-20","2021-04-20","2021-05-20","2021-06-20","2021-07-20","2021-08-20","2021-09-20","2021-10-20","2021-11-20","2021-12-20","2022-01-20","2022-02-20","2022-03-20","2022-04-20","2022-05-20","2022-06-20","2022-07-20","2022-08-20","2022-09-20","2022-10-20","2022-11-20","2022-12-20","2023-01-20","2023-02-20","2023-03-20","2023-04-20","2023-05-20","2023-06-20","2023-07-20","2023-08-20","2023-09-20","2023-10-20","2023-11-20","2023-12-20","2024-01-20","2024-02-20","2024-03-20","2024-04-20","2024-05-20","2024-06-20","2024-07-20","2024-08-20","2024-09-20","2024-10-20","2024-11-20","2024-12-20","2025-01-20","2025-02-20","2025-03-20","2025-04-20","2025-05-20","2025-06-20","2025-07-20","2025-08-20","2025-09-20","2025-10-20","2025-11-20","2025-12-20"]
["Average ",{"$nulls":43},{"$f":"'Raw Data'!BG67","v":302450},{"$f":"'Raw Data'!BH67","v":391386},{"$f":"'Raw Data'!BI67","v":438957},{"$f":"'Raw Data'!BJ67","v":435930},{"$f":"'Raw Data'!BK67","v":501898},{"$f":"'Raw Data'!BL67","v":379874},{"$f":"'Raw Data'!BM67","v":370092},{"$f":"'Raw Data'!BN67","v":387889},{"$f":"'Raw Data'!BO67","v":396965},{"$f":"'Raw Data'!BP67","v":444173},{"$f":"'Raw Data'!BQ67","v":414034},{"$f":"'Raw Data'!BR67","v":372480},{"$f":"'Raw Data'!BS67","v":391139},{"$f":"'Raw Data'!BT67","v":405580},{"$f":"'Raw Data'!BU67","v":370649},{"$f":"'Raw Data'!BV67","v":417667},{"$f":"'Raw Data'!BW67","v":332757},{"$f":"'Raw Data'!BX67","v":355412},{"$f":"'Raw Data'!BY67","v":280000},{"$f":"'Raw Data'!BZ67","v":330000},{"$f":"'Raw Data'!CA67","v":367549},{"$f":"'Raw Data'!CB67","v":481398},{"$f":"'Raw Data'!CC67","v":451377},{"$f":"'Raw Data'!CD67","v":408349},{"$f":"'Raw Data'!CE67","v":386598},{"$f":"'Raw Data'!CF67","v":283500},{"$f":"'Raw Data'!CG67","v":385495},{"$f":"'Raw Data'!CH67","v":365943},{"$f":"'Raw Data'!CI67","v":331833},{"$f":"'Raw Data'!CJ67","v":275450},{"$f":"'Raw Data'!CK67","v":361865},{"$f":"'Raw Data'!CL67","v":352065},{"$f":"'Raw Data'!CM67","v":348343},{"$f":"'Raw Data'!CN67","v":378591},{"$f":"'Raw Data'!CO67","v":388798},{"$f":"'Raw Data'!CP67","v":407416},{"$f":"'Raw Data'!CQ67","v":371203},{"$f":"'Raw Data'!CR67","v":374113},{"$f":"'Raw Data'!CS67","v":431991},{"$f":"'Raw Data'!CT67","v":362472},{"$f":"'Raw Data'!CU67","v":316863},{"$f":"'Raw Data'!CV67","v":314391},{"$f":"'Raw Data'!CW67","v":405580},{"$f":"'Raw Data'!CX67","v":317643},{"$f":"'Raw Data'!CY67","v":333254},{"$f":"'Raw Data'!CZ67","v":411801},{"$f":"'Raw Data'!DA67","v":370741},{"$f":"'Raw Data'!DB67","v":348355},{"$f":"'Raw Data'!DC67","v":412362},{"$f":"'Raw Data'!DD67","v":337186},{"$f":"'Raw Data'!DE67","v":349265},{"$f":"'Raw Data'!DF67","v":378091},{"$f":"'Raw Data'!DG67","v":378878},{"$f":"'Raw Data'!DH67","v":327597},{"$f":"'Raw Data'!DI67","v":295935},{"$f":"'Raw Data'!DJ67","v":366492},{"$f":"'Raw Data'!DK67","v":388418},{"$f":"'Raw Data'!DL67","v":431401},{"$f":"'Raw Data'!DM67","v":326127},{"$f":"'Raw Data'!DN67","v":314665},{"$f":"'Raw Data'!DO67","v":379384},{"$f":"'Raw Data'!DP67","v":319663},{"$f":"'Raw Data'!DQ67","v":371414},{"$f":"'Raw Data'!DR67","v":372450},{"$f":"'Raw Data'!DS67","v":358845},{"$f":"'Raw Data'!DT67","v":329408},{"$f":"'Raw Data'!DU67","v":306203},{"$f":"'Raw Data'!DV67","v":383585},{"$f":"'Raw Data'!DW67","v":342405},{"$f":"'Raw Data'!DX67","v":372046},{"$f":"'Raw Data'!DY67","v":392065},{"$f":"'Raw Data'!DZ67","v":349976},{"$f":"'Raw Data'!EA67","v":391074},{"$f":"'Raw Data'!EB67","v":435374},{"$f":"'Raw Data'!EC67","v":392669},{"$f":"'Raw Data'!ED67","v":371633},{"$f":"'Raw Data'!EE67","v":351247},{"$f":"'Raw Data'!EF67","v":303837},{"$f":"'Raw Data'!EG67","v":343288},{"$f":"'Raw Data'!EH67","v":361132},{"$f":"'Raw Data'!EI67","v":342350},{"$f":"'Raw Data'!EJ67","v":402759},{"$f":"'Raw Data'!EK67","v":293223},{"$f":"'Raw Data'!EL67","v":358251},{"$f":"'Raw Data'!EM67","v":336945},{"$f":"'Raw Data'!EN67","v":397372},{"$f":"'Raw Data'!EO67","v":340012},{"$f":"'Raw Data'!EP67","v":403782},{"$f":"'Raw Data'!EQ67","v":331603},{"$f":"'Raw Data'!ER67","v":351395},300000,{"$f":"'Raw Data'!ET67","v":309539},{"$f":"'Raw Data'!EU67","v":379797},{"$f":"'Raw Data'!EV67","v":380843},{"$f":"'Raw Data'!EW67","v":426842},{"$f":"'Raw Data'!EX67","v":363445},{"$f":"'Raw Data'!EY67","v":379449},{"$f":"'Raw Data'!EZ67","v":372897},{"$f":"'Raw Data'!FA67","v":362336},{"$f":"'Raw Data'!FB67","v":388450},{"$f":"'Raw Data'!FC67","v":347995},{"$f":"'Raw Data'!FD67","v":346598},{"$f":"'Raw Data'!FE67","v":351734},{"$f":"'Raw Data'!FF67","v":353644},{"$f":"'Raw Data'!FG67","v":365359},{"$f":"'Raw Data'!FH67","v":395274},{"$f":"'Raw Data'!FI67","v":412247},{"$f":"'Raw Data'!FJ67","v":385976},{"$f":"'Raw Data'!FK67","v":369762},{"$f":"'Raw Data'!FL67","v":401042},{"$f":"'Raw Data'!FM67","v":403833},{"$f":"'Raw Data'!FN67","v":388478},{"$f":"'Raw Data'!FO67","v":395374},{"$f":"'Raw Data'!FP67","v":355968},{"$f":"'Raw Data'!FQ67","v":376051},{"$f":"'Raw Data'!FR67","v":346594},{"$f":"'Raw Data'!FS67","v":374534},{"$f":"'Raw Data'!FT67","v":434910},{"$f":"'Raw Data'!FU67","v":351673},{"$f":"'Raw Data'!FV67","v":424444},{"$f":"'Raw Data'!FW67","v":400295},{"$f":"'Raw Data'!FX67","v":390869},{"$f":"'Raw Data'!FY67","v":438104},{"$f":"'Raw Data'!FZ67","v":414252},{"$f":"'Raw Data'!GA67","v":418554},{"$f":"'Raw Data'!GB67","v":373293},{"$f":"'Raw Data'!GC67","v":359545},{"$f":"'Raw Data'!GD67","v":390986},{"$f":"'Raw Data'!GE67","v":397900},{"$f":"'Raw Data'!GF67","v":451876},{"$f":"'Raw Data'!GG67","v":410227},{"$f":"'Raw Data'!GH67","v":386500},{"$f":"'Raw Data'!GI67","v":397695},{"$f":"'Raw Data'!GJ67","v":412075},{"$f":"'Raw Data'!GK67","v":394673},{"$f":"'Raw Data'!GL67","v":409902},{"$f":"'Raw Data'!GM67","v":369758},{"$f":"'Raw Data'!GN67","v":373816},{"$f":"'Raw Data'!GO67","v":413273},{"$f":"'Raw Data'!GP67","v":402082},{"$f":"'Raw Data'!GQ67","v":438268},{"$f":"'Raw Data'!GR67","v":421379},{"$f":"'Raw Data'!GS67","v":406071},{"$f":"'Raw Data'!GT67","v":371718},{"$f":"'Raw Data'!GU67","v":435388},{"$f":"'Raw Data'!GV67","v":415048},{"$f":"'Raw Data'!GW67","v":405862},{"$f":"'Raw Data'!GX67","v":395114},{"$f":"'Raw Data'!GY67","v":443748},{"$f":"'Raw Data'!GZ67","v":475269},{"$f":"'Raw Data'!HA67","v":490079},{"$f":"'Raw Data'!HB67","v":535611},{"$f":"'Raw Data'!HC67","v":567366},{"$f":"'Raw Data'!HD67","v":578292},{"$f":"'Raw Data'!HE67","v":528590},{"$f":"'Raw Data'!HF67","v":529619},{"$f":"'Raw Data'!HG67","v":596636},{"$f":"'Raw Data'!HH67","v":606262},{"$f":"'Raw Data'!HI67","v":642117},{"$f":"'Raw Data'!HJ67","v":688595},{"$f":"'Raw Data'!HK67","v":628784},{"$f":"'Raw Data'!HL67","v":611258},{"$f":"'Raw Data'!HM67","v":619187},{"$f":"'Raw Data'!HN67","v":667132},{"$f":"'Raw Data'!HO67","v":617710},{"$f":"'Raw Data'!HP67","v":698947},{"$f":"'Raw Data'!HQ67","v":725669},{"$f":"'Raw Data'!HR67","v":772979},{"$f":"'Raw Data'!HS67","v":740515},{"$f":"'Raw Data'!HT67","v":751899},{"$f":"'Raw Data'!HU67","v":765320},{"$f":"'Raw Data'!HV67","v":711955},{"$f":"'Raw Data'!HW67","v":712237},{"$f":"'Raw Data'!HX67","v":614297},{"$f":"'Raw Data'!HY67","v":693245},{"$f":"'Raw Data'!HZ67","v":711033},{"$f":"'Raw Data'!IA67","v":632584},{"$f":"'Raw Data'!IB67","v":694886},{"$f":"'Raw Data'!IC67","v":713297},{"$f":"'Raw Data'!ID67","v":566966},{"$f":"'Raw Data'!IE67","v":699538},{"$f":"'Raw Data'!IF67","v":652373},{"$f":"'Raw Data'!IG67","v":690943},{"$f":"'Raw Data'!IH67","v":748942},{"$f":"'Raw Data'!II67","v":616768},{"$f":"'Raw Data'!IJ67","v":0},{"$f":"'Raw Data'!IK67","v":0},{"$f":"'Raw Data'!IL67","v":0},{"$f":"'Raw Data'!IM67","v":0},{"$f":"'Raw Data'!IN67","v":0},{"$f":"'Raw Data'!IO67","v":0},{"$f":"'Raw Data'!IP67","v":0},{"$f":"'Raw Data'!IQ67","v":0},{"$f":"'Raw Data'!IR67","v":0},{"$f":"'Raw Data'!IS67","v":0},{"$f":"'Raw Data'!IT67","v":0},{"$f":"'Raw Data'!IU67","v":0},{"$f":"'Raw Data'!IV67","v":0},{"$f":"'Raw Data'!IW67","v":0},{"$f":"'Raw Data'!IX67","v":0},{"$f":"'Raw Data'!IY67","v":0},{"$f":"'Raw Data'!IZ67","v":0},{"$f":"'Raw Data'!JA67","v":0},{"$f":"'Raw Data'!JB67","v":0},{"$f":"'Raw Data'!JC67","v":0},{"$f":"'Raw Data'!JD67","v":0},{"$f":"'Raw Data'!JE67","v":0},{"$f":"'Raw Data'!JF67","v":0},{"$f":"'Raw Data'!JG67","v":0},{"$f":"'Raw Data'!JH67","v":0},{"$f":"'Raw Data'!JI67","v":0},{"$f":"'Raw Data'!JJ67","v":0},{"$f":"'Raw Data'!JK67","v":0},{"$f":"'Raw Data'!JL67","v":0}]
["Total Sold",{"$nulls":43},{"$f":"'Raw Data'!BG69","v":38789750},{"$f":"'Raw Data'!BH69","v":40704191},{"$f":"'Raw Data'!BI69","v":47407365},{"$f":"'Raw Data'!BJ69","v":44900829},{"$f":"'Raw Data'!BK69","v":43655189},{"$f":"'Raw Data'!BL69","v":40686545},{"$f":"'Raw Data'!BM69","v":37749435},{"$f":"'Raw Data'!BN69","v":35297989},{"$f":"'Raw Data'!BO69","v":30566326},{"$f":"'Raw Data'!BP69","v":31291849},{"$f":"'Raw Data'!BQ69","v":17389450},{"$f":"'Raw Data'!BR69","v":25328675},{"$f":"'Raw Data'!BS69","v":32464567},{"$f":"'Raw Data'!BT69","v":32852000},{"$f":"'Raw Data'!BU69","v":39288899},{"$f":"'Raw Data'!BV69","v":45943450},{"$f":"'Raw Data'!BW69","v":33608526},{"$f":"'Raw Data'!BX69","v":34830434},{"$f":"'Raw Data'!BY69","v":35700844},{"$f":"'Raw Data'!BZ69","v":38765085},{"$f":"'Raw Data'!CA69","v":36754930},{"$f":"'Raw Data'!CB69","v":42705700},{"$f":"'Raw Data'!CC69","v":38818500},{"$f":"'Raw Data'!CD69","v":28584449},{"$f":"'Raw Data'!CE69","v":42139213},{"$f":"'Raw Data'!CF69","v":47052654},{"$f":"'Raw Data'!CG69","v":56282280},{"$f":"'Raw Data'!CH69","v":46474846},{"$f":"'Raw Data'!CI69","v":38824552},{"$f":"'Raw Data'!CJ69","v":33043860},{"$f":"'Raw Data'!CK69","v":37634009},{"$f":"'Raw Data'!CL69","v":39431307},{"$f":"'Raw Data'!CM69","v":35531023},{"$f":"'Raw Data'!CN69","v":47323910},{"$f":"'Raw Data'!CO69","v":31881469},{"$f":"'Raw Data'!CP69","v":34630380},{"$f":"'Raw Data'!CQ69","v":47885276},{"$f":"'Raw Data'!CR69","v":51253523},{"$f":"'Raw Data'!CS69","v":52702977},{"$f":"'Raw Data'!CT69","v":51471051},{"$f":"'Raw Data'!CU69","v":39291126},{"$f":"'Raw Data'!CV69","v":30810405},{"$f":"'Raw Data'!CW69","v":45425058},{"$f":"'Raw Data'!CX69","v":34305520},{"$f":"'Raw Data'!CY69","v":23661088},{"$f":"'Raw Data'!CZ69","v":39944789},{"$f":"'Raw Data'!DA69","v":34849705},{"$f":"'Raw Data'!DB69","v":37622376},{"$f":"'Raw Data'!DC69","v":64782870},{"$f":"'Raw Data'!DD69","v":44171441},{"$f":"'Raw Data'!DE69","v":56930290},{"$f":"'Raw Data'!DF69","v":54067033},{"$f":"'Raw Data'!DG69","v":40109155},{"$f":"'Raw Data'!DH69","v":40622120},{"$f":"'Raw Data'!DI69","v":42910709},{"$f":"'Raw Data'!DJ69","v":48155487},{"$f":"'Raw Data'!DK69","v":50105950},{"$f":"'Raw Data'!DL69","v":46591321},{"$f":"'Raw Data'!DM69","v":29025378},{"$f":"'Raw Data'!DN69","v":28634562},{"$f":"'Raw Data'!DO69","v":51596237},{"$f":"'Raw Data'!DP69","v":53703510},{"$f":"'Raw Data'!DQ69","v":58312054},{"$f":"'Raw Data'!DR69","v":55867599},{"$f":"'Raw Data'!DS69","v":57774133},{"$f":"'Raw Data'!DT69","v":44799538},{"$f":"'Raw Data'!DU69","v":38887863},{"$f":"'Raw Data'!DV69","v":43728710},{"$f":"'Raw Data'!DW69","v":39376616},{"$f":"'Raw Data'!DX69","v":46505857},{"$f":"'Raw Data'!DY69","v":41558956},{"$f":"'Raw Data'!DZ69","v":30797923},{"$f":"'Raw Data'!EA69","v":44973561},{"$f":"'Raw Data'!EB69","v":64870853},{"$f":"'Raw Data'!EC69","v":75392586},{"$f":"'Raw Data'!ED69","v":54630189},{"$f":"'Raw Data'!EE69","v":42500893},{"$f":"'Raw Data'!EF69","v":38587393},{"$f":"'Raw Data'!EG69","v":47717101},{"$f":"'Raw Data'!EH69","v":50919644},{"$f":"'Raw Data'!EI69","v":48613801},{"$f":"'Raw Data'!EJ69","v":61219467},{"$f":"'Raw Data'!EK69","v":37825852},{"$f":"'Raw Data'!EL69","v":36899888},{"$f":"'Raw Data'!EM69","v":47172437},{"$f":"'Raw Data'!EN69","v":60797939},{"$f":"'Raw Data'!EO69","v":67662469},{"$f":"'Raw Data'!EP69","v":74699702},{"$f":"'Raw Data'!EQ69","v":63168186},{"$f":"'Raw Data'!ER69","v":51303745},{"$f":"'Raw Data'!ES69","v":50863793},{"$f":"'Raw Data'!ET69","v":48597661},{"$f":"'Raw Data'!EU69","v":54310986},{"$f":"'Raw Data'!EV69","v":56364805},{"$f":"'Raw Data'!EW69","v":47379563},{"$f":"'Raw Data'!EX69","v":33437008},{"$f":"'Raw Data'!EY69","v":52363972},{"$f":"'Raw Data'!EZ69","v":58917871},{"$f":"'Raw Data'!FA69","v":63408941},{"$f":"'Raw Data'!FB69","v":71863377},{"$f":"'Raw Data'!FC69","v":53939277},{"$f":"'Raw Data'!FD69","v":55109188},{"$f":"'Raw Data'!FE69","v":55925776},{"$f":"'Raw Data'!FF69","v":51278488},{"$f":"'Raw Data'!FG69","v":51150392},{"$f":"'Raw Data'!FH69","v":68382407},{"$f":"'Raw Data'!FI69","v":46171775},{"$f":"'Raw Data'!FJ69","v":49404971},{"$f":"'Raw Data'!FK69","v":66557269},{"$f":"'Raw Data'!FL69","v":72187652},{"$f":"'Raw Data'!FM69","v":81978227},{"$f":"'Raw Data'!FN69","v":83911384},{"$f":"'Raw Data'!FO69","v":53770962},{"$f":"'Raw Data'!FP69","v":60870546},{"$f":"'Raw Data'!FQ69","v":60920419},{"$f":"'Raw Data'!FR69","v":57534728},{"$f":"'Raw Data'!FS69","v":61423739},{"$f":"'Raw Data'!FT69","v":71325400},{"$f":"'Raw Data'!FU69","v":53806022},{"$f":"'Raw Data'!FV69","v":37775593},{"$f":"'Raw Data'!FW69","v":74855305},{"$f":"'Raw Data'!FX69","v":72701705},{"$f":"'Raw Data'!FY69","v":95944777},{"$f":"'Raw Data'!FZ69","v":77879484},{"$f":"'Raw Data'!GA69","v":71991330},{"$f":"'Raw Data'!GB69","v":70552463},{"$f":"'Raw Data'!GC69","v":51055445},{"$f":"'Raw Data'!GD69","v":68813556},{"$f":"'Raw Data'!GE69","v":53716537},{"$f":"'Raw Data'!GF69","v":75011518},{"$f":"'Raw Data'!GG69","v":47996645},{"$f":"'Raw Data'!GH69","v":47520857},{"$f":"'Raw Data'!GI69","v":73175948},{"$f":"'Raw Data'!GJ69","v":77882329},{"$f":"'Raw Data'!GK69","v":85644128},{"$f":"'Raw Data'!GL69","v":77881539},{"$f":"'Raw Data'!GM69","v":68405376},{"$f":"'Raw Data'!GN69","v":75137084},{"$f":"'Raw Data'!GO69","v":66950.350000000006},{"$f":"'Raw Data'!GP69","v":75993539},{"$f":"'Raw Data'!GQ69","v":90283404},{"$f":"'Raw Data'!GR69","v":73319980},{"$f":"'Raw Data'!GS69","v":59692538},{"$f":"'Raw Data'!GT69","v":52783977},{"$f":"'Raw Data'!GU69","v":86642322},{"$f":"'Raw Data'!GV69","v":63917397},{"$f":"'Raw Data'!GW69","v":60473571},{"$f":"'Raw Data'!GX69","v":87099309},{"$f":"'Raw Data'!GY69","v":175725314},{"$f":"'Raw Data'!GZ69","v":151135811},{"$f":"'Raw Data'!HA69","v":175448586},{"$f":"'Raw Data'!HB69","v":199247577},{"$f":"'Raw Data'!HC69","v":173614022},{"$f":"'Raw Data'!HD69","v":182162109},{"$f":"'Raw Data'!HE69","v":139019355},{"$f":"'Raw Data'!HF69","v":125519815},{"$f":"'Raw Data'!HG69","v":224932131},{"$f":"'Raw Data'!HH69","v":210979465},{"$f":"'Raw Data'!HI69","v":216393628},{"$f":"'Raw Data'!HJ69","v":221039293},{"$f":"'Raw Data'!HK69","v":165370385},{"$f":"'Raw Data'!HL69","v":143034410},{"$f":"'Raw Data'!HM69","v":142413206},{"$f":"'Raw Data'!HN69","v":168784558},{"$f":"'Raw Data'!HO69","v":164928718},{"$f":"'Raw Data'!HP69","v":167048527},{"$f":"'Raw Data'!HQ69","v":163275539},{"$f":"'Raw Data'!HR69","v":140682279},{"$f":"'Raw Data'!HS69","v":222154531},{"$f":"'Raw Data'!HT69","v":199253257},{"$f":"'Raw Data'!HU69","v":189034064},{"$f":"'Raw Data'!HV69","v":167309528},{"$f":"'Raw Data'!HW69","v":131792618},{"$f":"'Raw Data'!HX69","v":123473834},{"$f":"'Raw Data'!HY69","v":115771984},{"$f":"'Raw Data'!HZ69","v":114476319},{"$f":"'Raw Data'!IA69","v":101846155},{"$f":"'Raw Data'!IB69","v":91030096},{"$f":"'Raw Data'!IC69","v":72043087},{"$f":"'Raw Data'!ID69","v":77678473},{"$f":"'Raw Data'!IE69","v":135010870},{"$f":"'Raw Data'!IF69","v":105684431},{"$f":"'Raw Data'!IG69","v":127769028},{"$f":"'Raw Data'!IH69","v":141557759},{"$f":"'Raw Data'!II69","v":77712888},{"$f":"'Raw Data'!IJ69","v":0},{"$f":"'Raw Data'!IK69","v":0},{"$f":"'Raw Data'!IL69","v":0},{"$f":"'Raw Data'!IM69","v":0},{"$f":"'Raw Data'!IN69","v":0},{"$f":"'Raw Data'!IO69","v":0},{"$f":"'Raw Data'!IP69","v":0},{"$f":"'Raw Data'!IQ69","v":0},{"$f":"'Raw Data'!IR69","v":0},{"$f":"'Raw Data'!IS69","v":0},{"$f":"'Raw Data'!IT69","v":0},{"$f":"'Raw Data'!IU69","v":0},{"$f":"'Raw Data'!IV69","v":0},{"$f":"'Raw Data'!IW69","v":0},{"$f":"'Raw Data'!IX69","v":0},{"$f":"'Raw Data'!IY69","v":0},{"$f":"'Raw Data'!IZ69","v":0},{"$f":"'Raw Data'!JA69","v":0},{"$f":"'Raw Data'!JB69","v":0},{"$f":"'Raw Data'!JC69","v":0},{"$f":"'Raw Data'!JD69","v":0},{"$f":"'Raw Data'!JE69","v":0},{"$f":"'Raw Data'!JF69","v":0},{"$f":"'Raw Data'!JG69","v":0},{"$f":"'Raw Data'!JH69","v":0},{"$f":"'Raw Data'!JI69","v":0},{"$f":"'Raw Data'!JJ69","v":0},{"$f":"'Raw Data'!JK69","v":0},{"$f":"'Raw Data'!JL69","v":0}]
[]
[{"$nulls":44},{"$f":"AS1","v":"2008-03-03"},"2008-04-01","2008-05-01","2008-06-01","2008-07-01","2008-08-01","2008-09-01","2008-10-08","2008-11-14","2008-12-21","2009-01-27","2009-02-09","2009-03-09","2009-04-09","2009-05-09","2009-06-09","2009-07-09","2009-08-09","2009-09-09","2009-10-09","2009-11-09","2009-12-09","2010-01-09","2010-02-09","2010-03-09","2010-04-09","2010-05-09","2010-06-09","2010-07-09","2010-08-09","2010-09-09","2010-10-09","2010-11-09","2010-12-09","2011-01-09","2011-02-09","2011-03-09","2011-04-09","2011-05-09","2011-06-09","2011-07-09","2011-08-09","2011-09-09","2011-10-09","2011-11-09","2011-12-09","2012-01-09","2012-02-09","2012-03-09","2012-04-09","2012-05-09","2012-06-09","2012-07-09","2012-08-09","2012-09-09","2012-10-09","2012-11-09","2012-12-09","2013-01-09","2013-02-09","2013-03-09","2013-04-09","2013-05-09","2013-06-09","2013-07-09","2013-08-09","2013-09-09","2013-10-09","2013-11-09","2013-12-09","2014-01-09","2014-02-09","2014-03-09","2014-04-09","2014-05-09","2014-06-09","2014-07-09","2014-08-09","2014-09-09","2014-10-09","2014-11-09","2014-12-09","2015-01-09","2015-02-09","2015-03-09","2015-04-09","2015-05-09","2015-06-09","2015-07-09","2015-08-09","2015-09-09","2015-10-09","2015-11-09","2015-12-09","2016-01-09","2016-02-09","2016-03-09","2016-04-09","2016-05-09","2016-06-09","2016-07-09","2016-08-09","2016-09-09","2016-10-09","2016-11-09","2016-12-09","2017-01-09","2017-02-09","2017-03-09","2017-04-09","2017-05-09","2017-06-09","2017-07-09","2017-08-09","2017-09-09","2017-10-09","2017-11-09","2017-12-09","2018-01-09","2018-02-09","2018-03-09","2018-04-09","2018-05-09","2018-06-09","2018-07-09","2018-08-09","2018-09-09","2018-10-09","2018-11-09","2018-12-09","2019-01-09","2019-02-09","2019-03-09","2019-04-09","2019-05-09","2019-06-09","2019-07-09","2019-08-09","2019-09-09","2019-10-09","2019-11-09","2019-12-09","2020-01-09","2020-02-09","2020-03-09","2020-04-09","2020-05-09","2020-06-09","2020-07-09","2020-08-09","2020-09-09","2020-10-09","2020-11-09","2020-12-09","2021-01-09","2021-02-20","2021-03-20","2021-04-20","2021-05-20","2021-06-20","2021-07-20","2021-08-20","2021-09-20","2021-10-20","2021-11-20","2021-12-20","2022-01-20","2022-02-20","2022-03-20","2022-04-20","2022-05-20","2022-06-20","2022-07-20","2022-08-20","2022-09-20","2022-10-20","2022-11-20","2022-12-20","2023-01-20","2023-02-20","2023-03-20","2023-04-20","2023-05-20","2023-06-20","2023-07-20","2023-08-20","2023-09-20","2023-10-20","2023-11-20","2023-12-20","2024-01-20","2024-02-20","2024-03-20","2024-04-20","2024-05-20","2024-06-20","2024-07-20","2024-08-20","2024-09-20","2024-10-20","2024-11-20","2024-12-20","2025-01-20","2025-02-20","2025-03-20","2025-04-20","2025-05-20","2025-06-20","2025-07-20","2025-08-20","2025-09-20","2025-10-20","2025-11-20","2025-12-20"]
["Median Sale Price",{"$nulls":43},{"$f":"'Raw Data'!BG68","v":298825},{"$f":"'Raw Data'!BH68","v":317000},{"$f":"'Raw Data'!BI68","v":374000},{"$f":"'Raw Data'!BJ68","v":332000},{"$f":"'Raw Data'!BK68","v":399950},{"$f":"'Raw Data'!BL68","v":275000},{"$f":"'Raw Data'!BM68","v":325000},{"$f":"'Raw Data'!BN68","v":315000},{"$f":"'Raw Data'!BO68","v":334575},{"$f":"'Raw Data'!BP68","v":380000},{"$f":"'Raw Data'!BQ68","v":290000},{"$f":"'Raw Data'!BR68","v":292000},{"$f":"'Raw Data'!BS68","v":355000},{"$f":"'Raw Data'!BT68","v":350000},{"$f":"'Raw Data'!BU68","v":270000},{"$f":"'Raw Data'!BV68","v":315450},{"$f":"'Raw Data'!BW68","v":260000},{"$f":"'Raw Data'!BX68","v":285000},{"$f":"'Raw Data'!BY68","v":277759},{"$f":"'Raw Data'!BZ68","v":300000},{"$f":"'Raw Data'!CA68","v":284540},{"$f":"'Raw Data'!CB68","v":337000},{"$f":"'Raw Data'!CC68","v":393950},{"$f":"'Raw Data'!CD68","v":307500},{"$f":"'Raw Data'!CE68","v":314900},{"$f":"'Raw Data'!CF68","v":283500},{"$f":"'Raw Data'!CG68","v":288200},{"$f":"'Raw Data'!CH68","v":305000},{"$f":"'Raw Data'!CI68","v":270000},{"$f":"'Raw Data'!CJ68","v":269900},{"$f":"'Raw Data'!CK68","v":288000},{"$f":"'Raw Data'!CL68","v":352065},{"$f":"'Raw Data'!CM68","v":288000},{"$f":"'Raw Data'!CN68","v":296900},{"$f":"'Raw Data'!CO68","v":282000},{"$f":"'Raw Data'!CP68","v":295000},{"$f":"'Raw Data'!CQ68","v":279876},{"$f":"'Raw Data'!CR68","v":350000},{"$f":"'Raw Data'!CS68","v":347450},{"$f":"'Raw Data'!CT68","v":285950},{"$f":"'Raw Data'!CU68","v":260000},{"$f":"'Raw Data'!CV68","v":255000},{"$f":"'Raw Data'!CW68","v":305000},{"$f":"'Raw Data'!CX68","v":239000},{"$f":"'Raw Data'!CY68","v":255500},{"$f":"'Raw Data'!CZ68","v":264250},{"$f":"'Raw Data'!DA68","v":285000},{"$f":"'Raw Data'!DB68","v":279000},{"$f":"'Raw Data'!DC68","v":300000},{"$f":"'Raw Data'!DD68","v":287800},{"$f":"'Raw Data'!DE68","v":280000},{"$f":"'Raw Data'!DF68","v":285000},{"$f":"'Raw Data'!DG68","v":273000},{"$f":"'Raw Data'!DH68","v":255000},{"$f":"'Raw Data'!DI68","v":255000},{"$f":"'Raw Data'!DJ68","v":282500},{"$f":"'Raw Data'!DK68","v":315000},{"$f":"'Raw Data'!DL68","v":300000},{"$f":"'Raw Data'!DM68","v":235742},{"$f":"'Raw Data'!DN68","v":271513},{"$f":"'Raw Data'!DO68","v":280000},{"$f":"'Raw Data'!DP68","v":275000},{"$f":"'Raw Data'!DQ68","v":295000},{"$f":"'Raw Data'!DR68","v":299000},{"$f":"'Raw Data'!DS68","v":265000},{"$f":"'Raw Data'!DT68","v":259750},{"$f":"'Raw Data'!DU68","v":250000},{"$f":"'Raw Data'!DV68","v":329500},{"$f":"'Raw Data'!DW68","v":280000},{"$f":"'Raw Data'!DX68","v":280000},{"$f":"'Raw Data'!DY68","v":273750},{"$f":"'Raw Data'!DZ68","v":274000},{"$f":"'Raw Data'!EA68","v":270000},{"$f":"'Raw Data'!EB68","v":269900},{"$f":"'Raw Data'!EC68","v":293500},{"$f":"'Raw Data'!ED68","v":283000},{"$f":"'Raw Data'!EE68","v":271500},{"$f":"'Raw Data'!EF68","v":261250},{"$f":"'Raw Data'!EG68","v":286000},{"$f":"'Raw Data'!EH68","v":288500},{"$f":"'Raw Data'!EI68","v":279000},{"$f":"'Raw Data'!EJ68","v":315000},{"$f":"'Raw Data'!EK68","v":258500},{"$f":"'Raw Data'!EL68","v":312000},{"$f":"'Raw Data'!EM68","v":269500},{"$f":"'Raw Data'!EN68","v":290000},{"$f":"'Raw Data'!EO68","v":270000},{"$f":"'Raw Data'!EP68","v":296000},{"$f":"'Raw Data'!EQ68","v":239750},{"$f":"'Raw Data'!ER68","v":277450},{"$f":"'Raw Data'!ES68","v":275000},{"$f":"'Raw Data'!ET68","v":279000},{"$f":"'Raw Data'!EU68","v":319500},{"$f":"'Raw Data'!EV68","v":278000},{"$f":"'Raw Data'!EW68","v":300000},{"$f":"'Raw Data'!EX68","v":286000},{"$f":"'Raw Data'!EY68","v":303400},{"$f":"'Raw Data'!EZ68","v":317500},{"$f":"'Raw Data'!FA68","v":289000},{"$f":"'Raw Data'!FB68","v":315000},{"$f":"'Raw Data'!FC68","v":300000},{"$f":"'Raw Data'!FD68","v":286000},{"$f":"'Raw Data'!FE68","v":289000},{"$f":"'Raw Data'!FF68","v":284500},{"$f":"'Raw Data'!FG68","v":299450},{"$f":"'Raw Data'!FH68","v":327500},{"$f":"'Raw Data'!FI68","v":306000},{"$f":"'Raw Data'!FJ68","v":310000},{"$f":"'Raw Data'!FK68","v":312500},{"$f":"'Raw Data'!FL68","v":321750},{"$f":"'Raw Data'!FM68","v":288000},{"$f":"'Raw Data'!FN68","v":316000},{"$f":"'Raw Data'!FO68","v":305000},{"$f":"'Raw Data'!FP68","v":310000},{"$f":"'Raw Data'!FQ68","v":320000},{"$f":"'Raw Data'!FR68","v":304500},{"$f":"'Raw Data'!FS68","v":317500},{"$f":"'Raw Data'!FT68","v":345000},{"$f":"'Raw Data'!FU68","v":273975},{"$f":"'Raw Data'!FV68","v":305000},{"$f":"'Raw Data'!FW68","v":325000},{"$f":"'Raw Data'!FX68","v":319250},{"$f":"'Raw Data'!FY68","v":342000},{"$f":"'Raw Data'!FZ68","v":313750},{"$f":"'Raw Data'!GA68","v":333500},{"$f":"'Raw Data'!GB68","v":320000},{"$f":"'Raw Data'!GC68","v":294193},{"$f":"'Raw Data'!GD68","v":325000},{"$f":"'Raw Data'!GE68","v":339000},{"$f":"'Raw Data'!GF68","v":341500},{"$f":"'Raw Data'!GG68","v":329900},{"$f":"'Raw Data'!GH68","v":318500},{"$f":"'Raw Data'!GI68","v":332500},{"$f":"'Raw Data'!GJ68","v":339900},{"$f":"'Raw Data'!GK68","v":399100},{"$f":"'Raw Data'!GL68","v":335000},{"$f":"'Raw Data'!GM68","v":315000},{"$f":"'Raw Data'!GN68","v":313000},{"$f":"'Raw Data'!GO68","v":318750},{"$f":"'Raw Data'!GP68","v":335000},{"$f":"'Raw Data'!GQ68","v":344000},{"$f":"'Raw Data'!GR68","v":371000},{"$f":"'Raw Data'!GS68","v":342000},{"$f":"'Raw Data'!GT68","v":332000},{"$f":"'Raw Data'!GU68","v":347900},{"$f":"'Raw Data'!GV68","v":332500},{"$f":"'Raw Data'!GW68","v":350000},{"$f":"'Raw Data'!GX68","v":343000},{"$f":"'Raw Data'!GY68","v":366500},{"$f":"'Raw Data'!GZ68","v":412500},{"$f":"'Raw Data'!HA68","v":423200},{"$f":"'Raw Data'!HB68","v":456500},{"$f":"'Raw Data'!HC68","v":477500},{"$f":"'Raw Data'!HD68","v":480000},{"$f":"'Raw Data'!HE68","v":430000},{"$f":"'Raw Data'!HF68","v":450000},{"$f":"'Raw Data'!HG68","v":473000},{"$f":"'Raw Data'!HH68","v":454950},{"$f":"'Raw Data'!HI68","v":470000},{"$f":"'Raw Data'!HJ68","v":529000},{"$f":"'Raw Data'!HK68","v":490000},{"$f":"'Raw Data'!HL68","v":500000},{"$f":"'Raw Data'!HM68","v":495000},{"$f":"'Raw Data'!HN68","v":507000},{"$f":"'Raw Data'!HO68","v":480000},{"$f":"'Raw Data'!HP68","v":546500},{"$f":"'Raw Data'!HQ68","v":573910},{"$f":"'Raw Data'!HR68","v":570000},{"$f":"'Raw Data'!HS68","v":577250},{"$f":"'Raw Data'!HT68","v":560000},{"$f":"'Raw Data'!HU68","v":595000},{"$f":"'Raw Data'!HV68","v":545000},{"$f":"'Raw Data'!HW68","v":550000},{"$f":"'Raw Data'!HX68","v":507000},{"$f":"'Raw Data'!HY68","v":595000},{"$f":"'Raw Data'!HZ68","v":600000},{"$f":"'Raw Data'!IA68","v":519654},{"$f":"'Raw Data'!IB68","v":515000},{"$f":"'Raw Data'!IC68","v":582500},{"$f":"'Raw Data'!ID68","v":470000},{"$f":"'Raw Data'!IE68","v":550000},{"$f":"'Raw Data'!IF68","v":544950},{"$f":"'Raw Data'!IG68","v":539000},{"$f":"'Raw Data'!IH68","v":599000},{"$f":"'Raw Data'!II68","v":559499},{"$f":"'Raw Data'!IJ68","v":0},{"$f":"'Raw Data'!IK68","v":0},{"$f":"'Raw Data'!IL68","v":0},{"$f":"'Raw Data'!IM68","v":0},{"$f":"'Raw Data'!IN68","v":0},{"$f":"'Raw Data'!IO68","v":0},{"$f":"'Raw Data'!IP68","v":0},{"$f":"'Raw Data'!IQ68","v":0},{"$f":"'Raw Data'!IR68","v":0},{"$f":"'Raw Data'!IS68","v":0},{"$f":"'Raw Data'!IT68","v":0},{"$f":"'Raw Data'!IU68","v":0},{"$f":"'Raw Data'!IV68","v":0},{"$f":"'Raw Data'!IW68","v":0},{"$f":"'Raw Data'!IX68","v":0},{"$f":"'Raw Data'!IY68","v":0},{"$f":"'Raw Data'!IZ68","v":0},{"$f":"'Raw Data'!JA68","v":0},{"$f":"'Raw Data'!JB68","v":0},{"$f":"'Raw Data'!JC68","v":0},{"$f":"'Raw Data'!JD68","v":0},{"$f":"'Raw Data'!JE68","v":0},{"$f":"'Raw Data'!JF68","v":0},{"$f":"'Raw Data'!JG68","v":0},{"$f":"'Raw Data'!JH68","v":0},{"$f":"'Raw Data'!JI68","v":0},{"$f":"'Raw Data'!JJ68","v":0},{"$f":"'Raw Data'!JK68","v":0},{"$f":"'Raw Data'!JL68","v":0}]
["Units Sold",{"$nulls":43},{"$f":"'Raw Data'!BG45","v":96},{"$f":"'Raw Data'!BH45","v":92},{"$f":"'Raw Data'!BI45","v":111},{"$f":"'Raw Data'!BJ45","v":110},{"$f":"'Raw Data'!BK45","v":94},{"$f":"'Raw Data'!BL45","v":103},{"$f":"'Raw Data'!BM45","v":93},{"$f":"'Raw Data'!BN45","v":85},{"$f":"'Raw Data'!BO45","v":60},{"$f":"'Raw Data'!BP45","v":69},{"$f":"'Raw Data'!BQ45","v":42},{"$f":"'Raw Data'!BR45","v":68},{"$f":"'Raw Data'!BS45","v":84},{"$f":"'Raw Data'!BT45","v":81},{"$f":"'Raw Data'!BU45","v":111},{"$f":"'Raw Data'!BV45","v":114},{"$f":"'Raw Data'!BW45","v":105},{"$f":"'Raw Data'!BX45","v":105},{"$f":"'Raw Data'!BY45","v":104},{"$f":"'Raw Data'!BZ45","v":106},{"$f":"'Raw Data'!CA45","v":106},{"$f":"'Raw Data'!CB45","v":100},{"$f":"'Raw Data'!CC45","v":86},{"$f":"'Raw Data'!CD45","v":72},{"$f":"'Raw Data'!CE45","v":113},{"$f":"'Raw Data'!CF45","v":136},{"$f":"'Raw Data'!CG45","v":151},{"$f":"'Raw Data'!CH45","v":137},{"$f":"'Raw Data'!CI45","v":125},{"$f":"'Raw Data'!CJ45","v":99},{"$f":"'Raw Data'!CK45","v":109},{"$f":"'Raw Data'!CL45","v":115},{"$f":"'Raw Data'!CM45","v":106},{"$f":"'Raw Data'!CN45","v":125},{"$f":"'Raw Data'!CO45","v":83},{"$f":"'Raw Data'!CP45","v":87},{"$f":"'Raw Data'!CQ45","v":130},{"$f":"'Raw Data'!CR45","v":137},{"$f":"'Raw Data'!CS45","v":124},{"$f":"'Raw Data'!CT45","v":142},{"$f":"'Raw Data'!CU45","v":127},{"$f":"'Raw Data'!CV45","v":105},{"$f":"'Raw Data'!CW45","v":113},{"$f":"'Raw Data'!CX45","v":109},{"$f":"'Raw Data'!CY45","v":74},{"$f":"'Raw Data'!CZ45","v":102},{"$f":"'Raw Data'!DA45","v":94},{"$f":"'Raw Data'!DB45","v":112},{"$f":"'Raw Data'!DC45","v":171},{"$f":"'Raw Data'!DD45","v":131},{"$f":"'Raw Data'!DE45","v":165},{"$f":"'Raw Data'!DF45","v":146},{"$f":"'Raw Data'!DG45","v":121},{"$f":"'Raw Data'!DH45","v":125},{"$f":"'Raw Data'!DI45","v":146},{"$f":"'Raw Data'!DJ45","v":134},{"$f":"'Raw Data'!DK45","v":129},{"$f":"'Raw Data'!DL45","v":109},{"$f":"'Raw Data'!DM45","v":89},{"$f":"'Raw Data'!DN45","v":91},{"$f":"'Raw Data'!DO45","v":136},{"$f":"'Raw Data'!DP45","v":168},{"$f":"'Raw Data'!DQ45","v":157},{"$f":"'Raw Data'!DR45","v":150},{"$f":"'Raw Data'!DS45","v":161},{"$f":"'Raw Data'!DT45","v":136},{"$f":"'Raw Data'!DU45","v":127},{"$f":"'Raw Data'!DV45","v":114},{"$f":"'Raw Data'!DW45","v":115},{"$f":"'Raw Data'!DX45","v":125},{"$f":"'Raw Data'!DY45","v":106},{"$f":"'Raw Data'!DZ45","v":88},{"$f":"'Raw Data'!EA45","v":115},{"$f":"'Raw Data'!EB45","v":149},{"$f":"'Raw Data'!EC45","v":192},{"$f":"'Raw Data'!ED45","v":147},{"$f":"'Raw Data'!EE45","v":122},{"$f":"'Raw Data'!EF45","v":127},{"$f":"'Raw Data'!EG45","v":142},{"$f":"'Raw Data'!EH45","v":144},{"$f":"'Raw Data'!EI45","v":118},{"$f":"'Raw Data'!EJ45","v":157},{"$f":"'Raw Data'!EK45","v":96},{"$f":"'Raw Data'!EL45","v":105},{"$f":"'Raw Data'!EM45","v":140},{"$f":"'Raw Data'!EN45","v":153},{"$f":"'Raw Data'!EO45","v":202},{"$f":"'Raw Data'!EP45","v":185},{"$f":"'Raw Data'!EQ45","v":171},{"$f":"'Raw Data'!ER45","v":146},{"$f":"'Raw Data'!ES45","v":143},{"$f":"'Raw Data'!ET45","v":159},{"$f":"'Raw Data'!EU45","v":143},{"$f":"'Raw Data'!EV45","v":148},{"$f":"'Raw Data'!EW45","v":111},{"$f":"'Raw Data'!EX45","v":92},{"$f":"'Raw Data'!EY45","v":138},{"$f":"'Raw Data'!EZ45","v":158},{"$f":"'Raw Data'!FA45","v":175},{"$f":"'Raw Data'!FB45","v":185},{"$f":"'Raw Data'!FC45","v":155},{"$f":"'Raw Data'!FD45","v":159},{"$f":"'Raw Data'!FE45","v":159},{"$f":"'Raw Data'!FF45","v":145},{"$f":"'Raw Data'!FG45","v":140},{"$f":"'Raw Data'!FH45","v":173},{"$f":"'Raw Data'!FI45","v":112},{"$f":"'Raw Data'!FJ45","v":129},{"$f":"'Raw Data'!FK45","v":180},{"$f":"'Raw Data'!FL45","v":180},{"$f":"'Raw Data'!FM45","v":203},{"$f":"'Raw Data'!FN45","v":218},{"$f":"'Raw Data'!FO45","v":136},{"$f":"'Raw Data'!FP45","v":171},{"$f":"'Raw Data'!FQ45","v":162},{"$f":"'Raw Data'!FR45","v":166},{"$f":"'Raw Data'!FS45","v":164},{"$f":"'Raw Data'!FT45","v":164},{"$f":"'Raw Data'!FU45","v":118},{"$f":"'Raw Data'!FV45","v":89},{"$f":"'Raw Data'!FW45","v":187},{"$f":"'Raw Data'!FX45","v":186},{"$f":"'Raw Data'!FY45","v":219},{"$f":"'Raw Data'!FZ45","v":188},{"$f":"'Raw Data'!GA45","v":172},{"$f":"'Raw Data'!GB45","v":189},{"$f":"'Raw Data'!GC45","v":142},{"$f":"'Raw Data'!GD45","v":176},{"$f":"'Raw Data'!GE45","v":135},{"$f":"'Raw Data'!GF45","v":166},{"$f":"'Raw Data'!GG45","v":119},{"$f":"'Raw Data'!GH45","v":123},{"$f":"'Raw Data'!GI45","v":184},{"$f":"'Raw Data'!GJ45","v":189},{"$f":"'Raw Data'!GK45","v":217},{"$f":"'Raw Data'!GL45","v":190},{"$f":"'Raw Data'!GM45","v":185},{"$f":"'Raw Data'!GN45","v":201},{"$f":"'Raw Data'!GO45","v":162},{"$f":"'Raw Data'!GP45","v":189},{"$f":"'Raw Data'!GQ45","v":206},{"$f":"'Raw Data'!GR45","v":174},{"$f":"'Raw Data'!GS45","v":148},{"$f":"'Raw Data'!GT45","v":146},{"$f":"'Raw Data'!GU45","v":198},{"$f":"'Raw Data'!GV45","v":154},{"$f":"'Raw Data'!GW45","v":150},{"$f":"'Raw Data'!GX45","v":221},{"$f":"'Raw Data'!GY45","v":396},{"$f":"'Raw Data'!GZ45","v":322},{"$f":"'Raw Data'!HA45","v":358},{"$f":"'Raw Data'!HB45","v":372},{"$f":"'Raw Data'!HC45","v":310},{"$f":"'Raw Data'!HD45","v":316},{"$f":"'Raw Data'!HE45","v":263},{"$f":"'Raw Data'!HF45","v":237},{"$f":"'Raw Data'!HG45","v":377},{"$f":"'Raw Data'!HH45","v":349},{"$f":"'Raw Data'!HI45","v":337},{"$f":"'Raw Data'!HJ45","v":326},{"$f":"'Raw Data'!HK45","v":263},{"$f":"'Raw Data'!HL45","v":234},{"$f":"'Raw Data'!HM45","v":230},{"$f":"'Raw Data'!HN45","v":253},{"$f":"'Raw Data'!HO45","v":267},{"$f":"'Raw Data'!HP45","v":240},{"$f":"'Raw Data'!HQ45","v":225},{"$f":"'Raw Data'!HR45","v":182},{"$f":"'Raw Data'!HS45","v":300},{"$f":"'Raw Data'!HT45","v":265},{"$f":"'Raw Data'!HU45","v":247},{"$f":"'Raw Data'!HV45","v":235},{"$f":"'Raw Data'!HW45","v":171},{"$f":"'Raw Data'!HX45","v":201},{"$f":"'Raw Data'!HY45","v":179},{"$f":"'Raw Data'!HZ45","v":161},{"$f":"'Raw Data'!IA45","v":161},{"$f":"'Raw Data'!IB45","v":131},{"$f":"'Raw Data'!IC45","v":101},{"$f":"'Raw Data'!ID45","v":137},{"$f":"'Raw Data'!IE45","v":193},{"$f":"'Raw Data'!IF45","v":166},{"$f":"'Raw Data'!IG45","v":185},{"$f":"'Raw Data'!IH45","v":189},{"$f":"'Raw Data'!II45","v":126},{"$f":"'Raw Data'!IJ45","v":0},{"$f":"'Raw Data'!IK45","v":0},{"$f":"'Raw Data'!IL45","v":0},{"$f":"'Raw Data'!IM45","v":0},{"$f":"'Raw Data'!IN45","v":0},{"$f":"'Raw Data'!IO45","v":0},{"$f":"'Raw Data'!IP45","v":0},{"$f":"'Raw Data'!IQ45","v":0},{"$f":"'Raw Data'!IR45","v":0},{"$f":"'Raw Data'!IS45","v":0},{"$f":"'Raw Data'!IT45","v":0},{"$f":"'Raw Data'!IU45","v":0},{"$f":"'Raw Data'!IV45","v":0},{"$f":"'Raw Data'!IW45","v":0},{"$f":"'Raw Data'!IX45","v":0},{"$f":"'Raw Data'!IY45","v":0},{"$f":"'Raw Data'!IZ45","v":0},{"$f":"'Raw Data'!JA45","v":0},{"$f":"'Raw Data'!JB45","v":0},{"$f":"'Raw Data'!JC45","v":0},{"$f":"'Raw Data'!JD45","v":0},{"$f":"'Raw Data'!JE45","v":0},{"$f":"'Raw Data'!JF45","v":0},{"$f":"'Raw Data'!JG45","v":0},{"$f":"'Raw Data'!JH45","v":0},{"$f":"'Raw Data'!JI45","v":0},{"$f":"'Raw Data'!JJ45","v":0},{"$f":"'Raw Data'!JK45","v":0},{"$f":"'Raw Data'!JL45","v":0}]
[]
[{"$nulls":44},{"$f":"AS1","v":"2008-03-03"},"2008-04-01","2008-05-01","2008-06-01","2008-07-01","2008-08-01","2008-09-01","2008-10-08","2008-11-14","2008-12-21","2009-01-27","2009-02-09","2009-03-09","2009-04-09","2009-05-09","2009-06-09","2009-07-09","2009-08-09","2009-09-09","2009-10-09","2009-11-09","2009-12-09","2010-01-09","2010-02-09","2010-03-09","2010-04-09","2010-05-09","2010-06-09","2010-07-09","2010-08-09","2010-09-09","2010-10-09","2010-11-09","2010-12-09","2011-01-09","2011-02-09","2011-03-09","2011-04-09","2011-05-09","2011-06-09","2011-07-09","2011-08-09","2011-09-09","2011-10-09","2011-11-09","2011-12-09","2012-01-09","2012-02-09","2012-03-09","2012-04-09","2012-05-09","2012-06-09","2012-07-09","2012-08-09","2012-09-09","2012-10-09","2012-11-09","2012-12-09","2013-01-09","2013-02-09","2013-03-09","2013-04-09","2013-05-09","2013-06-09","2013-07-09","2013-08-09","2013-09-09","2013-10-09","2013-11-09","2013-12-09","2014-01-09","2014-02-09","2014-03-09","2014-04-09","2014-05-09","2014-06-09","2014-07-09","2014-08-09","2014-09-09","2014-10-09","2014-11-09","2014-12-09","2015-01-09","2015-02-09","2015-03-09","2015-04-09","2015-05-09","2015-06-09","2015-07-09","2015-08-09","2015-09-09","2015-10-09","2015-11-09","2015-12-09","2016-01-09","2016-02-09","2016-03-09","2016-04-09","2016-05-09","2016-06-09","2016-07-09","2016-08-09","2016-09-09","2016-10-09","2016-11-09","2016-12-09","2017-01-09","2017-02-09","2017-03-09","2017-04-09","2017-05-09","2017-06-09","2017-07-09","2017-08-09","2017-09-09","2017-10-09","2017-11-09","2017-12-09","2018-01-09","2018-02-09","2018-03-09","2018-04-09","2018-05-09","2018-06-09","2018-07-09","2018-08-09","2018-09-09","2018-10-09","2018-11-09","2018-12-09","2019-01-09","2019-02-09","2019-03-09","2019-04-09","2019-05-09","2019-06-09","2019-07-09","2019-08-09","2019-09-09","2019-10-09","2019-11-09","2019-12-09","2020-01-09","2020-02-09","2020-03-09","2020-04-09","2020-05-09","2020-06-09","2020-07-09","2020-08-09","2020-09-09","2020-10-09","2020-11-09","2020-12-09","2021-01-09","2021-02-20","2021-03-20","2021-04-20","2021-05-20","2021-06-20","2021-07-20","2021-08-20","2021-09-20","2021-10-20","2021-11-20","2021-12-20","2022-01-20","2022-02-20","2022-03-20","2022-04-20","2022-05-20","2022-06-20","2022-07-20","2022-08-20","2022-09-20","2022-10-20","2022-11-20","2022-12-20","2023-01-20","2023-02-20","2023-03-20","2023-04-20","2023-05-20","2023-06-20","2023-07-20","2023-08-20","2023-09-20","2023-10-20","2023-11-20","2023-12-20","2024-01-20","2024-02-20","2024-03-20","2024-04-20","2024-05-20","2024-06-20","2024-07-20","2024-08-20","2024-09-20","2024-10-20","2024-11-20","2024-12-20","2025-01-20","2025-02-20","2025-03-20","2025-04-20","2025-05-20","2025-06-20","2025-07-20","2025-08-20","2025-09-20","2025-10-20","2025-11-20","2025-12-20"]
["Median Price SFD",{"$nulls":43},{"$f":"'Raw Data'!BG76","v":345000},{"$f":"'Raw Data'!BH76","v":360000},{"$f":"'Raw Data'!BI76","v":375000},{"$f":"'Raw Data'!BJ76","v":362500},{"$f":"'Raw Data'!BK76","v":359000},{"$f":"'Raw Data'!BL76","v":300000},{"$f":"'Raw Data'!BM76","v":375000},{"$f":"'Raw Data'!BN76","v":325000},{"$f":"'Raw Data'!BO76","v":334575},{"$f":"'Raw Data'!BP76","v":394000},{"$f":"'Raw Data'!BQ76","v":290000},{"$f":"'Raw Data'!BR76","v":292000},{"$f":"'Raw Data'!BS76","v":362500},{"$f":"'Raw Data'!BT76","v":375000},{"$f":"'Raw Data'!BU76","v":292500},{"$f":"'Raw Data'!BV76","v":325000},{"$f":"'Raw Data'!BW76","v":265000},{"$f":"'Raw Data'!BX76","v":297500},{"$f":"'Raw Data'!BY76","v":322500},{"$f":"'Raw Data'!BZ76","v":335000},{"$f":"'Raw Data'!CA76","v":310000},{"$f":"'Raw Data'!CB76","v":367000},{"$f":"'Raw Data'!CC76","v":399000},{"$f":"'Raw Data'!CD76","v":336000},{"$f":"'Raw Data'!CE76","v":322500},{"$f":"'Raw Data'!CF76","v":317500},{"$f":"'Raw Data'!CG76","v":314475},{"$f":"'Raw Data'!CH76","v":322000},{"$f":"'Raw Data'!CI76","v":301500},{"$f":"'Raw Data'!CJ76","v":300000},{"$f":"'Raw Data'!CK76","v":317250},{"$f":"'Raw Data'!CL76","v":368952},{"$f":"'Raw Data'!CM76","v":318750},{"$f":"'Raw Data'!CN76","v":341500},{"$f":"'Raw Data'!CO76","v":408300},{"$f":"'Raw Data'!CP76","v":347450},{"$f":"'Raw Data'!CQ76","v":308500},{"$f":"'Raw Data'!CR76","v":360000},{"$f":"'Raw Data'!CS76","v":360000},{"$f":"'Raw Data'!CT76","v":300000},{"$f":"'Raw Data'!CU76","v":295000},{"$f":"'Raw Data'!CV76","v":274900},{"$f":"'Raw Data'!CW76","v":315000},{"$f":"'Raw Data'!CX76","v":247000},{"$f":"'Raw Data'!CY76","v":269000},{"$f":"'Raw Data'!CZ76","v":265900},{"$f":"'Raw Data'!DA76","v":307500},{"$f":"'Raw Data'!DB76","v":295000},{"$f":"'Raw Data'!DC76","v":310000},{"$f":"'Raw Data'!DD76","v":298000},{"$f":"'Raw Data'!DE76","v":294500},{"$f":"'Raw Data'!DF76","v":304400},{"$f":"'Raw Data'!DG76","v":317500},{"$f":"'Raw Data'!DH76","v":292500},{"$f":"'Raw Data'!DI76","v":277000},{"$f":"'Raw Data'!DJ76","v":295000},{"$f":"'Raw Data'!DK76","v":346500},{"$f":"'Raw Data'!DL76","v":330000},{"$f":"'Raw Data'!DM76","v":260000},{"$f":"'Raw Data'!DN76","v":300000},{"$f":"'Raw Data'!DO76","v":305000},{"$f":"'Raw Data'!DP76","v":284250},{"$f":"'Raw Data'!DQ76","v":323000},{"$f":"'Raw Data'!DR76","v":303000},{"$f":"'Raw Data'!DS76","v":277000},{"$f":"'Raw Data'!DT76","v":270000},{"$f":"'Raw Data'!DU76","v":263000},{"$f":"'Raw Data'!DV76","v":338000},{"$f":"'Raw Data'!DW76","v":290000},{"$f":"'Raw Data'!DX76","v":300000},{"$f":"'Raw Data'!DY76","v":295425},{"$f":"'Raw Data'!DZ76","v":275000},{"$f":"'Raw Data'!EA76","v":289200},{"$f":"'Raw Data'!EB76","v":294750},{"$f":"'Raw Data'!EC76","v":320000},{"$f":"'Raw Data'!ED76","v":299900},{"$f":"'Raw Data'!EE76","v":285000},{"$f":"'Raw Data'!EF76","v":292500},{"$f":"'Raw Data'!EG76","v":288500},{"$f":"'Raw Data'!EH76","v":299000},{"$f":"'Raw Data'!EI76","v":285500},{"$f":"'Raw Data'!EJ76","v":318000},{"$f":"'Raw Data'!EK76","v":335000},{"$f":"'Raw Data'!EL76","v":317500},{"$f":"'Raw Data'!EM76","v":283880},{"$f":"'Raw Data'!EN76","v":300750},{"$f":"'Raw Data'!EO76","v":280000},{"$f":"'Raw Data'!EP76","v":300000},{"$f":"'Raw Data'!EQ76","v":279000},{"$f":"'Raw Data'!ER76","v":325000},{"$f":"'Raw Data'!ES76","v":288500},{"$f":"'Raw Data'!ET76","v":284500},{"$f":"'Raw Data'!EU76","v":328500},{"$f":"'Raw Data'!EV76","v":286000},{"$f":"'Raw Data'!EW76","v":325000},{"$f":"'Raw Data'!EX76","v":288000},{"$f":"'Raw Data'!EY76","v":325000},{"$f":"'Raw Data'!EZ76","v":340000},{"$f":"'Raw Data'!FA76","v":325000},{"$f":"'Raw Data'!FB76","v":330000},{"$f":"'Raw Data'!FC76","v":309000},{"$f":"'Raw Data'!FD76","v":310000},{"$f":"'Raw Data'!FE76","v":294450},{"$f":"'Raw Data'!FF76","v":290000},{"$f":"'Raw Data'!FG76","v":310500},{"$f":"'Raw Data'!FH76","v":335000},{"$f":"'Raw Data'!FI76","v":309000},{"$f":"'Raw Data'!FJ76","v":311500},{"$f":"'Raw Data'!FK76","v":329000},{"$f":"'Raw Data'!FL76","v":339000},{"$f":"'Raw Data'!FM76","v":326000},{"$f":"'Raw Data'!FN76","v":325000},{"$f":"'Raw Data'!FO76","v":330000},{"$f":"'Raw Data'!FP76","v":324000},{"$f":"'Raw Data'!FQ76","v":324950},{"$f":"'Raw Data'!FR76","v":327000},{"$f":"'Raw Data'!FS76","v":325000},{"$f":"'Raw Data'!FT76","v":350000},{"$f":"'Raw Data'!FU76","v":321500},{"$f":"'Raw Data'!FV76","v":325000},{"$f":"'Raw Data'!FW76","v":340000},{"$f":"'Raw Data'!FX76","v":335000},{"$f":"'Raw Data'!FY76","v":370000},{"$f":"'Raw Data'!FZ76","v":330000},{"$f":"'Raw Data'!GA76","v":346500},{"$f":"'Raw Data'!GB76","v":346450},{"$f":"'Raw Data'!GC76","v":311000},{"$f":"'Raw Data'!GD76","v":348500},{"$f":"'Raw Data'!GE76","v":356000},{"$f":"'Raw Data'!GF76","v":354500},{"$f":"'Raw Data'!GG76","v":339000},{"$f":"'Raw Data'!GH76","v":332750},{"$f":"'Raw Data'!GI76","v":347250},{"$f":"'Raw Data'!GJ76","v":345000},{"$f":"'Raw Data'!GK76","v":349950},{"$f":"'Raw Data'!GL76","v":342500},{"$f":"'Raw Data'!GM76","v":332500},{"$f":"'Raw Data'!GN76","v":331780},{"$f":"'Raw Data'!GO76","v":347250},{"$f":"'Raw Data'!GP76","v":351000},{"$f":"'Raw Data'!GQ76","v":359000},{"$f":"'Raw Data'!GR76","v":384500},{"$f":"'Raw Data'!GS76","v":370000},{"$f":"'Raw Data'!GT76","v":356000},{"$f":"'Raw Data'!GU76","v":365000},{"$f":"'Raw Data'!GV76","v":360000},{"$f":"'Raw Data'!GW76","v":373750},{"$f":"'Raw Data'!GX76","v":364570},{"$f":"'Raw Data'!GY76","v":398000},{"$f":"'Raw Data'!GZ76","v":459000},{"$f":"'Raw Data'!HA76","v":457500},{"$f":"'Raw Data'!HB76","v":508000},{"$f":"'Raw Data'!HC76","v":500000},{"$f":"'Raw Data'!HD76","v":515000},{"$f":"'Raw Data'!HE76","v":449000},{"$f":"'Raw Data'!HF76","v":469000},{"$f":"'Raw Data'!HG76","v":507500},{"$f":"'Raw Data'!HH76","v":510000},{"$f":"'Raw Data'!HI76","v":522500},{"$f":"'Raw Data'!HJ76","v":562000},{"$f":"'Raw Data'!HK76","v":530300},{"$f":"'Raw Data'!HL76","v":545000},{"$f":"'Raw Data'!HM76","v":503750},{"$f":"'Raw Data'!HN76","v":526000},{"$f":"'Raw Data'!HO76","v":525500},{"$f":"'Raw Data'!HP76","v":546750},{"$f":"'Raw Data'!HQ76","v":660000},{"$f":"'Raw Data'!HR76","v":637000},{"$f":"'Raw Data'!HS76","v":635000},{"$f":"'Raw Data'!HT76","v":620000},{"$f":"'Raw Data'!HU76","v":650000},{"$f":"'Raw Data'!HV76","v":581000},{"$f":"'Raw Data'!HW76","v":608000},{"$f":"'Raw Data'!HX76","v":549450},{"$f":"'Raw Data'!HY76","v":635000},{"$f":"'Raw Data'!HZ76","v":650000},{"$f":"'Raw Data'!IA76","v":560000},{"$f":"'Raw Data'!IB76","v":565000},{"$f":"'Raw Data'!IC76","v":629900},{"$f":"'Raw Data'!ID76","v":500000},{"$f":"'Raw Data'!IE76","v":573750},{"$f":"'Raw Data'!IF76","v":585000},{"$f":"'Raw Data'!IG76","v":590000},{"$f":"'Raw Data'!IH76","v":627500},{"$f":"'Raw Data'!II76","v":602450},{"$f":"'Raw Data'!IJ76","v":0},{"$f":"'Raw Data'!IK76","v":0},{"$f":"'Raw Data'!IL76","v":0},{"$f":"'Raw Data'!IM76","v":0},{"$f":"'Raw Data'!IN76","v":0},{"$f":"'Raw Data'!IO76","v":0},{"$f":"'Raw Data'!IP76","v":0},{"$f":"'Raw Data'!IQ76","v":0},{"$f":"'Raw Data'!IR76","v":0},{"$f":"'Raw Data'!IS76","v":0},{"$f":"'Raw Data'!IT76","v":0},{"$f":"'Raw Data'!IU76","v":0},{"$f":"'Raw Data'!IV76","v":0},{"$f":"'Raw Data'!IW76","v":0},{"$f":"'Raw Data'!IX76","v":0},{"$f":"'Raw Data'!IY76","v":0},{"$f":"'Raw Data'!IZ76","v":0},{"$f":"'Raw Data'!JA76","v":0},{"$f":"'Raw Data'!JB76","v":0},{"$f":"'Raw Data'!JC76","v":0},{"$f":"'Raw Data'!JD76","v":0},{"$f":"'Raw Data'!JE76","v":0},{"$f":"'Raw Data'!JF76","v":0},{"$f":"'Raw Data'!JG76","v":0},{"$f":"'Raw Data'!JH76","v":0},{"$f":"'Raw Data'!JI76","v":0},{"$f":"'Raw Data'!JJ76","v":0},{"$f":"'Raw Data'!JK76","v":0},{"$f":"'Raw Data'!JL76","v":0}]
["Units Sold",{"$nulls":43},{"$f":"'Raw Data'!BG74","v":83},{"$f":"'Raw Data'!BH74","v":77},{"$f":"'Raw Data'!BI74","v":97},{"$f":"'Raw Data'!BJ74","v":94},{"$f":"'Raw Data'!BK74","v":77},{"$f":"'Raw Data'!BL74","v":83},{"$f":"'Raw Data'!BM74","v":77},{"$f":"'Raw Data'!BN74","v":77},{"$f":"'Raw Data'!BO74","v":52},{"$f":"'Raw Data'!BP74","v":65},{"$f":"'Raw Data'!BQ74","v":39},{"$f":"'Raw Data'!BR74","v":60},{"$f":"'Raw Data'!BS74","v":80},{"$f":"'Raw Data'!BT74","v":75},{"$f":"'Raw Data'!BU74","v":96},{"$f":"'Raw Data'!BV74","v":101},{"$f":"'Raw Data'!BW74","v":91},{"$f":"'Raw Data'!BX74","v":88},{"$f":"'Raw Data'!BY74","v":86},{"$f":"'Raw Data'!BZ74","v":84},{"$f":"'Raw Data'!CA74","v":90},{"$f":"'Raw Data'!CB74","v":86},{"$f":"'Raw Data'!CC74","v":85},{"$f":"'Raw Data'!CD74","v":66},{"$f":"'Raw Data'!CE74","v":102},{"$f":"'Raw Data'!CF74","v":105},{"$f":"'Raw Data'!CG74","v":122},{"$f":"'Raw Data'!CH74","v":121},{"$f":"'Raw Data'!CI74","v":98},{"$f":"'Raw Data'!CJ74","v":91},{"$f":"'Raw Data'!CK74","v":94},{"$f":"'Raw Data'!CL74","v":100},{"$f":"'Raw Data'!CM74","v":90},{"$f":"'Raw Data'!CN74","v":112},{"$f":"'Raw Data'!CO74","v":72},{"$f":"'Raw Data'!CP74","v":78},{"$f":"'Raw Data'!CQ74","v":112},{"$f":"'Raw Data'!CR74","v":123},{"$f":"'Raw Data'!CS74","v":111},{"$f":"'Raw Data'!CT74","v":127},{"$f":"'Raw Data'!CU74","v":101},{"$f":"'Raw Data'!CV74","v":93},{"$f":"'Raw Data'!CW74","v":99},{"$f":"'Raw Data'!CX74","v":93},{"$f":"'Raw Data'!CY74","v":61},{"$f":"'Raw Data'!CZ74","v":89},{"$f":"'Raw Data'!DA74","v":81},{"$f":"'Raw Data'!DB74","v":97},{"$f":"'Raw Data'!DC74","v":149},{"$f":"'Raw Data'!DD74","v":118},{"$f":"'Raw Data'!DE74","v":140},{"$f":"'Raw Data'!DF74","v":123},{"$f":"'Raw Data'!DG74","v":102},{"$f":"'Raw Data'!DH74","v":114},{"$f":"'Raw Data'!DI74","v":125},{"$f":"'Raw Data'!DJ74","v":117},{"$f":"'Raw Data'!DK74","v":109},{"$f":"'Raw Data'!DL74","v":93},{"$f":"'Raw Data'!DM74","v":77},{"$f":"'Raw Data'!DN74","v":79},{"$f":"'Raw Data'!DO74","v":121},{"$f":"'Raw Data'!DP74","v":155},{"$f":"'Raw Data'!DQ74","v":140},{"$f":"'Raw Data'!DR74","v":135},{"$f":"'Raw Data'!DS74","v":143},{"$f":"'Raw Data'!DT74","v":114},{"$f":"'Raw Data'!DU74","v":105},{"$f":"'Raw Data'!DV74","v":99},{"$f":"'Raw Data'!DW74","v":95},{"$f":"'Raw Data'!DX74","v":114},{"$f":"'Raw Data'!DY74","v":89},{"$f":"'Raw Data'!DZ74","v":75},{"$f":"'Raw Data'!EA74","v":92},{"$f":"'Raw Data'!EB74","v":120},{"$f":"'Raw Data'!EC74","v":167},{"$f":"'Raw Data'!ED74","v":133},{"$f":"'Raw Data'!EE74","v":102},{"$f":"'Raw Data'!EF74","v":88},{"$f":"'Raw Data'!EG74","v":132},{"$f":"'Raw Data'!EH74","v":128},{"$f":"'Raw Data'!EI74","v":100},{"$f":"'Raw Data'!EJ74","v":144},{"$f":"'Raw Data'!EK74","v":86},{"$f":"'Raw Data'!EL74","v":94},{"$f":"'Raw Data'!EM74","v":110},{"$f":"'Raw Data'!EN74","v":140},{"$f":"'Raw Data'!EO74","v":177},{"$f":"'Raw Data'!EP74","v":155},{"$f":"'Raw Data'!EQ74","v":152},{"$f":"'Raw Data'!ER74","v":122},{"$f":"'Raw Data'!ES74","v":120},{"$f":"'Raw Data'!ET74","v":128},{"$f":"'Raw Data'!EU74","v":124},{"$f":"'Raw Data'!EV74","v":131},{"$f":"'Raw Data'!EW74","v":97},{"$f":"'Raw Data'!EX74","v":77},{"$f":"'Raw Data'!EY74","v":115},{"$f":"'Raw Data'!EZ74","v":138},{"$f":"'Raw Data'!FA74","v":153},{"$f":"'Raw Data'!FB74","v":155},{"$f":"'Raw Data'!FC74","v":135},{"$f":"'Raw Data'!FD74","v":127},{"$f":"'Raw Data'!FE74","v":134},{"$f":"'Raw Data'!FF74","v":125},{"$f":"'Raw Data'!FG74","v":119},{"$f":"'Raw Data'!FH74","v":157},{"$f":"'Raw Data'!FI74","v":99},{"$f":"'Raw Data'!FJ74","v":114},{"$f":"'Raw Data'!FK74","v":159},{"$f":"'Raw Data'!FL74","v":155},{"$f":"'Raw Data'!FM74","v":170},{"$f":"'Raw Data'!FN74","v":189},{"$f":"'Raw Data'!FO74","v":113},{"$f":"'Raw Data'!FP74","v":134},{"$f":"'Raw Data'!FQ74","v":146},{"$f":"'Raw Data'!FR74","v":142},{"$f":"'Raw Data'!FS74","v":141},{"$f":"'Raw Data'!FT74","v":146},{"$f":"'Raw Data'!FU74","v":100},{"$f":"'Raw Data'!FV74","v":79},{"$f":"'Raw Data'!FW74","v":159},{"$f":"'Raw Data'!FX74","v":154},{"$f":"'Raw Data'!FY74","v":189},{"$f":"'Raw Data'!FZ74","v":161},{"$f":"'Raw Data'!GA74","v":146},{"$f":"'Raw Data'!GB74","v":156},{"$f":"'Raw Data'!GC74","v":118},{"$f":"'Raw Data'!GD74","v":154},{"$f":"'Raw Data'!GE74","v":121},{"$f":"'Raw Data'!GF74","v":142},{"$f":"'Raw Data'!GG74","v":105},{"$f":"'Raw Data'!GH74","v":104},{"$f":"'Raw Data'!GI74","v":158},{"$f":"'Raw Data'!GJ74","v":170},{"$f":"'Raw Data'!GK74","v":188},{"$f":"'Raw Data'!GL74","v":166},{"$f":"'Raw Data'!GM74","v":156},{"$f":"'Raw Data'!GN74","v":171},{"$f":"'Raw Data'!GO74","v":138},{"$f":"'Raw Data'!GP74","v":162},{"$f":"'Raw Data'!GQ74","v":174},{"$f":"'Raw Data'!GR74","v":146},{"$f":"'Raw Data'!GS74","v":125},{"$f":"'Raw Data'!GT74","v":126},{"$f":"'Raw Data'!GU74","v":175},{"$f":"'Raw Data'!GV74","v":131},{"$f":"'Raw Data'!GW74","v":128},{"$f":"'Raw Data'!GX74","v":175},{"$f":"'Raw Data'!GY74","v":327},{"$f":"'Raw Data'!GZ74","v":262},{"$f":"'Raw Data'!HA74","v":306},{"$f":"'Raw Data'!HB74","v":314},{"$f":"'Raw Data'!HC74","v":272},{"$f":"'Raw Data'!HD74","v":265},{"$f":"'Raw Data'!HE74","v":233},{"$f":"'Raw Data'!HF74","v":203},{"$f":"'Raw Data'!HG74","v":316},{"$f":"'Raw Data'!HH74","v":295},{"$f":"'Raw Data'!HI74","v":278},{"$f":"'Raw Data'!HJ74","v":292},{"$f":"'Raw Data'!HK74","v":220},{"$f":"'Raw Data'!HL74","v":199},{"$f":"'Raw Data'!HM74","v":192},{"$f":"'Raw Data'!HN74","v":205},{"$f":"'Raw Data'!HO74","v":228},{"$f":"'Raw Data'!HP74","v":214},{"$f":"'Raw Data'!HQ74","v":197},{"$f":"'Raw Data'!HR74","v":150},{"$f":"'Raw Data'!HS74","v":255},{"$f":"'Raw Data'!HT74","v":226},{"$f":"'Raw Data'!HU74","v":217},{"$f":"'Raw Data'!HV74","v":203},{"$f":"'Raw Data'!HW74","v":145},{"$f":"'Raw Data'!HX74","v":164},{"$f":"'Raw Data'!HY74","v":143},{"$f":"'Raw Data'!HZ74","v":143},{"$f":"'Raw Data'!IA74","v":137},{"$f":"'Raw Data'!IB74","v":102},{"$f":"'Raw Data'!IC74","v":79},{"$f":"'Raw Data'!ID74","v":106},{"$f":"'Raw Data'!IE74","v":162},{"$f":"'Raw Data'!IF74","v":133},{"$f":"'Raw Data'!IG74","v":149},{"$f":"'Raw Data'!IH74","v":162},{"$f":"'Raw Data'!II74","v":102},{"$f":"'Raw Data'!IJ74","v":0},{"$f":"'Raw Data'!IK74","v":0},{"$f":"'Raw Data'!IL74","v":0},{"$f":"'Raw Data'!IM74","v":0},{"$f":"'Raw Data'!IN74","v":0},{"$f":"'Raw Data'!IO74","v":0},{"$f":"'Raw Data'!IP74","v":0},{"$f":"'Raw Data'!IQ74","v":0},{"$f":"'Raw Data'!IR74","v":0},{"$f":"'Raw Data'!IS74","v":0},{"$f":"'Raw Data'!IT74","v":0},{"$f":"'Raw Data'!IU74","v":0},{"$f":"'Raw Data'!IV74","v":0},{"$f":"'Raw Data'!IW74","v":0},{"$f":"'Raw Data'!IX74","v":0},{"$f":"'Raw Data'!IY74","v":0},{"$f":"'Raw Data'!IZ74","v":0},{"$f":"'Raw Data'!JA74","v":0},{"$f":"'Raw Data'!JB74","v":0},{"$f":"'Raw Data'!JC74","v":0},{"$f":"'Raw Data'!JD74","v":0},{"$f":"'Raw Data'!JE74","v":0},{"$f":"'Raw Data'!JF74","v":0},{"$f":"'Raw Data'!JG74","v":0},{"$f":"'Raw Data'!JH74","v":0},{"$f":"'Raw Data'!JI74","v":0},{"$f":"'Raw Data'!JJ74","v":0},{"$f":"'Raw Data'!JK74","v":0},{"$f":"'Raw Data'!JL74","v":0}]
[]
[{"$nulls":44},{"$f":"AS1","v":"2008-03-03"},"2008-04-01","2008-05-01","2008-06-01","2008-07-01","2008-08-01","2008-09-01","2008-10-08","2008-11-14","2008-12-21","2009-01-27","2009-02-09","2009-03-09","2009-04-09","2009-05-09","2009-06-09","2009-07-09","2009-08-09","2009-09-09","2009-10-09","2009-11-09","2009-12-09","2010-01-09","2010-02-09","2010-03-09","2010-04-09","2010-05-09","2010-06-09","2010-07-09","2010-08-09","2010-09-09","2010-10-09","2010-11-09","2010-12-09","2011-01-09","2011-02-09","2011-03-09","2011-04-09","2011-05-09","2011-06-09","2011-07-09","2011-08-09","2011-09-09","2011-10-09","2011-11-09","2011-12-09","2012-01-09","2012-02-09","2012-03-09","2012-04-09","2012-05-09","2012-06-09","2012-07-09","2012-08-09","2012-09-09","2012-10-09","2012-11-09","2012-12-09","2013-01-09","2013-02-09","2013-03-09","2013-04-09","2013-05-09","2013-06-09","2013-07-09","2013-08-09","2013-09-09","2013-10-09","2013-11-09","2013-12-09","2014-01-09","2014-02-09","2014-03-09","2014-04-09","2014-05-09","2014-06-09","2014-07-09","2014-08-09","2014-09-09","2014-10-09","2014-11-09","2014-12-09","2015-01-09","2015-02-09","2015-03-09","2015-04-09","2015-05-09","2015-06-09","2015-07-09","2015-08-09","2015-09-09","2015-10-09","2015-11-09","2015-12-09","2016-01-09","2016-02-09","2016-03-09","2016-04-09","2016-05-09","2016-06-09","2016-07-09","2016-08-09","2016-09-09","2016-10-09","2016-11-09","2016-12-09","2017-01-09","2017-02-09","2017-03-09","2017-04-09","2017-05-09","2017-06-09","2017-07-09","2017-08-09","2017-09-09","2017-10-09","2017-11-09","2017-12-09","2018-01-09","2018-02-09","2018-03-09","2018-04-09","2018-05-09","2018-06-09","2018-07-09","2018-08-09","2018-09-09","2018-10-09","2018-11-09","2018-12-09","2019-01-09","2019-02-09","2019-03-09","2019-04-09","2019-05-09","2019-06-09","2019-07-09","2019-08-09","2019-09-09","2019-10-09","2019-11-09","2019-12-09","2020-01-09","2020-02-09","2020-03-09","2020-04-09","2020-05-09","2020-06-09","2020-07-09","2020-08-09","2020-09-09","2020-10-09","2020-11-09","2020-12-09","2021-01-09","2021-02-20","2021-03-20","2021-04-20","2021-05-20","2021-06-20","2021-07-20","2021-08-20","2021-09-20","2021-10-20","2021-11-20","2021-12-20","2022-01-20","2022-02-20","2022-03-20","2022-04-20","2022-05-20","2022-06-20","2022-07-20","2022-08-20","2022-09-20","2022-10-20","2022-11-20","2022-12-20","2023-01-20","2023-02-20","2023-03-20","2023-04-20","2023-05-20","2023-06-20","2023-07-20","2023-08-20","2023-09-20","2023-10-20","2023-11-20","2023-12-20","2024-01-20","2024-02-20","2024-03-20","2024-04-20","2024-05-20","2024-06-20","2024-07-20","2024-08-20","2024-09-20","2024-10-20","2024-11-20","2024-12-20","2025-01-20","2025-02-20","2025-03-20","2025-04-20","2025-05-20","2025-06-20","2025-07-20","2025-08-20","2025-09-20","2025-10-20","2025-11-20","2025-12-20"]
["Median Price Condo",{"$nulls":43},{"$f":"'Raw Data'!BG81","v":197500},{"$f":"'Raw Data'!BH81","v":285900},{"$f":"'Raw Data'!BI81","v":325000},{"$f":"'Raw Data'!BJ81","v":284000},{"$f":"'Raw Data'!BK81","v":570000},{"$f":"'Raw Data'!BL81","v":280000},{"$f":"'Raw Data'!BM81","v":264500},{"$f":"'Raw Data'!BN81","v":347500},{"$f":"'Raw Data'!BO81","v":395000},{"$f":"'Raw Data'!BP81","v":141225},{"$f":"'Raw Data'!BQ81","v":400000},{"$f":"'Raw Data'!BR81","v":295000},{"$f":"'Raw Data'!BS81","v":369950},{"$f":"'Raw Data'!BT81","v":350000},{"$f":"'Raw Data'!BU81","v":228000},{"$f":"'Raw Data'!BV81","v":320000},{"$f":"'Raw Data'!BW81","v":206950},{"$f":"'Raw Data'!BX81","v":235000},{"$f":"'Raw Data'!BY81","v":230125},{"$f":"'Raw Data'!BZ81","v":250500},{"$f":"'Raw Data'!CA81","v":255500},{"$f":"'Raw Data'!CB81","v":198000},{"$f":"'Raw Data'!CC81","v":227300},{"$f":"'Raw Data'!CD81","v":189000},{"$f":"'Raw Data'!CE81","v":157500},{"$f":"'Raw Data'!CF81","v":210000},{"$f":"'Raw Data'!CG81","v":237050},{"$f":"'Raw Data'!CH81","v":292325},{"$f":"'Raw Data'!CI81","v":252000},{"$f":"'Raw Data'!CJ81","v":199000},{"$f":"'Raw Data'!CK81","v":257155},{"$f":"'Raw Data'!CL81","v":249542},{"$f":"'Raw Data'!CM81","v":190500},{"$f":"'Raw Data'!CN81","v":155000},{"$f":"'Raw Data'!CO81","v":259128},{"$f":"'Raw Data'!CP81","v":178833},{"$f":"'Raw Data'!CQ81","v":134750},{"$f":"'Raw Data'!CR81","v":210000},{"$f":"'Raw Data'!CS81","v":144488},{"$f":"'Raw Data'!CT81","v":181600},{"$f":"'Raw Data'!CU81","v":152500},{"$f":"'Raw Data'!CV81","v":185000},{"$f":"'Raw Data'!CW81","v":277750},{"$f":"'Raw Data'!CX81","v":190000},{"$f":"'Raw Data'!CY81","v":160000},{"$f":"'Raw Data'!CZ81","v":258000},{"$f":"'Raw Data'!DA81","v":232500},{"$f":"'Raw Data'!DB81","v":164000},{"$f":"'Raw Data'!DC81","v":229500},{"$f":"'Raw Data'!DD81","v":207525},{"$f":"'Raw Data'!DE81","v":205000},{"$f":"'Raw Data'!DF81","v":224000},{"$f":"'Raw Data'!DG81","v":177525},{"$f":"'Raw Data'!DH81","v":177000},{"$f":"'Raw Data'!DI81","v":177500},{"$f":"'Raw Data'!DJ81","v":246750},{"$f":"'Raw Data'!DK81","v":214500},{"$f":"'Raw Data'!DL81","v":235000},{"$f":"'Raw Data'!DM81","v":113000},{"$f":"'Raw Data'!DN81","v":208900},{"$f":"'Raw Data'!DO81","v":140000},{"$f":"'Raw Data'!DP81","v":145000},{"$f":"'Raw Data'!DQ81","v":181000},{"$f":"'Raw Data'!DR81","v":247000},{"$f":"'Raw Data'!DS81","v":189000},{"$f":"'Raw Data'!DT81","v":231500},{"$f":"'Raw Data'!DU81","v":255000},{"$f":"'Raw Data'!DV81","v":246750},{"$f":"'Raw Data'!DW81","v":203750},{"$f":"'Raw Data'!DX81","v":185000},{"$f":"'Raw Data'!DY81","v":194750},{"$f":"'Raw Data'!DZ81","v":280000},{"$f":"'Raw Data'!EA81","v":238000},{"$f":"'Raw Data'!EB81","v":205000},{"$f":"'Raw Data'!EC81","v":180000},{"$f":"'Raw Data'!ED81","v":225000},{"$f":"'Raw Data'!EE81","v":190000},{"$f":"'Raw Data'!EF81","v":259500},{"$f":"'Raw Data'!EG81","v":238000},{"$f":"'Raw Data'!EH81","v":238000},{"$f":"'Raw Data'!EI81","v":249500},{"$f":"'Raw Data'!EJ81","v":224750},{"$f":"'Raw Data'!EK81","v":192450},{"$f":"'Raw Data'!EL81","v":156500},{"$f":"'Raw Data'!EM81","v":245000},{"$f":"'Raw Data'!EN81","v":159500},{"$f":"'Raw Data'!EO81","v":205000},{"$f":"'Raw Data'!EP81","v":252500},{"$f":"'Raw Data'!EQ81","v":169000},{"$f":"'Raw Data'!ER81","v":167500},{"$f":"'Raw Data'!ES81","v":259000},{"$f":"'Raw Data'!ET81","v":285000},{"$f":"'Raw Data'!EU81","v":169900},{"$f":"'Raw Data'!EV81","v":243000},{"$f":"'Raw Data'!EW81","v":220200},{"$f":"'Raw Data'!EX81","v":225000},{"$f":"'Raw Data'!EY81","v":197500},{"$f":"'Raw Data'!EZ81","v":249000},{"$f":"'Raw Data'!FA81","v":195000},{"$f":"'Raw Data'!FB81","v":261250},{"$f":"'Raw Data'!FC81","v":265000},{"$f":"'Raw Data'!FD81","v":249450},{"$f":"'Raw Data'!FE81","v":284000},{"$f":"'Raw Data'!FF81","v":233450},{"$f":"'Raw Data'!FG81","v":225000},{"$f":"'Raw Data'!FH81","v":237375},{"$f":"'Raw Data'!FI81","v":284500},{"$f":"'Raw Data'!FJ81","v":265000},{"$f":"'Raw Data'!FK81","v":277500},{"$f":"'Raw Data'!FL81","v":226250},{"$f":"'Raw Data'!FM81","v":236525},{"$f":"'Raw Data'!FN81","v":292009},{"$f":"'Raw Data'!FO81","v":236950},{"$f":"'Raw Data'!FP81","v":259000},{"$f":"'Raw Data'!FQ81","v":209950},{"$f":"'Raw Data'!FR81","v":288750},{"$f":"'Raw Data'!FS81","v":284880},{"$f":"'Raw Data'!FT81","v":320000},{"$f":"'Raw Data'!FU81","v":189900},{"$f":"'Raw Data'!FV81","v":250000},{"$f":"'Raw Data'!FW81","v":238500},{"$f":"'Raw Data'!FX81","v":264750},{"$f":"'Raw Data'!FY81","v":239900},{"$f":"'Raw Data'!FZ81","v":225000},{"$f":"'Raw Data'!GA81","v":247500},{"$f":"'Raw Data'!GB81","v":195000},{"$f":"'Raw Data'!GC81","v":254000},{"$f":"'Raw Data'!GD81","v":250000},{"$f":"'Raw Data'!GE81","v":320000},{"$f":"'Raw Data'!GF81","v":264605},{"$f":"'Raw Data'!GG81","v":263000},{"$f":"'Raw Data'!GH81","v":225000},{"$f":"'Raw Data'!GI81","v":234500},{"$f":"'Raw Data'!GJ81","v":320000},{"$f":"'Raw Data'!GK81","v":262500},{"$f":"'Raw Data'!GL81","v":300000},{"$f":"'Raw Data'!GM81","v":232000},{"$f":"'Raw Data'!GN81","v":225000},{"$f":"'Raw Data'!GO81","v":226950},{"$f":"'Raw Data'!GP81","v":217500},{"$f":"'Raw Data'!GQ81","v":302045},{"$f":"'Raw Data'!GR81","v":269000},{"$f":"'Raw Data'!GS81","v":284900},{"$f":"'Raw Data'!GT81","v":223000},{"$f":"'Raw Data'!GU81","v":202950},{"$f":"'Raw Data'!GV81","v":225000},{"$f":"'Raw Data'!GW81","v":237495},{"$f":"'Raw Data'!GX81","v":269750},{"$f":"'Raw Data'!GY81","v":260000},{"$f":"'Raw Data'!GZ81","v":249000},{"$f":"'Raw Data'!HA81","v":262000},{"$f":"'Raw Data'!HB81","v":314500},{"$f":"'Raw Data'!HC81","v":285000},{"$f":"'Raw Data'!HD81","v":284000},{"$f":"'Raw Data'!HE81","v":320000},{"$f":"'Raw Data'!HF81","v":295000},{"$f":"'Raw Data'!HG81","v":339000},{"$f":"'Raw Data'!HH81","v":300000},{"$f":"'Raw Data'!HI81","v":349000},{"$f":"'Raw Data'!HJ81","v":292000},{"$f":"'Raw Data'!HK81","v":387500},{"$f":"'Raw Data'!HL81","v":373700},{"$f":"'Raw Data'!HM81","v":342500},{"$f":"'Raw Data'!HN81","v":425000},{"$f":"'Raw Data'!HO81","v":315000},{"$f":"'Raw Data'!HP81","v":435000},{"$f":"'Raw Data'!HQ81","v":365000},{"$f":"'Raw Data'!HR81","v":392500},{"$f":"'Raw Data'!HS81","v":340850},{"$f":"'Raw Data'!HT81","v":455000},{"$f":"'Raw Data'!HU81","v":381500},{"$f":"'Raw Data'!HV81","v":431750},{"$f":"'Raw Data'!HW81","v":363000},{"$f":"'Raw Data'!HX81","v":385000},{"$f":"'Raw Data'!HY81","v":433500},{"$f":"'Raw Data'!HZ81","v":387250},{"$f":"'Raw Data'!IA81","v":390000},{"$f":"'Raw Data'!IB81","v":347000},{"$f":"'Raw Data'!IC81","v":462500},{"$f":"'Raw Data'!ID81","v":410000},{"$f":"'Raw Data'!IE81","v":399000},{"$f":"'Raw Data'!IF81","v":425500},{"$f":"'Raw Data'!IG81","v":395000},{"$f":"'Raw Data'!IH81","v":480500},{"$f":"'Raw Data'!II81","v":417500},{"$f":"'Raw Data'!IJ81","v":0},{"$f":"'Raw Data'!IK81","v":0},{"$f":"'Raw Data'!IL81","v":0},{"$f":"'Raw Data'!IM81","v":0},{"$f":"'Raw Data'!IN81","v":0},{"$f":"'Raw Data'!IO81","v":0},{"$f":"'Raw Data'!IP81","v":0},{"$f":"'Raw Data'!IQ81","v":0},{"$f":"'Raw Data'!IR81","v":0},{"$f":"'Raw Data'!IS81","v":0},{"$f":"'Raw Data'!IT81","v":0},{"$f":"'Raw Data'!IU81","v":0},{"$f":"'Raw Data'!IV81","v":0},{"$f":"'Raw Data'!IW81","v":0},{"$f":"'Raw Data'!IX81","v":0},{"$f":"'Raw Data'!IY81","v":0},{"$f":"'Raw Data'!IZ81","v":0},{"$f":"'Raw Data'!JA81","v":0},{"$f":"'Raw Data'!JB81","v":0},{"$f":"'Raw Data'!JC81","v":0},{"$f":"'Raw Data'!JD81","v":0},{"$f":"'Raw Data'!JE81","v":0},{"$f":"'Raw Data'!JF81","v":0},{"$f":"'Raw Data'!JG81","v":0},{"$f":"'Raw Data'!JH81","v":0},{"$f":"'Raw Data'!JI81","v":0},{"$f":"'Raw Data'!JJ81","v":0},{"$f":"'Raw Data'!JK81","v":0},{"$f":"'Raw Data'!JL81","v":0}]
["Units Sold",{"$nulls":43},{"$f":"'Raw Data'!BG79","v":10},{"$f":"'Raw Data'!BH79","v":5},{"$f":"'Raw Data'!BI79","v":13},{"$f":"'Raw Data'!BJ79","v":9},{"$f":"'Raw Data'!BK79","v":13},{"$f":"'Raw Data'!BL79","v":13},{"$f":"'Raw Data'!BM79","v":10},{"$f":"'Raw Data'!BN79","v":4},{"$f":"'Raw Data'!BO79","v":5},{"$f":"'Raw Data'!BP79","v":2},{"$f":"'Raw Data'!BQ79","v":1},{"$f":"'Raw Data'!BR79","v":5},{"$f":"'Raw Data'!BS79","v":2},{"$f":"'Raw Data'!BT79","v":3},{"$f":"'Raw Data'!BU79","v":4},{"$f":"'Raw Data'!BV79","v":7},{"$f":"'Raw Data'!BW79","v":8},{"$f":"'Raw Data'!BX79","v":13},{"$f":"'Raw Data'!BY79","v":12},{"$f":"'Raw Data'!BZ79","v":9},{"$f":"'Raw Data'!CA79","v":4},{"$f":"'Raw Data'!CB79","v":7},{"$f":"'Raw Data'!CC79","v":4},{"$f":"'Raw Data'!CD79","v":1},{"$f":"'Raw Data'!CE79","v":4},{"$f":"'Raw Data'!CF79","v":24},{"$f":"'Raw Data'!CG79","v":22},{"$f":"'Raw Data'!CH79","v":12},{"$f":"'Raw Data'!CI79","v":15},{"$f":"'Raw Data'!CJ79","v":5},{"$f":"'Raw Data'!CK79","v":9},{"$f":"'Raw Data'!CL79","v":7},{"$f":"'Raw Data'!CM79","v":10},{"$f":"'Raw Data'!CN79","v":9},{"$f":"'Raw Data'!CO79","v":7},{"$f":"'Raw Data'!CP79","v":6},{"$f":"'Raw Data'!CQ79","v":10},{"$f":"'Raw Data'!CR79","v":11},{"$f":"'Raw Data'!CS79","v":4},{"$f":"'Raw Data'!CT79","v":12},{"$f":"'Raw Data'!CU79","v":20},{"$f":"'Raw Data'!CV79","v":8},{"$f":"'Raw Data'!CW79","v":8},{"$f":"'Raw Data'!CX79","v":12},{"$f":"'Raw Data'!CY79","v":9},{"$f":"'Raw Data'!CZ79","v":8},{"$f":"'Raw Data'!DA79","v":10},{"$f":"'Raw Data'!DB79","v":10},{"$f":"'Raw Data'!DC79","v":13},{"$f":"'Raw Data'!DD79","v":8},{"$f":"'Raw Data'!DE79","v":19},{"$f":"'Raw Data'!DF79","v":16},{"$f":"'Raw Data'!DG79","v":10},{"$f":"'Raw Data'!DH79","v":7},{"$f":"'Raw Data'!DI79","v":12},{"$f":"'Raw Data'!DJ79","v":12},{"$f":"'Raw Data'!DK79","v":14},{"$f":"'Raw Data'!DL79","v":10},{"$f":"'Raw Data'!DM79","v":6},{"$f":"'Raw Data'!DN79","v":7},{"$f":"'Raw Data'!DO79","v":7},{"$f":"'Raw Data'!DP79","v":7},{"$f":"'Raw Data'!DQ79","v":13},{"$f":"'Raw Data'!DR79","v":10},{"$f":"'Raw Data'!DS79","v":13},{"$f":"'Raw Data'!DT79","v":12},{"$f":"'Raw Data'!DU79","v":11},{"$f":"'Raw Data'!DV79","v":12},{"$f":"'Raw Data'!DW79","v":14},{"$f":"'Raw Data'!DX79","v":10},{"$f":"'Raw Data'!DY79","v":12},{"$f":"'Raw Data'!DZ79","v":8},{"$f":"'Raw Data'!EA79","v":13},{"$f":"'Raw Data'!EB79","v":17},{"$f":"'Raw Data'!EC79","v":15},{"$f":"'Raw Data'!ED79","v":8},{"$f":"'Raw Data'!EE79","v":11},{"$f":"'Raw Data'!EF79","v":18},{"$f":"'Raw Data'!EG79","v":5},{"$f":"'Raw Data'!EH79","v":7},{"$f":"'Raw Data'!EI79","v":18},{"$f":"'Raw Data'!EJ79","v":9},{"$f":"'Raw Data'!EK79","v":4},{"$f":"'Raw Data'!EL79","v":7},{"$f":"'Raw Data'!EM79","v":17},{"$f":"'Raw Data'!EN79","v":7},{"$f":"'Raw Data'!EO79","v":15},{"$f":"'Raw Data'!EP79","v":21},{"$f":"'Raw Data'!EQ79","v":9},{"$f":"'Raw Data'!ER79","v":9},{"$f":"'Raw Data'!ES79","v":15},{"$f":"'Raw Data'!ET79","v":15},{"$f":"'Raw Data'!EU79","v":11},{"$f":"'Raw Data'!EV79","v":9},{"$f":"'Raw Data'!EW79","v":9},{"$f":"'Raw Data'!EX79","v":11},{"$f":"'Raw Data'!EY79","v":12},{"$f":"'Raw Data'!EZ79","v":13},{"$f":"'Raw Data'!FA79","v":15},{"$f":"'Raw Data'!FB79","v":22},{"$f":"'Raw Data'!FC79","v":18},{"$f":"'Raw Data'!FD79","v":22},{"$f":"'Raw Data'!FE79","v":14},{"$f":"'Raw Data'!FF79","v":12},{"$f":"'Raw Data'!FG79","v":17},{"$f":"'Raw Data'!FH79","v":13},{"$f":"'Raw Data'!FI79","v":11},{"$f":"'Raw Data'!FJ79","v":11},{"$f":"'Raw Data'!FK79","v":14},{"$f":"'Raw Data'!FL79","v":18},{"$f":"'Raw Data'!FM79","v":26},{"$f":"'Raw Data'!FN79","v":22},{"$f":"'Raw Data'!FO79","v":16},{"$f":"'Raw Data'!FP79","v":23},{"$f":"'Raw Data'!FQ79","v":10},{"$f":"'Raw Data'!FR79","v":14},{"$f":"'Raw Data'!FS79","v":15},{"$f":"'Raw Data'!FT79","v":13},{"$f":"'Raw Data'!FU79","v":13},{"$f":"'Raw Data'!FV79","v":9},{"$f":"'Raw Data'!FW79","v":22},{"$f":"'Raw Data'!FX79","v":26},{"$f":"'Raw Data'!FY79","v":27},{"$f":"'Raw Data'!FZ79","v":21},{"$f":"'Raw Data'!GA79","v":18},{"$f":"'Raw Data'!GB79","v":29},{"$f":"'Raw Data'!GC79","v":18},{"$f":"'Raw Data'!GD79","v":15},{"$f":"'Raw Data'!GE79","v":9},{"$f":"'Raw Data'!GF79","v":18},{"$f":"'Raw Data'!GG79","v":5},{"$f":"'Raw Data'!GH79","v":8},{"$f":"'Raw Data'!GI79","v":22},{"$f":"'Raw Data'!GJ79","v":11},{"$f":"'Raw Data'!GK79","v":23},{"$f":"'Raw Data'!GL79","v":15},{"$f":"'Raw Data'!GM79","v":19},{"$f":"'Raw Data'!GN79","v":21},{"$f":"'Raw Data'!GO79","v":16},{"$f":"'Raw Data'!GP79","v":13},{"$f":"'Raw Data'!GQ79","v":20},{"$f":"'Raw Data'!GR79","v":18},{"$f":"'Raw Data'!GS79","v":13},{"$f":"'Raw Data'!GT79","v":12},{"$f":"'Raw Data'!GU79","v":16},{"$f":"'Raw Data'!GV79","v":20},{"$f":"'Raw Data'!GW79","v":12},{"$f":"'Raw Data'!GX79","v":24},{"$f":"'Raw Data'!GY79","v":39},{"$f":"'Raw Data'!GZ79","v":43},{"$f":"'Raw Data'!HA79","v":36},{"$f":"'Raw Data'!HB79","v":36},{"$f":"'Raw Data'!HC79","v":23},{"$f":"'Raw Data'!HD79","v":34},{"$f":"'Raw Data'!HE79","v":19},{"$f":"'Raw Data'!HF79","v":15},{"$f":"'Raw Data'!HG79","v":43},{"$f":"'Raw Data'!HH79","v":29},{"$f":"'Raw Data'!HI79","v":31},{"$f":"'Raw Data'!HJ79","v":14},{"$f":"'Raw Data'!HK79","v":22},{"$f":"'Raw Data'!HL79","v":24},{"$f":"'Raw Data'!HM79","v":23},{"$f":"'Raw Data'!HN79","v":27},{"$f":"'Raw Data'!HO79","v":21},{"$f":"'Raw Data'!HP79","v":16},{"$f":"'Raw Data'!HQ79","v":21},{"$f":"'Raw Data'!HR79","v":22},{"$f":"'Raw Data'!HS79","v":25},{"$f":"'Raw Data'!HT79","v":31},{"$f":"'Raw Data'!HU79","v":20},{"$f":"'Raw Data'!HV79","v":22},{"$f":"'Raw Data'!HW79","v":20},{"$f":"'Raw Data'!HX79","v":21},{"$f":"'Raw Data'!HY79","v":12},{"$f":"'Raw Data'!HZ79","v":12},{"$f":"'Raw Data'!IA79","v":17},{"$f":"'Raw Data'!IB79","v":16},{"$f":"'Raw Data'!IC79","v":12},{"$f":"'Raw Data'!ID79","v":19},{"$f":"'Raw Data'!IE79","v":25},{"$f":"'Raw Data'!IF79","v":22},{"$f":"'Raw Data'!IG79","v":26},{"$f":"'Raw Data'!IH79","v":18},{"$f":"'Raw Data'!II79","v":17},{"$f":"'Raw Data'!IJ79","v":0},{"$f":"'Raw Data'!IK79","v":0},{"$f":"'Raw Data'!IL79","v":0},{"$f":"'Raw Data'!IM79","v":0},{"$f":"'Raw Data'!IN79","v":0},{"$f":"'Raw Data'!IO79","v":0},{"$f":"'Raw Data'!IP79","v":0},{"$f":"'Raw Data'!IQ79","v":0},{"$f":"'Raw Data'!IR79","v":0},{"$f":"'Raw Data'!IS79","v":0},{"$f":"'Raw Data'!IT79","v":0},{"$f":"'Raw Data'!IU79","v":0},{"$f":"'Raw Data'!IV79","v":0},{"$f":"'Raw Data'!IW79","v":0},{"$f":"'Raw Data'!IX79","v":0},{"$f":"'Raw Data'!IY79","v":0},{"$f":"'Raw Data'!IZ79","v":0},{"$f":"'Raw Data'!JA79","v":0},{"$f":"'Raw Data'!JB79","v":0},{"$f":"'Raw Data'!JC79","v":0},{"$f":"'Raw Data'!JD79","v":0},{"$f":"'Raw Data'!JE79","v":0},{"$f":"'Raw Data'!JF79","v":0},{"$f":"'Raw Data'!JG79","v":0},{"$f":"'Raw Data'!JH79","v":0},{"$f":"'Raw Data'!JI79","v":0},{"$f":"'Raw Data'!JJ79","v":0},{"$f":"'Raw Data'!JK79","v":0},{"$f":"'Raw Data'!JL79","v":0}]
[]
[]
["Average Sale Price",{"$nulls":203},"Average Sale Price"]
[{"$nulls":206},"Jan","Feb","Mar","Apr","May","Jun","July","Aug","Sep","Oct","Nov","Dec"]
[2012,{"$nulls":204},2012,{"$f":"CM6","v":370741},348355,412362,337186,349265,378091,378878,327597,295935,366492,388418,431401]
[2013,{"$nulls":204},2013,{"$f":"CY6","v":326127},314665,379384,319663,371414,372450,358845,329408,306203,383585,342405,372046]
[2014,{"$nulls":204},2014,{"$f":"DK6","v":392065},349976,391074,435374,392669,371633,351247,303837,343288,361132,342350,402759]
[2015,{"$nulls":204},2015,{"$f":"DW6","v":293223},358251,336945,397372,340012,403782,331603,351395,300000,309539,379797,380843]
[2015,{"$nulls":204},2015,{"$f":"DW6","v":293223},358251,336945,397372,340012,403782,331603,351395,300000,309539,379797,380843]
[2016,{"$nulls":67},2009,2010,2011,2012,2013,2014,2015,2016,2017,{"$nulls":128},2016,{"$f":"EI6","v":426842},363445,379449,372897,362336,388450,347995,346598,351734,353644,365359,395274]
[2017,{"$nulls":67},367000,341500,263900,330000,300000,318000,286000,335000,350000,{"$f":"SUM(BQ30:BY30)/9","v":321266.66666666669},{"$nulls":127},2017,{"$f":"EU6","v":412247},385976,369762,401042,403833,388478,395374,355968,376051,346594,374534,434910]
[2018,{"$nulls":204},2018,{"$f":"FG6","v":351673},424444,400295,390869,438104,414252,418554,373293,359545,390986,397900,451876]
[2019,{"$nulls":204},2019,{"$f":"FS6","v":410227},386500,397695,412075,394673,409902,369758,373816,413273,402082,438268,421379]
[2020,{"$nulls":204},2020,{"$f":"GE6","v":406071},371718,435388,415048,405862,395114,443748,475269,490079,535611,567366,578292]
[2021,{"$nulls":204},2021,{"$f":"GQ6","v":528590},529619,596636,606262,642117,688595,628784,611258,619187,667132,617710,698947]
[2022,{"$nulls":204},2022,{"$f":"HC6","v":725669},{"$f":"HD6","v":772979},740515,751899,765320,711955,712237,614297,693245,711033,632584,694886]
[2023,{"$nulls":204},2023,{"$f":"HO6","v":713297},{"$f":"HP6","v":566966},699538,652373,690943,748942,616768,0,0,0,0,0]
[]
["Median Sale Price",{"$nulls":203},"Median Sale Price",null,"Jan","Feb","Mar","Apr","May","June","July","Aug","Sep","Oct","Nov","Dec"]
[{"$nulls":206},"Jan","Feb","Mar","Apr","May","Jun","Aug","Aug","Sep","Oct","Nov","Dec"]
[2015,{"$nulls":204},2015,{"$f":"DW10","v":258500},312000,269500,290000,270000,296000,239750,277450,275000,279000,319500,278000]
[2016,{"$nulls":204},2016,{"$f":"EI10","v":300000},286000,303400,317500,289000,315000,300000,286000,289000,284500,299450,327500]
[2017,{"$nulls":204},2017,{"$f":"EU10","v":306000},310000,312500,321750,288000,316000,305000,310000,320000,304500,317500,345000]
[2018,{"$nulls":204},2018,{"$f":"FG10","v":273975},305000,325000,319250,342000,313750,333500,320000,294193,325000,339000,341500]
[2019,{"$nulls":204},2019,{"$f":"FS10","v":329900},318500,332500,339900,399100,335000,315000,313000,318750,335000,344000,371000]
[2020,{"$nulls":204},2020,{"$f":"GE10","v":342000},332000,347900,332500,350000,343000,366500,412500,423200,456500,477500,480000]
[2021,{"$nulls":204},2021,{"$f":"GQ10","v":430000},450000,473000,454950,470000,529000,490000,500000,495000,507000,480000,546500]
[2022,{"$nulls":204},2022,{"$f":"HC10","v":573910},{"$f":"HD10","v":570000},577250,560000,595000,545000,550000,507000,595000,600000,519654,515000,{"$f":"SUM(GY47:HH47)/10","v":567316}]
[2023,{"$nulls":204},2023,{"$f":"HO10","v":582500},{"$f":"HP10","v":470000},550000,544950,539000,599000,559499,0,0,0,0,0]
[]
["SFD Median Sale Price",{"$nulls":203},"SFD Median Sale Price",null,"Jan","Feb","Mar","Apr","May","June","July","Aug","Sep","Oct","Nov","Dec"]
[{"$nulls":206},"Jan","Feb","Mar","Apr","May","Jun","Aug","Aug","Sep","Oct","Nov","Dec"]
[2015,{"$nulls":204},2015,{"$f":"DW14","v":335000},317500,283880,300750,280000,300000,279000,325000,288500,284500,328500,286000]
[2016,{"$nulls":204},2016,{"$f":"EI14","v":325000},288000,325000,340000,325000,330000,309000,310000,294450,290000,310500,335000]
[2017,{"$nulls":204},2017,{"$f":"EU14","v":309000},311500,329000,339000,326000,325000,330000,324000,324950,327000,325000,350000]
[2018,{"$nulls":204},2018,{"$f":"FG14","v":321500},325000,340000,335000,370000,330000,346500,346450,311000,348500,356000,354500]
[2019,{"$nulls":204},2019,{"$f":"FS14","v":339000},332750,347250,345000,349950,342500,332500,331780,347250,351000,359000,384500]
[2020,{"$nulls":204},2020,{"$f":"GE14","v":370000},356000,365000,360000,373750,364570,398000,459000,457500,508000,500000,515000]
[2021,{"$nulls":204},2021,{"$f":"GQ14","v":449000},469000,507500,510000,522500,562000,530300,545000,503750,526000,525500,546750]
[2022,{"$nulls":204},2022,{"$f":"HC14","v":660000},{"$f":"HD14","v":637000},635000,620000,650000,581000,608000,549450,635000,{"$f":"HL14","v":650000},560000,565000]
[2023,{"$nulls":204},2023,{"$f":"HO14","v":629900},{"$f":"HP14","v":500000},{"$f":"HQ14","v":573750},585000,590000,627500,602450,0,0,0,0,0]
[]
[{"$nulls":204},"Condo Median Sale Price",null,"Jan","Feb","Mar","Apr","May","June","July ","Aug","Sep","Oct","Nov","Dec"]
[2015,{"$nulls":205},"Jan","Feb","Mar","Apr","May","Jun","Aug","Aug","Sep","Oct","Nov","Dec"]
[2016,{"$nulls":204},2015,{"$f":"DW18","v":192450},156500,245000,159500,205000,252500,169000,167500,259000,285000,169900,243000]
[2017,{"$nulls":204},2016,{"$f":"EI18","v":220200},225000,197500,249000,195000,261250,265000,249450,284000,233450,225000,237375]
[{"$nulls":205},2017,{"$f":"EU18","v":284500},265000,277500,226250,236525,292009,236950,259000,209950,288750,284880,320000]
[2018,{"$nulls":204},2018,{"$f":"FG18","v":189900},250000,238500,264750,239900,225000,247500,195000,254000,250000,320000,264605]
[2019,{"$nulls":204},2019,{"$f":"FS18","v":263000},225000,234500,320000,262500,300000,232000,225000,226950,217500,302045,269000]
[2020,{"$nulls":204},2020,{"$f":"GE18","v":284900},223000,202950,225000,237495,269750,260000,249000,262000,314500,285000,284000]
[2021,{"$nulls":204},2021,{"$f":"GQ18","v":320000},295000,339000,300000,349000,292000,387500,373700,342500,425000,315000,435000]
[2022,{"$nulls":204},2022,{"$f":"HC18","v":365000},{"$f":"HD18","v":392500},340850,455000,381500,431750,363000,385000,433500,387250,390000,347000]
[2023,{"$nulls":204},2023,{"$f":"HO18","v":462500},{"$f":"HP18","v":410000},{"$f":"HQ18","v":399000},425500,395000,480500,417500,0,0,0,0,0]
[]
[]
[]
[{"$nulls":204},"Residential - Avg Sale Price",null,null,null,"Residential Median Sale Price",null,null,null,"SFD Median Sale Price",null,null,null,"Condo Median Sale Price"]
[{"$nulls":204},"Month / Year","Count","% Chg",null,"Month / Year","Count","% Chg",null,"Month / Year","Count","% Chg",null,"Month / Year","Count","% Chg"]
[{"$nulls":204},"Jul'23",{"$f":"HE36","v":616768},{"$f":"(GX78-GX79)/GX79","v":-0.13404105655842086},null,"Jul'23",{"$f":"HE48","v":559499},{"$f":"(HB78-HB79)/HB79","v":1.727090909090909E-2},null,"Jul'23",{"$f":"HE60","v":602450},{"$f":"(HF78-HF79)/HF79","v":-9.1282894736842111E-3},null,"Jul'23",{"$f":"HE72","v":417500},{"$f":"(HJ78-HJ79)/HJ79","v":0.15013774104683195}]
[{"$nulls":204},"Jul'22",{"$f":"HE35","v":712237},{"$f":"(GX79-GX80)/GX80","v":0.13272125244917174},null,"Jul'22",{"$f":"HE47","v":550000},{"$f":"(HB79-HB80)/HB80","v":0.12244897959183673},null,"Jul'22",{"$f":"HE59","v":608000},{"$f":"(HF79-HF80)/HF80","v":0.14652083726192722},null,"Jul'22",{"$f":"HE71","v":363000},{"$f":"(HJ79-HJ80)/HJ80","v":-6.3225806451612909E-2}]
[{"$nulls":204},"Jul'21",{"$f":"HE34","v":628784},{"$f":"(GX80-GX81)/GX81","v":0.41698441457764318},null,"Jul'21",{"$f":"HE46","v":490000},{"$f":"(HB80-HB81)/HB81","v":0.33697135061391542},null,"Jul'21",{"$f":"HE58","v":530300},{"$f":"(HF80-HF81)/HF81","v":0.33241206030150755},null,"Jul'21",{"$f":"HE70","v":387500},{"$f":"(HJ80-HJ81)/HJ81","v":0.49038461538461536}]
[{"$nulls":204},"Jul'20",{"$f":"HE33","v":443748},null,null,"Jul'20",{"$f":"HE45","v":366500},null,null,"Jul'20",{"$f":"HE57","v":398000},null,null,"Jul'20",{"$f":"HE69","v":260000}]
[]
[]
[{"$nulls":206},"Jan","Feb","Mar","Apr","May","Jun","Jul","Aug","Sep","Oct","Nov","Dec"]
[2015,{"$nulls":205},"Jan","Feb","Mar","Apr","May","June","Augy","Aug","Sep","Oct","Nov","Dec"]
[2016,{"$nulls":204},"Residential Propert Sales",null,"Feb","Mar","Apr","May","Jun","Aug","Aug","Sep",{"$f":"EF2","v":159},{"$f":"EG2","v":143},{"$f":"EH2","v":148}]
[2017,{"$nulls":205},"Jan",{"$f":"DX2","v":105},140,153,202,185,171,146,143,{"$f":"ER2","v":145},{"$f":"ES2","v":140},{"$f":"ET2","v":173}]
[{"$nulls":205},2015,{"$f":"DW2","v":96},{"$f":"EJ2","v":92},138,158,175,185,155,159,159,{"$f":"FD2","v":166},{"$f":"FE2","v":164},{"$f":"FF2","v":164}]
[{"$nulls":205},2016,{"$f":"EI2","v":111},{"$f":"EV2","v":129},180,180,203,218,136,171,162,{"$f":"FP2","v":176},{"$f":"FQ2","v":135},{"$f":"FR2","v":166}]
[2018,{"$nulls":204},2017,{"$f":"EU2","v":112},{"$f":"FH2","v":89},187,186,219,188,172,189,142,{"$f":"GB2","v":189},{"$f":"GC2","v":206},{"$f":"GD2","v":174}]
[2019,{"$nulls":204},2018,{"$f":"FG2","v":118},{"$f":"FT2","v":123},184,189,217,190,185,201,162,{"$f":"GB2","v":189},{"$f":"GC2","v":206},{"$f":"GD2","v":174}]
[{"$nulls":205},2019,{"$f":"FS2","v":119},123,184,189,217,190,185,201,162,{"$f":"GN2","v":372},{"$f":"GO2","v":310},{"$f":"GP2","v":316}]
[2020,{"$nulls":204},2020,{"$f":"GE2","v":148},146,198,154,150,221,396,322,358,{"$f":"GZ2","v":253},{"$f":"HA2","v":267},{"$f":"HB2","v":240}]
[2021,{"$nulls":204},2021,{"$f":"GQ2","v":263},237,377,349,337,326,263,234,230,{"$f":"HL2","v":161},{"$f":"HM2","v":161},{"$f":"HN2","v":131}]
[2022,{"$nulls":204},2022,{"$f":"HC2","v":225},182,300,265,247,235,171,201,179,{"$f":"HL2","v":161},{"$f":"HM2","v":161},{"$f":"HN2","v":131}]
[2023,{"$nulls":204},2023,{"$f":"HO2","v":101},{"$f":"HP2","v":137},193,166,185,189,126,0,0,0,0,0]
[]
[]
[{"$nulls":204},"All Residential Sales",null,null,null,"Yearly Residential Sales"]
[{"$nulls":204},"Month / Year","Count","%Chg",null,"Month / Year","Count","%Chg"]
[{"$nulls":204},"Jul'23",{"$f":"HE96","v":126},{"$f":"(GX101-GX102)/GX102","v":-0.26315789473684209},null,2023,{"$f":"SUM(GY96:HE96)","v":1097},{"$f":"(HB101-HB102)/HB102","v":-0.32492307692307693}]
[{"$nulls":204},"Jul'22",{"$f":"HE95","v":171},{"$f":"(GX102-GX103)/GX103","v":-0.34980988593155893},null,2022,{"$f":"SUM(GY95:HE95)","v":1625},{"$f":"(HB102-HB103)/HB103","v":-0.24488847583643122}]
[{"$nulls":204},"Jul'21",{"$f":"HE94","v":263},{"$f":"(GX103-GX104)/GX104","v":-0.33585858585858586},null,2021,{"$f":"SUM(GY94:HE94)","v":2152},{"$f":"(HB103-HB104)/HB104","v":0.52300070771408347}]
[{"$nulls":204},"Jul'20",{"$f":"HE93","v":396},null,null,2020,{"$f":"SUM(GY93:HE93)","v":1413}]

{"sheet":"Sold Residential by Town","index":30,"n_rows":23,"n_cols":15,"rows_kept":23,"cut":false,"hidden":true,"merged":[]}
[null,"November","December ","January","February","March","April","May","June","July","August","September","October","November","December"]
["Ocracoke - 20",3,28]
["Ocracoke - 19",0,2]
["Currituck Mainland - 20",25,32]
["Currituck Mainland - 19",25,19]
["Roanoke Island - 20",14,35]
["Roanoke Island - 19",7,7]
["All Hatteras - 20",51,145]
["All Hatteras - 19",24,22]
["Nags Head - 20",34,60]
["Nags Head - 19",25,19]
["Colington - 20",4,23]
["Colington - 19",20,8]
["Kill Devil Hills - 20",36,58]
["Kill Devil Hills - 19",28,27]
["Kitty Hawk - 20",16,9]
["Kitty Hawk - 19",15,7]
["Southern Shores - 20",14,20]
["Southern Shores - 19",9,15]
["Duck - 20",22,7]
["Duck- 19",11,7]
["Corolla - 20",70,70]
["Corolla - 19",27,31]

{"sheet":"Land Data","index":34,"n_rows":73,"n_cols":181,"rows_kept":73,"cut":false,"hidden":false,"merged":[[29,101,29,103],[48,101,48,103],[67,101,67,103],[29,105,29,107],[48,105,48,107],[67,105,67,107]]}
[null,{"$f":"'Raw Data'!CO92","v":"2011-01-01"},{"$f":"'Raw Data'!CP92","v":"2011-02-01"},{"$f":"'Raw Data'!CQ92","v":"2011-03-01"},{"$f":"'Raw Data'!CR92","v":"2011-04-01"},{"$f":"'Raw Data'!CS92","v":"2011-05-01"},{"$f":"'Raw Data'!CT92","v":"2011-06-01"},{"$f":"'Raw Data'!CU92","v":"2011-07-01"},{"$f":"'Raw Data'!CV92","v":"2011-08-01"},{"$f":"'Raw Data'!CW92","v":"2011-09-01"},{"$f":"'Raw Data'!CX92","v":"2011-10-01"},{"$f":"'Raw Data'!CY92","v":"2011-11-01"},{"$f":"'Raw Data'!CZ92","v":"2011-12-01"},{"$f":"'Raw Data'!DA92","v":"2012-01-01"},{"$f":"'Raw Data'!DB92","v":"2012-02-01"},{"$f":"'Raw Data'!DC92","v":"2012-03-01"},{"$f":"'Raw Data'!DD92","v":"2012-04-01"},{"$f":"'Raw Data'!DE92","v":"2012-05-01"},{"$f":"'Raw Data'!DF92","v":"2012-06-01"},{"$f":"'Raw Data'!DG92","v":"2012-07-01"},{"$f":"'Raw Data'!DH92","v":"2012-08-01"},{"$f":"'Raw Data'!DI92","v":"2012-09-01"},{"$f":"'Raw Data'!DJ92","v":"2012-10-01"},{"$f":"'Raw Data'!DK92","v":"2012-11-01"},{"$f":"'Raw Data'!DL92","v":"2012-12-01"},{"$f":"'Raw Data'!DM92","v":"2013-01-01"},{"$f":"'Raw Data'!DN92","v":"2013-02-01"},{"$f":"'Raw Data'!DO92","v":"2013-03-01"},{"$f":"'Raw Data'!DP92","v":"2013-04-01"},{"$f":"'Raw Data'!DQ92","v":"2013-05-01"},{"$f":"'Raw Data'!DR92","v":"2013-06-01"},{"$f":"'Raw Data'!DS92","v":"2013-07-01"},{"$f":"'Raw Data'!DT92","v":"2013-08-01"},{"$f":"'Raw Data'!DU92","v":"2013-09-01"},{"$f":"'Raw Data'!DV92","v":"2013-10-01"},{"$f":"'Raw Data'!DW92","v":"2013-11-01"},{"$f":"'Raw Data'!DX92","v":"2013-12-01"},{"$f":"'Raw Data'!DY92","v":"2014-01-01"},{"$f":"'Raw Data'!DZ92","v":"2014-02-01"},{"$f":"'Raw Data'!EA92","v":"2014-03-01"},{"$f":"'Raw Data'!EB92","v":"2014-04-01"},{"$f":"'Raw Data'!EC92","v":"2014-05-01"},{"$f":"'Raw Data'!ED92","v":"2014-06-01"},{"$f":"'Raw Data'!EE92","v":"2014-07-01"},{"$f":"'Raw Data'!EF92","v":"2014-08-01"},{"$f":"'Raw Data'!EG92","v":"2014-09-01"},{"$f":"'Raw Data'!EH92","v":"2014-10-01"},{"$f":"'Raw Data'!EI92","v":"2014-11-01"},{"$f":"'Raw Data'!EJ92","v":"2014-12-01"},{"$f":"'Raw Data'!EK92","v":"2015-01-01"},{"$f":"'Raw Data'!EL92","v":"2015-02-01"},{"$f":"'Raw Data'!EM92","v":"2015-03-01"},{"$f":"'Raw Data'!EN92","v":"2015-04-01"},{"$f":"'Raw Data'!EO92","v":"2015-05-01"},{"$f":"'Raw Data'!EP92","v":"2015-06-01"},{"$f":"'Raw Data'!EQ92","v":"2015-07-01"},{"$f":"'Raw Data'!ER92","v":"2015-08-01"},{"$f":"'Raw Data'!ES92","v":"2015-09-01"},{"$f":"'Raw Data'!ET92","v":"2015-10-01"},{"$f":"'Raw Data'!EU92","v":"2015-11-01"},{"$f":"'Raw Data'!EV92","v":"2015-12-01"},{"$f":"'Raw Data'!EW92","v":"2016-01-01"},{"$f":"'Raw Data'!EX92","v":"2016-02-01"},{"$f":"'Raw Data'!EY92","v":"2016-03-01"},{"$f":"'Raw Data'!EZ92","v":"2016-04-01"},{"$f":"'Raw Data'!FA92","v":"2016-05-01"},{"$f":"'Raw Data'!FB92","v":"2016-06-01"},{"$f":"'Raw Data'!FC92","v":"2016-07-01"},{"$f":"'Raw Data'!FD92","v":"2016-08-01"},{"$f":"'Raw Data'!FE92","v":"2016-09-01"},{"$f":"'Raw Data'!FF92","v":"2016-10-01"},{"$f":"'Raw Data'!FG92","v":"2016-11-01"},{"$f":"'Raw Data'!FH92","v":"2016-12-01"},{"$f":"'Raw Data'!FI92","v":"2017-01-01"},"2017-02-16","2017-03-16","2017-04-16","2017-05-16","2017-06-16","2017-07-16","2017-08-16","2017-09-16","2017-10-16","2017-11-16","2017-12-16","2018-01-16","2018-02-16","2018-03-16","2018-04-16","2018-05-16","2018-06-16","2018-07-16","2018-08-16","2018-09-16","2018-10-16","2018-11-16","2018-12-16","2019-01-16","2019-02-16","2019-03-16","2019-04-16","2019-05-16","2019-06-16","2019-07-16","2019-08-16","2019-09-16","2019-10-16","2019-11-16","2019-12-16","2020-01-16","2020-02-16","2020-03-16","2020-04-16","2020-05-16","2020-06-16","2020-07-16","2020-08-16","2020-09-16","2020-10-16","2020-11-16","2020-12-16","2021-01-16","2021-02-16","2021-03-16","2021-04-16","2021-05-16","2021-06-16","2021-07-16","2021-08-11","2021-09-11","2021-10-11","2021-11-11","2021-12-11","2022-01-11","2022-02-11","2022-03-11","2022-04-11","2022-05-11","2022-06-11","2022-07-11","2022-08-11","2022-09-11","2022-10-11","2022-11-11","2022-12-11","2023-01-11","2023-02-11","2023-03-11","2023-04-11","2023-05-11","2023-06-11","2023-07-11","2023-08-11","2023-09-11","2023-10-11","2023-11-11","2023-12-11","2024-01-11","2024-02-11","2024-03-11","2024-04-11","2024-05-11","2024-06-11","2024-07-11","2024-08-11","2024-09-11","2024-10-11","2024-11-11","2024-12-11","2025-01-11","2025-02-11","2025-03-11","2025-04-11","2025-05-11","2025-06-11","2025-07-11","2025-08-11","2025-09-11","2025-10-11","2025-11-11","2025-12-11"]
["Units Sold",{"$f":"'Raw Data'!CO103","v":15},{"$f":"'Raw Data'!CP103","v":18},{"$f":"'Raw Data'!CQ103","v":37},{"$f":"'Raw Data'!CR103","v":27},{"$f":"'Raw Data'!CS103","v":32},{"$f":"'Raw Data'!CT103","v":33},{"$f":"'Raw Data'!CU103","v":18},{"$f":"'Raw Data'!CV103","v":27},{"$f":"'Raw Data'!CW103","v":23},{"$f":"'Raw Data'!CX103","v":18},{"$f":"'Raw Data'!CY103","v":45},{"$f":"'Raw Data'!CZ103","v":38},{"$f":"'Raw Data'!DA103","v":18},{"$f":"'Raw Data'!DB103","v":31},{"$f":"'Raw Data'!DC103","v":50},{"$f":"'Raw Data'!DD103","v":51},{"$f":"'Raw Data'!DE103","v":40},{"$f":"'Raw Data'!DF103","v":35},{"$f":"'Raw Data'!DG103","v":30},{"$f":"'Raw Data'!DH103","v":45},{"$f":"'Raw Data'!DI103","v":28},{"$f":"'Raw Data'!DJ103","v":40},{"$f":"'Raw Data'!DK103","v":30},{"$f":"'Raw Data'!DL103","v":27},{"$f":"'Raw Data'!DM103","v":24},{"$f":"'Raw Data'!DN103","v":51},{"$f":"'Raw Data'!DO103","v":44},{"$f":"'Raw Data'!DP103","v":41},{"$f":"'Raw Data'!DQ103","v":36},{"$f":"'Raw Data'!DR103","v":34},{"$f":"'Raw Data'!DS103","v":39},{"$f":"'Raw Data'!DT103","v":43},{"$f":"'Raw Data'!DU103","v":38},{"$f":"'Raw Data'!DV103","v":56},{"$f":"'Raw Data'!DW103","v":27},{"$f":"'Raw Data'!DX103","v":59},{"$f":"'Raw Data'!DY103","v":21},{"$f":"'Raw Data'!DZ103","v":24},{"$f":"'Raw Data'!EA103","v":29},{"$f":"'Raw Data'!EB103","v":35},{"$f":"'Raw Data'!EC103","v":33},{"$f":"'Raw Data'!ED103","v":51},{"$f":"'Raw Data'!EE103","v":73},{"$f":"'Raw Data'!EF103","v":44},{"$f":"'Raw Data'!EG103","v":52},{"$f":"'Raw Data'!EH103","v":48},{"$f":"'Raw Data'!EI103","v":34},{"$f":"'Raw Data'!EJ103","v":35},{"$f":"'Raw Data'!EK103","v":31},{"$f":"'Raw Data'!EL103","v":30},{"$f":"'Raw Data'!EM103","v":40},{"$f":"'Raw Data'!EN103","v":37},{"$f":"'Raw Data'!EO103","v":36},{"$f":"'Raw Data'!EP103","v":40},{"$f":"'Raw Data'!EQ103","v":43},{"$f":"'Raw Data'!ER103","v":39},{"$f":"'Raw Data'!ES103","v":50},{"$f":"'Raw Data'!ET103","v":39},{"$f":"'Raw Data'!EU103","v":28},{"$f":"'Raw Data'!EV103","v":42},{"$f":"'Raw Data'!EW103","v":32},{"$f":"'Raw Data'!EX103","v":37},{"$f":"'Raw Data'!EY103","v":43},{"$f":"'Raw Data'!EZ103","v":38},{"$f":"'Raw Data'!FA103","v":39},{"$f":"'Raw Data'!FB103","v":48},{"$f":"'Raw Data'!FC103","v":46},{"$f":"'Raw Data'!FD103","v":44},{"$f":"'Raw Data'!FE103","v":51},{"$f":"'Raw Data'!FF103","v":44},{"$f":"'Raw Data'!FG103","v":26},{"$f":"'Raw Data'!FH103","v":23},{"$f":"'Raw Data'!FI103","v":29},{"$f":"'Raw Data'!FJ103","v":19},{"$f":"'Raw Data'!FK103","v":54},{"$f":"'Raw Data'!FL103","v":33},{"$f":"'Raw Data'!FM103","v":46},{"$f":"'Raw Data'!FN103","v":75},{"$f":"'Raw Data'!FO103","v":49},{"$f":"'Raw Data'!FP103","v":52},{"$f":"'Raw Data'!FQ103","v":44},{"$f":"'Raw Data'!FR103","v":66},{"$f":"'Raw Data'!FS103","v":40},{"$f":"'Raw Data'!FT103","v":36},{"$f":"'Raw Data'!FU103","v":35},{"$f":"'Raw Data'!FV103","v":22},{"$f":"'Raw Data'!FW103","v":43},{"$f":"'Raw Data'!FX103","v":35},{"$f":"'Raw Data'!FY103","v":42},{"$f":"'Raw Data'!FZ103","v":53},{"$f":"'Raw Data'!GA103","v":37},{"$f":"'Raw Data'!GB103","v":37},{"$f":"'Raw Data'!GC103","v":35},{"$f":"'Raw Data'!GD103","v":36},{"$f":"'Raw Data'!GE103","v":26},{"$f":"'Raw Data'!GF103","v":23},{"$f":"'Raw Data'!GG103","v":21},{"$f":"'Raw Data'!GH103","v":37},{"$f":"'Raw Data'!GI103","v":30},{"$f":"'Raw Data'!GJ103","v":37},{"$f":"'Raw Data'!GK103","v":34},{"$f":"'Raw Data'!GL103","v":39},{"$f":"'Raw Data'!GM103","v":45},{"$f":"'Raw Data'!GN103","v":39},{"$f":"'Raw Data'!GO103","v":35},{"$f":"'Raw Data'!GP103","v":32},{"$f":"'Raw Data'!GQ103","v":43},{"$f":"'Raw Data'!GR103","v":41},{"$f":"'Raw Data'!GS103","v":23},{"$f":"'Raw Data'!GT103","v":33},{"$f":"'Raw Data'!GU103","v":38},{"$f":"'Raw Data'!GV103","v":25},{"$f":"'Raw Data'!GW103","v":27},{"$f":"'Raw Data'!GX103","v":27},{"$f":"'Raw Data'!GY103","v":55},{"$f":"'Raw Data'!GZ103","v":78},{"$f":"'Raw Data'!HA103","v":80},{"$f":"'Raw Data'!HB103","v":86},{"$f":"'Raw Data'!HC103","v":71},{"$f":"'Raw Data'!HD103","v":80},{"$f":"'Raw Data'!HE103","v":68},{"$f":"'Raw Data'!HF103","v":57},{"$f":"'Raw Data'!HG103","v":67},{"$f":"'Raw Data'!HH103","v":93},{"$f":"'Raw Data'!HI103","v":99},{"$f":"'Raw Data'!HJ103","v":103},{"$f":"'Raw Data'!HK103","v":97},{"$f":"'Raw Data'!HL103","v":89},{"$f":"'Raw Data'!HM103","v":81},{"$f":"'Raw Data'!HN103","v":75},{"$f":"'Raw Data'!HO103","v":70},{"$f":"'Raw Data'!HP103","v":76},{"$f":"'Raw Data'!HQ103","v":56},{"$f":"'Raw Data'!HR103","v":61},{"$f":"'Raw Data'!HS103","v":80},{"$f":"'Raw Data'!HT103","v":75},{"$f":"'Raw Data'!HU103","v":81},{"$f":"'Raw Data'!HV103","v":51},{"$f":"'Raw Data'!HW103","v":56},{"$f":"'Raw Data'!HX103","v":62},{"$f":"'Raw Data'!HY103","v":48},{"$f":"'Raw Data'!HZ103","v":43},{"$f":"'Raw Data'!IA103","v":31},{"$f":"'Raw Data'!IB103","v":36},{"$f":"'Raw Data'!IC46","v":38},{"$f":"'Raw Data'!ID46","v":36},{"$f":"'Raw Data'!IE46","v":43},{"$f":"'Raw Data'!IF46","v":48},{"$f":"'Raw Data'!IG46","v":41},{"$f":"'Raw Data'!IH103","v":55},{"$f":"'Raw Data'!II103","v":43},{"$f":"'Raw Data'!IJ103","v":0},{"$f":"'Raw Data'!IK103","v":0},{"$f":"'Raw Data'!IL103","v":0},{"$f":"'Raw Data'!IM103","v":0},{"$f":"'Raw Data'!IN103","v":0},{"$f":"'Raw Data'!IO103","v":0},{"$f":"'Raw Data'!IP103","v":0},{"$f":"'Raw Data'!IQ103","v":0},{"$f":"'Raw Data'!IR103","v":0},{"$f":"'Raw Data'!IS103","v":0},{"$f":"'Raw Data'!IT103","v":0},{"$f":"'Raw Data'!IU103","v":0},{"$f":"'Raw Data'!IV103","v":0},{"$f":"'Raw Data'!IW103","v":0},{"$f":"'Raw Data'!IX103","v":0},{"$f":"'Raw Data'!IY103","v":0},{"$f":"'Raw Data'!IZ103","v":0},{"$f":"'Raw Data'!JA103","v":0},{"$f":"'Raw Data'!JB103","v":0},{"$f":"'Raw Data'!JC103","v":0},{"$f":"'Raw Data'!JD103","v":0},{"$f":"'Raw Data'!JE103","v":0},{"$f":"'Raw Data'!JF103","v":0},{"$f":"'Raw Data'!JG103","v":0},{"$f":"'Raw Data'!JH103","v":0},{"$f":"'Raw Data'!JI103","v":0},{"$f":"'Raw Data'!JJ103","v":0},{"$f":"'Raw Data'!JK103","v":0},{"$f":"'Raw Data'!JL103","v":0}]
["Average Sale Price",{"$f":"'Raw Data'!CO93","v":155163},{"$f":"'Raw Data'!CP93","v":146894},{"$f":"'Raw Data'!CQ93","v":145281},{"$f":"'Raw Data'!CR93","v":140425},{"$f":"'Raw Data'!CS93","v":118989},{"$f":"'Raw Data'!CT93","v":111978},{"$f":"'Raw Data'!CU93","v":283737},{"$f":"'Raw Data'!CV93","v":101553},{"$f":"'Raw Data'!CW93","v":72103},{"$f":"'Raw Data'!CX93","v":125117},{"$f":"'Raw Data'!CY93","v":103268},{"$f":"'Raw Data'!CZ93","v":72371},{"$f":"'Raw Data'!DA93","v":93388},{"$f":"'Raw Data'!DB93","v":181117},{"$f":"'Raw Data'!DC93","v":71616},{"$f":"'Raw Data'!DD93","v":98564},{"$f":"'Raw Data'!DE93","v":159695},{"$f":"'Raw Data'!DF93","v":183782},{"$f":"'Raw Data'!DG93","v":105136},{"$f":"'Raw Data'!DH93","v":118420},{"$f":"'Raw Data'!DI93","v":92017},{"$f":"'Raw Data'!DJ93","v":196584},{"$f":"'Raw Data'!DK93","v":84545},{"$f":"'Raw Data'!DL93","v":130848},{"$f":"'Raw Data'!DM93","v":88501},{"$f":"'Raw Data'!DN93","v":77247},{"$f":"'Raw Data'!DO93","v":105227},{"$f":"'Raw Data'!DP93","v":82163},{"$f":"'Raw Data'!DQ93","v":90498},{"$f":"'Raw Data'!DR93","v":211961},{"$f":"'Raw Data'!DS93","v":138629},{"$f":"'Raw Data'!DT93","v":117793},{"$f":"'Raw Data'!DU93","v":96721},{"$f":"'Raw Data'!DV93","v":104522},{"$f":"'Raw Data'!DW93","v":90513},{"$f":"'Raw Data'!DX93","v":52211},{"$f":"'Raw Data'!DY93","v":136446},{"$f":"'Raw Data'!DZ93","v":155116},{"$f":"'Raw Data'!EA93","v":133855},{"$f":"'Raw Data'!EB93","v":109600},{"$f":"'Raw Data'!EC93","v":90929},{"$f":"'Raw Data'!ED93","v":129189},{"$f":"'Raw Data'!EE93","v":72870},{"$f":"'Raw Data'!EF93","v":133052},{"$f":"'Raw Data'!EG93","v":151821},{"$f":"'Raw Data'!EH93","v":167868},{"$f":"'Raw Data'!EI93","v":94117},{"$f":"'Raw Data'!EJ93","v":132045},{"$f":"'Raw Data'!EK93","v":110204},{"$f":"'Raw Data'!EL93","v":102623},{"$f":"'Raw Data'!EM93","v":87975},{"$f":"'Raw Data'!EN93","v":101099},{"$f":"'Raw Data'!EO93","v":216373},{"$f":"'Raw Data'!EP93","v":111462},{"$f":"'Raw Data'!EQ93","v":178079},{"$f":"'Raw Data'!ER93","v":86702},{"$f":"'Raw Data'!ES93","v":160944},{"$f":"'Raw Data'!ET93","v":81685},{"$f":"'Raw Data'!EU93","v":237153},{"$f":"'Raw Data'!EV93","v":120910},{"$f":"'Raw Data'!EW93","v":76851},{"$f":"'Raw Data'!EX93","v":90406},{"$f":"'Raw Data'!EY93","v":190946},{"$f":"'Raw Data'!EZ93","v":96831},{"$f":"'Raw Data'!FA93","v":104817},{"$f":"'Raw Data'!FB93","v":103856},{"$f":"'Raw Data'!FC93","v":289971},{"$f":"'Raw Data'!FD93","v":106252},{"$f":"'Raw Data'!FE93","v":138723},{"$f":"'Raw Data'!FF93","v":92843},{"$f":"'Raw Data'!FG93","v":163523},{"$f":"'Raw Data'!FH93","v":144460},{"$f":"'Raw Data'!FI93","v":100048},{"$f":"'Raw Data'!FJ93","v":116157},{"$f":"'Raw Data'!FK93","v":114108},{"$f":"'Raw Data'!FL93","v":141193},{"$f":"'Raw Data'!FM93","v":103777},{"$f":"'Raw Data'!FN93","v":93727},{"$f":"'Raw Data'!FO93","v":93689},{"$f":"'Raw Data'!FP93","v":101173},{"$f":"'Raw Data'!FQ93","v":133354},{"$f":"'Raw Data'!FR93","v":124331},{"$f":"'Raw Data'!FS93","v":130892},{"$f":"'Raw Data'!FT93","v":126380},{"$f":"'Raw Data'!FU93","v":144135},{"$f":"'Raw Data'!FV93","v":116451},{"$f":"'Raw Data'!FW93","v":153531},{"$f":"'Raw Data'!FX93","v":108688},{"$f":"'Raw Data'!FY93","v":118595},{"$f":"'Raw Data'!FZ93","v":120586},{"$f":"'Raw Data'!GA93","v":219840},{"$f":"'Raw Data'!GB93","v":137428},{"$f":"'Raw Data'!GC93","v":107766},{"$f":"'Raw Data'!GD93","v":119177},{"$f":"'Raw Data'!GE93","v":133434},{"$f":"'Raw Data'!GF93","v":123000},{"$f":"'Raw Data'!GG93","v":145685},{"$f":"'Raw Data'!GH93","v":111560},{"$f":"'Raw Data'!GI93","v":117766},{"$f":"'Raw Data'!GJ93","v":80586},{"$f":"'Raw Data'!GK93","v":108102},{"$f":"'Raw Data'!GL93","v":94658},{"$f":"'Raw Data'!GM93","v":95844},{"$f":"'Raw Data'!GN93","v":170225},{"$f":"'Raw Data'!GO93","v":165212},{"$f":"'Raw Data'!GP93","v":130693},{"$f":"'Raw Data'!GQ93","v":120530},{"$f":"'Raw Data'!GR93","v":118280},{"$f":"'Raw Data'!GS93","v":119750},{"$f":"'Raw Data'!GT93","v":133486},{"$f":"'Raw Data'!GU93","v":86317},{"$f":"'Raw Data'!GV93","v":122183},{"$f":"'Raw Data'!GW93","v":140240},{"$f":"'Raw Data'!GX93","v":111700},{"$f":"'Raw Data'!GY93","v":112682},{"$f":"'Raw Data'!GZ93","v":116675},{"$f":"'Raw Data'!HA93","v":133471},{"$f":"'Raw Data'!HB93","v":148784},{"$f":"'Raw Data'!HC93","v":142764},{"$f":"'Raw Data'!HD93","v":148240},{"$f":"'Raw Data'!HE93","v":145714},{"$f":"'Raw Data'!HF93","v":159957},{"$f":"'Raw Data'!HG93","v":161844},{"$f":"'Raw Data'!HH93","v":151254},{"$f":"'Raw Data'!HI93","v":110453},{"$f":"'Raw Data'!HJ93","v":158496},{"$f":"'Raw Data'!HK93","v":149607},{"$f":"'Raw Data'!HL93","v":156534},{"$f":"'Raw Data'!HM93","v":157615},{"$f":"'Raw Data'!HN93","v":188693},{"$f":"'Raw Data'!HO93","v":179468},{"$f":"'Raw Data'!HP93","v":195770},{"$f":"'Raw Data'!HQ93","v":155367},{"$f":"'Raw Data'!HR93","v":136429},{"$f":"'Raw Data'!HS93","v":157210},{"$f":"'Raw Data'!HT93","v":193148},{"$f":"'Raw Data'!HU93","v":150081},{"$f":"'Raw Data'!HV93","v":157656},{"$f":"'Raw Data'!HW93","v":166514},{"$f":"'Raw Data'!HX93","v":160426},{"$f":"'Raw Data'!HY93","v":177062},{"$f":"'Raw Data'!HZ93","v":250600},{"$f":"'Raw Data'!IA93","v":196932},{"$f":"'Raw Data'!IB93","v":187848},{"$f":"'Raw Data'!IC93","v":190311},{"$f":"'Raw Data'!ID93","v":175977},{"$f":"'Raw Data'!IE93","v":145315},{"$f":"'Raw Data'!IF93","v":182202},{"$f":"'Raw Data'!IG93","v":189726},{"$f":"'Raw Data'!IH93","v":156384},{"$f":"'Raw Data'!II93","v":199692},{"$f":"'Raw Data'!IJ93","v":0},{"$f":"'Raw Data'!IK93","v":0},{"$f":"'Raw Data'!IL93","v":0},{"$f":"'Raw Data'!IM93","v":0},{"$f":"'Raw Data'!IN93","v":0},{"$f":"'Raw Data'!IO93","v":0},{"$f":"'Raw Data'!IP93","v":0},{"$f":"'Raw Data'!IQ93","v":0},{"$f":"'Raw Data'!IR93","v":0},{"$f":"'Raw Data'!IS93","v":0},{"$f":"'Raw Data'!IT93","v":0},{"$f":"'Raw Data'!IU93","v":0},{"$f":"'Raw Data'!IV93","v":0},{"$f":"'Raw Data'!IW93","v":0},{"$f":"'Raw Data'!IX93","v":0},{"$f":"'Raw Data'!IY93","v":0},{"$f":"'Raw Data'!IZ93","v":0},{"$f":"'Raw Data'!JA93","v":0},{"$f":"'Raw Data'!JB93","v":0},{"$f":"'Raw Data'!JC93","v":0},{"$f":"'Raw Data'!JD93","v":0},{"$f":"'Raw Data'!JE93","v":0},{"$f":"'Raw Data'!JF93","v":0},{"$f":"'Raw Data'!JG93","v":0},{"$f":"'Raw Data'!JH93","v":0},{"$f":"'Raw Data'!JI93","v":0},{"$f":"'Raw Data'!JJ93","v":0},{"$f":"'Raw Data'!JK93","v":0},{"$f":"'Raw Data'!JL93","v":0}]
["Median Sale Price",{"$f":"'Raw Data'!CO94","v":105000},{"$f":"'Raw Data'!CP94","v":73800},{"$f":"'Raw Data'!CQ94","v":80000},{"$f":"'Raw Data'!CR94","v":90000},{"$f":"'Raw Data'!CS94","v":85000},{"$f":"'Raw Data'!CT94","v":98000},{"$f":"'Raw Data'!CU94","v":100437},{"$f":"'Raw Data'!CV94","v":104000},{"$f":"'Raw Data'!CW94","v":65000},{"$f":"'Raw Data'!CX94","v":95000},{"$f":"'Raw Data'!CY94","v":45125},{"$f":"'Raw Data'!CZ94","v":61250},{"$f":"'Raw Data'!DA94","v":67500},{"$f":"'Raw Data'!DB94","v":115000},{"$f":"'Raw Data'!DC94","v":55000},{"$f":"'Raw Data'!DD94","v":54000},{"$f":"'Raw Data'!DE94","v":60000},{"$f":"'Raw Data'!DF94","v":63000},{"$f":"'Raw Data'!DG94","v":73500},{"$f":"'Raw Data'!DH94","v":72150},{"$f":"'Raw Data'!DI94","v":65000},{"$f":"'Raw Data'!DJ94","v":109000},{"$f":"'Raw Data'!DK94","v":63500},{"$f":"'Raw Data'!DL94","v":92000},{"$f":"'Raw Data'!DM94","v":61000},{"$f":"'Raw Data'!DN94","v":50000},{"$f":"'Raw Data'!DO94","v":57050},{"$f":"'Raw Data'!DP94","v":65000},{"$f":"'Raw Data'!DQ94","v":64100},{"$f":"'Raw Data'!DR94","v":92500},{"$f":"'Raw Data'!DS94","v":87500},{"$f":"'Raw Data'!DT94","v":65000},{"$f":"'Raw Data'!DU94","v":74000},{"$f":"'Raw Data'!DV94","v":56000},{"$f":"'Raw Data'!DW94","v":73500},{"$f":"'Raw Data'!DX94","v":26250},{"$f":"'Raw Data'!DY94","v":89000},{"$f":"'Raw Data'!DZ94","v":65000},{"$f":"'Raw Data'!EA94","v":80000},{"$f":"'Raw Data'!EB94","v":63500},{"$f":"'Raw Data'!EC94","v":7200},{"$f":"'Raw Data'!ED94","v":78000},{"$f":"'Raw Data'!EE94","v":38000},{"$f":"'Raw Data'!EF94","v":71500},{"$f":"'Raw Data'!EG94","v":65000},{"$f":"'Raw Data'!EH94","v":91000},{"$f":"'Raw Data'!EI94","v":62800},{"$f":"'Raw Data'!EJ94","v":70700},{"$f":"'Raw Data'!EK94","v":72000},{"$f":"'Raw Data'!EL94","v":84000},{"$f":"'Raw Data'!EM94","v":70750},{"$f":"'Raw Data'!EN94","v":70000},{"$f":"'Raw Data'!EO94","v":87500},{"$f":"'Raw Data'!EP94","v":79500},{"$f":"'Raw Data'!EQ94","v":92000},{"$f":"'Raw Data'!ER94","v":72000},{"$f":"'Raw Data'!ES94","v":66720},{"$f":"'Raw Data'!ET94","v":75000},{"$f":"'Raw Data'!EU94","v":58450},{"$f":"'Raw Data'!EV94","v":55000},{"$f":"'Raw Data'!EW94","v":76450},{"$f":"'Raw Data'!EX94","v":70000},{"$f":"'Raw Data'!EY94","v":64500},{"$f":"'Raw Data'!EZ94","v":59000},{"$f":"'Raw Data'!FA94","v":80000},{"$f":"'Raw Data'!FB94","v":77750},{"$f":"'Raw Data'!FC94","v":78950},{"$f":"'Raw Data'!FD94","v":75000},{"$f":"'Raw Data'!FE94","v":70000},{"$f":"'Raw Data'!FF94","v":64750},{"$f":"'Raw Data'!FG94","v":98750},{"$f":"'Raw Data'!FH94","v":55000},{"$f":"'Raw Data'!FI94","v":83000},{"$f":"'Raw Data'!FJ94","v":95000},{"$f":"'Raw Data'!FK94","v":71250},{"$f":"'Raw Data'!FL94","v":49000},{"$f":"'Raw Data'!FM94","v":95000},{"$f":"'Raw Data'!FN94","v":75500},{"$f":"'Raw Data'!FO94","v":75000},{"$f":"'Raw Data'!FP94","v":82900},{"$f":"'Raw Data'!FQ94","v":77500},{"$f":"'Raw Data'!FR94","v":80250},{"$f":"'Raw Data'!FS94","v":69250},{"$f":"'Raw Data'!FT94","v":61900},{"$f":"'Raw Data'!FU94","v":110000},{"$f":"'Raw Data'!FV94","v":103500},{"$f":"'Raw Data'!FW94","v":100000},{"$f":"'Raw Data'!FX94","v":79500},{"$f":"'Raw Data'!FY94","v":69000},{"$f":"'Raw Data'!FZ94","v":85000},{"$f":"'Raw Data'!GA94","v":133000},{"$f":"'Raw Data'!GB94","v":90000},{"$f":"'Raw Data'!GC94","v":85000},{"$f":"'Raw Data'!GD94","v":92500},{"$f":"'Raw Data'!GE94","v":102500},{"$f":"'Raw Data'!GF94","v":72000},{"$f":"'Raw Data'!GG94","v":115000},{"$f":"'Raw Data'!GH94","v":95000},{"$f":"'Raw Data'!GI94","v":50000},{"$f":"'Raw Data'!GJ94","v":50000},{"$f":"'Raw Data'!GK94","v":68750},{"$f":"'Raw Data'!GL94","v":76000},{"$f":"'Raw Data'!GM94","v":70000},{"$f":"'Raw Data'!GN94","v":95500},{"$f":"'Raw Data'!GO94","v":90000},{"$f":"'Raw Data'!GP94","v":87500},{"$f":"'Raw Data'!GQ94","v":115000},{"$f":"'Raw Data'!GR94","v":78000},{"$f":"'Raw Data'!GS94","v":134791},{"$f":"'Raw Data'!GT94","v":70000},{"$f":"'Raw Data'!GU94","v":77000},{"$f":"'Raw Data'!GV94","v":112500},{"$f":"'Raw Data'!GW94","v":95000},{"$f":"'Raw Data'!GX94","v":95000},{"$f":"'Raw Data'!GY94","v":76000},{"$f":"'Raw Data'!GZ94","v":95000},{"$f":"'Raw Data'!HA94","v":99900},{"$f":"'Raw Data'!HB94","v":110000},{"$f":"'Raw Data'!HC94","v":95000},{"$f":"'Raw Data'!HD94","v":89000},{"$f":"'Raw Data'!HE94","v":119000},{"$f":"'Raw Data'!HF94","v":100000},{"$f":"'Raw Data'!HG94","v":107500},{"$f":"'Raw Data'!HH94","v":114000},{"$f":"'Raw Data'!HI94","v":80000},{"$f":"'Raw Data'!HJ94","v":95000},{"$f":"'Raw Data'!HK94","v":105000},{"$f":"'Raw Data'!HL94","v":110000},{"$f":"'Raw Data'!HM94","v":115000},{"$f":"'Raw Data'!HN94","v":125000},{"$f":"'Raw Data'!HO94","v":137450},{"$f":"'Raw Data'!HP94","v":114950},{"$f":"'Raw Data'!HQ94","v":112250},{"$f":"'Raw Data'!HR94","v":107000},{"$f":"'Raw Data'!HS94","v":128050},{"$f":"'Raw Data'!HT94","v":129900},{"$f":"'Raw Data'!HU94","v":129750},{"$f":"'Raw Data'!HV94","v":115750},{"$f":"'Raw Data'!HW94","v":147000},{"$f":"'Raw Data'!HX94","v":115050},{"$f":"'Raw Data'!HY94","v":110111},{"$f":"'Raw Data'!HZ94","v":140000},{"$f":"'Raw Data'!IA94","v":160000},{"$f":"'Raw Data'!IB94","v":155000},{"$f":"'Raw Data'!IC94","v":128750},{"$f":"'Raw Data'!ID94","v":126250},{"$f":"'Raw Data'!IE94","v":99000},{"$f":"'Raw Data'!IF94","v":130000},{"$f":"'Raw Data'!IG94","v":110000},{"$f":"'Raw Data'!IH94","v":133690},{"$f":"'Raw Data'!II94","v":163000},{"$f":"'Raw Data'!IJ94","v":0},{"$f":"'Raw Data'!IK94","v":0},{"$f":"'Raw Data'!IL94","v":0},{"$f":"'Raw Data'!IM94","v":0},{"$f":"'Raw Data'!IN94","v":0},{"$f":"'Raw Data'!IO94","v":0},{"$f":"'Raw Data'!IP94","v":0},{"$f":"'Raw Data'!IQ94","v":0},{"$f":"'Raw Data'!IR94","v":0},{"$f":"'Raw Data'!IS94","v":0},{"$f":"'Raw Data'!IT94","v":0},{"$f":"'Raw Data'!IU94","v":0},{"$f":"'Raw Data'!IV94","v":0},{"$f":"'Raw Data'!IW94","v":0},{"$f":"'Raw Data'!IX94","v":0},{"$f":"'Raw Data'!IY94","v":0},{"$f":"'Raw Data'!IZ94","v":0},{"$f":"'Raw Data'!JA94","v":0},{"$f":"'Raw Data'!JB94","v":0},{"$f":"'Raw Data'!JC94","v":0},{"$f":"'Raw Data'!JD94","v":0},{"$f":"'Raw Data'!JE94","v":0},{"$f":"'Raw Data'!JF94","v":0},{"$f":"'Raw Data'!JG94","v":0},{"$f":"'Raw Data'!JH94","v":0},{"$f":"'Raw Data'!JI94","v":0},{"$f":"'Raw Data'!JJ94","v":0},{"$f":"'Raw Data'!JK94","v":0},{"$f":"'Raw Data'!JL94","v":0}]
["Total Sale Price",{"$f":"'Raw Data'!CO95","v":2327450},{"$f":"'Raw Data'!CP95","v":2644100},{"$f":"'Raw Data'!CQ95","v":5375400},{"$f":"'Raw Data'!CR95","v":3791500},{"$f":"'Raw Data'!CS95","v":3807677},{"$f":"'Raw Data'!CT95","v":3695300},{"$f":"'Raw Data'!CU95","v":5107275},{"$f":"'Raw Data'!CV95","v":2741940},{"$f":"'Raw Data'!CW95","v":1658369},{"$f":"'Raw Data'!CX95","v":2127000},{"$f":"'Raw Data'!CY95","v":4543800},{"$f":"'Raw Data'!CZ95","v":2750113},{"$f":"'Raw Data'!DA95","v":1681000},{"$f":"'Raw Data'!DB95","v":5252400},{"$f":"'Raw Data'!DC95","v":3509200},{"$f":"'Raw Data'!DD95","v":5026798},{"$f":"'Raw Data'!DE95","v":6387800},{"$f":"'Raw Data'!DF95","v":6432400},{"$f":"'Raw Data'!DG95","v":3154100},{"$f":"'Raw Data'!DH95","v":5447330},{"$f":"'Raw Data'!DI95","v":2668500},{"$f":"'Raw Data'!DJ95","v":7863364},{"$f":"'Raw Data'!DK95","v":2536350},{"$f":"'Raw Data'!DL95","v":3532900},{"$f":"'Raw Data'!DM95","v":2124035},{"$f":"'Raw Data'!DN95","v":3939605},{"$f":"'Raw Data'!DO95","v":4630005},{"$f":"'Raw Data'!DP95","v":3368710},{"$f":"'Raw Data'!DQ95","v":3257950},{"$f":"'Raw Data'!DR95","v":7206700},{"$f":"'Raw Data'!DS95","v":5406549},{"$f":"'Raw Data'!DT95","v":5065139},{"$f":"'Raw Data'!DU95","v":3675400},{"$f":"'Raw Data'!DV95","v":7863364},{"$f":"'Raw Data'!DW95","v":2534380},{"$f":"'Raw Data'!DX95","v":3080500},{"$f":"'Raw Data'!DY95","v":2865375},{"$f":"'Raw Data'!DZ95","v":3722800},{"$f":"'Raw Data'!EA95","v":3881000},{"$f":"'Raw Data'!EB95","v":3836000},{"$f":"'Raw Data'!EC95","v":3000675},{"$f":"'Raw Data'!ED95","v":6588649},{"$f":"'Raw Data'!EE95","v":5139575},{"$f":"'Raw Data'!EF95","v":5854320},{"$f":"'Raw Data'!EG95","v":7894700},{"$f":"'Raw Data'!EH95","v":8057704},{"$f":"'Raw Data'!EI95","v":3200000},{"$f":"'Raw Data'!EJ95","v":4621575},{"$f":"'Raw Data'!EK95","v":3271350},{"$f":"'Raw Data'!EL95","v":3078700},{"$f":"'Raw Data'!EM95","v":3519025},{"$f":"'Raw Data'!EN95","v":3740695},{"$f":"'Raw Data'!EO95","v":7356695},{"$f":"'Raw Data'!EP95","v":4458500},{"$f":"'Raw Data'!EQ95","v":7657400},{"$f":"'Raw Data'!ER95","v":3381378},{"$f":"'Raw Data'!ES95","v":8208152},{"$f":"'Raw Data'!ET95","v":3185718},{"$f":"'Raw Data'!EU95","v":6640300},{"$f":"'Raw Data'!EV95","v":5078250},{"$f":"'Raw Data'!EW95","v":2459250},{"$f":"'Raw Data'!EX95","v":3345030},{"$f":"'Raw Data'!EY95","v":8210679},{"$f":"'Raw Data'!EZ95","v":3679600},{"$f":"'Raw Data'!FA95","v":4087900},{"$f":"'Raw Data'!FB95","v":4985100},{"$f":"'Raw Data'!FC95","v":13338700},{"$f":"'Raw Data'!FD95","v":4675100},{"$f":"'Raw Data'!FE95","v":7074900},{"$f":"'Raw Data'!FF95","v":4085100},{"$f":"'Raw Data'!FG95","v":4251600},{"$f":"'Raw Data'!FH95","v":3322600},{"$f":"'Raw Data'!FI95","v":2801350},{"$f":"'Raw Data'!FJ95","v":2207000},{"$f":"'Raw Data'!FK95","v":6161850},{"$f":"'Raw Data'!FL95","v":4659400},{"$f":"'Raw Data'!FM95","v":4669996},{"$f":"'Raw Data'!FN95","v":7029590},{"$f":"'Raw Data'!FO95","v":4590800},{"$f":"'Raw Data'!FP95","v":5261044},{"$f":"'Raw Data'!FQ95","v":5867700},{"$f":"'Raw Data'!FR95","v":8205875},{"$f":"'Raw Data'!FS95","v":5235700},{"$f":"'Raw Data'!FT95","v":4549700},{"$f":"'Raw Data'!FU95","v":5044750},{"$f":"'Raw Data'!FV95","v":2561935},{"$f":"'Raw Data'!FW95","v":6601850},{"$f":"'Raw Data'!FX95","v":3912800},{"$f":"'Raw Data'!FY95","v":4981000},{"$f":"'Raw Data'!FZ95","v":6391080},{"$f":"'Raw Data'!GA95","v":8134101},{"$f":"'Raw Data'!GB95","v":5359701},{"$f":"'Raw Data'!GC95","v":3771810},{"$f":"'Raw Data'!GD95","v":4290400},{"$f":"'Raw Data'!GE95","v":3469300},{"$f":"'Raw Data'!GF95","v":2829000},{"$f":"'Raw Data'!GG95","v":3059400},{"$f":"'Raw Data'!GH95","v":4127725},{"$f":"'Raw Data'!GI95","v":3533000},{"$f":"'Raw Data'!GJ95","v":2981700},{"$f":"'Raw Data'!GK95","v":3675500},{"$f":"'Raw Data'!GL95","v":3691690},{"$f":"'Raw Data'!GM95","v":4313000},{"$f":"'Raw Data'!GN95","v":6638801},{"$f":"'Raw Data'!GO95","v":5782430},{"$f":"'Raw Data'!GP95","v":4182200},{"$f":"'Raw Data'!GQ95","v":2182800},{"$f":"'Raw Data'!GR95","v":4849500},{"$f":"'Raw Data'!GS95","v":3774150},{"$f":"'Raw Data'!GT95","v":4405050},{"$f":"'Raw Data'!GU95","v":3280075},{"$f":"'Raw Data'!GV95","v":2932399},{"$f":"'Raw Data'!GW95","v":3786500},{"$f":"'Raw Data'!GX95","v":3015900},{"$f":"'Raw Data'!GY95","v":5972150},{"$f":"'Raw Data'!GZ95","v":8867351},{"$f":"'Raw Data'!HA95","v":10544252},{"$f":"'Raw Data'!HB95","v":12498900},{"$f":"'Raw Data'!HC95","v":9993500},{"$f":"'Raw Data'!HD95","v":11859260},{"$f":"'Raw Data'!HE95","v":9617130},{"$f":"'Raw Data'!HF95","v":9117600},{"$f":"'Raw Data'!HG95","v":10843551},{"$f":"'Raw Data'!HH95","v":14066700},{"$f":"'Raw Data'!HI95","v":10934900},{"$f":"'Raw Data'!HJ95","v":15849600},{"$f":"'Raw Data'!HK95","v":14511950},{"$f":"'Raw Data'!HL95","v":13931527},{"$f":"'Raw Data'!HM95","v":12766850},{"$f":"'Raw Data'!HN95","v":14152000},{"$f":"'Raw Data'!HO95","v":12562820},{"$f":"'Raw Data'!HP95","v":14878527},{"$f":"'Raw Data'!HQ95","v":8700560},{"$f":"'Raw Data'!HR95","v":8185782},{"$f":"'Raw Data'!HS95","v":12576800},{"$f":"'Raw Data'!HT95","v":14486150},{"$f":"'Raw Data'!HU95","v":12006509},{"$f":"'Raw Data'!HV95","v":7882800},{"$f":"'Raw Data'!HW95","v":9324800},{"$f":"'Raw Data'!HX95","v":9946450},{"$f":"'Raw Data'!HY95","v":8499003},{"$f":"'Raw Data'!HZ95","v":10775800},{"$f":"'Raw Data'!IA95","v":6104900},{"$f":"'Raw Data'!IB95","v":6762550},{"$f":"'Raw Data'!IC95","v":7231855},{"$f":"'Raw Data'!ID95","v":6335180},{"$f":"'Raw Data'!IE95","v":6103250},{"$f":"'Raw Data'!IF95","v":8563500},{"$f":"'Raw Data'!IG95","v":7778800},{"$f":"'Raw Data'!IH95","v":8599190},{"$f":"'Raw Data'!II95","v":8586770},{"$f":"'Raw Data'!IJ95","v":0},{"$f":"'Raw Data'!IK95","v":0},{"$f":"'Raw Data'!IL95","v":0},{"$f":"'Raw Data'!IM95","v":0},{"$f":"'Raw Data'!IN95","v":0},{"$f":"'Raw Data'!IO95","v":0},{"$f":"'Raw Data'!IP95","v":0},{"$f":"'Raw Data'!IQ95","v":0},{"$f":"'Raw Data'!IR95","v":0},{"$f":"'Raw Data'!IS95","v":0},{"$f":"'Raw Data'!IT95","v":0},{"$f":"'Raw Data'!IU95","v":0},{"$f":"'Raw Data'!IV95","v":0},{"$f":"'Raw Data'!IW95","v":0},{"$f":"'Raw Data'!IX95","v":0},{"$f":"'Raw Data'!IY95","v":0},{"$f":"'Raw Data'!IZ95","v":0},{"$f":"'Raw Data'!JA95","v":0},{"$f":"'Raw Data'!JB95","v":0},{"$f":"'Raw Data'!JC95","v":0},{"$f":"'Raw Data'!JD95","v":0},{"$f":"'Raw Data'!JE95","v":0},{"$f":"'Raw Data'!JF95","v":0},{"$f":"'Raw Data'!JG95","v":0},{"$f":"'Raw Data'!JH95","v":0},{"$f":"'Raw Data'!JI95","v":0},{"$f":"'Raw Data'!JJ95","v":0},{"$f":"'Raw Data'!JK95","v":0},{"$f":"'Raw Data'!JL95","v":0}]
[]
[null,{"$f":"B1","v":"2011-01-01"},"2011-02-01","2011-03-01","2011-04-01","2011-05-01","2011-06-01","2011-07-01","2011-08-01","2011-09-01","2011-10-01","2011-11-01","2011-12-01","2012-01-01","2012-02-01","2012-03-01","2012-04-01","2012-05-01","2012-06-01","2012-07-01","2012-08-01","2012-09-01","2012-10-01","2012-11-01","2012-12-01","2013-01-01","2013-02-01","2013-03-01","2013-04-01","2013-05-01","2013-06-01","2013-07-01","2013-08-01","2013-09-01","2013-10-01","2013-11-01","2013-12-01","2014-01-01","2014-02-01","2014-03-01","2014-04-01","2014-05-01","2014-06-01","2014-07-01","2014-08-01","2014-09-01","2014-10-01","2014-11-01","2014-12-01","2015-01-01","2015-02-01","2015-03-01","2015-04-01","2015-05-01","2015-06-01","2015-07-01","2015-08-01","2015-09-01","2015-10-01","2015-11-01","2015-12-01","2016-01-01","2016-02-01","2016-03-01","2016-04-01","2016-05-01","2016-06-01","2016-07-01","2016-08-01","2016-09-01","2016-10-01","2016-11-01","2016-12-01","2017-01-01","2017-02-16","2017-03-16","2017-04-16","2017-05-16","2017-06-16","2017-07-16","2017-08-16","2017-09-16","2017-10-16","2017-11-16","2017-12-16","2018-01-16","2018-02-16","2018-03-16","2018-04-16","2018-05-16","2018-06-16","2018-07-16","2018-08-16","2018-09-16","2018-10-16","2018-11-16","2018-12-16","2019-01-16","2019-02-16","2019-03-16","2019-04-16","2019-05-16","2019-06-16","2019-07-16","2019-08-16","2019-09-16","2019-10-16","2019-11-16","2019-12-16","2020-01-16","2020-02-16","2020-03-16","2020-04-16","2020-05-16","2020-06-16","2020-07-16","2020-08-16","2020-09-20","2020-10-20","2020-11-20","2020-12-20","2021-01-21","2021-02-22","2021-03-26","2021-04-27","2021-05-29","2021-06-30","2021-07-01","2021-08-11","2021-09-11","2021-10-11","2021-11-11","2021-12-11","2022-01-11","2022-02-11","2022-03-11","2022-04-11","2022-05-11","2022-06-11","2022-07-11","2022-08-11","2022-09-11","2022-10-11","2022-11-11","2022-12-11","2023-01-11","2023-02-11","2023-03-11","2023-04-11","2023-05-11","2023-06-11","2023-07-11","2023-08-11","2023-09-11","2023-10-11","2023-11-11","2023-12-11","2024-01-11","2024-02-11","2024-03-11","2024-04-11","2024-05-11","2024-06-11","2024-07-11","2024-08-11","2024-09-11","2024-10-11","2024-11-11","2024-12-11","2025-01-11","2025-02-11","2025-03-11","2025-04-11","2025-05-11","2025-06-11","2025-07-11","2025-08-11","2025-09-11","2025-10-11","2025-11-11","2025-12-11"]
["Residential",{"$f":"'Raw Data'!CO98","v":14},{"$f":"'Raw Data'!CP98","v":16},{"$f":"'Raw Data'!CQ98","v":36},{"$f":"'Raw Data'!CR98","v":24},{"$f":"'Raw Data'!CS98","v":30},{"$f":"'Raw Data'!CT98","v":32},{"$f":"'Raw Data'!CU98","v":16},{"$f":"'Raw Data'!CV98","v":25},{"$f":"'Raw Data'!CW98","v":21},{"$f":"'Raw Data'!CX98","v":18},{"$f":"'Raw Data'!CY98","v":30},{"$f":"'Raw Data'!CZ98","v":25},{"$f":"'Raw Data'!DA98","v":17},{"$f":"'Raw Data'!DB98","v":31},{"$f":"'Raw Data'!DC98","v":37},{"$f":"'Raw Data'!DD98","v":48},{"$f":"'Raw Data'!DE98","v":33},{"$f":"'Raw Data'!DF98","v":33},{"$f":"'Raw Data'!DG98","v":30},{"$f":"'Raw Data'!DH98","v":43},{"$f":"'Raw Data'!DI98","v":26},{"$f":"'Raw Data'!DJ98","v":35},{"$f":"'Raw Data'!DK98","v":28},{"$f":"'Raw Data'!DL98","v":23},{"$f":"'Raw Data'!DM98","v":19},{"$f":"'Raw Data'!DN98","v":32},{"$f":"'Raw Data'!DO98","v":38},{"$f":"'Raw Data'!DP98","v":36},{"$f":"'Raw Data'!DQ98","v":35},{"$f":"'Raw Data'!DR98","v":31},{"$f":"'Raw Data'!DS98","v":38},{"$f":"'Raw Data'!DT98","v":41},{"$f":"'Raw Data'!DU98","v":35},{"$f":"'Raw Data'!DV98","v":53},{"$f":"'Raw Data'!DW98","v":23},{"$f":"'Raw Data'!DX98","v":55},{"$f":"'Raw Data'!DY98","v":21},{"$f":"'Raw Data'!DZ98","v":19},{"$f":"'Raw Data'!EA98","v":28},{"$f":"'Raw Data'!EB98","v":34},{"$f":"'Raw Data'!EC98","v":31},{"$f":"'Raw Data'!ED98","v":46},{"$f":"'Raw Data'!EE98","v":70},{"$f":"'Raw Data'!EF98","v":39},{"$f":"'Raw Data'!EG98","v":51},{"$f":"'Raw Data'!EH98","v":41},{"$f":"'Raw Data'!EI98","v":29},{"$f":"'Raw Data'!EJ98","v":30},{"$f":"'Raw Data'!EK98","v":27},{"$f":"'Raw Data'!EL98","v":29},{"$f":"'Raw Data'!EM98","v":39},{"$f":"'Raw Data'!EN98","v":37},{"$f":"'Raw Data'!EO98","v":34},{"$f":"'Raw Data'!EP98","v":35},{"$f":"'Raw Data'!EQ98","v":36},{"$f":"'Raw Data'!ER98","v":37},{"$f":"'Raw Data'!ES98","v":47},{"$f":"'Raw Data'!ET98","v":36},{"$f":"'Raw Data'!EU98","v":26},{"$f":"'Raw Data'!EV98","v":34},{"$f":"'Raw Data'!EW98","v":29},{"$f":"'Raw Data'!EX98","v":33},{"$f":"'Raw Data'!EY98","v":38},{"$f":"'Raw Data'!EZ98","v":35},{"$f":"'Raw Data'!FA98","v":33},{"$f":"'Raw Data'!FB98","v":47},{"$f":"'Raw Data'!FC98","v":40},{"$f":"'Raw Data'!FD98","v":42},{"$f":"'Raw Data'!FE98","v":47},{"$f":"'Raw Data'!FF98","v":40},{"$f":"'Raw Data'!FG98","v":24},{"$f":"'Raw Data'!FH98","v":20},{"$f":"'Raw Data'!FI98","v":27},{"$f":"'Raw Data'!FJ98","v":16},{"$f":"'Raw Data'!FK98","v":47},{"$f":"'Raw Data'!FL98","v":27},{"$f":"'Raw Data'!FM98","v":44},{"$f":"'Raw Data'!FN98","v":61},{"$f":"'Raw Data'!FO98","v":47},{"$f":"'Raw Data'!FP98","v":45},{"$f":"'Raw Data'!FQ98","v":40},{"$f":"'Raw Data'!FR98","v":61},{"$f":"'Raw Data'!FS98","v":38},{"$f":"'Raw Data'!FT98","v":33},{"$f":"'Raw Data'!FU98","v":30},{"$f":"'Raw Data'!FV98","v":18},{"$f":"'Raw Data'!FW98","v":37},{"$f":"'Raw Data'!FX98","v":35},{"$f":"'Raw Data'!FY98","v":39},{"$f":"'Raw Data'!FZ98","v":50},{"$f":"'Raw Data'!GA98","v":34},{"$f":"'Raw Data'!GB98","v":36},{"$f":"'Raw Data'!GC98","v":34},{"$f":"'Raw Data'!GD98","v":34},{"$f":"'Raw Data'!GE98","v":25},{"$f":"'Raw Data'!GF98","v":22},{"$f":"'Raw Data'!GG98","v":18},{"$f":"'Raw Data'!GH98","v":33},{"$f":"'Raw Data'!GI98","v":25},{"$f":"'Raw Data'!GJ98","v":35},{"$f":"'Raw Data'!GK98","v":34},{"$f":"'Raw Data'!GL98","v":37},{"$f":"'Raw Data'!GM98","v":41},{"$f":"'Raw Data'!GN98","v":35},{"$f":"'Raw Data'!GO98","v":33},{"$f":"'Raw Data'!GP98","v":29},{"$f":"'Raw Data'!GQ98","v":37},{"$f":"'Raw Data'!GR98","v":38},{"$f":"'Raw Data'!GS98","v":22},{"$f":"'Raw Data'!GT98","v":33},{"$f":"'Raw Data'!GU98","v":30},{"$f":"'Raw Data'!GV98","v":22},{"$f":"'Raw Data'!GW98","v":21},{"$f":"'Raw Data'!GX98","v":24},{"$f":"'Raw Data'!GY98","v":49},{"$f":"'Raw Data'!GZ98","v":71},{"$f":"'Raw Data'!HA98","v":73},{"$f":"'Raw Data'!HB98","v":80},{"$f":"'Raw Data'!HC98","v":65},{"$f":"'Raw Data'!HD98","v":79},{"$f":"'Raw Data'!HE98","v":63},{"$f":"'Raw Data'!HF98","v":53},{"$f":"'Raw Data'!HG98","v":65},{"$f":"'Raw Data'!HH98","v":86},{"$f":"'Raw Data'!HI98","v":92},{"$f":"'Raw Data'!HJ98","v":97},{"$f":"'Raw Data'!HK98","v":84},{"$f":"'Raw Data'!HL98","v":80},{"$f":"'Raw Data'!HM98","v":73},{"$f":"'Raw Data'!HN98","v":68},{"$f":"'Raw Data'!HO98","v":64},{"$f":"'Raw Data'!HP98","v":68},{"$f":"'Raw Data'!HQ98","v":50},{"$f":"'Raw Data'!HR98","v":54},{"$f":"'Raw Data'!HS98","v":66},{"$f":"'Raw Data'!HT98","v":67},{"$f":"'Raw Data'!HU98","v":75},{"$f":"'Raw Data'!HV98","v":47},{"$f":"'Raw Data'!HW98","v":51},{"$f":"'Raw Data'!HX98","v":54},{"$f":"'Raw Data'!HY98","v":44},{"$f":"'Raw Data'!HZ98","v":40},{"$f":"'Raw Data'!IA98","v":29},{"$f":"'Raw Data'!IB98","v":33},{"$f":"'Raw Data'!IC98","v":33},{"$f":"'Raw Data'!ID98","v":27},{"$f":"'Raw Data'!IE98","v":36},{"$f":"'Raw Data'!IF98","v":39},{"$f":"'Raw Data'!IG98","v":34},{"$f":"'Raw Data'!IH98","v":47},{"$f":"'Raw Data'!II98","v":39},{"$f":"'Raw Data'!IJ98","v":0},{"$f":"'Raw Data'!IK98","v":0},{"$f":"'Raw Data'!IL98","v":0},{"$f":"'Raw Data'!IM98","v":0},{"$f":"'Raw Data'!IN98","v":0},{"$f":"'Raw Data'!IO98","v":0},{"$f":"'Raw Data'!IP98","v":0},{"$f":"'Raw Data'!IQ98","v":0},{"$f":"'Raw Data'!IR98","v":0},{"$f":"'Raw Data'!IS98","v":0},{"$f":"'Raw Data'!IT98","v":0},{"$f":"'Raw Data'!IU98","v":0},{"$f":"'Raw Data'!IV98","v":0},{"$f":"'Raw Data'!IW98","v":0},{"$f":"'Raw Data'!IX98","v":0},{"$f":"'Raw Data'!IY98","v":0},{"$f":"'Raw Data'!IZ98","v":0},{"$f":"'Raw Data'!JA98","v":0},{"$f":"'Raw Data'!JB98","v":0},{"$f":"'Raw Data'!JC98","v":0},{"$f":"'Raw Data'!JD98","v":0},{"$f":"'Raw Data'!JE98","v":0},{"$f":"'Raw Data'!JF98","v":0},{"$f":"'Raw Data'!JG98","v":0},{"$f":"'Raw Data'!JH98","v":0},{"$f":"'Raw Data'!JI98","v":0},{"$f":"'Raw Data'!JJ98","v":0},{"$f":"'Raw Data'!JK98","v":0},{"$f":"'Raw Data'!JL98","v":0}]
["Commercial / Industrial",{"$f":"'Raw Data'!CO99","v":1},{"$f":"'Raw Data'!CP99","v":0},{"$f":"'Raw Data'!CQ99","v":1},{"$f":"'Raw Data'!CR99","v":1},{"$f":"'Raw Data'!CS99","v":0},{"$f":"'Raw Data'!CT99","v":0},{"$f":"'Raw Data'!CU99","v":0},{"$f":"'Raw Data'!CV99","v":0},{"$f":"'Raw Data'!CW99","v":0},{"$f":"'Raw Data'!CX99","v":0},{"$f":"'Raw Data'!CY99","v":2},{"$f":"'Raw Data'!CZ99","v":1},{"$f":"'Raw Data'!DA99","v":0},{"$f":"'Raw Data'!DB99","v":0},{"$f":"'Raw Data'!DC99","v":2},{"$f":"'Raw Data'!DD99","v":2},{"$f":"'Raw Data'!DE99","v":1},{"$f":"'Raw Data'!DF99","v":0},{"$f":"'Raw Data'!DG99","v":0},{"$f":"'Raw Data'!DH99","v":1},{"$f":"'Raw Data'!DI99","v":0},{"$f":"'Raw Data'!DJ99","v":5},{"$f":"'Raw Data'!DK99","v":2},{"$f":"'Raw Data'!DL99","v":3},{"$f":"'Raw Data'!DM99","v":5},{"$f":"'Raw Data'!DN99","v":16},{"$f":"'Raw Data'!DO99","v":4},{"$f":"'Raw Data'!DP99","v":4},{"$f":"'Raw Data'!DQ99","v":0},{"$f":"'Raw Data'!DR99","v":2},{"$f":"'Raw Data'!DS99","v":0},{"$f":"'Raw Data'!DT99","v":0},{"$f":"'Raw Data'!DU99","v":1},{"$f":"'Raw Data'!DV99","v":1},{"$f":"'Raw Data'!DW99","v":0},{"$f":"'Raw Data'!DX99","v":3},{"$f":"'Raw Data'!DY99","v":0},{"$f":"'Raw Data'!DZ99","v":0},{"$f":"'Raw Data'!EA99","v":1},{"$f":"'Raw Data'!EB99","v":0},{"$f":"'Raw Data'!EC99","v":1},{"$f":"'Raw Data'!ED99","v":3},{"$f":"'Raw Data'!EE99","v":0},{"$f":"'Raw Data'!EF99","v":2},{"$f":"'Raw Data'!EG99","v":0},{"$f":"'Raw Data'!EH99","v":1},{"$f":"'Raw Data'!EI99","v":1},{"$f":"'Raw Data'!EJ99","v":2},{"$f":"'Raw Data'!EK99","v":3},{"$f":"'Raw Data'!EL99","v":0},{"$f":"'Raw Data'!EM99","v":0},{"$f":"'Raw Data'!EN99","v":0},{"$f":"'Raw Data'!EO99","v":1},{"$f":"'Raw Data'!EP99","v":1},{"$f":"'Raw Data'!EQ99","v":1},{"$f":"'Raw Data'!ER99","v":0},{"$f":"'Raw Data'!ES99","v":1},{"$f":"'Raw Data'!ET99","v":1},{"$f":"'Raw Data'!EU99","v":0},{"$f":"'Raw Data'!EV99","v":4},{"$f":"'Raw Data'!EW99","v":0},{"$f":"'Raw Data'!EX99","v":1},{"$f":"'Raw Data'!EY99","v":1},{"$f":"'Raw Data'!EZ99","v":1},{"$f":"'Raw Data'!FA99","v":3},{"$f":"'Raw Data'!FB99","v":0},{"$f":"'Raw Data'!FC99","v":1},{"$f":"'Raw Data'!FD99","v":0},{"$f":"'Raw Data'!FE99","v":0},{"$f":"'Raw Data'!FF99","v":1},{"$f":"'Raw Data'!FG99","v":0},{"$f":"'Raw Data'!FH99","v":1},{"$f":"'Raw Data'!FI99","v":0},{"$f":"'Raw Data'!FJ99","v":2},{"$f":"'Raw Data'!FK99","v":2},{"$f":"'Raw Data'!FL99","v":0},{"$f":"'Raw Data'!FM99","v":0},{"$f":"'Raw Data'!FN99","v":10},{"$f":"'Raw Data'!FO99","v":1},{"$f":"'Raw Data'!FP99","v":2},{"$f":"'Raw Data'!FQ99","v":1},{"$f":"'Raw Data'!FR99","v":0},{"$f":"'Raw Data'!FS99","v":0},{"$f":"'Raw Data'!FT99","v":0},{"$f":"'Raw Data'!FU99","v":0},{"$f":"'Raw Data'!FV99","v":0},{"$f":"'Raw Data'!FW99","v":4},{"$f":"'Raw Data'!FX99","v":0},{"$f":"'Raw Data'!FY99","v":2},{"$f":"'Raw Data'!FZ99","v":0},{"$f":"'Raw Data'!GA99","v":2},{"$f":"'Raw Data'!GB99","v":0},{"$f":"'Raw Data'!GC99","v":1},{"$f":"'Raw Data'!GD99","v":1},{"$f":"'Raw Data'!GE99","v":1},{"$f":"'Raw Data'!GF99","v":0},{"$f":"'Raw Data'!GG99","v":0},{"$f":"'Raw Data'!GH99","v":0},{"$f":"'Raw Data'!GI99","v":3},{"$f":"'Raw Data'!GJ99","v":0},{"$f":"'Raw Data'!GK99","v":0},{"$f":"'Raw Data'!GL99","v":0},{"$f":"'Raw Data'!GM99","v":1},{"$f":"'Raw Data'!GN99","v":2},{"$f":"'Raw Data'!GO99","v":0},{"$f":"'Raw Data'!GP99","v":0},{"$f":"'Raw Data'!GQ99","v":0},{"$f":"'Raw Data'!GR99","v":2},{"$f":"'Raw Data'!GS99","v":0},{"$f":"'Raw Data'!GT99","v":0},{"$f":"'Raw Data'!GU99","v":1},{"$f":"'Raw Data'!GV99","v":1},{"$f":"'Raw Data'!GW99","v":0},{"$f":"'Raw Data'!GX99","v":0},{"$f":"'Raw Data'!GY99","v":0},{"$f":"'Raw Data'!GZ99","v":0},{"$f":"'Raw Data'!HA99","v":1},{"$f":"'Raw Data'!HB99","v":1},{"$f":"'Raw Data'!HC99","v":1},{"$f":"'Raw Data'!HD99","v":0},{"$f":"'Raw Data'!HE99","v":1},{"$f":"'Raw Data'!HF99","v":0},{"$f":"'Raw Data'!HG99","v":1},{"$f":"'Raw Data'!HH99","v":2},{"$f":"'Raw Data'!HI99","v":1},{"$f":"'Raw Data'!HJ99","v":3},{"$f":"'Raw Data'!HK99","v":3},{"$f":"'Raw Data'!HL99","v":2},{"$f":"'Raw Data'!HM99","v":2},{"$f":"'Raw Data'!HN99","v":1},{"$f":"'Raw Data'!HO99","v":1},{"$f":"'Raw Data'!HP99","v":3},{"$f":"'Raw Data'!HQ99","v":2},{"$f":"'Raw Data'!HR99","v":1},{"$f":"'Raw Data'!HS99","v":4},{"$f":"'Raw Data'!HT99","v":2},{"$f":"'Raw Data'!HU99","v":1},{"$f":"'Raw Data'!HV99","v":1},{"$f":"'Raw Data'!HW99","v":3},{"$f":"'Raw Data'!HX99","v":1},{"$f":"'Raw Data'!HY99","v":2},{"$f":"'Raw Data'!HZ99","v":2},{"$f":"'Raw Data'!IA99","v":0},{"$f":"'Raw Data'!IB99","v":2},{"$f":"'Raw Data'!IC99","v":3},{"$f":"'Raw Data'!ID99","v":4},{"$f":"'Raw Data'!IE99","v":1},{"$f":"'Raw Data'!IF99","v":0},{"$f":"'Raw Data'!IG99","v":2},{"$f":"'Raw Data'!IH99","v":2},{"$f":"'Raw Data'!II99","v":1},{"$f":"'Raw Data'!IJ99","v":0},{"$f":"'Raw Data'!IK99","v":0},{"$f":"'Raw Data'!IL99","v":0},{"$f":"'Raw Data'!IM99","v":0},{"$f":"'Raw Data'!IN99","v":0},{"$f":"'Raw Data'!IO99","v":0},{"$f":"'Raw Data'!IP99","v":0},{"$f":"'Raw Data'!IQ99","v":0},{"$f":"'Raw Data'!IR99","v":0},{"$f":"'Raw Data'!IS99","v":0},{"$f":"'Raw Data'!IT99","v":0},{"$f":"'Raw Data'!IU99","v":0},{"$f":"'Raw Data'!IV99","v":0},{"$f":"'Raw Data'!IW99","v":0},{"$f":"'Raw Data'!IX99","v":0},{"$f":"'Raw Data'!IY99","v":0},{"$f":"'Raw Data'!IZ99","v":0},{"$f":"'Raw Data'!JA99","v":0},{"$f":"'Raw Data'!JB99","v":0},{"$f":"'Raw Data'!JC99","v":0},{"$f":"'Raw Data'!JD99","v":0},{"$f":"'Raw Data'!JE99","v":0},{"$f":"'Raw Data'!JF99","v":0},{"$f":"'Raw Data'!JG99","v":0},{"$f":"'Raw Data'!JH99","v":0},{"$f":"'Raw Data'!JI99","v":0},{"$f":"'Raw Data'!JJ99","v":0},{"$f":"'Raw Data'!JK99","v":0},{"$f":"'Raw Data'!JL99","v":0}]
["Boatslip",{"$f":"'Raw Data'!CO100","v":0},{"$f":"'Raw Data'!CP100","v":2},{"$f":"'Raw Data'!CQ100","v":0},{"$f":"'Raw Data'!CR100","v":1},{"$f":"'Raw Data'!CS100","v":2},{"$f":"'Raw Data'!CT100","v":0},{"$f":"'Raw Data'!CU100","v":0},{"$f":"'Raw Data'!CV100","v":1},{"$f":"'Raw Data'!CW100","v":0},{"$f":"'Raw Data'!CX100","v":0},{"$f":"'Raw Data'!CY100","v":13},{"$f":"'Raw Data'!CZ100","v":8},{"$f":"'Raw Data'!DA100","v":1},{"$f":"'Raw Data'!DB100","v":0},{"$f":"'Raw Data'!DC100","v":10},{"$f":"'Raw Data'!DD100","v":0},{"$f":"'Raw Data'!DE100","v":5},{"$f":"'Raw Data'!DF100","v":1},{"$f":"'Raw Data'!DG100","v":0},{"$f":"'Raw Data'!DH100","v":0},{"$f":"'Raw Data'!DI100","v":1},{"$f":"'Raw Data'!DJ100","v":0},{"$f":"'Raw Data'!DK100","v":0},{"$f":"'Raw Data'!DL100","v":0},{"$f":"'Raw Data'!DM100","v":0},{"$f":"'Raw Data'!DN100","v":1},{"$f":"'Raw Data'!DO100","v":0},{"$f":"'Raw Data'!DP100","v":1},{"$f":"'Raw Data'!DQ100","v":1},{"$f":"'Raw Data'!DR100","v":0},{"$f":"'Raw Data'!DS100","v":1},{"$f":"'Raw Data'!DT100","v":2},{"$f":"'Raw Data'!DU100","v":2},{"$f":"'Raw Data'!DV100","v":1},{"$f":"'Raw Data'!DW100","v":0},{"$f":"'Raw Data'!DX100","v":1},{"$f":"'Raw Data'!DY100","v":0},{"$f":"'Raw Data'!DZ100","v":2},{"$f":"'Raw Data'!EA100","v":0},{"$f":"'Raw Data'!EB100","v":1},{"$f":"'Raw Data'!EC100","v":0},{"$f":"'Raw Data'!ED100","v":2},{"$f":"'Raw Data'!EE100","v":2},{"$f":"'Raw Data'!EF100","v":2},{"$f":"'Raw Data'!EG100","v":0},{"$f":"'Raw Data'!EH100","v":4},{"$f":"'Raw Data'!EI100","v":2},{"$f":"'Raw Data'!EJ100","v":1},{"$f":"'Raw Data'!EK100","v":0},{"$f":"'Raw Data'!EL100","v":0},{"$f":"'Raw Data'!EM100","v":1},{"$f":"'Raw Data'!EN100","v":0},{"$f":"'Raw Data'!EO100","v":0},{"$f":"'Raw Data'!EP100","v":0},{"$f":"'Raw Data'!EQ100","v":3},{"$f":"'Raw Data'!ER100","v":1},{"$f":"'Raw Data'!ES100","v":2},{"$f":"'Raw Data'!ET100","v":0},{"$f":"'Raw Data'!EU100","v":0},{"$f":"'Raw Data'!EV100","v":1},{"$f":"'Raw Data'!EW100","v":2},{"$f":"'Raw Data'!EX100","v":1},{"$f":"'Raw Data'!EY100","v":0},{"$f":"'Raw Data'!EZ100","v":0},{"$f":"'Raw Data'!FA100","v":1},{"$f":"'Raw Data'!FB100","v":1},{"$f":"'Raw Data'!FC100","v":3},{"$f":"'Raw Data'!FD100","v":1},{"$f":"'Raw Data'!FE100","v":3},{"$f":"'Raw Data'!FF100","v":1},{"$f":"'Raw Data'!FG100","v":0},{"$f":"'Raw Data'!FH100","v":1},{"$f":"'Raw Data'!FI100","v":0},{"$f":"'Raw Data'!FJ100","v":1},{"$f":"'Raw Data'!FK100","v":3},{"$f":"'Raw Data'!FL100","v":2},{"$f":"'Raw Data'!FM100","v":1},{"$f":"'Raw Data'!FN100","v":0},{"$f":"'Raw Data'!FO100","v":0},{"$f":"'Raw Data'!FP100","v":2},{"$f":"'Raw Data'!FQ100","v":0},{"$f":"'Raw Data'!FR100","v":3},{"$f":"'Raw Data'!FS100","v":1},{"$f":"'Raw Data'!FT100","v":1},{"$f":"'Raw Data'!FU100","v":1},{"$f":"'Raw Data'!FV100","v":3},{"$f":"'Raw Data'!FW100","v":1},{"$f":"'Raw Data'!FX100","v":0},{"$f":"'Raw Data'!FY100","v":0},{"$f":"'Raw Data'!FZ100","v":1},{"$f":"'Raw Data'!GA100","v":0},{"$f":"'Raw Data'!GB100","v":1},{"$f":"'Raw Data'!GC100","v":0},{"$f":"'Raw Data'!GD100","v":1},{"$f":"'Raw Data'!GE100","v":0},{"$f":"'Raw Data'!GF100","v":0},{"$f":"'Raw Data'!GG100","v":1},{"$f":"'Raw Data'!GH100","v":1},{"$f":"'Raw Data'!GI100","v":1},{"$f":"'Raw Data'!GJ100","v":1},{"$f":"'Raw Data'!GK100","v":0},{"$f":"'Raw Data'!GL100","v":0},{"$f":"'Raw Data'!GM100","v":1},{"$f":"'Raw Data'!GN100","v":0},{"$f":"'Raw Data'!GO100","v":0},{"$f":"'Raw Data'!GP100","v":3},{"$f":"'Raw Data'!GQ100","v":2},{"$f":"'Raw Data'!GR100","v":0},{"$f":"'Raw Data'!GS100","v":0},{"$f":"'Raw Data'!GT100","v":0},{"$f":"'Raw Data'!GU100","v":4},{"$f":"'Raw Data'!GV100","v":1},{"$f":"'Raw Data'!GW100","v":4},{"$f":"'Raw Data'!GX100","v":0},{"$f":"'Raw Data'!GY100","v":1},{"$f":"'Raw Data'!GZ100","v":2},{"$f":"'Raw Data'!HA100","v":2},{"$f":"'Raw Data'!HB100","v":2},{"$f":"'Raw Data'!HC100","v":1},{"$f":"'Raw Data'!HD100","v":0},{"$f":"'Raw Data'!HE100","v":1},{"$f":"'Raw Data'!HF100","v":2},{"$f":"'Raw Data'!HG100","v":1},{"$f":"'Raw Data'!HH100","v":2},{"$f":"'Raw Data'!HI100","v":2},{"$f":"'Raw Data'!HJ100","v":1},{"$f":"'Raw Data'!HK100","v":4},{"$f":"'Raw Data'!HL100","v":2},{"$f":"'Raw Data'!HM100","v":1},{"$f":"'Raw Data'!HN100","v":2},{"$f":"'Raw Data'!HO100","v":0},{"$f":"'Raw Data'!HP100","v":1},{"$f":"'Raw Data'!HQ100","v":1},{"$f":"'Raw Data'!HR100","v":3},{"$f":"'Raw Data'!HS100","v":1},{"$f":"'Raw Data'!HT100","v":1},{"$f":"'Raw Data'!HU100","v":2},{"$f":"'Raw Data'!HV100","v":1},{"$f":"'Raw Data'!HW100","v":0},{"$f":"'Raw Data'!HX100","v":1},{"$f":"'Raw Data'!HY100","v":1},{"$f":"'Raw Data'!HZ100","v":0},{"$f":"'Raw Data'!IA100","v":1},{"$f":"'Raw Data'!IB100","v":0},{"$f":"'Raw Data'!IC100","v":0},{"$f":"'Raw Data'!ID100","v":1},{"$f":"'Raw Data'!IE100","v":1},{"$f":"'Raw Data'!IF100","v":0},{"$f":"'Raw Data'!IG100","v":3},{"$f":"'Raw Data'!IH100","v":1},{"$f":"'Raw Data'!II100","v":2},{"$f":"'Raw Data'!IJ100","v":0},{"$f":"'Raw Data'!IK100","v":0},{"$f":"'Raw Data'!IL100","v":0},{"$f":"'Raw Data'!IM100","v":0},{"$f":"'Raw Data'!IN100","v":0},{"$f":"'Raw Data'!IO100","v":0},{"$f":"'Raw Data'!IP100","v":0},{"$f":"'Raw Data'!IQ100","v":0},{"$f":"'Raw Data'!IR100","v":0},{"$f":"'Raw Data'!IS100","v":0},{"$f":"'Raw Data'!IT100","v":0},{"$f":"'Raw Data'!IU100","v":0},{"$f":"'Raw Data'!IV100","v":0},{"$f":"'Raw Data'!IW100","v":0},{"$f":"'Raw Data'!IX100","v":0},{"$f":"'Raw Data'!IY100","v":0},{"$f":"'Raw Data'!IZ100","v":0},{"$f":"'Raw Data'!JA100","v":0},{"$f":"'Raw Data'!JB100","v":0},{"$f":"'Raw Data'!JC100","v":0},{"$f":"'Raw Data'!JD100","v":0},{"$f":"'Raw Data'!JE100","v":0},{"$f":"'Raw Data'!JF100","v":0},{"$f":"'Raw Data'!JG100","v":0},{"$f":"'Raw Data'!JH100","v":0},{"$f":"'Raw Data'!JI100","v":0},{"$f":"'Raw Data'!JJ100","v":0},{"$f":"'Raw Data'!JK100","v":0},{"$f":"'Raw Data'!JL100","v":0}]
["Acreage",{"$f":"'Raw Data'!CO101","v":0},{"$f":"'Raw Data'!CP101","v":0},{"$f":"'Raw Data'!CQ101","v":0},{"$f":"'Raw Data'!CR101","v":1},{"$f":"'Raw Data'!CS101","v":0},{"$f":"'Raw Data'!CT101","v":1},{"$f":"'Raw Data'!CU101","v":2},{"$f":"'Raw Data'!CV101","v":1},{"$f":"'Raw Data'!CW101","v":2},{"$f":"'Raw Data'!CX101","v":0},{"$f":"'Raw Data'!CY101","v":0},{"$f":"'Raw Data'!CZ101","v":4},{"$f":"'Raw Data'!DA101","v":0},{"$f":"'Raw Data'!DB101","v":0},{"$f":"'Raw Data'!DC101","v":1},{"$f":"'Raw Data'!DD101","v":1},{"$f":"'Raw Data'!DE101","v":1},{"$f":"'Raw Data'!DF101","v":1},{"$f":"'Raw Data'!DG101","v":0},{"$f":"'Raw Data'!DH101","v":1},{"$f":"'Raw Data'!DI101","v":1},{"$f":"'Raw Data'!DJ101","v":0},{"$f":"'Raw Data'!DK101","v":0},{"$f":"'Raw Data'!DL101","v":1},{"$f":"'Raw Data'!DM101","v":0},{"$f":"'Raw Data'!DN101","v":2},{"$f":"'Raw Data'!DO101","v":2},{"$f":"'Raw Data'!DP101","v":0},{"$f":"'Raw Data'!DQ101","v":0},{"$f":"'Raw Data'!DR101","v":1},{"$f":"'Raw Data'!DS101","v":0},{"$f":"'Raw Data'!DT101","v":0},{"$f":"'Raw Data'!DU101","v":0},{"$f":"'Raw Data'!DV101","v":1},{"$f":"'Raw Data'!DW101","v":4},{"$f":"'Raw Data'!DX101","v":0},{"$f":"'Raw Data'!DY101","v":0},{"$f":"'Raw Data'!DZ101","v":3},{"$f":"'Raw Data'!EA101","v":0},{"$f":"'Raw Data'!EB101","v":0},{"$f":"'Raw Data'!EC101","v":1},{"$f":"'Raw Data'!ED101","v":0},{"$f":"'Raw Data'!EE101","v":1},{"$f":"'Raw Data'!EF101","v":1},{"$f":"'Raw Data'!EG101","v":1},{"$f":"'Raw Data'!EH101","v":2},{"$f":"'Raw Data'!EI101","v":2},{"$f":"'Raw Data'!EJ101","v":2},{"$f":"'Raw Data'!EK101","v":1},{"$f":"'Raw Data'!EL101","v":1},{"$f":"'Raw Data'!EM101","v":0},{"$f":"'Raw Data'!EN101","v":0},{"$f":"'Raw Data'!EO101","v":1},{"$f":"'Raw Data'!EP101","v":4},{"$f":"'Raw Data'!EQ101","v":3},{"$f":"'Raw Data'!ER101","v":1},{"$f":"'Raw Data'!ES101","v":0},{"$f":"'Raw Data'!ET101","v":2},{"$f":"'Raw Data'!EU101","v":2},{"$f":"'Raw Data'!EV101","v":3},{"$f":"'Raw Data'!EW101","v":1},{"$f":"'Raw Data'!EX101","v":2},{"$f":"'Raw Data'!EY101","v":4},{"$f":"'Raw Data'!EZ101","v":2},{"$f":"'Raw Data'!FA101","v":2},{"$f":"'Raw Data'!FB101","v":0},{"$f":"'Raw Data'!FC101","v":2},{"$f":"'Raw Data'!FD101","v":1},{"$f":"'Raw Data'!FE101","v":1},{"$f":"'Raw Data'!FF101","v":2},{"$f":"'Raw Data'!FG101","v":2},{"$f":"'Raw Data'!FH101","v":1},{"$f":"'Raw Data'!FI101","v":2},{"$f":"'Raw Data'!FJ101","v":0},{"$f":"'Raw Data'!FK101","v":2},{"$f":"'Raw Data'!FL101","v":4},{"$f":"'Raw Data'!FM101","v":1},{"$f":"'Raw Data'!FN101","v":4},{"$f":"'Raw Data'!FO101","v":1},{"$f":"'Raw Data'!FP101","v":3},{"$f":"'Raw Data'!FQ101","v":3},{"$f":"'Raw Data'!FR101","v":2},{"$f":"'Raw Data'!FS101","v":1},{"$f":"'Raw Data'!FT101","v":2},{"$f":"'Raw Data'!FU101","v":4},{"$f":"'Raw Data'!FV101","v":1},{"$f":"'Raw Data'!FW101","v":1},{"$f":"'Raw Data'!FX101","v":0},{"$f":"'Raw Data'!FY101","v":1},{"$f":"'Raw Data'!FZ101","v":2},{"$f":"'Raw Data'!GA101","v":1},{"$f":"'Raw Data'!GB101","v":0},{"$f":"'Raw Data'!GC101","v":0},{"$f":"'Raw Data'!GD101","v":0},{"$f":"'Raw Data'!GE101","v":0},{"$f":"'Raw Data'!GF101","v":1},{"$f":"'Raw Data'!GG101","v":2},{"$f":"'Raw Data'!GH101","v":3},{"$f":"'Raw Data'!GI101","v":1},{"$f":"'Raw Data'!GJ101","v":1},{"$f":"'Raw Data'!GK101","v":0},{"$f":"'Raw Data'!GL101","v":2},{"$f":"'Raw Data'!GM101","v":2},{"$f":"'Raw Data'!GN101","v":2},{"$f":"'Raw Data'!GO101","v":2},{"$f":"'Raw Data'!GP101","v":0},{"$f":"'Raw Data'!GQ101","v":4},{"$f":"'Raw Data'!GR101","v":1},{"$f":"'Raw Data'!GS101","v":1},{"$f":"'Raw Data'!GT101","v":0},{"$f":"'Raw Data'!GU101","v":3},{"$f":"'Raw Data'!GV101","v":1},{"$f":"'Raw Data'!GW101","v":2},{"$f":"'Raw Data'!GX101","v":3},{"$f":"'Raw Data'!GY101","v":3},{"$f":"'Raw Data'!GZ101","v":3},{"$f":"'Raw Data'!HA101","v":3},{"$f":"'Raw Data'!HB101","v":1},{"$f":"'Raw Data'!HC101","v":4},{"$f":"'Raw Data'!HD101","v":1},{"$f":"'Raw Data'!HE101","v":3},{"$f":"'Raw Data'!HF101","v":2},{"$f":"'Raw Data'!HG101","v":0},{"$f":"'Raw Data'!HH101","v":3},{"$f":"'Raw Data'!HI101","v":4},{"$f":"'Raw Data'!HJ101","v":2},{"$f":"'Raw Data'!HK101","v":6},{"$f":"'Raw Data'!HL101","v":5},{"$f":"'Raw Data'!HM101","v":5},{"$f":"'Raw Data'!HN101","v":4},{"$f":"'Raw Data'!HO101","v":5},{"$f":"'Raw Data'!HP101","v":4},{"$f":"'Raw Data'!HQ101","v":3},{"$f":"'Raw Data'!HR101","v":3},{"$f":"'Raw Data'!HS101","v":9},{"$f":"'Raw Data'!HT101","v":5},{"$f":"'Raw Data'!HU101","v":3},{"$f":"'Raw Data'!HV101","v":2},{"$f":"'Raw Data'!HW101","v":2},{"$f":"'Raw Data'!HX101","v":6},{"$f":"'Raw Data'!HY101","v":1},{"$f":"'Raw Data'!HZ101","v":1},{"$f":"'Raw Data'!IA101","v":1},{"$f":"'Raw Data'!IB101","v":1},{"$f":"'Raw Data'!IC101","v":2},{"$f":"'Raw Data'!ID101","v":4},{"$f":"'Raw Data'!IE101","v":4},{"$f":"'Raw Data'!IF101","v":8},{"$f":"'Raw Data'!IG101","v":2},{"$f":"'Raw Data'!IH101","v":5},{"$f":"'Raw Data'!II101","v":1},{"$f":"'Raw Data'!IJ101","v":0},{"$f":"'Raw Data'!IK101","v":0},{"$f":"'Raw Data'!IL101","v":0},{"$f":"'Raw Data'!IM101","v":0},{"$f":"'Raw Data'!IN101","v":0},{"$f":"'Raw Data'!IO101","v":0},{"$f":"'Raw Data'!IP101","v":0},{"$f":"'Raw Data'!IQ101","v":0},{"$f":"'Raw Data'!IR101","v":0},{"$f":"'Raw Data'!IS101","v":0},{"$f":"'Raw Data'!IT101","v":0},{"$f":"'Raw Data'!IU101","v":0},{"$f":"'Raw Data'!IV101","v":0},{"$f":"'Raw Data'!IW101","v":0},{"$f":"'Raw Data'!IX101","v":0},{"$f":"'Raw Data'!IY101","v":0},{"$f":"'Raw Data'!IZ101","v":0},{"$f":"'Raw Data'!JA101","v":0},{"$f":"'Raw Data'!JB101","v":0},{"$f":"'Raw Data'!JC101","v":0},{"$f":"'Raw Data'!JD101","v":0},{"$f":"'Raw Data'!JE101","v":0},{"$f":"'Raw Data'!JF101","v":0},{"$f":"'Raw Data'!JG101","v":0},{"$f":"'Raw Data'!JH101","v":0},{"$f":"'Raw Data'!JI101","v":0},{"$f":"'Raw Data'!JJ101","v":0},{"$f":"'Raw Data'!JK101","v":0},{"$f":"'Raw Data'!JL101","v":0}]
["Total",{"$f":"'Raw Data'!CO103","v":15},{"$f":"'Raw Data'!CP103","v":18},{"$f":"'Raw Data'!CQ103","v":37},{"$f":"'Raw Data'!CR103","v":27},{"$f":"'Raw Data'!CS103","v":32},{"$f":"'Raw Data'!CT103","v":33},{"$f":"'Raw Data'!CU103","v":18},{"$f":"'Raw Data'!CV103","v":27},{"$f":"'Raw Data'!CW103","v":23},{"$f":"'Raw Data'!CX103","v":18},{"$f":"'Raw Data'!CY103","v":45},{"$f":"'Raw Data'!CZ103","v":38},{"$f":"'Raw Data'!DA103","v":18},{"$f":"'Raw Data'!DB103","v":31},{"$f":"'Raw Data'!DC103","v":50},{"$f":"'Raw Data'!DD103","v":51},{"$f":"'Raw Data'!DE103","v":40},{"$f":"'Raw Data'!DF103","v":35},{"$f":"'Raw Data'!DG103","v":30},{"$f":"'Raw Data'!DH103","v":45},{"$f":"'Raw Data'!DI103","v":28},{"$f":"'Raw Data'!DJ103","v":40},{"$f":"'Raw Data'!DK103","v":30},{"$f":"'Raw Data'!DL103","v":27},{"$f":"'Raw Data'!DM103","v":24},{"$f":"'Raw Data'!DN103","v":51},{"$f":"'Raw Data'!DO103","v":44},{"$f":"'Raw Data'!DP103","v":41},{"$f":"'Raw Data'!DQ103","v":36},{"$f":"'Raw Data'!DR103","v":34},{"$f":"'Raw Data'!DS103","v":39},{"$f":"'Raw Data'!DT103","v":43},{"$f":"'Raw Data'!DU103","v":38},{"$f":"'Raw Data'!DV103","v":56},{"$f":"'Raw Data'!DW103","v":27},{"$f":"'Raw Data'!DX103","v":59},{"$f":"'Raw Data'!DY103","v":21},{"$f":"'Raw Data'!DZ103","v":24},{"$f":"'Raw Data'!EA103","v":29},{"$f":"'Raw Data'!EB103","v":35},{"$f":"'Raw Data'!EC103","v":33},{"$f":"'Raw Data'!ED103","v":51},{"$f":"'Raw Data'!EE103","v":73},{"$f":"'Raw Data'!EF103","v":44},{"$f":"'Raw Data'!EG103","v":52},{"$f":"'Raw Data'!EH103","v":48},{"$f":"'Raw Data'!EI103","v":34},{"$f":"'Raw Data'!EJ103","v":35},{"$f":"'Raw Data'!EK103","v":31},{"$f":"'Raw Data'!EL103","v":30},{"$f":"'Raw Data'!EM103","v":40},{"$f":"'Raw Data'!EN103","v":37},{"$f":"'Raw Data'!EO103","v":36},{"$f":"'Raw Data'!EP103","v":40},{"$f":"'Raw Data'!EQ103","v":43},{"$f":"'Raw Data'!ER103","v":39},{"$f":"'Raw Data'!ES103","v":50},{"$f":"'Raw Data'!ET103","v":39},{"$f":"'Raw Data'!EU103","v":28},{"$f":"'Raw Data'!EV103","v":42},{"$f":"'Raw Data'!EW103","v":32},{"$f":"'Raw Data'!EX103","v":37},{"$f":"'Raw Data'!EY103","v":43},{"$f":"'Raw Data'!EZ103","v":38},{"$f":"'Raw Data'!FA103","v":39},{"$f":"'Raw Data'!FB103","v":48},{"$f":"'Raw Data'!FC103","v":46},{"$f":"'Raw Data'!FD103","v":44},{"$f":"'Raw Data'!FE103","v":51},{"$f":"'Raw Data'!FF103","v":44},{"$f":"'Raw Data'!FG103","v":26},{"$f":"'Raw Data'!FH103","v":23},{"$f":"'Raw Data'!FI103","v":29},{"$f":"'Raw Data'!FJ103","v":19},{"$f":"'Raw Data'!FK103","v":54},{"$f":"'Raw Data'!FL103","v":33},{"$f":"'Raw Data'!FM103","v":46},{"$f":"'Raw Data'!FN103","v":75},{"$f":"'Raw Data'!FO103","v":49},{"$f":"'Raw Data'!FP103","v":52},{"$f":"'Raw Data'!FQ103","v":44},{"$f":"'Raw Data'!FR103","v":66},{"$f":"'Raw Data'!FS103","v":40},{"$f":"'Raw Data'!FT103","v":36},{"$f":"'Raw Data'!FU103","v":35},{"$f":"'Raw Data'!FV103","v":22},{"$f":"'Raw Data'!FW103","v":43},{"$f":"'Raw Data'!FX103","v":35},{"$f":"'Raw Data'!FY103","v":42},{"$f":"'Raw Data'!FZ103","v":53},{"$f":"'Raw Data'!GA103","v":37},{"$f":"'Raw Data'!GB103","v":37},{"$f":"'Raw Data'!GC103","v":35},{"$f":"'Raw Data'!GD103","v":36},{"$f":"'Raw Data'!GE103","v":26},{"$f":"'Raw Data'!GF103","v":23},{"$f":"'Raw Data'!GG103","v":21},{"$f":"'Raw Data'!GH103","v":37},{"$f":"'Raw Data'!GI103","v":30},{"$f":"'Raw Data'!GJ103","v":37},{"$f":"'Raw Data'!GK103","v":34},{"$f":"'Raw Data'!GL103","v":39},{"$f":"'Raw Data'!GM103","v":45},{"$f":"'Raw Data'!GN103","v":39},{"$f":"'Raw Data'!GO103","v":35},{"$f":"'Raw Data'!GP103","v":32},{"$f":"'Raw Data'!GQ103","v":43},{"$f":"'Raw Data'!GR103","v":41},{"$f":"'Raw Data'!GS103","v":23},{"$f":"'Raw Data'!GT103","v":33},{"$f":"'Raw Data'!GU103","v":38},{"$f":"'Raw Data'!GV103","v":25},{"$f":"'Raw Data'!GW103","v":27},{"$f":"'Raw Data'!GX103","v":27},{"$f":"'Raw Data'!GY103","v":55},{"$f":"'Raw Data'!GZ103","v":78},{"$f":"'Raw Data'!HA103","v":80},{"$f":"'Raw Data'!HB103","v":86},{"$f":"'Raw Data'!HC103","v":71},{"$f":"'Raw Data'!HD103","v":80},{"$f":"'Raw Data'!HE103","v":68},{"$f":"'Raw Data'!HF103","v":57},{"$f":"'Raw Data'!HG103","v":67},{"$f":"'Raw Data'!HH103","v":93},{"$f":"'Raw Data'!HI103","v":99},{"$f":"'Raw Data'!HJ103","v":103},{"$f":"'Raw Data'!HK103","v":97},{"$f":"'Raw Data'!HL103","v":89},{"$f":"'Raw Data'!HM103","v":81},{"$f":"'Raw Data'!HN103","v":75},{"$f":"'Raw Data'!HO103","v":70},{"$f":"'Raw Data'!HP103","v":76},{"$f":"'Raw Data'!HQ103","v":56},{"$f":"'Raw Data'!HR103","v":61},{"$f":"'Raw Data'!HS103","v":80},{"$f":"'Raw Data'!HT103","v":75},{"$f":"'Raw Data'!HU103","v":81},{"$f":"'Raw Data'!HV103","v":51},{"$f":"'Raw Data'!HW103","v":56},{"$f":"'Raw Data'!HX103","v":62},{"$f":"'Raw Data'!HY103","v":48},{"$f":"'Raw Data'!HZ103","v":43},{"$f":"'Raw Data'!IA103","v":31},{"$f":"'Raw Data'!IB103","v":36},{"$f":"'Raw Data'!IC103","v":38},{"$f":"'Raw Data'!ID103","v":36},{"$f":"'Raw Data'!IE103","v":42},{"$f":"'Raw Data'!IF103","v":47},{"$f":"'Raw Data'!IG103","v":41},{"$f":"'Raw Data'!IH103","v":55},{"$f":"'Raw Data'!II103","v":43},{"$f":"'Raw Data'!IJ103","v":0},{"$f":"'Raw Data'!IK103","v":0},{"$f":"'Raw Data'!IL103","v":0},{"$f":"'Raw Data'!IM103","v":0},{"$f":"'Raw Data'!IN103","v":0},{"$f":"'Raw Data'!IO103","v":0},{"$f":"'Raw Data'!IP103","v":0},{"$f":"'Raw Data'!IQ103","v":0},{"$f":"'Raw Data'!IR103","v":0},{"$f":"'Raw Data'!IS103","v":0},{"$f":"'Raw Data'!IT103","v":0},{"$f":"'Raw Data'!IU103","v":0},{"$f":"'Raw Data'!IV103","v":0},{"$f":"'Raw Data'!IW103","v":0},{"$f":"'Raw Data'!IX103","v":0},{"$f":"'Raw Data'!IY103","v":0},{"$f":"'Raw Data'!IZ103","v":0},{"$f":"'Raw Data'!JA103","v":0},{"$f":"'Raw Data'!JB103","v":0},{"$f":"'Raw Data'!JC103","v":0},{"$f":"'Raw Data'!JD103","v":0},{"$f":"'Raw Data'!JE103","v":0},{"$f":"'Raw Data'!JF103","v":0},{"$f":"'Raw Data'!JG103","v":0},{"$f":"'Raw Data'!JH103","v":0},{"$f":"'Raw Data'!JI103","v":0},{"$f":"'Raw Data'!JJ103","v":0},{"$f":"'Raw Data'!JK103","v":0},{"$f":"'Raw Data'!JL103","v":0}]
[]
[{"$nulls":7},"2011-07-11","2011-08-11","2011-09-11","2011-10-11","2011-11-11","2011-12-11","2012-01-11","2012-02-11","2012-03-11","2012-04-11","2012-05-11","2012-06-11","2012-07-11","2012-08-11","2012-09-11","2012-10-11","2012-11-11","2012-12-11","2013-01-11","2013-02-11","2013-03-11","2013-04-11","2013-05-11","2013-06-11","2013-07-11","2013-08-11","2013-09-11","2013-10-11","2013-11-11","2013-12-11","2014-01-11","2014-02-11","2014-03-11","2014-04-11","2014-05-11","2014-06-11","2014-07-11","2014-08-11","2014-09-11","2014-10-11","2014-11-11","2014-12-11","2015-01-11","2015-02-11","2015-03-11","2015-04-11","2015-05-11","2015-06-11","2015-07-11","2015-08-11","2015-09-11","2015-10-11","2015-11-11","2015-12-11","2016-01-11","2016-02-11","2016-03-11","2016-04-11","2016-05-11","2016-06-11","2016-07-11","2016-08-11","2016-09-11","2016-10-11","2016-11-11","2016-12-11","2017-01-11","2017-02-11","2017-03-11","2017-04-11","2017-05-11","2017-06-11","2017-07-11","2017-08-11","2017-09-11","2017-10-11","2017-11-11","2017-12-11","2018-01-11","2018-02-11","2018-03-11","2018-04-11","2018-05-11","2018-06-11","2018-07-11","2018-08-11","2018-09-11","2018-10-11","2018-11-11","2018-12-11","2019-01-11","2019-02-11","2019-03-11","2019-04-11","2019-05-11","2019-06-11","2019-07-11","2019-08-11","2019-09-11","2019-10-11","2019-11-11","2019-12-11","2020-01-11","2020-02-11","2020-03-11","2020-04-11","2020-05-11","2020-06-11","2020-07-11","2020-08-11","2020-09-11","2020-10-11","2020-11-11","2020-12-11","2021-01-11","2021-02-11","2021-03-11","2021-04-11","2021-05-11","2021-06-11","2021-07-11","2021-08-11","2021-09-11","2021-10-11","2021-11-11","2021-12-11","2022-01-11","2022-02-11","2022-03-11","2022-04-11","2022-05-11","2022-06-11","2022-07-11","2022-08-11","2022-09-11","2022-10-11","2022-11-11","2022-12-11","2023-01-11","2023-02-11","2023-03-11","2023-04-11","2023-05-11","2023-06-11","2023-07-11","2023-08-11","2023-09-11","2023-10-11","2023-11-11","2023-12-11","2024-01-11","2024-02-11","2024-03-11","2024-04-11","2024-05-11","2024-06-11","2024-07-11","2024-08-11","2024-09-11","2024-10-11","2024-11-11","2024-12-11","2025-01-11","2025-02-11","2025-03-11","2025-04-11","2025-05-11","2025-06-11","2025-07-11","2025-08-11","2025-09-11","2025-10-11","2025-11-11","2025-12-11"]
["Land Sales",{"$nulls":6},{"$f":"H12","v":18},27,23,18,45,38,18,31,50,51,40,35,30,45,28,40,30,27,24,51,44,41,36,34,39,43,38,56,27,59,21,24,29,35,33,51,73,44,52,48,34,35,31,30,40,37,36,40,43,39,50,39,28,42,32,37,43,38,39,48,46,44,51,44,26,23,29,19,54,33,46,75,49,52,44,66,40,36,35,22,43,35,42,53,37,37,35,36,26,23,21,37,30,37,34,39,45,39,35,32,43,41,23,33,38,25,27,27,55,78,80,86,71,80,68,57,67,93,99,103,97,89,{"$f":"DZ12","v":81},{"$f":"EA12","v":75},{"$f":"EB12","v":70},{"$f":"EC12","v":76},{"$f":"ED12","v":56},{"$f":"EE12","v":61},80,75,81,51,56,62,48,43,31,36,38,36,42,47,41,55,43,0,0,0,0,0,0,0,0,0,0,0,0,0,0,0,0,0,0,0,0,0,0,0,0,0,0,0,0,0]
[]
[{"$nulls":85},"Lots / Land Sales",{"$nulls":11},"Units Sold"]
[{"$nulls":97},"Jan","Feb","Mar","Apr","May","Jun","July","Aug","Sep","Oct","Nov","Dec"]
[{"$nulls":96},2014,{"$f":"AL15","v":21},24,29,35,33,51,73,44,52,48,34,35]
[{"$nulls":96},2015,{"$f":"'Raw Data'!EK46","v":32},{"$f":"'Raw Data'!EL46","v":31},{"$f":"'Raw Data'!EM46","v":40},{"$f":"'Raw Data'!EN46","v":38},{"$f":"'Raw Data'!EO46","v":37},{"$f":"'Raw Data'!EP46","v":42},{"$f":"'Raw Data'!EQ46","v":44},{"$f":"'Raw Data'!ER46","v":39},{"$f":"'Raw Data'!ES46","v":51},{"$f":"'Raw Data'!ET46","v":39},{"$f":"'Raw Data'!EU46","v":28},{"$f":"'Raw Data'!EV46","v":46},{"$f":"SUM(CT20:DA20)","v":303}]
[{"$nulls":96},2016,{"$f":"'Raw Data'!EW46","v":32},{"$f":"'Raw Data'!EX46","v":37},{"$f":"'Raw Data'!EY46","v":43},{"$f":"'Raw Data'!EZ46","v":38},{"$f":"'Raw Data'!FA46","v":39},{"$f":"'Raw Data'!FB46","v":48},{"$f":"'Raw Data'!FC46","v":46},{"$f":"'Raw Data'!FD46","v":44},{"$f":"'Raw Data'!FE46","v":51},{"$f":"'Raw Data'!FF46","v":44},{"$f":"'Raw Data'!FG46","v":26},{"$f":"'Raw Data'!FH46","v":23},{"$f":"SUM(CT21:DA21)","v":327}]
[{"$nulls":96},2017,{"$f":"'Raw Data'!FI46","v":29},{"$f":"'Raw Data'!FJ46","v":19},{"$f":"'Raw Data'!FK46","v":54},{"$f":"'Raw Data'!FL46","v":33},{"$f":"'Raw Data'!FM46","v":45},{"$f":"'Raw Data'!FN46","v":76},{"$f":"'Raw Data'!FO46","v":49},{"$f":"'Raw Data'!FP46","v":52},{"$f":"'Raw Data'!FQ46","v":44},{"$f":"'Raw Data'!FR46","v":66},{"$f":"'Raw Data'!FS46","v":42},{"$f":"'Raw Data'!FT46","v":38},{"$f":"SUM(CT22:DE22)","v":547}]
[{"$nulls":96},2018,{"$f":"'Raw Data'!FU46","v":35},{"$f":"'Raw Data'!FV46","v":22},{"$f":"'Raw Data'!FW46","v":43},{"$f":"'Raw Data'!FX46","v":36},{"$f":"'Raw Data'!FY46","v":44},{"$f":"'Raw Data'!FZ46","v":53},{"$f":"'Raw Data'!GA46","v":37},{"$f":"'Raw Data'!GB46","v":39},{"$f":"'Raw Data'!GC46","v":35},{"$f":"'Raw Data'!GD46","v":36},{"$f":"'Raw Data'!GE46","v":26},{"$f":"'Raw Data'!GF46","v":24},{"$f":"SUM(CT23:DA23)","v":309}]
[{"$nulls":96},2019,{"$f":"'Raw Data'!GG46","v":21},{"$f":"'Raw Data'!GH46","v":37},{"$f":"'Raw Data'!GI46","v":30},{"$f":"'Raw Data'!GJ46","v":37},{"$f":"'Raw Data'!GK46","v":35},{"$f":"'Raw Data'!GL46","v":39},{"$f":"'Raw Data'!GM46","v":45},{"$f":"'Raw Data'!GN46","v":39},{"$f":"'Raw Data'!GO46","v":35},{"$f":"'Raw Data'!GP46","v":32},{"$f":"'Raw Data'!GQ46","v":43},{"$f":"'Raw Data'!GR46","v":41},283]
[{"$nulls":96},2020,{"$f":"DF2","v":23},33,38,25,27,27,55,78,80,86,71,80,306]
[{"$nulls":96},2021,{"$f":"DR2","v":68},{"$f":"DS2","v":57},67,93,99,103,97,89,81,75,70,76,673]
[{"$nulls":96},2022,{"$f":"ED2","v":56},{"$f":"EE2","v":61},80,75,81,51,56,62,48,43,31,36,522]
[{"$nulls":96},2023,{"$f":"EP2","v":38},{"$f":"EQ2","v":36},43,48,41,55,43,0,0,0,0,0,304]
[]
[{"$nulls":101},"Lots / Land Sales",null,null,null,"Lots / Land Yearly Sales"]
[{"$nulls":101},"Month / Year","Count","%Chg",null,"Month / Year","Count","%Chg"]
[{"$nulls":101},"Jul'23",{"$f":"CZ28","v":43},{"$f":"(CY32-CY33)/CY33","v":-0.23214285714285715},null,2023,{"$f":"SUM(CT28:CZ28)","v":304},{"$f":"(DC32-DC33)/DC33","v":-0.33913043478260868}]
[{"$nulls":101},"Jul'22",{"$f":"CZ27","v":56},{"$f":"(CY33-CY34)/CY34","v":-0.42268041237113402},null,2022,{"$f":"SUM(CT27:CZ27)","v":460},{"$f":"(DC33-DC34)/DC34","v":-0.21232876712328766}]
[{"$nulls":101},"Jul'21",{"$f":"CZ26","v":97},{"$f":"(CY34-CY35)/CY35","v":0.76363636363636367},null,2021,{"$f":"SUM(CT26:CZ26)","v":584},{"$f":"(DC34-DC35)/DC35","v":1.5614035087719298}]
[{"$nulls":101},"Jul'20",{"$f":"CZ25","v":55},null,null,2020,{"$f":"SUM(CT25:CZ25)","v":228}]
[]
[{"$nulls":97},"Median Sale Price"]
[{"$nulls":97},"Jan","Feb","Mar","Apr","May","Jul","July","Aug","Sep","Oct","Nov","Dec"]
[{"$nulls":96},2015,{"$f":"AX4","v":72000},{"$f":"AY4","v":84000},{"$f":"AZ4","v":70750},{"$f":"BA4","v":70000},{"$f":"BB4","v":87500},79500,92000,72000,66720,75000,58450,{"$f":"BI4","v":55000}]
[{"$nulls":96},2016,{"$f":"BJ4","v":76450},{"$f":"BK4","v":70000},{"$f":"BL4","v":64500},{"$f":"BM4","v":59000},{"$f":"BN4","v":80000},77750,78950,75000,70000,64750,98750,{"$f":"BU4","v":55000}]
[{"$nulls":96},2017,{"$f":"BV4","v":83000},{"$f":"BW4","v":95000},{"$f":"BX4","v":71250},{"$f":"BY4","v":49000},{"$f":"BZ4","v":95000},75500,75000,82900,77500,80250,69250,{"$f":"CG4","v":61900},{"$f":"SUM(CT41:DE41)/12","v":76295.833333333328}]
[{"$nulls":96},2018,{"$f":"CH4","v":110000},{"$f":"CI4","v":103500},{"$f":"CJ4","v":100000},{"$f":"CK4","v":79500},{"$f":"CL4","v":69000},85000,133000,90000,85000,92500,102500,{"$f":"CS4","v":72000},{"$f":"SUM(CT42:DE42)/12","v":93500}]
[{"$nulls":96},2019,{"$f":"CT4","v":115000},{"$f":"CU4","v":95000},{"$f":"CV4","v":50000},{"$f":"CW4","v":50000},{"$f":"CX4","v":68750},76000,70000,95500,90000,87500,115000,{"$f":"DE4","v":78000}]
[{"$nulls":96},2020,{"$f":"DF4","v":134791},{"$f":"DG4","v":70000},{"$f":"DH4","v":77000},{"$f":"DI4","v":112500},{"$f":"DJ4","v":95000},95000,76000,95000,99900,110000,95000,{"$f":"DQ4","v":89000}]
[{"$nulls":96},2021,{"$f":"DR4","v":119000},{"$f":"DS4","v":100000},{"$f":"DT4","v":107500},{"$f":"DU4","v":114000},{"$f":"DV4","v":80000},95000,105000,110000,115000,125000,137450,{"$f":"EC4","v":114950}]
[{"$nulls":96},2022,{"$f":"ED4","v":112250},{"$f":"EE4","v":107000},{"$f":"EF4","v":128050},{"$f":"EG4","v":129900},{"$f":"EH4","v":129750},115750,147000,115050,110111,140000,160000,{"$f":"EO4","v":155000}]
[{"$nulls":96},2023,{"$f":"EP4","v":128750},{"$f":"EQ4","v":126250},{"$f":"ER4","v":99000},{"$f":"ES4","v":130000},{"$f":"ET4","v":110000},133690,163000,0,0,0,0,{"$f":"FA4","v":0}]
[]
[{"$nulls":101},"Lots / Land Median Price",null,null,null,"Lots / Land Median Price"]
[{"$nulls":101},"Month / Year","Count","%Chg",null,"Month / Year","Count","%Chg"]
[{"$nulls":101},"Jul'23",{"$f":"CZ47","v":163000},{"$f":"(CY51-CY52)/CY52","v":0.10884353741496598},null,2023,128750,{"$f":"(DC51-DC52)/DC52","v":0.03}]
[{"$nulls":101},"Jul'22",{"$f":"CZ46","v":147000},{"$f":"(CY52-CY53)/CY53","v":0.4},null,2022,125000,{"$f":"(DC52-DC53)/DC53","v":0.26968004062976131}]
[{"$nulls":101},"Jul'21",{"$f":"CZ45","v":105000},{"$f":"(CY53-CY54)/CY54","v":0.38157894736842107},null,2021,98450,{"$f":"(DC53-DC54)/DC54","v":9.3888888888888883E-2}]
[{"$nulls":101},"Jul'20",{"$f":"CZ44","v":76000},null,null,2020,90000]
[]
[{"$nulls":97},"Average Sale Price"]
[{"$nulls":97},"Jan","Feb","Mar","Apr","May","Jul","July","Aug","Sep","Oct","Nov","Dec"]
[{"$nulls":96},2015,{"$f":"AX3","v":110204},{"$f":"AY3","v":102623},{"$f":"AZ3","v":87975},{"$f":"BA3","v":101099},{"$f":"BB3","v":216373},111462,178079,86702,160944,81685,237153,{"$f":"BI3","v":120910}]
[{"$nulls":96},2016,{"$f":"BJ3","v":76851},{"$f":"BK3","v":90406},{"$f":"BL3","v":190946},{"$f":"BM3","v":96831},{"$f":"BN3","v":104817},103856,289971,106252,138723,92843,163523,{"$f":"BU3","v":144460}]
[{"$nulls":96},2017,{"$f":"BV3","v":100048},{"$f":"BW3","v":116157},{"$f":"BX3","v":114108},{"$f":"BY3","v":141193},{"$f":"BZ3","v":103777},93727,93689,101173,133354,124331,130892,{"$f":"CG3","v":126380}]
[{"$nulls":96},2018,{"$f":"CH3","v":144135},{"$f":"CI3","v":116451},{"$f":"CJ3","v":153531},{"$f":"CK3","v":108688},{"$f":"CL3","v":118595},120586,219840,137428,107766,119177,133434,{"$f":"CS3","v":123000}]
[{"$nulls":96},2019,{"$f":"CT3","v":145685},{"$f":"CU3","v":111560},{"$f":"CV3","v":117766},{"$f":"CW3","v":80586},{"$f":"CX3","v":108102},94658,95844,170225,165212,130693,120530,{"$f":"DE3","v":118280}]
[{"$nulls":96},2020,{"$f":"DF3","v":119750},{"$f":"DG3","v":133486},{"$f":"DH3","v":86317},{"$f":"DI3","v":122183},{"$f":"DJ3","v":140240},111700,112682,116675,133471,148784,142764,{"$f":"DQ3","v":148240}]
[{"$nulls":96},2021,{"$f":"DR3","v":145714},{"$f":"DS3","v":159957},{"$f":"DT3","v":161844},{"$f":"DU3","v":151254},{"$f":"DV3","v":110453},158496,149607,156534,157615,188693,179468,{"$f":"EC3","v":195770}]
[{"$nulls":96},2022,{"$f":"ED3","v":155367},{"$f":"EE3","v":136429},{"$f":"EF3","v":157210},{"$f":"EG3","v":193148},{"$f":"EH3","v":150081},157656,166514,160426,177062,250600,196932,{"$f":"EO3","v":187848}]
[{"$nulls":96},2023,{"$f":"EP3","v":190311},{"$f":"EQ3","v":175977},{"$f":"ER3","v":145315},182202,189726,156384,199692,0,0,0]
[]
[{"$nulls":101},"Lots / Land Average Price",null,null,null,"Lots / Land Averave Price"]
[{"$nulls":101},"Month / Year","Count","%Chg",null,"Month / Year","Count","%Chg"]
[{"$nulls":101},"Jul'23",{"$f":"CZ66","v":199692},{"$f":"(CY70-CY71)/CY71","v":0.19925051347033884},null,2023,{"$f":"SUM(CT66:CZ66)/7","v":177086.71428571429},{"$f":"(DC70-DC71)/DC71","v":0.11035600879609099}]
[{"$nulls":101},"Jul'22",{"$f":"CZ65","v":166514},{"$f":"(CY71-CY72)/CY72","v":0.11300941800851565},null,2022,{"$f":"SUM(CT65:CZ65)/7","v":159486.42857142858},{"$f":"(DC71-DC72)/DC72","v":7.6234545586002539E-2}]
[{"$nulls":101},"Jul'21",{"$f":"CZ64","v":149607},{"$f":"(CY72-CY73)/CY73","v":0.32769208924229248},null,2021,{"$f":"SUM(CT64:CZ64)/7","v":148189.28571428571},{"$f":"(DC72-DC73)/DC73","v":0.25529734086195088}]
[{"$nulls":101},"Jul'20",{"$f":"CZ63","v":112682},null,null,2020,{"$f":"SUM(CT63:CZ63)/7","v":118051.14285714286}]

{"sheet":"YOY Inventory","index":39,"n_rows":73,"n_cols":199,"rows_kept":73,"cut":false,"hidden":false,"merged":[[12,3,12,5],[31,3,31,5],[62,3,62,5]]}
["Residential"]
[null,"Jan","Feb","Mar","Apr","May","Jul","July","Aug","Sep","Oct","Nov","Dec"]
[2015,{"$f":"'Raw Data'!EK21","v":1870},{"$f":"'Raw Data'!EL21","v":1954},{"$f":"'Raw Data'!EM21","v":1914},{"$f":"'Raw Data'!EN21","v":1940},{"$f":"'Raw Data'!EO21","v":1930},{"$f":"'Raw Data'!EP21","v":1902},{"$f":"'Raw Data'!EQ21","v":1859},{"$f":"'Raw Data'!ER21","v":1853},{"$f":"'Raw Data'!ES21","v":1819},{"$f":"'Raw Data'!ET21","v":1780},{"$f":"'Raw Data'!EU21","v":1717},{"$f":"'Raw Data'!EV21","v":1569}]
[2016,{"$f":"'Raw Data'!EW21","v":1598},{"$f":"'Raw Data'!EX21","v":1667},{"$f":"'Raw Data'!EY21","v":1765},{"$f":"'Raw Data'!EZ21","v":1821},{"$f":"'Raw Data'!FA21","v":1742},{"$f":"'Raw Data'!FB21","v":1744},{"$f":"'Raw Data'!FC21","v":1685},{"$f":"'Raw Data'!FD21","v":1644},{"$f":"'Raw Data'!FE21","v":1642},{"$f":"'Raw Data'!FF21","v":1621},{"$f":"'Raw Data'!FG21","v":1531},{"$f":"'Raw Data'!FH21","v":1418}]
[2017,{"$f":"'Raw Data'!FI21","v":1454},{"$f":"'Raw Data'!FJ21","v":1506},{"$f":"'Raw Data'!FK21","v":1513},{"$f":"'Raw Data'!FL21","v":1545},{"$f":"'Raw Data'!FM21","v":1555},{"$f":"'Raw Data'!FN21","v":1526},{"$f":"'Raw Data'!FO21","v":1513},{"$f":"'Raw Data'!FP21","v":1513},{"$f":"'Raw Data'!FQ21","v":1484},{"$f":"'Raw Data'!FR21","v":1497},{"$f":"'Raw Data'!FS21","v":1452},{"$f":"'Raw Data'!FT21","v":1354}]
[2018,{"$f":"'Raw Data'!FU21","v":1369},{"$f":"'Raw Data'!FV21","v":1434},{"$f":"'Raw Data'!FW21","v":1508},{"$f":"'Raw Data'!FX21","v":1496},{"$f":"'Raw Data'!FY21","v":1514},{"$f":"'Raw Data'!FZ21","v":1469},{"$f":"'Raw Data'!GA21","v":1463},{"$f":"'Raw Data'!GB21","v":1528},{"$f":"'Raw Data'!GC21","v":1506},{"$f":"'Raw Data'!GD21","v":1531},{"$f":"'Raw Data'!GE21","v":1519},{"$f":"'Raw Data'!GF21","v":1441}]
[2019,{"$f":"'Raw Data'!GG21","v":1496},{"$f":"'Raw Data'!GH21","v":1558},{"$f":"'Raw Data'!GI21","v":1651},{"$f":"'Raw Data'!GJ21","v":1673},{"$f":"'Raw Data'!GK21","v":1627},{"$f":"'Raw Data'!GL21","v":1579},{"$f":"'Raw Data'!GM21","v":1506},{"$f":"'Raw Data'!GN21","v":1499},{"$f":"'Raw Data'!GO21","v":1472},{"$f":"'Raw Data'!GP21","v":1490},{"$f":"'Raw Data'!GQ21","v":1500},{"$f":"'Raw Data'!GR21","v":1341}]
[2020,{"$f":"'Raw Data'!GS21","v":1336},{"$f":"'Raw Data'!GT21","v":1330},{"$f":"'Raw Data'!GU21","v":1360},{"$f":"'Raw Data'!GV21","v":1324},{"$f":"'Raw Data'!GW21","v":1247},{"$f":"'Raw Data'!GX21","v":975},{"$f":"'Raw Data'!GY21","v":881},{"$f":"'Raw Data'!GZ21","v":723},{"$f":"'Raw Data'!HA21","v":689},{"$f":"'Raw Data'!HB21","v":656},{"$f":"'Raw Data'!HC21","v":623},{"$f":"'Raw Data'!HD21","v":560}]
[2021,{"$f":"'Raw Data'!HE21","v":447},{"$f":"'Raw Data'!HF21","v":418},{"$f":"'Raw Data'!HG21","v":380},{"$f":"'Raw Data'!HH21","v":392},{"$f":"'Raw Data'!HI21","v":402},{"$f":"'Raw Data'!HJ21","v":424},{"$f":"'Raw Data'!HK21","v":477},{"$f":"'Raw Data'!HL21","v":501},{"$f":"'Raw Data'!HM21","v":484},{"$f":"'Raw Data'!HN21","v":428},{"$f":"'Raw Data'!HO21","v":380},{"$f":"'Raw Data'!HP21","v":311}]
[2022,{"$f":"'Raw Data'!HQ21","v":284},{"$f":"'Raw Data'!HR21","v":267},{"$f":"'Raw Data'!HS21","v":266},{"$f":"'Raw Data'!HT21","v":326},{"$f":"'Raw Data'!HU21","v":413},{"$f":"'Raw Data'!HV21","v":529},{"$f":"'Raw Data'!HW21","v":561},{"$f":"'Raw Data'!HX21","v":548},{"$f":"'Raw Data'!HY21","v":510},{"$f":"'Raw Data'!HZ21","v":509},{"$f":"'Raw Data'!IA21","v":529},{"$f":"'Raw Data'!IB21","v":455}]
[2023,{"$f":"'Raw Data'!IC21","v":391},{"$f":"'Raw Data'!ID21","v":373},{"$f":"'Raw Data'!IE21","v":356},{"$f":"'Raw Data'!IF21","v":371},{"$f":"'Raw Data'!IG21","v":382},{"$f":"'Raw Data'!IH21","v":412},{"$f":"'Raw Data'!II21","v":456},{"$f":"'Raw Data'!IJ21","v":0},{"$f":"'Raw Data'!IK21","v":0},{"$f":"'Raw Data'!IL21","v":0},{"$f":"'Raw Data'!IM21","v":0},{"$f":"'Raw Data'!IN21","v":0}]
[]
[null,null,null,"Residential Inventory"]
[null,null,null,"Month / Year","Count","%Chg"]
[null,null,null,"Jul'23",{"$f":"H11","v":456},{"$f":"(E15-E16)/E16","v":-0.18716577540106952}]
[null,null,null,"Jul'22",{"$f":"H10","v":561},{"$f":"(E16-E17)/E17","v":0.1761006289308176}]
[null,null,null,"Jul'21",{"$f":"H9","v":477},{"$f":"(E17-E18)/E18","v":-0.45856980703745742}]
[null,null,null,"Jul'20",{"$f":"H8","v":881}]
[]
["Lots / Land"]
[null,"Jan","Feb","Mar","Apr","May","Jul","July","Aug","Sep","Oct","Nov","Dec"]
[2015,{"$f":"'Raw Data'!EK20","v":956},{"$f":"'Raw Data'!EL20","v":987},{"$f":"'Raw Data'!EM20","v":979},{"$f":"'Raw Data'!EN20","v":1018},{"$f":"'Raw Data'!EO20","v":1058},{"$f":"'Raw Data'!EP20","v":1068},{"$f":"'Raw Data'!EQ20","v":1060},{"$f":"'Raw Data'!ER20","v":1052},{"$f":"'Raw Data'!ES20","v":1056},{"$f":"'Raw Data'!ET20","v":1064},{"$f":"'Raw Data'!EU20","v":1044},{"$f":"'Raw Data'!EV20","v":955}]
[2016,{"$f":"'Raw Data'!EW20","v":929},{"$f":"'Raw Data'!EX20","v":946},{"$f":"'Raw Data'!EY20","v":940},{"$f":"'Raw Data'!EZ20","v":972},{"$f":"'Raw Data'!FA20","v":940},{"$f":"'Raw Data'!FB20","v":952},{"$f":"'Raw Data'!FC20","v":927},{"$f":"'Raw Data'!FD20","v":897},{"$f":"'Raw Data'!FE20","v":882},{"$f":"'Raw Data'!FF20","v":852},{"$f":"'Raw Data'!FG20","v":823},{"$f":"'Raw Data'!FH20","v":764}]
[2017,{"$f":"'Raw Data'!FI20","v":784},{"$f":"'Raw Data'!FJ20","v":804},{"$f":"'Raw Data'!FK20","v":824},{"$f":"'Raw Data'!FL20","v":817},{"$f":"'Raw Data'!FM20","v":811},{"$f":"'Raw Data'!FN20","v":800},{"$f":"'Raw Data'!FO20","v":808},{"$f":"'Raw Data'!FP20","v":795},{"$f":"'Raw Data'!FQ20","v":764},{"$f":"'Raw Data'!FR20","v":760},{"$f":"'Raw Data'!FS20","v":741},{"$f":"'Raw Data'!FT20","v":679}]
[2018,{"$f":"'Raw Data'!FU20","v":680},{"$f":"'Raw Data'!FV20","v":658},{"$f":"'Raw Data'!FW20","v":680},{"$f":"'Raw Data'!FX20","v":695},{"$f":"'Raw Data'!FY20","v":708},{"$f":"'Raw Data'!FZ20","v":740},{"$f":"'Raw Data'!GA20","v":739},{"$f":"'Raw Data'!GB20","v":746},{"$f":"'Raw Data'!GC20","v":748},{"$f":"'Raw Data'!GD20","v":763},{"$f":"'Raw Data'!GE20","v":774},{"$f":"'Raw Data'!GF20","v":702}]
[2019,{"$f":"'Raw Data'!GG20","v":722},{"$f":"'Raw Data'!GH20","v":763},{"$f":"'Raw Data'!GI20","v":785},{"$f":"'Raw Data'!GJ20","v":835},{"$f":"'Raw Data'!GK20","v":866},{"$f":"'Raw Data'!GL20","v":841},{"$f":"'Raw Data'!GM20","v":841},{"$f":"'Raw Data'!GN20","v":854},{"$f":"'Raw Data'!GO20","v":839},{"$f":"'Raw Data'!GP20","v":819},{"$f":"'Raw Data'!GQ20","v":793},{"$f":"'Raw Data'!GR20","v":707}]
[2020,{"$f":"'Raw Data'!GS20","v":732},{"$f":"'Raw Data'!GT20","v":752},{"$f":"'Raw Data'!GU20","v":763},{"$f":"'Raw Data'!GV20","v":756},{"$f":"'Raw Data'!GW20","v":763},{"$f":"'Raw Data'!GX20","v":722},{"$f":"'Raw Data'!GY20","v":699},{"$f":"'Raw Data'!GZ20","v":664},{"$f":"'Raw Data'!HA20","v":669},{"$f":"'Raw Data'!HB20","v":627},{"$f":"'Raw Data'!HC20","v":603},{"$f":"'Raw Data'!HD20","v":541}]
[2021,{"$f":"'Raw Data'!HE20","v":541},{"$f":"'Raw Data'!HF20","v":586},{"$f":"'Raw Data'!HG20","v":561},{"$f":"'Raw Data'!HH20","v":576},{"$f":"'Raw Data'!HI20","v":572},{"$f":"'Raw Data'!HJ20","v":590},{"$f":"'Raw Data'!HK20","v":583},{"$f":"'Raw Data'!HL20","v":568},{"$f":"'Raw Data'!HM20","v":532},{"$f":"'Raw Data'!HN20","v":476},{"$f":"'Raw Data'!HO20","v":466},{"$f":"'Raw Data'!HP20","v":411}]
[2022,{"$f":"'Raw Data'!HQ20","v":404},{"$f":"'Raw Data'!HR20","v":385},{"$f":"'Raw Data'!HS20","v":424},{"$f":"'Raw Data'!HT20","v":400},{"$f":"'Raw Data'!HU20","v":435},{"$f":"'Raw Data'!HV20","v":465},{"$f":"'Raw Data'!HW20","v":467},{"$f":"'Raw Data'!HX20","v":470},{"$f":"'Raw Data'!HY20","v":451},{"$f":"'Raw Data'!HZ20","v":448},{"$f":"'Raw Data'!IA20","v":390},{"$f":"'Raw Data'!IB20","v":384}]
[2023,{"$f":"'Raw Data'!IC20","v":381},{"$f":"'Raw Data'!ID20","v":382},{"$f":"'Raw Data'!IE20","v":373},{"$f":"'Raw Data'!IF20","v":372},{"$f":"'Raw Data'!IG20","v":357},{"$f":"'Raw Data'!IH20","v":343},{"$f":"'Raw Data'!II20","v":352},{"$f":"'Raw Data'!IJ20","v":0},{"$f":"'Raw Data'!IK20","v":0},{"$f":"'Raw Data'!IL20","v":0},{"$f":"'Raw Data'!IM20","v":0},{"$f":"'Raw Data'!IN20","v":0}]
[]
[null,null,null,"Lots / Land  Inventory"]
[null,null,null,"Month / Year","Count","%Chg"]
[null,null,null,"Jul'23",{"$f":"H30","v":352},{"$f":"(E34-E35)/E35","v":-0.24625267665952891}]
[null,null,null,"Jul'22",{"$f":"H29","v":467},{"$f":"(E35-E36)/E36","v":-0.19897084048027444}]
[null,null,null,"Jul'21",{"$f":"H28","v":583},{"$f":"(E36-E37)/E37","v":-0.16595135908440631}]
[null,null,null,"Jul'20",{"$f":"H27","v":699}]
[]
["Commercial"]
[null,"Jan","Feb","Mar","Apr","May","Jul","July","Aug","Sep","Oct","Nov","Dec"]
[2015,{"$f":"'Raw Data'!EK19","v":119},{"$f":"'Raw Data'!EL19","v":115},{"$f":"'Raw Data'!EM19","v":105},{"$f":"'Raw Data'!EN19","v":103},{"$f":"'Raw Data'!EO19","v":105},{"$f":"'Raw Data'!EP19","v":101},{"$f":"'Raw Data'!EQ19","v":105},{"$f":"'Raw Data'!ER19","v":95},{"$f":"'Raw Data'!ES19","v":99},{"$f":"'Raw Data'!ET19","v":94},{"$f":"'Raw Data'!EU19","v":98},{"$f":"'Raw Data'!EV19","v":88}]
[2016,{"$f":"'Raw Data'!EW19","v":89},{"$f":"'Raw Data'!EX19","v":75},{"$f":"'Raw Data'!EY19","v":78},{"$f":"'Raw Data'!EZ19","v":78},{"$f":"'Raw Data'!FA19","v":74},{"$f":"'Raw Data'!FB19","v":74},{"$f":"'Raw Data'!FC19","v":83},{"$f":"'Raw Data'!FD19","v":75},{"$f":"'Raw Data'!FE19","v":73},{"$f":"'Raw Data'!FF19","v":74},{"$f":"'Raw Data'!FG19","v":85},{"$f":"'Raw Data'!FH19","v":69}]
[2017,{"$f":"'Raw Data'!FI19","v":71},{"$f":"'Raw Data'!FJ19","v":73},{"$f":"'Raw Data'!FK19","v":67},{"$f":"'Raw Data'!FL19","v":68},{"$f":"'Raw Data'!FM19","v":68},{"$f":"'Raw Data'!FN19","v":63},{"$f":"'Raw Data'!FO19","v":65},{"$f":"'Raw Data'!FP19","v":63},{"$f":"'Raw Data'!FQ19","v":57},{"$f":"'Raw Data'!FR19","v":64},{"$f":"'Raw Data'!FS19","v":65},{"$f":"'Raw Data'!FT19","v":58}]
[2018,{"$f":"'Raw Data'!FU19","v":58},{"$f":"'Raw Data'!FV19","v":57},{"$f":"'Raw Data'!FW19","v":58},{"$f":"'Raw Data'!FX19","v":54},{"$f":"'Raw Data'!FY19","v":50},{"$f":"'Raw Data'!FZ19","v":55},{"$f":"'Raw Data'!GA19","v":53},{"$f":"'Raw Data'!GB19","v":59},{"$f":"'Raw Data'!GC19","v":58},{"$f":"'Raw Data'!GD19","v":58},{"$f":"'Raw Data'!GE19","v":59},{"$f":"'Raw Data'!GF19","v":54}]
[2019,{"$f":"'Raw Data'!GG19","v":56},{"$f":"'Raw Data'!GH19","v":54},{"$f":"'Raw Data'!GI19","v":59},{"$f":"'Raw Data'!GJ19","v":61},{"$f":"'Raw Data'!GK19","v":57},{"$f":"'Raw Data'!GL19","v":51},{"$f":"'Raw Data'!GM19","v":55},{"$f":"'Raw Data'!GN19","v":62},{"$f":"'Raw Data'!GO19","v":68},{"$f":"'Raw Data'!GP19","v":67},{"$f":"'Raw Data'!GQ19","v":61},{"$f":"'Raw Data'!GR19","v":50}]
[2020,{"$f":"'Raw Data'!GS19","v":46},{"$f":"'Raw Data'!GT19","v":45},{"$f":"'Raw Data'!GU19","v":43},{"$f":"'Raw Data'!GV19","v":44},{"$f":"'Raw Data'!GW19","v":46},{"$f":"'Raw Data'!GX19","v":49},{"$f":"'Raw Data'!GY19","v":50},{"$f":"'Raw Data'!GZ19","v":49},{"$f":"'Raw Data'!HA19","v":52},{"$f":"'Raw Data'!HB19","v":54},{"$f":"'Raw Data'!HC19","v":53},{"$f":"'Raw Data'!HD19","v":45}]
[2021,{"$f":"'Raw Data'!HE19","v":46},{"$f":"'Raw Data'!HF19","v":51},{"$f":"'Raw Data'!HG19","v":47},{"$f":"'Raw Data'!HH19","v":48},{"$f":"'Raw Data'!HI19","v":55},{"$f":"'Raw Data'!HJ19","v":58},{"$f":"'Raw Data'!HK19","v":54},{"$f":"'Raw Data'!HL19","v":46},{"$f":"'Raw Data'!HM19","v":46},{"$f":"'Raw Data'!HN19","v":41},{"$f":"'Raw Data'!HO19","v":41},{"$f":"'Raw Data'!HP19","v":37}]
[2022,{"$f":"'Raw Data'!HQ19","v":43},{"$f":"'Raw Data'!HR19","v":41},{"$f":"'Raw Data'!HS19","v":45},{"$f":"'Raw Data'!HT19","v":46},{"$f":"'Raw Data'!HU19","v":49},{"$f":"'Raw Data'!HV19","v":45},{"$f":"'Raw Data'!HW19","v":45},{"$f":"'Raw Data'!HX19","v":37},{"$f":"'Raw Data'!HY19","v":38},{"$f":"'Raw Data'!HZ19","v":35},{"$f":"'Raw Data'!IA19","v":36},{"$f":"'Raw Data'!IB19","v":33}]
[2023,{"$f":"'Raw Data'!IC19","v":36},{"$f":"'Raw Data'!ID19","v":35},{"$f":"'Raw Data'!IE19","v":30},{"$f":"'Raw Data'!IF19","v":25},{"$f":"'Raw Data'!IG19","v":28},{"$f":"'Raw Data'!IH19","v":31},{"$f":"'Raw Data'!II19","v":31},{"$f":"'Raw Data'!IJ19","v":0},{"$f":"'Raw Data'!IK19","v":0},{"$f":"'Raw Data'!IL19","v":0},{"$f":"'Raw Data'!IM19","v":0},{"$f":"'Raw Data'!IN19","v":0}]
[]
["Total"]
[null,"Jan","Feb","Mar","Apr","May","Jul","July","Aug","Sep","Oct","Nov","Dec"]
[2015,{"$f":"B3+B22+B41","v":2945},3056,2998,3061,3093,3071,3024,3000,2974,2938,2859,2612]
[2016,{"$f":"B4+B23+B42","v":2616},2688,2783,2871,2756,2770,2695,2616,2597,2547,2439,2251]
[2017,{"$f":"B5+B24+B43","v":2309},2383,2404,2430,2434,2389,2386,2371,2305,2321,2258,2091]
[2018,{"$f":"B6+B25+B44","v":2107},2149,2246,2245,2272,2264,2255,2333,2312,2352,2352,2197]
[2019,{"$f":"B45+B26+B7","v":2274},2375,2495,2569,2550,2471,2402,2415,2379,2376,2354,2098]
[2020,{"$f":"B46+B27+B8","v":2114},2127,2166,2124,2056,1746,1630,1436,1410,1337,1279,1146]
[2021,{"$f":"B47+B28+B9","v":1034},1055,988,1016,1029,1072,1114,1115,1062,945,887,759]
[2022,{"$f":"B10+B29+B48","v":731},693,735,772,897,1039,1073,1055,999,992,955,872]
[2023,{"$f":"B11+B30+B49","v":808},790,759,768,767,786,839,0,0,0,0,0]
[]
[null,null,null,"Total Active Inventory"]
[null,null,null,"Month / Year","Count","%Chg"]
[null,null,null,"Jul'23",{"$f":"H61","v":839},{"$f":"(E65-E66)/E66","v":-0.21808014911463186}]
[null,null,null,"Jul'22",{"$f":"H60","v":1073},{"$f":"(E66-E67)/E67","v":-3.6804308797127469E-2}]
[null,null,null,"Jul'21",{"$f":"H59","v":1114},{"$f":"(E67-E68)/E68","v":-0.31656441717791411}]
[null,null,null,"Jul'20",{"$f":"H58","v":1630}]
[]
[]
["Lots / Land"]
[null,"2007-08-01","2007-09-01","2007-10-01","2007-11-01","2007-12-01","2008-01-01","2008-02-01","2008-03-01","2008-04-01","2008-05-01","2008-06-01","2008-07-01","2008-08-01","2008-09-01","2008-10-01","2008-11-01","2008-12-01","2009-01-01","2009-02-01","2009-03-01","2009-04-01","2009-05-01","2009-06-01","2009-07-01","2009-08-01","2009-09-01","2009-10-01","2009-11-01","2009-12-01","2010-01-01","2010-02-01","2010-03-01","2010-04-01","2010-05-01","2010-06-01","2010-07-01","2010-08-01","2010-09-01","2010-10-01","2010-11-01","2010-12-01","2011-01-01","2011-02-01","2011-03-01","2011-04-01","2011-05-01","2011-06-01","2011-07-01","2011-08-01","2011-09-01","2011-10-01","2011-11-01","2011-12-01","2012-01-01","2012-02-01","2012-03-01","2012-04-01","2012-05-01","2012-06-01","2012-07-01","2012-08-01","2012-09-01","2012-10-01","2012-11-01","2012-12-01","2013-01-01","2013-02-01","2013-03-01","2013-04-01","2013-05-01","2013-06-01","2013-07-01","2013-08-01","2013-09-01","2013-10-01","2013-11-01","2013-12-01","2014-01-01","2014-02-01","2014-03-01","2014-04-01","2014-05-01","2014-06-01","2014-07-01","2014-08-01","2014-09-01","2014-10-01","2014-11-01","2014-12-01","2015-01-01","2015-02-01","2015-03-01","2015-04-01","2015-05-01","2015-06-01","2015-07-01","2015-08-01","2015-09-01","2015-10-01","2015-11-01","2015-12-01","2016-01-01","2016-02-01","2016-03-01","2016-04-01","2016-05-01","2016-06-01","2016-07-01","2016-08-01","2016-09-01","2016-10-01","2016-11-01","2016-12-01","2017-01-01","2017-02-01","2017-03-01","2017-04-01","2017-05-01","2017-06-01","2017-07-01","2017-08-01","2017-09-01","2017-10-01","2017-11-01","2017-12-01","2018-01-01","2018-02-01","2018-03-01","2018-04-01","2018-05-01","2018-06-01","2018-07-01","2018-08-01","2018-09-01","2018-10-01","2018-11-01","2018-12-01","2019-01-01","2019-02-01","2019-03-01","2019-04-01","2019-05-01","2019-06-01","2019-07-01","2019-08-01","2019-09-01","2019-10-01","2019-11-01","2019-12-01","2020-01-01","2020-02-01","2020-03-01","2020-04-01","2020-05-01","2020-06-01","2020-07-01","2020-08-01","2020-09-01","2020-10-01","2020-11-01","2020-12-01","2021-01-01","2021-02-01","2021-03-01","2021-04-01","2021-05-01","2021-06-01","2021-07-01","2021-08-01","2021-09-01","2021-10-01","2021-11-01","2021-12-01","2022-01-01","2022-02-01","2022-03-01","2022-04-01","2022-05-01","2022-06-01","2022-07-01","2022-08-01","2022-09-01","2022-10-01","2022-11-01","2022-12-01","2023-01-01","2023-02-01","2023-03-01","2023-04-01","2023-05-01","2023-06-01","2023-07-01","2023-08-01","2023-09-01","2023-10-01","2023-11-01","2023-12-01","2024-01-01"]
[null,{"$f":"'Raw Data'!AZ20","v":1710},{"$f":"'Raw Data'!BA20","v":1631},{"$f":"'Raw Data'!BB20","v":1630},{"$f":"'Raw Data'!BC20","v":1667},{"$f":"'Raw Data'!BD20","v":1611},{"$f":"'Raw Data'!BE20","v":1428},{"$f":"'Raw Data'!BF20","v":1477},{"$f":"'Raw Data'!BG20","v":1508},{"$f":"'Raw Data'!BH20","v":1559},{"$f":"'Raw Data'!BI20","v":1550},{"$f":"'Raw Data'!BJ20","v":1520},{"$f":"'Raw Data'!BK20","v":1510},{"$f":"'Raw Data'!BL20","v":1463},{"$f":"'Raw Data'!BM20","v":1600},{"$f":"'Raw Data'!BN20","v":1537},{"$f":"'Raw Data'!BO20","v":1534},{"$f":"'Raw Data'!BP20","v":1314},{"$f":"'Raw Data'!BQ20","v":1304},{"$f":"'Raw Data'!BR20","v":1364},{"$f":"'Raw Data'!BS20","v":1328},{"$f":"'Raw Data'!BT20","v":1388},{"$f":"'Raw Data'!BU20","v":1465},{"$f":"'Raw Data'!BV20","v":1535},{"$f":"'Raw Data'!BW20","v":1575},{"$f":"'Raw Data'!BX20","v":1577},{"$f":"'Raw Data'!BY20","v":1553},{"$f":"'Raw Data'!BZ20","v":1500},{"$f":"'Raw Data'!CA20","v":1525},{"$f":"'Raw Data'!CB20","v":1343},{"$f":"'Raw Data'!CC20","v":1320},{"$f":"'Raw Data'!CD20","v":1289},{"$f":"'Raw Data'!CE20","v":1367},{"$f":"'Raw Data'!CF20","v":1412},{"$f":"'Raw Data'!CG20","v":1380},{"$f":"'Raw Data'!CH20","v":1367},{"$f":"'Raw Data'!CI20","v":1359},{"$f":"'Raw Data'!CJ20","v":1325},{"$f":"'Raw Data'!CK20","v":1268},{"$f":"'Raw Data'!CL20","v":1235},{"$f":"'Raw Data'!CM20","v":1200},{"$f":"'Raw Data'!CN20","v":1065},{"$f":"'Raw Data'!CO20","v":1101},{"$f":"'Raw Data'!CP20","v":1094},{"$f":"'Raw Data'!CQ20","v":1143},{"$f":"'Raw Data'!CR20","v":1139},{"$f":"'Raw Data'!CS20","v":1147},{"$f":"'Raw Data'!CT20","v":1167},{"$f":"'Raw Data'!CU20","v":1182},{"$f":"'Raw Data'!CV20","v":1146},{"$f":"'Raw Data'!CW20","v":1133},{"$f":"'Raw Data'!CX20","v":1131},{"$f":"'Raw Data'!CY20","v":1115},{"$f":"'Raw Data'!CZ20","v":1022},{"$f":"'Raw Data'!DA20","v":1032},{"$f":"'Raw Data'!DB20","v":1153},{"$f":"'Raw Data'!DC20","v":1185},{"$f":"'Raw Data'!DD20","v":1195},{"$f":"'Raw Data'!DE20","v":1235},{"$f":"'Raw Data'!DF20","v":1227},{"$f":"'Raw Data'!DG20","v":1210},{"$f":"'Raw Data'!DH20","v":1146},{"$f":"'Raw Data'!DI20","v":1157},{"$f":"'Raw Data'!DJ20","v":1124},{"$f":"'Raw Data'!DK20","v":1117},{"$f":"'Raw Data'!DL20","v":972},{"$f":"'Raw Data'!DM20","v":1009},{"$f":"'Raw Data'!DN20","v":1006},{"$f":"'Raw Data'!DO20","v":989},{"$f":"'Raw Data'!DP20","v":1080},{"$f":"'Raw Data'!DQ20","v":1100},{"$f":"'Raw Data'!DR20","v":1103},{"$f":"'Raw Data'!DS20","v":1121},{"$f":"'Raw Data'!DT20","v":1166},{"$f":"'Raw Data'!DU20","v":1164},{"$f":"'Raw Data'!DV20","v":1140},{"$f":"'Raw Data'!DW20","v":1127},{"$f":"'Raw Data'!DX20","v":1048},{"$f":"'Raw Data'!DY20","v":1061},{"$f":"'Raw Data'!DZ20","v":1056},{"$f":"'Raw Data'!EA20","v":1140},{"$f":"'Raw Data'!EB20","v":1140},{"$f":"'Raw Data'!EC20","v":1185},{"$f":"'Raw Data'!ED20","v":1190},{"$f":"'Raw Data'!EE20","v":1178},{"$f":"'Raw Data'!EF20","v":1155},{"$f":"'Raw Data'!EG20","v":1086},{"$f":"'Raw Data'!EH20","v":1057},{"$f":"'Raw Data'!EI20","v":1040},{"$f":"'Raw Data'!EJ20","v":944},{"$f":"'Raw Data'!EK20","v":956},{"$f":"'Raw Data'!EL20","v":987},{"$f":"'Raw Data'!EM20","v":979},{"$f":"'Raw Data'!EN20","v":1018},{"$f":"'Raw Data'!EO20","v":1058},{"$f":"'Raw Data'!EP20","v":1068},{"$f":"'Raw Data'!EQ20","v":1060},{"$f":"'Raw Data'!ER20","v":1052},{"$f":"'Raw Data'!ES20","v":1056},{"$f":"'Raw Data'!ET20","v":1064},{"$f":"'Raw Data'!EU20","v":1044},{"$f":"'Raw Data'!EV20","v":955},{"$f":"'Raw Data'!EW20","v":929},{"$f":"'Raw Data'!EX20","v":946},{"$f":"'Raw Data'!EY20","v":940},{"$f":"'Raw Data'!EZ20","v":972},{"$f":"'Raw Data'!FA20","v":940},{"$f":"'Raw Data'!FB20","v":952},{"$f":"'Raw Data'!FC20","v":927},{"$f":"'Raw Data'!FD20","v":897},{"$f":"'Raw Data'!FE20","v":882},{"$f":"'Raw Data'!FF20","v":852},{"$f":"'Raw Data'!FG20","v":823},{"$f":"'Raw Data'!FH20","v":764},{"$f":"'Raw Data'!FI20","v":784},{"$f":"'Raw Data'!FJ20","v":804},{"$f":"'Raw Data'!FK20","v":824},{"$f":"'Raw Data'!FL20","v":817},{"$f":"'Raw Data'!FM20","v":811},{"$f":"'Raw Data'!FN20","v":800},{"$f":"'Raw Data'!FO20","v":808},{"$f":"'Raw Data'!FP20","v":795},{"$f":"'Raw Data'!FQ20","v":764},{"$f":"'Raw Data'!FR20","v":760},{"$f":"'Raw Data'!FS20","v":741},{"$f":"'Raw Data'!FT20","v":679},{"$f":"'Raw Data'!FU20","v":680},{"$f":"'Raw Data'!FV20","v":658},{"$f":"'Raw Data'!FW20","v":680},{"$f":"'Raw Data'!FX20","v":695},{"$f":"'Raw Data'!FY20","v":708},{"$f":"'Raw Data'!FZ20","v":740},{"$f":"'Raw Data'!GA20","v":739},{"$f":"'Raw Data'!GB20","v":746},{"$f":"'Raw Data'!GC20","v":748},{"$f":"'Raw Data'!GD20","v":763},{"$f":"'Raw Data'!GE20","v":774},{"$f":"'Raw Data'!GF20","v":702},{"$f":"'Raw Data'!GG20","v":722},{"$f":"'Raw Data'!GH20","v":763},{"$f":"'Raw Data'!GI20","v":785},{"$f":"'Raw Data'!GJ20","v":835},{"$f":"'Raw Data'!GK20","v":866},{"$f":"'Raw Data'!GL20","v":841},{"$f":"'Raw Data'!GM20","v":841},{"$f":"'Raw Data'!GN20","v":854},{"$f":"'Raw Data'!GO20","v":839},{"$f":"'Raw Data'!GP20","v":819},{"$f":"'Raw Data'!GQ20","v":793},{"$f":"'Raw Data'!GR20","v":707},{"$f":"'Raw Data'!GS20","v":732},{"$f":"'Raw Data'!GT20","v":752},{"$f":"'Raw Data'!GU20","v":763},{"$f":"'Raw Data'!GV20","v":756},{"$f":"'Raw Data'!GW20","v":763},{"$f":"'Raw Data'!GX20","v":722},{"$f":"'Raw Data'!GY20","v":699},{"$f":"'Raw Data'!GZ20","v":664},{"$f":"'Raw Data'!HA20","v":669},{"$f":"'Raw Data'!HB20","v":627},{"$f":"'Raw Data'!HC20","v":603},{"$f":"'Raw Data'!HD20","v":541},{"$f":"'Raw Data'!HE20","v":541},{"$f":"'Raw Data'!HF20","v":586},{"$f":"'Raw Data'!HG20","v":561},{"$f":"'Raw Data'!HH20","v":576},{"$f":"'Raw Data'!HI20","v":572},{"$f":"'Raw Data'!HJ20","v":590},{"$f":"'Raw Data'!HK20","v":583},{"$f":"'Raw Data'!HL20","v":568},{"$f":"'Raw Data'!HM20","v":532},{"$f":"'Raw Data'!HN20","v":476},{"$f":"'Raw Data'!HO20","v":466},{"$f":"'Raw Data'!HP20","v":411},{"$f":"'Raw Data'!HQ20","v":404},{"$f":"'Raw Data'!HR20","v":385},{"$f":"'Raw Data'!HS20","v":424},{"$f":"'Raw Data'!HT20","v":400},{"$f":"'Raw Data'!HU20","v":435},{"$f":"'Raw Data'!HV20","v":465},{"$f":"'Raw Data'!HW20","v":467},{"$f":"'Raw Data'!HX20","v":470},{"$f":"'Raw Data'!HY20","v":451},{"$f":"'Raw Data'!HZ20","v":448},{"$f":"'Raw Data'!IA20","v":390},{"$f":"'Raw Data'!IB20","v":384},{"$f":"'Raw Data'!IC20","v":381},{"$f":"'Raw Data'!ID20","v":382},{"$f":"'Raw Data'!IE21","v":356},{"$f":"'Raw Data'!IF20","v":372},{"$f":"'Raw Data'!IG20","v":357},{"$f":"'Raw Data'!IH20","v":343},{"$f":"'Raw Data'!II20","v":352},{"$f":"'Raw Data'!IJ20","v":0},{"$f":"'Raw Data'!IK20","v":0},{"$f":"'Raw Data'!IL20","v":0},{"$f":"'Raw Data'!IM20","v":0},{"$f":"'Raw Data'!IN20","v":0},{"$f":"'Raw Data'!IO20","v":0}]

{"sheet":"Sold Price per SF data","index":41,"n_rows":16,"n_cols":13,"rows_kept":16,"cut":false,"hidden":false,"merged":[]}
[null,{"$f":"'Raw Data'!IC111","v":"January"},{"$f":"'Raw Data'!ID111","v":"February"},{"$f":"'Raw Data'!IE111","v":"March"},{"$f":"'Raw Data'!IF111","v":"April"},{"$f":"'Raw Data'!IG111","v":"May"},{"$f":"'Raw Data'!IH111","v":"June"},{"$f":"'Raw Data'!II111","v":"Augy"},{"$f":"'Raw Data'!IJ111","v":"August"},{"$f":"'Raw Data'!IK111","v":"September"},{"$f":"'Raw Data'!IL111","v":"October"},{"$f":"'Raw Data'!IM111","v":"November"},{"$f":"'Raw Data'!IN111","v":"December"}]
[2009,{"$f":"'Raw Data'!IC112","v":213.32},{"$f":"'Raw Data'!ID112","v":203.73},{"$f":"'Raw Data'!IE112","v":202.1},{"$f":"'Raw Data'!IF112","v":215.98},{"$f":"'Raw Data'!IG112","v":196.85},{"$f":"'Raw Data'!IH112","v":205.7},{"$f":"'Raw Data'!II112","v":202.33},{"$f":"'Raw Data'!IJ112","v":207.43},{"$f":"'Raw Data'!IK112","v":189.5},{"$f":"'Raw Data'!IL112","v":167.37},{"$f":"'Raw Data'!IM112","v":186.35},{"$f":"'Raw Data'!IN112","v":211.52}]
[2010,{"$f":"'Raw Data'!IC113","v":200.29},{"$f":"'Raw Data'!ID113","v":178.04},{"$f":"'Raw Data'!IE113","v":176.08},{"$f":"'Raw Data'!IF113","v":188.89},{"$f":"'Raw Data'!IG113","v":211.08},{"$f":"'Raw Data'!IH113","v":187.99},{"$f":"'Raw Data'!II113","v":191.37},{"$f":"'Raw Data'!IJ113","v":182.79},{"$f":"'Raw Data'!IK113","v":189.73},{"$f":"'Raw Data'!IL113","v":192.71},{"$f":"'Raw Data'!IM113","v":177.07},{"$f":"'Raw Data'!IN113","v":180.9}]
[2011,{"$f":"'Raw Data'!IC114","v":185.85},{"$f":"'Raw Data'!ID114","v":183.74},{"$f":"'Raw Data'!IE114","v":197.21},{"$f":"'Raw Data'!IF114","v":183.15},{"$f":"'Raw Data'!IG114","v":186.97},{"$f":"'Raw Data'!IH114","v":162.72999999999999},{"$f":"'Raw Data'!II114","v":162.08000000000001},{"$f":"'Raw Data'!IJ114","v":162.25},{"$f":"'Raw Data'!IK114","v":177.71},{"$f":"'Raw Data'!IL114","v":155.44},{"$f":"'Raw Data'!IM114","v":175.24},{"$f":"'Raw Data'!IN114","v":165.95}]
[2012,{"$f":"'Raw Data'!IC115","v":163.74},{"$f":"'Raw Data'!ID115","v":158.38999999999999},{"$f":"'Raw Data'!IE115","v":177.35},{"$f":"'Raw Data'!IF115","v":176.04},{"$f":"'Raw Data'!IG115","v":171.77},{"$f":"'Raw Data'!IH115","v":158.62},{"$f":"'Raw Data'!II115","v":158.85},{"$f":"'Raw Data'!IJ115","v":163.63999999999999},{"$f":"'Raw Data'!IK115","v":158.21},{"$f":"'Raw Data'!IL115","v":169.43},{"$f":"'Raw Data'!IM115","v":183.21},{"$f":"'Raw Data'!IN115","v":178.99}]
[2013,{"$f":"'Raw Data'!IC116","v":153.63},{"$f":"'Raw Data'!ID116","v":143.28},{"$f":"'Raw Data'!IE116","v":167.48},{"$f":"'Raw Data'!IF116","v":156.33000000000001},{"$f":"'Raw Data'!IG116","v":182.69},{"$f":"'Raw Data'!IH116","v":165.93},{"$f":"'Raw Data'!II116","v":167.24},{"$f":"'Raw Data'!IJ116","v":172.27},{"$f":"'Raw Data'!IK116","v":163.34},{"$f":"'Raw Data'!IL116","v":181.41},{"$f":"'Raw Data'!IM116","v":173.15},{"$f":"'Raw Data'!IN116","v":172.22}]
[{"$f":"'Raw Data'!A117","v":2014},{"$f":"'Raw Data'!IC117","v":169.84},{"$f":"'Raw Data'!ID117","v":165.27},{"$f":"'Raw Data'!IE117","v":164.02},{"$f":"'Raw Data'!IF117","v":175},{"$f":"'Raw Data'!IG117","v":180.33},{"$f":"'Raw Data'!IH117","v":175.67},{"$f":"'Raw Data'!II117","v":159.03},{"$f":"'Raw Data'!IJ117","v":164.11},{"$f":"'Raw Data'!IK117","v":170.42},{"$f":"'Raw Data'!IL117","v":177.12},{"$f":"'Raw Data'!IM117","v":181.19},{"$f":"'Raw Data'!IN117","v":179.21}]
[{"$f":"'Raw Data'!A118","v":2015},{"$f":"'Raw Data'!IC118","v":164.68},{"$f":"'Raw Data'!ID118","v":181.32},{"$f":"'Raw Data'!IE118","v":179.89},{"$f":"'Raw Data'!IF118","v":184.31},{"$f":"'Raw Data'!IG118","v":177.38},{"$f":"'Raw Data'!IH118","v":176.27},{"$f":"'Raw Data'!II118","v":166.99},{"$f":"'Raw Data'!IJ118","v":172.72},{"$f":"'Raw Data'!IK118","v":177.21},{"$f":"'Raw Data'!IL118","v":176.75},{"$f":"'Raw Data'!IM118","v":177.87},{"$f":"'Raw Data'!IN118","v":183.29}]
[{"$f":"'Raw Data'!A119","v":2016},{"$f":"'Raw Data'!IC119","v":187.52},{"$f":"'Raw Data'!ID119","v":182.08},{"$f":"'Raw Data'!IE119","v":180.7},{"$f":"'Raw Data'!IF119","v":183.47},{"$f":"'Raw Data'!IG119","v":184.88},{"$f":"'Raw Data'!IH119","v":176.61},{"$f":"'Raw Data'!II119","v":181.42},{"$f":"'Raw Data'!IJ119","v":182.96},{"$f":"'Raw Data'!IK119","v":180.63},{"$f":"'Raw Data'!IL119","v":179.36},{"$f":"'Raw Data'!IM119","v":187.09},{"$f":"'Raw Data'!IN119","v":188.42}]
[{"$f":"'Raw Data'!A120","v":2017},{"$f":"'Raw Data'!IC120","v":188.33},{"$f":"'Raw Data'!ID120","v":190},{"$f":"'Raw Data'!IE120","v":186.32},{"$f":"'Raw Data'!IF120","v":194.52},{"$f":"'Raw Data'!IG120","v":186.88},{"$f":"'Raw Data'!IH120","v":199.37},{"$f":"'Raw Data'!II120","v":192.57},{"$f":"'Raw Data'!IJ120","v":187.96},{"$f":"'Raw Data'!IK120","v":193.7},{"$f":"'Raw Data'!IL120","v":178.97},{"$f":"'Raw Data'!IM120","v":197.64},{"$f":"'Raw Data'!IN120","v":205.61}]
[{"$f":"'Raw Data'!A121","v":2018},{"$f":"'Raw Data'!IC121","v":188.25},{"$f":"'Raw Data'!ID121","v":199.07},{"$f":"'Raw Data'!IE121","v":192.74},{"$f":"'Raw Data'!IF121","v":197.21},{"$f":"'Raw Data'!IG121","v":190.2},{"$f":"'Raw Data'!IH121","v":201.49},{"$f":"'Raw Data'!II121","v":192.05},{"$f":"'Raw Data'!IJ121","v":196.28},{"$f":"'Raw Data'!IK121","v":191.31},{"$f":"'Raw Data'!IL121","v":200.35},{"$f":"'Raw Data'!IM121","v":199.4},{"$f":"'Raw Data'!IN121","v":211.82}]
[2019,{"$f":"'Raw Data'!IC122","v":193.75},{"$f":"'Raw Data'!ID122","v":184.26},{"$f":"'Raw Data'!IE122","v":205.74},{"$f":"'Raw Data'!IF122","v":193.05},{"$f":"'Raw Data'!IG122","v":193.44},{"$f":"'Raw Data'!IH122","v":195.42},{"$f":"'Raw Data'!II122","v":184.67},{"$f":"'Raw Data'!IJ122","v":204.31},{"$f":"'Raw Data'!IK122","v":195.19},{"$f":"'Raw Data'!IL122","v":197.75},{"$f":"'Raw Data'!IM122","v":206.55},{"$f":"'Raw Data'!IN122","v":203.06}]
[2020,{"$f":"'Raw Data'!IC123","v":196.69},{"$f":"'Raw Data'!ID123","v":195.26},{"$f":"'Raw Data'!IE123","v":207.95},{"$f":"'Raw Data'!IF123","v":209.44},{"$f":"'Raw Data'!IG123","v":198.29},{"$f":"'Raw Data'!IH123","v":194.29},{"$f":"'Raw Data'!II123","v":209.22},{"$f":"'Raw Data'!IJ123","v":213.24},{"$f":"'Raw Data'!IK123","v":162.47999999999999},{"$f":"'Raw Data'!IL123","v":229.99},{"$f":"'Raw Data'!IM123","v":236.69},{"$f":"'Raw Data'!IN123","v":242.66}]
[2021,{"$f":"'Raw Data'!IC124","v":237.52},{"$f":"'Raw Data'!ID124","v":245.52},{"$f":"'Raw Data'!IE124","v":252.33},{"$f":"'Raw Data'!IF124","v":255.75},{"$f":"'Raw Data'!IG124","v":262.18},{"$f":"'Raw Data'!IH124","v":275.73},{"$f":"'Raw Data'!II124","v":268.08999999999997},{"$f":"'Raw Data'!IJ124","v":281.8},{"$f":"'Raw Data'!IK124","v":290.67},{"$f":"'Raw Data'!IL124","v":289.16000000000003},{"$f":"'Raw Data'!IM124","v":297.16000000000003},{"$f":"'Raw Data'!IN124","v":302.05}]
[2022,{"$f":"'Raw Data'!IC125","v":310.64},{"$f":"'Raw Data'!ID125","v":340.41},{"$f":"'Raw Data'!IE125","v":319.95},{"$f":"'Raw Data'!IF125","v":342.32},{"$f":"'Raw Data'!IG125","v":335.53},{"$f":"'Raw Data'!IH125","v":331.96},{"$f":"'Raw Data'!II125","v":331.11},{"$f":"'Raw Data'!IJ125","v":318.64},{"$f":"'Raw Data'!IK125","v":337.83},{"$f":"'Raw Data'!IL125","v":336.67},{"$f":"'Raw Data'!IM125","v":311.29000000000002},{"$f":"'Raw Data'!IN125","v":320.14}]
[2023,{"$f":"'Raw Data'!IC126","v":332.14},{"$f":"'Raw Data'!ID126","v":317.22000000000003},{"$f":"'Raw Data'!IE126","v":336.5},{"$f":"'Raw Data'!IF126","v":336.21},{"$f":"'Raw Data'!IG126","v":344.38},{"$f":"'Raw Data'!IH126","v":342.46},{"$f":"'Raw Data'!II126","v":311.95999999999998},{"$f":"'Raw Data'!IJ126","v":0},{"$f":"'Raw Data'!IK126","v":0},{"$f":"'Raw Data'!IL126","v":0},{"$f":"'Raw Data'!IM126","v":0},{"$f":"'Raw Data'!IN126","v":0}]

{"sheet":"Absorption Rate data","index":43,"n_rows":3,"n_cols":201,"rows_kept":3,"cut":false,"hidden":false,"merged":[]}
[]
["Residential Property Absorption Rate",{"$f":"'Raw Data'!AZ1","v":"2007-08-06"},{"$f":"'Raw Data'!BA1","v":"2007-09-06"},{"$f":"'Raw Data'!BB1","v":"2007-10-06"},{"$f":"'Raw Data'!BC1","v":"2007-11-06"},{"$f":"'Raw Data'!BD1","v":"2007-12-06"},{"$f":"'Raw Data'!BE1","v":"2008-01-06"},{"$f":"'Raw Data'!BF1","v":"2008-02-06"},{"$f":"'Raw Data'!BG1","v":"2008-03-06"},{"$f":"'Raw Data'!BH1","v":"2008-04-06"},{"$f":"'Raw Data'!BI1","v":"2008-05-06"},{"$f":"'Raw Data'!BJ1","v":"2008-06-06"},{"$f":"'Raw Data'!BK1","v":"2008-07-06"},{"$f":"'Raw Data'!BL1","v":"2008-08-06"},{"$f":"'Raw Data'!BM1","v":"2008-09-06"},{"$f":"'Raw Data'!BN1","v":"2008-10-06"},{"$f":"'Raw Data'!BO1","v":"2008-11-06"},{"$f":"'Raw Data'!BP1","v":"2008-12-06"},{"$f":"'Raw Data'!BQ1","v":"2009-01-06"},{"$f":"'Raw Data'!BR1","v":"2009-02-06"},{"$f":"'Raw Data'!BS1","v":"2009-03-06"},{"$f":"'Raw Data'!BT1","v":"2009-04-06"},{"$f":"'Raw Data'!BU1","v":"2009-05-06"},{"$f":"'Raw Data'!BV1","v":"2009-06-06"},{"$f":"'Raw Data'!BW1","v":"2009-07-06"},{"$f":"'Raw Data'!BX1","v":"2009-08-06"},{"$f":"'Raw Data'!BY1","v":"2009-09-06"},{"$f":"'Raw Data'!BZ1","v":"2009-10-06"},{"$f":"'Raw Data'!CA1","v":"2009-11-06"},{"$f":"'Raw Data'!CB1","v":"2009-12-06"},{"$f":"'Raw Data'!CC1","v":"2010-01-06"},{"$f":"'Raw Data'!CD1","v":"2010-02-06"},{"$f":"'Raw Data'!CE1","v":"2010-03-06"},{"$f":"'Raw Data'!CF1","v":"2010-04-06"},{"$f":"'Raw Data'!CG1","v":"2010-05-06"},{"$f":"'Raw Data'!CH1","v":"2010-06-06"},{"$f":"'Raw Data'!CI1","v":"2010-07-06"},{"$f":"'Raw Data'!CJ1","v":"2010-08-06"},{"$f":"'Raw Data'!CK1","v":"2010-09-06"},{"$f":"'Raw Data'!CL1","v":"2010-10-06"},{"$f":"'Raw Data'!CM1","v":"2010-11-06"},{"$f":"'Raw Data'!CN1","v":"2010-12-06"},{"$f":"'Raw Data'!CO1","v":"2011-01-06"},{"$f":"'Raw Data'!CP1","v":"2011-02-06"},{"$f":"'Raw Data'!CQ1","v":"2011-03-06"},{"$f":"'Raw Data'!CR1","v":"2011-04-06"},{"$f":"'Raw Data'!CS1","v":"2011-05-06"},{"$f":"'Raw Data'!CT1","v":"2011-06-06"},{"$f":"'Raw Data'!CU1","v":"2011-07-06"},{"$f":"'Raw Data'!CV1","v":"2011-08-06"},{"$f":"'Raw Data'!CW1","v":"2011-09-06"},{"$f":"'Raw Data'!CX1","v":"2011-10-06"},{"$f":"'Raw Data'!CY1","v":"2011-11-06"},{"$f":"'Raw Data'!CZ1","v":"2011-12-06"},{"$f":"'Raw Data'!DA1","v":"2012-01-06"},{"$f":"'Raw Data'!DB1","v":"2012-02-06"},{"$f":"'Raw Data'!DC1","v":"2012-03-06"},{"$f":"'Raw Data'!DD1","v":"2012-04-06"},{"$f":"'Raw Data'!DE1","v":"2012-05-06"},{"$f":"'Raw Data'!DF1","v":"2012-06-06"},{"$f":"'Raw Data'!DG1","v":"2012-07-06"},{"$f":"'Raw Data'!DH1","v":"2012-08-06"},{"$f":"'Raw Data'!DI1","v":"2012-09-06"},{"$f":"'Raw Data'!DJ1","v":"2012-10-06"},{"$f":"'Raw Data'!DK1","v":"2012-11-06"},{"$f":"'Raw Data'!DL1","v":"2012-12-06"},{"$f":"'Raw Data'!DM1","v":"2013-01-06"},{"$f":"'Raw Data'!DN1","v":"2013-02-06"},{"$f":"'Raw Data'!DO1","v":"2013-03-06"},{"$f":"'Raw Data'!DP1","v":"2013-04-06"},{"$f":"'Raw Data'!DQ1","v":"2013-05-06"},{"$f":"'Raw Data'!DR1","v":"2013-06-06"},{"$f":"'Raw Data'!DS1","v":"2013-07-06"},{"$f":"'Raw Data'!DT1","v":"2013-08-06"},{"$f":"'Raw Data'!DU1","v":"2013-09-06"},{"$f":"'Raw Data'!DV1","v":"2013-10-06"},{"$f":"'Raw Data'!DW1","v":"2013-11-06"},{"$f":"'Raw Data'!DX1","v":"2013-12-06"},{"$f":"'Raw Data'!DY1","v":"2014-01-06"},{"$f":"'Raw Data'!DZ1","v":"2014-02-06"},{"$f":"'Raw Data'!EA1","v":"2014-03-06"},{"$f":"'Raw Data'!EB1","v":"2014-04-06"},{"$f":"'Raw Data'!EC1","v":"2014-05-06"},{"$f":"'Raw Data'!ED1","v":"2014-06-06"},{"$f":"'Raw Data'!EE1","v":"2014-07-06"},{"$f":"'Raw Data'!EF1","v":"2014-08-06"},{"$f":"'Raw Data'!EG1","v":"2014-09-06"},{"$f":"'Raw Data'!EH1","v":"2014-10-06"},{"$f":"'Raw Data'!EI1","v":"2014-11-06"},{"$f":"'Raw Data'!EJ1","v":"2014-12-06"},{"$f":"'Raw Data'!EK1","v":"2015-01-06"},{"$f":"'Raw Data'!EL1","v":"2015-02-06"},{"$f":"'Raw Data'!EM1","v":"2015-03-06"},{"$f":"'Raw Data'!EN1","v":"2015-04-06"},{"$f":"'Raw Data'!EO1","v":"2015-05-06"},{"$f":"'Raw Data'!EP1","v":"2015-06-06"},{"$f":"'Raw Data'!EQ1","v":"2015-07-06"},{"$f":"'Raw Data'!ER1","v":"2015-08-06"},{"$f":"'Raw Data'!ES1","v":"2015-09-06"},{"$f":"'Raw Data'!ET1","v":"2015-10-06"},{"$f":"'Raw Data'!EU1","v":"2015-11-06"},{"$f":"'Raw Data'!EV1","v":"2015-12-06"},{"$f":"'Raw Data'!EW1","v":"2016-01-06"},{"$f":"'Raw Data'!EX1","v":"2016-02-06"},{"$f":"'Raw Data'!EY1","v":"2016-03-06"},{"$f":"'Raw Data'!EZ1","v":"2016-04-06"},{"$f":"'Raw Data'!FA1","v":"2016-05-06"},{"$f":"'Raw Data'!FB1","v":"2016-06-06"},{"$f":"'Raw Data'!FC1","v":"2016-07-06"},{"$f":"'Raw Data'!FD1","v":"2016-08-06"},{"$f":"'Raw Data'!FE1","v":"2016-09-06"},{"$f":"'Raw Data'!FF1","v":"2016-10-06"},{"$f":"'Raw Data'!FG1","v":"2016-11-06"},{"$f":"'Raw Data'!FH1","v":"2016-12-06"},{"$f":"'Raw Data'!FI1","v":"2017-01-06"},{"$f":"'Raw Data'!FJ1","v":"2017-02-06"},{"$f":"'Raw Data'!FK1","v":"2017-03-06"},"2017-04-01","2017-05-01","2017-06-01","2017-07-01","2017-08-01","2017-09-01","2017-10-01","2017-11-01","2017-12-01","2018-01-01","2018-02-01","2018-03-01","2018-04-01","2018-05-01","2018-06-01","2018-07-01","2018-08-01","2018-09-01","2018-10-01","2018-11-01","2018-12-01","2019-01-01","2019-02-01","2019-03-01","2019-04-01","2019-05-01","2019-06-01","2019-07-01","2019-08-01","2019-09-01","2019-10-01","2019-11-01","2019-12-01","2020-01-01","2020-02-01","2020-03-01","2020-04-01","2020-05-01","2020-06-01","2020-07-01","2020-08-01","2020-09-01","2020-10-01","2020-11-01","2020-12-01","2021-01-01","2021-02-01","2021-03-01","2021-04-01","2021-05-01","2021-06-01","2021-07-01","2021-08-01","2021-09-01","2021-10-01","2021-11-01","2021-12-01","2022-01-01","2022-02-01","2022-03-01","2022-04-01","2022-05-01","2022-06-01","2022-07-01","2022-08-01","2022-09-01","2022-10-01","2022-11-01","2022-12-01","2023-01-01","2023-02-01","2023-03-01","2023-04-01","2023-05-01","2023-06-01","2023-07-01","2023-08-01","2023-09-01","2023-10-01","2023-11-01","2023-12-01","2024-01-01","2024-02-01","2024-03-01"]
["Absorption Rate in Weeks",{"$f":"'Raw Data'!AZ21/(('Raw Data'!AZ45*12)/52)","v":111.15408805031447},{"$f":"'Raw Data'!BA21/(('Raw Data'!BA45*12)/52)","v":113},{"$f":"'Raw Data'!BB21/(('Raw Data'!BB45*12)/52)","v":121.65263157894736},{"$f":"'Raw Data'!BC21/(('Raw Data'!BC45*12)/52)","v":123.80286738351255},{"$f":"'Raw Data'!BD21/(('Raw Data'!BD45*12)/52)","v":137.34552845528455},{"$f":"'Raw Data'!BE21/(('Raw Data'!BE45*12)/52)","v":178.65497076023394},{"$f":"'Raw Data'!BF21/(('Raw Data'!BF45*12)/52)","v":141.78666666666666},{"$f":"'Raw Data'!BG21/(('Raw Data'!BG45*12)/52)","v":112.80208333333334},{"$f":"'Raw Data'!BH21/(('Raw Data'!BH45*12)/52)","v":123.73550724637681},{"$f":"'Raw Data'!BI21/(('Raw Data'!BI45*12)/52)","v":98.651651651651648},{"$f":"'Raw Data'!BJ21/(('Raw Data'!BJ45*12)/52)","v":100.57272727272728},{"$f":"'Raw Data'!BK21/(('Raw Data'!BK45*12)/52)","v":117.96808510638297},{"$f":"'Raw Data'!BL21/(('Raw Data'!BL45*12)/52)","v":101.81229773462783},{"$f":"'Raw Data'!BM21/(('Raw Data'!BM45*12)/52)","v":116.48745519713262},{"$f":"'Raw Data'!BN21/(('Raw Data'!BN45*12)/52)","v":127.45098039215685},{"$f":"'Raw Data'!BO21/(('Raw Data'!BO45*12)/52)","v":179.61666666666665},{"$f":"'Raw Data'!BP21/(('Raw Data'!BP45*12)/52)","v":139.79710144927537},{"$f":"'Raw Data'!BQ21/(('Raw Data'!BQ45*12)/52)","v":240.50000000000003},{"$f":"'Raw Data'!BR21/(('Raw Data'!BR45*12)/52)","v":151.22058823529412},{"$f":"'Raw Data'!BS21/(('Raw Data'!BS45*12)/52)","v":127.31746031746033},{"$f":"'Raw Data'!BT21/(('Raw Data'!BT45*12)/52)","v":132.46090534979422},{"$f":"'Raw Data'!BU21/(('Raw Data'!BU45*12)/52)","v":96.972972972972968},{"$f":"'Raw Data'!BV21/(('Raw Data'!BV45*12)/52)","v":92.71052631578948},{"$f":"'Raw Data'!BW21/(('Raw Data'!BW45*12)/52)","v":99.9968253968254},{"$f":"'Raw Data'!BX21/(('Raw Data'!BX45*12)/52)","v":99.831746031746036},{"$f":"'Raw Data'!BY21/(('Raw Data'!BY45*12)/52)","v":99.291666666666671},{"$f":"'Raw Data'!BZ21/(('Raw Data'!BZ45*12)/52)","v":97.009433962264154},{"$f":"'Raw Data'!CA21/(('Raw Data'!CA45*12)/52)","v":93.575471698113219},{"$f":"'Raw Data'!CB21/(('Raw Data'!CB45*12)/52)","v":87.88},{"$f":"'Raw Data'!CC21/(('Raw Data'!CC45*12)/52)","v":105.00775193798449},{"$f":"'Raw Data'!CD21/(('Raw Data'!CD45*12)/52)","v":131.26388888888889},{"$f":"'Raw Data'!CE21/(('Raw Data'!CE45*12)/52)","v":87.510324483775818},{"$f":"'Raw Data'!CF21/(('Raw Data'!CF45*12)/52)","v":74.049019607843135},{"$f":"'Raw Data'!CG21/(('Raw Data'!CG45*12)/52)","v":67.783664459161145},{"$f":"'Raw Data'!CH21/(('Raw Data'!CH45*12)/52)","v":72.211678832116789},{"$f":"'Raw Data'!CI21/(('Raw Data'!CI45*12)/52)","v":79.039999999999992},{"$f":"'Raw Data'!CJ21/(('Raw Data'!CJ45*12)/52)","v":95.9023569023569},{"$f":"'Raw Data'!CK21/(('Raw Data'!CK45*12)/52)","v":84.758409785932727},{"$f":"'Raw Data'!CL21/(('Raw Data'!CL45*12)/52)","v":76.492753623188406},{"$f":"'Raw Data'!CM21/(('Raw Data'!CM45*12)/52)","v":81.106918238993714},{"$f":"'Raw Data'!CN21/(('Raw Data'!CN45*12)/52)","v":62.434666666666665},{"$f":"'Raw Data'!CO21/(('Raw Data'!CO45*12)/52)","v":96.429718875502004},{"$f":"'Raw Data'!CP21/(('Raw Data'!CP45*12)/52)","v":94.237547892720315},{"$f":"'Raw Data'!CQ21/(('Raw Data'!CQ45*12)/52)","v":65.5},{"$f":"'Raw Data'!CR21/(('Raw Data'!CR45*12)/52)","v":61.647201946472016},{"$f":"'Raw Data'!CS21/(('Raw Data'!CS45*12)/52)","v":68.599462365591393},{"$f":"'Raw Data'!CT21/(('Raw Data'!CT45*12)/52)","v":59.140845070422543},{"$f":"'Raw Data'!CU21/(('Raw Data'!CU45*12)/52)","v":64.146981627296597},{"$f":"'Raw Data'!CV21/(('Raw Data'!CV45*12)/52)","v":76.307936507936518},{"$f":"'Raw Data'!CW21/(('Raw Data'!CW45*12)/52)","v":68.412979351032448},{"$f":"'Raw Data'!CX21/(('Raw Data'!CX45*12)/52)","v":74.422018348623851},{"$f":"'Raw Data'!CY21/(('Raw Data'!CY45*12)/52)","v":103.64864864864865},{"$f":"'Raw Data'!CZ21/(('Raw Data'!CZ45*12)/52)","v":72.477124183006538},{"$f":"'Raw Data'!DA21/(('Raw Data'!DA45*12)/52)","v":79.567375886524815},{"$f":"'Raw Data'!DB21/(('Raw Data'!DB45*12)/52)","v":69.023809523809518},{"$f":"'Raw Data'!DC21/(('Raw Data'!DC45*12)/52)","v":46.526315789473685},{"$f":"'Raw Data'!DD21/(('Raw Data'!DD45*12)/52)","v":61.526717557251914},{"$f":"'Raw Data'!DE21/(('Raw Data'!DE45*12)/52)","v":49.189898989898985},{"$f":"'Raw Data'!DF21/(('Raw Data'!DF45*12)/52)","v":53.573059360730589},{"$f":"'Raw Data'!DG21/(('Raw Data'!DG45*12)/52)","v":65},{"$f":"'Raw Data'!DH21/(('Raw Data'!DH45*12)/52)","v":62.330666666666666},{"$f":"'Raw Data'!DI21/(('Raw Data'!DI45*12)/52)","v":52.890410958904106},{"$f":"'Raw Data'!DJ21/(('Raw Data'!DJ45*12)/52)","v":58.402985074626862},{"$f":"'Raw Data'!DK21/(('Raw Data'!DK45*12)/52)","v":59.524547803617573},{"$f":"'Raw Data'!DL21/(('Raw Data'!DL45*12)/52)","v":65.198776758409792},{"$f":"'Raw Data'!DM21/(('Raw Data'!DM45*12)/52)","v":83.453183520599239},{"$f":"'Raw Data'!DN21/(('Raw Data'!DN45*12)/52)","v":84.904761904761898},{"$f":"'Raw Data'!DO21/(('Raw Data'!DO45*12)/52)","v":58.308823529411768},{"$f":"'Raw Data'!DP21/(('Raw Data'!DP45*12)/52)","v":48.982142857142861},{"$f":"'Raw Data'!DQ21/(('Raw Data'!DQ45*12)/52)","v":52.303609341825897},{"$f":"'Raw Data'!DR21/(('Raw Data'!DR45*12)/52)","v":53.473333333333336},{"$f":"'Raw Data'!DS21/(('Raw Data'!DS45*12)/52)","v":49.146997929606627},{"$f":"'Raw Data'!DT21/(('Raw Data'!DT45*12)/52)","v":58.022058823529413},{"$f":"'Raw Data'!DU21/(('Raw Data'!DU45*12)/52)","v":62.031496062992126},{"$f":"'Raw Data'!DV21/(('Raw Data'!DV45*12)/52)","v":72.526315789473685},{"$f":"'Raw Data'!DW21/(('Raw Data'!DW45*12)/52)","v":70.199999999999989},{"$f":"'Raw Data'!DX21/(('Raw Data'!DX45*12)/52)","v":58.93333333333333},{"$f":"'Raw Data'!DY21/(('Raw Data'!DY45*12)/52)","v":73.257861635220124},{"$f":"'Raw Data'!DZ21/(('Raw Data'!DZ45*12)/52)","v":93.166666666666671},{"$f":"'Raw Data'!EA21/(('Raw Data'!EA45*12)/52)","v":77.886956521739123},{"$f":"'Raw Data'!EB21/(('Raw Data'!EB45*12)/52)","v":59.706935123042499},{"$f":"'Raw Data'!EC21/(('Raw Data'!EC45*12)/52)","v":47.486111111111114},{"$f":"'Raw Data'!ED21/(('Raw Data'!ED45*12)/52)","v":61.757369614512477},{"$f":"'Raw Data'!EE21/(('Raw Data'!EE45*12)/52)","v":71.606557377049185},{"$f":"'Raw Data'!EF21/(('Raw Data'!EF45*12)/52)","v":72.30183727034121},{"$f":"'Raw Data'!EG21/(('Raw Data'!EG45*12)/52)","v":63.291079812206576},{"$f":"'Raw Data'!EH21/(('Raw Data'!EH45*12)/52)","v":61.810185185185183},{"$f":"'Raw Data'!EI21/(('Raw Data'!EI45*12)/52)","v":75.062146892655363},{"$f":"'Raw Data'!EJ21/(('Raw Data'!EJ45*12)/52)","v":48.770700636942671},{"$f":"'Raw Data'!EK21/(('Raw Data'!EK45*12)/52)","v":84.409722222222229},{"$f":"'Raw Data'!EL21/(('Raw Data'!EL45*12)/52)","v":80.641269841269846},{"$f":"'Raw Data'!EM21/(('Raw Data'!EM45*12)/52)","v":59.242857142857147},{"$f":"'Raw Data'!EN21/(('Raw Data'!EN45*12)/52)","v":54.945533769063182},{"$f":"'Raw Data'!EO21/(('Raw Data'!EO45*12)/52)","v":41.402640264026402},{"$f":"'Raw Data'!EP21/(('Raw Data'!EP45*12)/52)","v":44.55135135135135},{"$f":"'Raw Data'!EQ21/(('Raw Data'!EQ45*12)/52)","v":47.109161793372323},{"$f":"'Raw Data'!ER21/(('Raw Data'!ER45*12)/52)","v":54.997716894977167},{"$f":"'Raw Data'!ES21/(('Raw Data'!ES45*12)/52)","v":55.121212121212125},{"$f":"'Raw Data'!ET21/(('Raw Data'!ET45*12)/52)","v":48.511530398322847},{"$f":"'Raw Data'!EU21/(('Raw Data'!EU45*12)/52)","v":52.030303030303031},{"$f":"'Raw Data'!EV21/(('Raw Data'!EV45*12)/52)","v":45.939189189189193},{"$f":"'Raw Data'!EW21/(('Raw Data'!EW45*12)/52)","v":62.384384384384383},{"$f":"'Raw Data'!EX21/(('Raw Data'!EX45*12)/52)","v":78.518115942028984},{"$f":"'Raw Data'!EY21/(('Raw Data'!EY45*12)/52)","v":55.422705314009661},{"$f":"'Raw Data'!EZ21/(('Raw Data'!EZ45*12)/52)","v":49.943037974683548},{"$f":"'Raw Data'!FA21/(('Raw Data'!FA45*12)/52)","v":43.135238095238094},{"$f":"'Raw Data'!FB21/(('Raw Data'!FB45*12)/52)","v":40.850450450450452},{"$f":"'Raw Data'!FC21/(('Raw Data'!FC45*12)/52)","v":47.107526881720432},{"$f":"'Raw Data'!FD21/(('Raw Data'!FD45*12)/52)","v":44.80503144654088},{"$f":"'Raw Data'!FE21/(('Raw Data'!FE45*12)/52)","v":44.750524109014677},{"$f":"'Raw Data'!FF21/(('Raw Data'!FF45*12)/52)","v":48.443678160919539},{"$f":"'Raw Data'!FG21/(('Raw Data'!FG45*12)/52)","v":47.388095238095239},{"$f":"'Raw Data'!FH21/(('Raw Data'!FH45*12)/52)","v":35.518304431599233},{"$f":"'Raw Data'!FI21/(('Raw Data'!FI45*12)/52)","v":56.25595238095238},{"$f":"'Raw Data'!FJ21/(('Raw Data'!FJ45*12)/52)","v":50.589147286821706},{"$f":"'Raw Data'!FK21/(('Raw Data'!FK45*12)/52)","v":36.42407407407407},{"$f":"'Raw Data'!FL21/(('Raw Data'!FL45*12)/52)","v":37.194444444444443},{"$f":"'Raw Data'!FM21/(('Raw Data'!FM45*12)/52)","v":33.193760262725782},{"$f":"'Raw Data'!FN21/(('Raw Data'!FN45*12)/52)","v":30.333333333333336},{"$f":"'Raw Data'!FO21/(('Raw Data'!FO45*12)/52)","v":48.208333333333336},{"$f":"'Raw Data'!FP21/(('Raw Data'!FP45*12)/52)","v":38.341130604288502},{"$f":"'Raw Data'!FQ21/(('Raw Data'!FQ45*12)/52)","v":39.695473251028801},{"$f":"'Raw Data'!FR21/(('Raw Data'!FR45*12)/52)","v":39.078313253012048},{"$f":"'Raw Data'!FS21/(('Raw Data'!FS45*12)/52)","v":38.365853658536587},{"$f":"'Raw Data'!FT21/(('Raw Data'!FT45*12)/52)","v":35.77642276422764},{"$f":"'Raw Data'!FU21/(('Raw Data'!FU45*12)/52)","v":50.274011299435031},{"$f":"'Raw Data'!FV21/(('Raw Data'!FV45*12)/52)","v":69.82022471910112},{"$f":"'Raw Data'!FW21/(('Raw Data'!FW45*12)/52)","v":34.944741532976828},{"$f":"'Raw Data'!FX21/(('Raw Data'!FX45*12)/52)","v":34.853046594982082},{"$f":"'Raw Data'!FY21/(('Raw Data'!FY45*12)/52)","v":29.957382039573819},{"$f":"'Raw Data'!FZ21/(('Raw Data'!FZ45*12)/52)","v":33.859929078014183},{"$f":"'Raw Data'!GA21/(('Raw Data'!GA45*12)/52)","v":36.858527131782942},{"$f":"'Raw Data'!GB21/(('Raw Data'!GB45*12)/52)","v":35.033509700176367},{"$f":"'Raw Data'!GC21/(('Raw Data'!GC45*12)/52)","v":45.95774647887324},{"$f":"'Raw Data'!GD21/(('Raw Data'!GD45*12)/52)","v":37.695075757575758},{"$f":"'Raw Data'!GE21/(('Raw Data'!GE45*12)/52)","v":48.758024691358024},{"$f":"'Raw Data'!GF21/(('Raw Data'!GF45*12)/52)","v":37.616465863453818},{"$f":"'Raw Data'!GG21/(('Raw Data'!GG45*12)/52)","v":54.476190476190482},{"$f":"'Raw Data'!GH21/(('Raw Data'!GH45*12)/52)","v":54.888888888888893},{"$f":"'Raw Data'!GI21/(('Raw Data'!GI45*12)/52)","v":38.882246376811594},{"$f":"'Raw Data'!GJ21/(('Raw Data'!GJ45*12)/52)","v":38.358024691358025},{"$f":"'Raw Data'!GK21/(('Raw Data'!GK45*12)/52)","v":32.490015360983101},{"$f":"'Raw Data'!GL21/(('Raw Data'!GL45*12)/52)","v":36.012280701754385},{"$f":"'Raw Data'!GM21/(('Raw Data'!GM45*12)/52)","v":35.275675675675672},{"$f":"'Raw Data'!GN21/(('Raw Data'!GN45*12)/52)","v":32.316749585406299},{"$f":"'Raw Data'!GO21/(('Raw Data'!GO45*12)/52)","v":39.374485596707814},{"$f":"'Raw Data'!GP21/(('Raw Data'!GP45*12)/52)","v":34.162257495590829},{"$f":"'Raw Data'!GQ21/(('Raw Data'!GQ45*12)/52)","v":31.553398058252426},{"$f":"'Raw Data'!GR21/(('Raw Data'!GR45*12)/52)","v":33.396551724137929},{"$f":"'Raw Data'!GS21/(('Raw Data'!GS45*12)/52)","v":39.117117117117118},{"$f":"'Raw Data'!GT21/(('Raw Data'!GT45*12)/52)","v":39.474885844748854},{"$f":"'Raw Data'!GU21/(('Raw Data'!GU45*12)/52)","v":29.764309764309765},{"$f":"'Raw Data'!GV21/(('Raw Data'!GV45*12)/52)","v":37.255411255411254},{"$f":"'Raw Data'!GW21/(('Raw Data'!GW45*12)/52)","v":36.024444444444448},{"$f":"'Raw Data'!GX21/(('Raw Data'!GX45*12)/52)","v":19.117647058823529},{"$f":"'Raw Data'!GY21/(('Raw Data'!GY45*12)/52)","v":9.640572390572391},{"$f":"'Raw Data'!GZ21/(('Raw Data'!GZ45*12)/52)","v":9.7298136645962732},{"$f":"'Raw Data'!HA21/(('Raw Data'!HA45*12)/52)","v":8.3398510242085671},{"$f":"'Raw Data'!HB21/(('Raw Data'!HB45*12)/52)","v":7.6415770609319003},{"$f":"'Raw Data'!HC21/(('Raw Data'!HC45*12)/52)","v":8.7086021505376348},{"$f":"'Raw Data'!HD21/(('Raw Data'!HD45*12)/52)","v":7.6793248945147683},{"$f":"'Raw Data'!HE21/(('Raw Data'!HE45*12)/52)","v":7.3650190114068437},{"$f":"'Raw Data'!HF21/(('Raw Data'!HF45*12)/52)","v":7.642756680731364},{"$f":"'Raw Data'!HG21/(('Raw Data'!HG45*12)/52)","v":4.3678160919540234},{"$f":"'Raw Data'!HH21/(('Raw Data'!HH45*12)/52)","v":4.8672397325692458},{"$f":"'Raw Data'!HI21/(('Raw Data'!HI45*12)/52)","v":5.1691394658753707},{"$f":"'Raw Data'!HJ21/(('Raw Data'!HJ45*12)/52)","v":5.6359918200408998},{"$f":"'Raw Data'!HK21/(('Raw Data'!HK45*12)/52)","v":7.8593155893536117},{"$f":"'Raw Data'!HL21/(('Raw Data'!HL45*12)/52)","v":9.2777777777777786},{"$f":"'Raw Data'!HM21/(('Raw Data'!HM45*12)/52)","v":9.1188405797101435},{"$f":"'Raw Data'!HN21/(('Raw Data'!HN45*12)/52)","v":7.3306982872200264},{"$f":"'Raw Data'!HO21/(('Raw Data'!HO45*12)/52)","v":6.16729088639201},{"$f":"'Raw Data'!HP21/(('Raw Data'!HP45*12)/52)","v":5.6152777777777771},{"$f":"'Raw Data'!HQ21/(('Raw Data'!HQ45*12)/52)","v":5.4696296296296296},{"$f":"'Raw Data'!HR21/(('Raw Data'!HR45*12)/52)","v":6.3571428571428568},{"$f":"'Raw Data'!HS21/(('Raw Data'!HS45*12)/52)","v":3.8422222222222224},{"$f":"'Raw Data'!HT21/(('Raw Data'!HT45*12)/52)","v":5.3308176100628932},{"$f":"'Raw Data'!HU21/(('Raw Data'!HU45*12)/52)","v":7.2456140350877192},{"$f":"'Raw Data'!HV21/(('Raw Data'!HV45*12)/52)","v":9.7546099290780131},{"$f":"'Raw Data'!HW21/(('Raw Data'!HW45*12)/52)","v":14.216374269005849},{"$f":"'Raw Data'!HX21/(('Raw Data'!HX45*12)/52)","v":11.814262023217246},{"$f":"'Raw Data'!HY21/(('Raw Data'!HY45*12)/52)","v":12.346368715083798},{"$f":"'Raw Data'!HZ21/(('Raw Data'!HZ45*12)/52)","v":13.699792960662526},{"$f":"'Raw Data'!IA21/(('Raw Data'!IA45*12)/52)","v":14.238095238095239},{"$f":"'Raw Data'!IB21/(('Raw Data'!IB45*12)/52)","v":15.050890585241731},{"$f":"'Raw Data'!IC21/(('Raw Data'!IC45*12)/52)","v":16.775577557755778},{"$f":"'Raw Data'!ID21/(('Raw Data'!ID45*12)/52)","v":11.798053527980535},{"$f":"'Raw Data'!IE21/(('Raw Data'!IE45*12)/52)","v":7.9930915371329876},{"$f":"'Raw Data'!IF21/(('Raw Data'!IF45*12)/52)","v":9.6847389558232937},{"$f":"'Raw Data'!IG21/(('Raw Data'!IG45*12)/52)","v":8.9477477477477478},{"$f":"'Raw Data'!IH21/(('Raw Data'!IH45*12)/52)","v":9.4462081128747801},{"$f":"'Raw Data'!II21/(('Raw Data'!II45*12)/52)","v":15.682539682539682},{"$f":"'Raw Data'!IJ21/(('Raw Data'!IJ45*12)/52)","v":{"$error":"#DIV/0!"}},{"$f":"'Raw Data'!IK21/(('Raw Data'!IK45*12)/52)","v":{"$error":"#DIV/0!"}},{"$f":"'Raw Data'!IL21/(('Raw Data'!IL45*12)/52)","v":{"$error":"#DIV/0!"}},{"$f":"'Raw Data'!IM21/(('Raw Data'!IM45*12)/52)","v":{"$error":"#DIV/0!"}},{"$f":"'Raw Data'!IN21/(('Raw Data'!IN45*12)/52)","v":{"$error":"#DIV/0!"}},{"$f":"'Raw Data'!IO21/(('Raw Data'!IO45*12)/52)","v":{"$error":"#DIV/0!"}},{"$f":"'Raw Data'!IP21/(('Raw Data'!IP45*12)/52)","v":{"$error":"#DIV/0!"}},{"$f":"'Raw Data'!IQ21/(('Raw Data'!IQ45*12)/52)","v":{"$error":"#DIV/0!"}}]

{"sheet":"Avg DOM","index":46,"n_rows":41,"n_cols":152,"rows_kept":41,"cut":false,"hidden":false,"merged":[[17,145,17,147],[35,145,35,147],[17,149,17,151],[35,149,35,151]]}
[{"$nulls":138},{"$f":"'Raw Data'!IC128","v":"Jan"},{"$f":"'Raw Data'!ID128","v":"Feb"},{"$f":"'Raw Data'!IE128","v":"Mar"},{"$f":"'Raw Data'!IF128","v":"Apr"},{"$f":"'Raw Data'!IG128","v":"May"},{"$f":"'Raw Data'!IH128","v":"Jun"},"July",{"$f":"'Raw Data'!IJ128","v":"Aug"},{"$f":"'Raw Data'!IK128","v":"Sep"},{"$f":"'Raw Data'!IL128","v":"Oct"},{"$f":"'Raw Data'!IM128","v":"Nov"},{"$f":"'Raw Data'!IN128","v":"Dec"}]
[]
[]
[]
[2012,{"$nulls":137},274,241,274,207,195,215,190,240,213,208,228,252]
[{"$f":"'Raw Data'!A136","v":2013},{"$nulls":137},{"$f":"'Raw Data'!IC136","v":0},{"$f":"'Raw Data'!ID136","v":178},{"$f":"'Raw Data'!IE136","v":201},{"$f":"'Raw Data'!IF136","v":246},{"$f":"'Raw Data'!IG136","v":215},{"$f":"'Raw Data'!IH136","v":213},{"$f":"'Raw Data'!II136","v":232},{"$f":"'Raw Data'!IJ136","v":219},{"$f":"'Raw Data'!IK136","v":231},{"$f":"'Raw Data'!IL136","v":237},{"$f":"'Raw Data'!IM136","v":212},{"$f":"'Raw Data'!IN136","v":216}]
[{"$f":"'Raw Data'!#REF!","v":{"$error":"#REF!"}},{"$nulls":137},{"$f":"'Raw Data'!IC137","v":206},{"$f":"'Raw Data'!ID137","v":202},{"$f":"'Raw Data'!IE137","v":206},{"$f":"'Raw Data'!IF137","v":231},{"$f":"'Raw Data'!IG137","v":212},{"$f":"'Raw Data'!IH137","v":227},{"$f":"'Raw Data'!II137","v":218},{"$f":"'Raw Data'!IJ137","v":191},{"$f":"'Raw Data'!IK137","v":199},{"$f":"'Raw Data'!IL137","v":212},{"$f":"'Raw Data'!IM137","v":205},{"$f":"'Raw Data'!IN137","v":234}]
[{"$f":"'Raw Data'!A137","v":2014},{"$nulls":137},{"$f":"'Raw Data'!IC138","v":237},{"$f":"'Raw Data'!ID138","v":233},{"$f":"'Raw Data'!IE138","v":212},{"$f":"'Raw Data'!IF138","v":237},{"$f":"'Raw Data'!IG138","v":197},{"$f":"'Raw Data'!IH138","v":218},{"$f":"'Raw Data'!II138","v":212},{"$f":"'Raw Data'!IJ138","v":190},{"$f":"'Raw Data'!IK138","v":215},{"$f":"'Raw Data'!IL138","v":235},{"$f":"'Raw Data'!IM138","v":216},{"$f":"'Raw Data'!IN138","v":216}]
[2016,{"$nulls":137},{"$f":"'Raw Data'!IC139","v":214},{"$f":"'Raw Data'!ID139","v":197},{"$f":"'Raw Data'!IE139","v":198},{"$f":"'Raw Data'!IF139","v":207},{"$f":"'Raw Data'!IG139","v":209},{"$f":"'Raw Data'!IH139","v":182},{"$f":"'Raw Data'!II139","v":224},{"$f":"'Raw Data'!IJ139","v":197},{"$f":"'Raw Data'!IK139","v":203},{"$f":"'Raw Data'!IL139","v":185},{"$f":"'Raw Data'!IM139","v":254},{"$f":"'Raw Data'!IN139","v":211}]
[2017,{"$nulls":137},{"$f":"'Raw Data'!IC140","v":223},{"$f":"'Raw Data'!ID140","v":191},{"$f":"'Raw Data'!IE140","v":192},{"$f":"'Raw Data'!IF140","v":160},{"$f":"'Raw Data'!IG140","v":135},{"$f":"'Raw Data'!IH140","v":137},{"$f":"'Raw Data'!II140","v":119},{"$f":"'Raw Data'!IJ140","v":142},{"$f":"'Raw Data'!IK140","v":120},{"$f":"'Raw Data'!IL140","v":147},{"$f":"'Raw Data'!IM140","v":141},{"$f":"'Raw Data'!IN140","v":120}]
[2018,{"$nulls":137},{"$f":"'Raw Data'!IC141","v":170},{"$f":"'Raw Data'!ID141","v":117},{"$f":"'Raw Data'!IE141","v":123},{"$f":"'Raw Data'!IF141","v":133},{"$f":"'Raw Data'!IG141","v":132},{"$f":"'Raw Data'!IH141","v":126},{"$f":"'Raw Data'!II141","v":129},{"$f":"'Raw Data'!IJ141","v":137},{"$f":"'Raw Data'!IK141","v":110},{"$f":"'Raw Data'!IL141","v":117},{"$f":"'Raw Data'!IM141","v":118},{"$f":"'Raw Data'!IN141","v":110}]
[2019,{"$nulls":137},{"$f":"'Raw Data'!IC142","v":104},{"$f":"'Raw Data'!ID142","v":122},{"$f":"'Raw Data'!IE142","v":106},{"$f":"'Raw Data'!IF142","v":118},{"$f":"'Raw Data'!IG142","v":108},{"$f":"'Raw Data'!IH142","v":127},{"$f":"'Raw Data'!II142","v":119},{"$f":"'Raw Data'!IJ142","v":136},{"$f":"'Raw Data'!IK142","v":112},{"$f":"'Raw Data'!IL142","v":103},{"$f":"'Raw Data'!IM142","v":111},{"$f":"'Raw Data'!IN142","v":125}]
[2020,{"$nulls":137},108,{"$f":"'Raw Data'!ID143","v":119},{"$f":"'Raw Data'!IE143","v":121},{"$f":"'Raw Data'!IF143","v":96},114,{"$f":"'Raw Data'!IH143","v":97},{"$f":"'Raw Data'!II143","v":126},132,113,{"$f":"'Raw Data'!IL143","v":115},93,80]
[2021,{"$nulls":137},{"$f":"'Raw Data'!IC144","v":92},{"$f":"'Raw Data'!ID144","v":71},{"$f":"'Raw Data'!IE144","v":71},{"$f":"'Raw Data'!IF144","v":52},{"$f":"'Raw Data'!IG144","v":51},{"$f":"'Raw Data'!IH144","v":46},{"$f":"'Raw Data'!II144","v":34},{"$f":"'Raw Data'!IJ144","v":41},{"$f":"'Raw Data'!IK144","v":28},{"$f":"'Raw Data'!IL144","v":38},{"$f":"'Raw Data'!IM144","v":47},{"$f":"'Raw Data'!IN144","v":50}]
[2022,{"$nulls":137},{"$f":"'Raw Data'!IC145","v":44},{"$f":"'Raw Data'!ID145","v":43},{"$f":"'Raw Data'!IE145","v":39},{"$f":"'Raw Data'!IF145","v":38},{"$f":"'Raw Data'!IG145","v":27},{"$f":"'Raw Data'!IH145","v":23},{"$f":"'Raw Data'!II145","v":33},{"$f":"'Raw Data'!IJ145","v":27},{"$f":"'Raw Data'!IK145","v":35},{"$f":"'Raw Data'!IL145","v":39},{"$f":"'Raw Data'!IM145","v":49},{"$f":"'Raw Data'!IN145","v":51}]
[2023,{"$nulls":137},{"$f":"'Raw Data'!IC146","v":64},{"$f":"'Raw Data'!ID146","v":55},{"$f":"'Raw Data'!IE146","v":64},{"$f":"'Raw Data'!IF146","v":45},{"$f":"'Raw Data'!IG146","v":53},{"$f":"'Raw Data'!IH146","v":50},{"$f":"'Raw Data'!II146","v":41},{"$f":"'Raw Data'!IJ146","v":0},{"$f":"'Raw Data'!IK146","v":0},{"$f":"'Raw Data'!IL146","v":0},{"$f":"'Raw Data'!IM146","v":0},{"$f":"'Raw Data'!IN146","v":0}]
[]
[{"$nulls":145},"Resindential Avg Days on Market",null,null,null,"Resindential Avg Days on Market"]
[{"$nulls":145},"Month / Year","Count","%Chg",null,"Month / Year","Count","%Chg"]
[{"$nulls":145},"Jul'23",{"$f":"EO16","v":41},{"$f":"(EQ20-EQ21)/EQ21","v":0.24242424242424243},null,2023,{"$f":"SUM(EI16:EO16)/7","v":53.142857142857146},{"$f":"(EU20-EU21)/EU21","v":0.50607287449392724}]
[{"$nulls":145},"Jul'22",{"$f":"EO15","v":33},{"$f":"(EQ21-EQ22)/EQ22","v":-2.9411764705882353E-2},null,2022,{"$f":"SUM(EI15:EO15)/7","v":35.285714285714285},{"$f":"(EU21-EU22)/EU22","v":-0.407673860911271}]
[{"$nulls":145},"Jul'21",{"$f":"EO14","v":34},{"$f":"(EQ22-EQ23)/EQ23","v":-0.73015873015873012},null,2021,{"$f":"SUM(EI14:EO14)/7","v":59.571428571428569},{"$f":"(EU22-EU23)/EU23","v":-0.45430752453653223}]
[{"$nulls":145},"Jul'20",{"$f":"EO13","v":126},null,null,2020,{"$f":"SUM(EI13:EN13)/6","v":109.16666666666667}]
[]
[]
["LOTS / LAND DOM"]
[null,{"$f":"'Raw Data'!IC149","v":"Jan"},{"$f":"'Raw Data'!ID149","v":"Feb"},{"$f":"'Raw Data'!IE149","v":"Mar"},{"$f":"'Raw Data'!IF149","v":"Apr"},{"$f":"'Raw Data'!IG149","v":"May"},{"$f":"'Raw Data'!IH149","v":"Jun"},{"$f":"'Raw Data'!II149","v":"Aug"},{"$f":"'Raw Data'!IJ149","v":"Aug"},{"$f":"'Raw Data'!IK149","v":"Sep"},{"$f":"'Raw Data'!IL149","v":"Oct"},{"$f":"'Raw Data'!IM149","v":"Nov"},{"$f":"'Raw Data'!IN149","v":"Dec"},{"$f":"'Raw Data'!#REF!","v":{"$error":"#REF!"}},{"$f":"'Raw Data'!#REF!","v":{"$error":"#REF!"}},{"$f":"'Raw Data'!#REF!","v":{"$error":"#REF!"}},{"$f":"'Raw Data'!#REF!","v":{"$error":"#REF!"}},{"$f":"'Raw Data'!#REF!","v":{"$error":"#REF!"}},{"$f":"'Raw Data'!#REF!","v":{"$error":"#REF!"}},{"$f":"'Raw Data'!#REF!","v":{"$error":"#REF!"}},{"$f":"'Raw Data'!#REF!","v":{"$error":"#REF!"}},{"$f":"'Raw Data'!#REF!","v":{"$error":"#REF!"}},{"$f":"'Raw Data'!#REF!","v":{"$error":"#REF!"}},{"$f":"'Raw Data'!#REF!","v":{"$error":"#REF!"}},{"$f":"'Raw Data'!#REF!","v":{"$error":"#REF!"}},{"$f":"'Raw Data'!#REF!","v":{"$error":"#REF!"}},{"$f":"'Raw Data'!#REF!","v":{"$error":"#REF!"}},{"$f":"'Raw Data'!#REF!","v":{"$error":"#REF!"}},{"$f":"'Raw Data'!#REF!","v":{"$error":"#REF!"}},{"$f":"'Raw Data'!#REF!","v":{"$error":"#REF!"}},{"$f":"'Raw Data'!#REF!","v":{"$error":"#REF!"}},{"$f":"'Raw Data'!#REF!","v":{"$error":"#REF!"}},{"$f":"'Raw Data'!#REF!","v":{"$error":"#REF!"}},{"$f":"'Raw Data'!#REF!","v":{"$error":"#REF!"}},{"$f":"'Raw Data'!#REF!","v":{"$error":"#REF!"}},{"$f":"'Raw Data'!#REF!","v":{"$error":"#REF!"}},{"$f":"'Raw Data'!#REF!","v":{"$error":"#REF!"}},{"$f":"'Raw Data'!IO149","v":0},{"$f":"'Raw Data'!IP149","v":0},{"$f":"'Raw Data'!IQ149","v":0},{"$f":"'Raw Data'!IR149","v":0},{"$f":"'Raw Data'!IS149","v":0},{"$f":"'Raw Data'!IT149","v":0},{"$f":"'Raw Data'!IU149","v":0},{"$f":"'Raw Data'!IV149","v":0},{"$f":"'Raw Data'!IW149","v":0},{"$f":"'Raw Data'!IX149","v":0},{"$f":"'Raw Data'!IY149","v":0},{"$f":"'Raw Data'!IZ149","v":0},{"$f":"'Raw Data'!JA149","v":0},{"$f":"'Raw Data'!JB149","v":0},{"$f":"'Raw Data'!JC149","v":0},{"$f":"'Raw Data'!JD149","v":0},{"$f":"'Raw Data'!JE149","v":0},{"$f":"'Raw Data'!JF149","v":0},{"$f":"'Raw Data'!JG149","v":0},{"$f":"'Raw Data'!JH149","v":0},{"$f":"'Raw Data'!JI149","v":0},{"$f":"'Raw Data'!JJ149","v":0},{"$f":"'Raw Data'!JK149","v":0},{"$f":"'Raw Data'!JL149","v":0},{"$f":"'Raw Data'!JM149","v":0},{"$f":"'Raw Data'!JN149","v":0},{"$f":"'Raw Data'!JO149","v":0},{"$f":"'Raw Data'!JP149","v":0},{"$f":"'Raw Data'!JQ149","v":0},{"$f":"'Raw Data'!JR149","v":0},{"$f":"'Raw Data'!JS149","v":0},{"$f":"'Raw Data'!JT149","v":0},{"$f":"'Raw Data'!JU149","v":0},{"$f":"'Raw Data'!JV149","v":0},{"$f":"'Raw Data'!JW149","v":0},{"$f":"'Raw Data'!JX149","v":0},{"$f":"'Raw Data'!JY149","v":0},{"$f":"'Raw Data'!JZ149","v":0},{"$f":"'Raw Data'!KA149","v":0},{"$f":"'Raw Data'!KB149","v":0},{"$f":"'Raw Data'!KC149","v":0},{"$f":"'Raw Data'!KD149","v":0},{"$f":"'Raw Data'!KE149","v":0},{"$f":"'Raw Data'!KF149","v":0},{"$f":"'Raw Data'!KG149","v":0},{"$f":"'Raw Data'!KH149","v":0},{"$f":"'Raw Data'!KI149","v":0},{"$f":"'Raw Data'!KJ149","v":0},{"$f":"'Raw Data'!KK149","v":0},{"$f":"'Raw Data'!KL149","v":0},{"$f":"'Raw Data'!KM149","v":0},{"$f":"'Raw Data'!KN149","v":0},{"$f":"'Raw Data'!KO149","v":0},{"$f":"'Raw Data'!KP149","v":0},{"$f":"'Raw Data'!KQ149","v":0},{"$f":"'Raw Data'!KR149","v":0},{"$f":"'Raw Data'!KS149","v":0},{"$f":"'Raw Data'!KT149","v":0},{"$f":"'Raw Data'!KU149","v":0},{"$f":"'Raw Data'!KV149","v":0},{"$f":"'Raw Data'!KW149","v":0},{"$f":"'Raw Data'!KX149","v":0},{"$f":"'Raw Data'!KY149","v":0},{"$f":"'Raw Data'!KZ149","v":0},{"$f":"'Raw Data'!LA149","v":0},{"$f":"'Raw Data'!LB149","v":0},{"$f":"'Raw Data'!LC149","v":0},{"$f":"'Raw Data'!LD149","v":0},{"$f":"'Raw Data'!LE149","v":0},{"$f":"'Raw Data'!LF149","v":0},{"$f":"'Raw Data'!LG149","v":0},{"$f":"'Raw Data'!LH149","v":0},{"$f":"'Raw Data'!LI149","v":0},{"$f":"'Raw Data'!LJ149","v":0},{"$f":"'Raw Data'!LK149","v":0},{"$f":"'Raw Data'!LL149","v":0},{"$f":"'Raw Data'!LM149","v":0},{"$f":"'Raw Data'!LN149","v":0},{"$f":"'Raw Data'!LO149","v":0},{"$f":"'Raw Data'!LP149","v":0},{"$f":"'Raw Data'!LQ149","v":0},{"$f":"'Raw Data'!LR149","v":0},{"$f":"'Raw Data'!LS149","v":0},{"$f":"'Raw Data'!LT149","v":0},{"$f":"'Raw Data'!LU149","v":0},{"$f":"'Raw Data'!LV149","v":0},{"$f":"'Raw Data'!LW149","v":0},{"$f":"'Raw Data'!LX149","v":0},{"$f":"'Raw Data'!LY149","v":0},{"$f":"'Raw Data'!LZ149","v":0},{"$f":"'Raw Data'!MA149","v":0},{"$f":"'Raw Data'!MB149","v":0},{"$f":"'Raw Data'!MC149","v":0},{"$f":"'Raw Data'!MD149","v":0},{"$f":"'Raw Data'!ME149","v":0},{"$f":"'Raw Data'!MF149","v":0},{"$f":"'Raw Data'!MG149","v":0},{"$f":"'Raw Data'!MH149","v":0},{"$f":"'Raw Data'!MI149","v":0},{"$f":"'Raw Data'!MJ149","v":0},{"$f":"'Raw Data'!MK149","v":0},{"$f":"'Raw Data'!IC149","v":"Jan"},{"$f":"'Raw Data'!ID149","v":"Feb"},{"$f":"'Raw Data'!IE149","v":"Mar"},{"$f":"'Raw Data'!IF149","v":"Apr"},{"$f":"'Raw Data'!IG149","v":"May"},{"$f":"'Raw Data'!IH149","v":"Jun"},"July","Aug",{"$f":"'Raw Data'!IK149","v":"Sep"},{"$f":"'Raw Data'!IL149","v":"Oct"},{"$f":"'Raw Data'!IM149","v":"Nov"},{"$f":"'Raw Data'!IN149","v":"Dec"}]
[{"$f":"'Raw Data'!IB156","v":2017},{"$nulls":137},{"$f":"'Raw Data'!IC156","v":244},{"$f":"'Raw Data'!ID156","v":284},{"$f":"'Raw Data'!IE156","v":238},{"$f":"'Raw Data'!IF156","v":235},{"$f":"'Raw Data'!IG156","v":284},{"$f":"'Raw Data'!IH156","v":196},{"$f":"'Raw Data'!II156","v":304},{"$f":"'Raw Data'!IJ156","v":192},{"$f":"'Raw Data'!IK156","v":351},{"$f":"'Raw Data'!IL156","v":247},{"$f":"'Raw Data'!IM156","v":166},{"$f":"'Raw Data'!IN156","v":196}]
[{"$f":"'Raw Data'!IB157","v":2018},{"$nulls":137},{"$f":"'Raw Data'!IC157","v":296},{"$f":"'Raw Data'!ID157","v":172},{"$f":"'Raw Data'!IE157","v":200},{"$f":"'Raw Data'!IF157","v":311},{"$f":"'Raw Data'!IG157","v":249},{"$f":"'Raw Data'!IH157","v":246},{"$f":"'Raw Data'!II157","v":200},{"$f":"'Raw Data'!IJ157","v":173},{"$f":"'Raw Data'!IK157","v":164},{"$f":"'Raw Data'!IL157","v":327},{"$f":"'Raw Data'!IM157","v":401},{"$f":"'Raw Data'!IN157","v":203}]
[{"$f":"'Raw Data'!IB158","v":2019},{"$nulls":137},{"$f":"'Raw Data'!IC158","v":141},{"$f":"'Raw Data'!ID158","v":224},{"$f":"'Raw Data'!IE158","v":162},{"$f":"'Raw Data'!IF158","v":279},{"$f":"'Raw Data'!IG158","v":253},{"$f":"'Raw Data'!IH158","v":195},{"$f":"'Raw Data'!II158","v":237},{"$f":"'Raw Data'!IJ158","v":370},{"$f":"'Raw Data'!IK158","v":195},{"$f":"'Raw Data'!IL158","v":181},{"$f":"'Raw Data'!IM158","v":145},{"$f":"'Raw Data'!IN158","v":245}]
[{"$f":"'Raw Data'!IB159","v":2020},{"$f":"'Raw Data'!IC159","v":174},{"$f":"'Raw Data'!ID159","v":104},{"$f":"'Raw Data'!IE159","v":195},{"$f":"'Raw Data'!IF159","v":189},{"$f":"'Raw Data'!IG159","v":150},{"$f":"'Raw Data'!IH159","v":189},{"$f":"'Raw Data'!II159","v":282},{"$f":"'Raw Data'!IJ159","v":189},{"$f":"'Raw Data'!IK159","v":276},{"$f":"'Raw Data'!IL159","v":254},{"$f":"'Raw Data'!IM159","v":211},{"$f":"'Raw Data'!IN159","v":176},{"$f":"'Raw Data'!#REF!","v":{"$error":"#REF!"}},{"$f":"'Raw Data'!#REF!","v":{"$error":"#REF!"}},{"$f":"'Raw Data'!#REF!","v":{"$error":"#REF!"}},{"$f":"'Raw Data'!#REF!","v":{"$error":"#REF!"}},{"$f":"'Raw Data'!#REF!","v":{"$error":"#REF!"}},{"$f":"'Raw Data'!#REF!","v":{"$error":"#REF!"}},{"$f":"'Raw Data'!#REF!","v":{"$error":"#REF!"}},{"$f":"'Raw Data'!#REF!","v":{"$error":"#REF!"}},{"$f":"'Raw Data'!#REF!","v":{"$error":"#REF!"}},{"$f":"'Raw Data'!#REF!","v":{"$error":"#REF!"}},{"$f":"'Raw Data'!#REF!","v":{"$error":"#REF!"}},{"$f":"'Raw Data'!#REF!","v":{"$error":"#REF!"}},{"$f":"'Raw Data'!#REF!","v":{"$error":"#REF!"}},{"$f":"'Raw Data'!#REF!","v":{"$error":"#REF!"}},{"$f":"'Raw Data'!#REF!","v":{"$error":"#REF!"}},{"$f":"'Raw Data'!#REF!","v":{"$error":"#REF!"}},{"$f":"'Raw Data'!#REF!","v":{"$error":"#REF!"}},{"$f":"'Raw Data'!#REF!","v":{"$error":"#REF!"}},{"$f":"'Raw Data'!#REF!","v":{"$error":"#REF!"}},{"$f":"'Raw Data'!#REF!","v":{"$error":"#REF!"}},{"$f":"'Raw Data'!#REF!","v":{"$error":"#REF!"}},{"$f":"'Raw Data'!#REF!","v":{"$error":"#REF!"}},{"$f":"'Raw Data'!#REF!","v":{"$error":"#REF!"}},{"$f":"'Raw Data'!#REF!","v":{"$error":"#REF!"}},{"$f":"'Raw Data'!IO160","v":0},{"$f":"'Raw Data'!IP160","v":0},{"$f":"'Raw Data'!IQ160","v":0},{"$f":"'Raw Data'!IR160","v":0},{"$f":"'Raw Data'!IS160","v":0},{"$f":"'Raw Data'!IT160","v":0},{"$f":"'Raw Data'!IU160","v":0},{"$f":"'Raw Data'!IV160","v":0},{"$f":"'Raw Data'!IW160","v":0},{"$f":"'Raw Data'!IX160","v":0},{"$f":"'Raw Data'!IY160","v":0},{"$f":"'Raw Data'!IZ160","v":0},{"$f":"'Raw Data'!JA160","v":0},{"$f":"'Raw Data'!JB160","v":0},{"$f":"'Raw Data'!JC160","v":0},{"$f":"'Raw Data'!JD160","v":0},{"$f":"'Raw Data'!JE160","v":0},{"$f":"'Raw Data'!JF160","v":0},{"$f":"'Raw Data'!JG160","v":0},{"$f":"'Raw Data'!JH160","v":0},{"$f":"'Raw Data'!JI160","v":0},{"$f":"'Raw Data'!JJ160","v":0},{"$f":"'Raw Data'!JK160","v":0},{"$f":"'Raw Data'!JL160","v":0},{"$f":"'Raw Data'!JM160","v":0},{"$f":"'Raw Data'!JN160","v":0},{"$f":"'Raw Data'!JO160","v":0},{"$f":"'Raw Data'!JP160","v":0},{"$f":"'Raw Data'!JQ160","v":0},{"$f":"'Raw Data'!JR160","v":0},{"$f":"'Raw Data'!JS160","v":0},{"$f":"'Raw Data'!JT160","v":0},{"$f":"'Raw Data'!JU160","v":0},{"$f":"'Raw Data'!JV160","v":0},{"$f":"'Raw Data'!JW160","v":0},{"$f":"'Raw Data'!JX160","v":0},{"$f":"'Raw Data'!JY160","v":0},{"$f":"'Raw Data'!JZ160","v":0},{"$f":"'Raw Data'!KA160","v":0},{"$f":"'Raw Data'!KB160","v":0},{"$f":"'Raw Data'!KC160","v":0},{"$f":"'Raw Data'!KD160","v":0},{"$f":"'Raw Data'!KE160","v":0},{"$f":"'Raw Data'!KF160","v":0},{"$f":"'Raw Data'!KG160","v":0},{"$f":"'Raw Data'!KH160","v":0},{"$f":"'Raw Data'!KI160","v":0},{"$f":"'Raw Data'!KJ160","v":0},{"$f":"'Raw Data'!KK160","v":0},{"$f":"'Raw Data'!KL160","v":0},{"$f":"'Raw Data'!KM160","v":0},{"$f":"'Raw Data'!KN160","v":0},{"$f":"'Raw Data'!KO160","v":0},{"$f":"'Raw Data'!KP160","v":0},{"$f":"'Raw Data'!KQ160","v":0},{"$f":"'Raw Data'!KR160","v":0},{"$f":"'Raw Data'!KS160","v":0},{"$f":"'Raw Data'!KT160","v":0},{"$f":"'Raw Data'!KU160","v":0},{"$f":"'Raw Data'!KV160","v":0},{"$f":"'Raw Data'!KW160","v":0},{"$f":"'Raw Data'!KX160","v":0},{"$f":"'Raw Data'!KY160","v":0},{"$f":"'Raw Data'!KZ160","v":0},{"$f":"'Raw Data'!LA160","v":0},{"$f":"'Raw Data'!LB160","v":0},{"$f":"'Raw Data'!LC160","v":0},{"$f":"'Raw Data'!LD160","v":0},{"$f":"'Raw Data'!LE160","v":0},{"$f":"'Raw Data'!LF160","v":0},{"$f":"'Raw Data'!LG160","v":0},{"$f":"'Raw Data'!LH160","v":0},{"$f":"'Raw Data'!LI160","v":0},{"$f":"'Raw Data'!LJ160","v":0},{"$f":"'Raw Data'!LK160","v":0},{"$f":"'Raw Data'!LL160","v":0},{"$f":"'Raw Data'!LM160","v":0},{"$f":"'Raw Data'!LN160","v":0},{"$f":"'Raw Data'!LO160","v":0},{"$f":"'Raw Data'!LP160","v":0},{"$f":"'Raw Data'!LQ160","v":0},{"$f":"'Raw Data'!LR160","v":0},{"$f":"'Raw Data'!LS160","v":0},{"$f":"'Raw Data'!LT160","v":0},{"$f":"'Raw Data'!LU160","v":0},{"$f":"'Raw Data'!LV160","v":0},{"$f":"'Raw Data'!LW160","v":0},{"$f":"'Raw Data'!LX160","v":0},{"$f":"'Raw Data'!LY160","v":0},{"$f":"'Raw Data'!LZ160","v":0},{"$f":"'Raw Data'!MA160","v":0},{"$f":"'Raw Data'!MB160","v":0},{"$f":"'Raw Data'!MC160","v":0},{"$f":"'Raw Data'!MD160","v":0},{"$f":"'Raw Data'!ME160","v":0},{"$f":"'Raw Data'!MF160","v":0},{"$f":"'Raw Data'!MG160","v":0},{"$f":"'Raw Data'!MH160","v":0},{"$f":"'Raw Data'!MI160","v":0},{"$f":"'Raw Data'!MJ160","v":0},{"$f":"'Raw Data'!MK160","v":0},{"$f":"'Raw Data'!IC159","v":174},{"$f":"'Raw Data'!ID159","v":104},{"$f":"'Raw Data'!IE159","v":195},{"$f":"'Raw Data'!IF159","v":189},{"$f":"'Raw Data'!IG159","v":150},{"$f":"'Raw Data'!IH159","v":189},{"$f":"'Raw Data'!II159","v":282},{"$f":"'Raw Data'!IJ159","v":189},{"$f":"'Raw Data'!IK159","v":276},{"$f":"'Raw Data'!IL159","v":254},{"$f":"'Raw Data'!IM159","v":211},{"$f":"'Raw Data'!IN159","v":176}]
[{"$f":"'Raw Data'!IB160","v":2021},{"$f":"'Raw Data'!IC160","v":184},{"$f":"'Raw Data'!ID160","v":203},{"$f":"'Raw Data'!IE160","v":228},{"$f":"'Raw Data'!IF160","v":204},{"$f":"'Raw Data'!IG160","v":119},{"$f":"'Raw Data'!IH160","v":158},{"$f":"'Raw Data'!II160","v":145},{"$f":"'Raw Data'!IJ160","v":139},{"$f":"'Raw Data'!IK160","v":146},{"$f":"'Raw Data'!IL160","v":162},{"$f":"'Raw Data'!IM160","v":208},{"$f":"'Raw Data'!IN160","v":165},{"$f":"'Raw Data'!#REF!","v":{"$error":"#REF!"}},{"$f":"'Raw Data'!#REF!","v":{"$error":"#REF!"}},{"$f":"'Raw Data'!#REF!","v":{"$error":"#REF!"}},{"$f":"'Raw Data'!#REF!","v":{"$error":"#REF!"}},{"$f":"'Raw Data'!#REF!","v":{"$error":"#REF!"}},{"$f":"'Raw Data'!#REF!","v":{"$error":"#REF!"}},{"$f":"'Raw Data'!#REF!","v":{"$error":"#REF!"}},{"$f":"'Raw Data'!#REF!","v":{"$error":"#REF!"}},{"$f":"'Raw Data'!#REF!","v":{"$error":"#REF!"}},{"$f":"'Raw Data'!#REF!","v":{"$error":"#REF!"}},{"$f":"'Raw Data'!#REF!","v":{"$error":"#REF!"}},{"$f":"'Raw Data'!#REF!","v":{"$error":"#REF!"}},{"$f":"'Raw Data'!#REF!","v":{"$error":"#REF!"}},{"$f":"'Raw Data'!#REF!","v":{"$error":"#REF!"}},{"$f":"'Raw Data'!#REF!","v":{"$error":"#REF!"}},{"$f":"'Raw Data'!#REF!","v":{"$error":"#REF!"}},{"$f":"'Raw Data'!#REF!","v":{"$error":"#REF!"}},{"$f":"'Raw Data'!#REF!","v":{"$error":"#REF!"}},{"$f":"'Raw Data'!#REF!","v":{"$error":"#REF!"}},{"$f":"'Raw Data'!#REF!","v":{"$error":"#REF!"}},{"$f":"'Raw Data'!#REF!","v":{"$error":"#REF!"}},{"$f":"'Raw Data'!#REF!","v":{"$error":"#REF!"}},{"$f":"'Raw Data'!#REF!","v":{"$error":"#REF!"}},{"$f":"'Raw Data'!#REF!","v":{"$error":"#REF!"}},{"$f":"'Raw Data'!IO161","v":0},{"$f":"'Raw Data'!IP161","v":0},{"$f":"'Raw Data'!IQ161","v":0},{"$f":"'Raw Data'!IR161","v":0},{"$f":"'Raw Data'!IS161","v":0},{"$f":"'Raw Data'!IT161","v":0},{"$f":"'Raw Data'!IU161","v":0},{"$f":"'Raw Data'!IV161","v":0},{"$f":"'Raw Data'!IW161","v":0},{"$f":"'Raw Data'!IX161","v":0},{"$f":"'Raw Data'!IY161","v":0},{"$f":"'Raw Data'!IZ161","v":0},{"$f":"'Raw Data'!JA161","v":0},{"$f":"'Raw Data'!JB161","v":0},{"$f":"'Raw Data'!JC161","v":0},{"$f":"'Raw Data'!JD161","v":0},{"$f":"'Raw Data'!JE161","v":0},{"$f":"'Raw Data'!JF161","v":0},{"$f":"'Raw Data'!JG161","v":0},{"$f":"'Raw Data'!JH161","v":0},{"$f":"'Raw Data'!JI161","v":0},{"$f":"'Raw Data'!JJ161","v":0},{"$f":"'Raw Data'!JK161","v":0},{"$f":"'Raw Data'!JL161","v":0},{"$f":"'Raw Data'!JM161","v":0},{"$f":"'Raw Data'!JN161","v":0},{"$f":"'Raw Data'!JO161","v":0},{"$f":"'Raw Data'!JP161","v":0},{"$f":"'Raw Data'!JQ161","v":0},{"$f":"'Raw Data'!JR161","v":0},{"$f":"'Raw Data'!JS161","v":0},{"$f":"'Raw Data'!JT161","v":0},{"$f":"'Raw Data'!JU161","v":0},{"$f":"'Raw Data'!JV161","v":0},{"$f":"'Raw Data'!JW161","v":0},{"$f":"'Raw Data'!JX161","v":0},{"$f":"'Raw Data'!JY161","v":0},{"$f":"'Raw Data'!JZ161","v":0},{"$f":"'Raw Data'!KA161","v":0},{"$f":"'Raw Data'!KB161","v":0},{"$f":"'Raw Data'!KC161","v":0},{"$f":"'Raw Data'!KD161","v":0},{"$f":"'Raw Data'!KE161","v":0},{"$f":"'Raw Data'!KF161","v":0},{"$f":"'Raw Data'!KG161","v":0},{"$f":"'Raw Data'!KH161","v":0},{"$f":"'Raw Data'!KI161","v":0},{"$f":"'Raw Data'!KJ161","v":0},{"$f":"'Raw Data'!KK161","v":0},{"$f":"'Raw Data'!KL161","v":0},{"$f":"'Raw Data'!KM161","v":0},{"$f":"'Raw Data'!KN161","v":0},{"$f":"'Raw Data'!KO161","v":0},{"$f":"'Raw Data'!KP161","v":0},{"$f":"'Raw Data'!KQ161","v":0},{"$f":"'Raw Data'!KR161","v":0},{"$f":"'Raw Data'!KS161","v":0},{"$f":"'Raw Data'!KT161","v":0},{"$f":"'Raw Data'!KU161","v":0},{"$f":"'Raw Data'!KV161","v":0},{"$f":"'Raw Data'!KW161","v":0},{"$f":"'Raw Data'!KX161","v":0},{"$f":"'Raw Data'!KY161","v":0},{"$f":"'Raw Data'!KZ161","v":0},{"$f":"'Raw Data'!LA161","v":0},{"$f":"'Raw Data'!LB161","v":0},{"$f":"'Raw Data'!LC161","v":0},{"$f":"'Raw Data'!LD161","v":0},{"$f":"'Raw Data'!LE161","v":0},{"$f":"'Raw Data'!LF161","v":0},{"$f":"'Raw Data'!LG161","v":0},{"$f":"'Raw Data'!LH161","v":0},{"$f":"'Raw Data'!LI161","v":0},{"$f":"'Raw Data'!LJ161","v":0},{"$f":"'Raw Data'!LK161","v":0},{"$f":"'Raw Data'!LL161","v":0},{"$f":"'Raw Data'!LM161","v":0},{"$f":"'Raw Data'!LN161","v":0},{"$f":"'Raw Data'!LO161","v":0},{"$f":"'Raw Data'!LP161","v":0},{"$f":"'Raw Data'!LQ161","v":0},{"$f":"'Raw Data'!LR161","v":0},{"$f":"'Raw Data'!LS161","v":0},{"$f":"'Raw Data'!LT161","v":0},{"$f":"'Raw Data'!LU161","v":0},{"$f":"'Raw Data'!LV161","v":0},{"$f":"'Raw Data'!LW161","v":0},{"$f":"'Raw Data'!LX161","v":0},{"$f":"'Raw Data'!LY161","v":0},{"$f":"'Raw Data'!LZ161","v":0},{"$f":"'Raw Data'!MA161","v":0},{"$f":"'Raw Data'!MB161","v":0},{"$f":"'Raw Data'!MC161","v":0},{"$f":"'Raw Data'!MD161","v":0},{"$f":"'Raw Data'!ME161","v":0},{"$f":"'Raw Data'!MF161","v":0},{"$f":"'Raw Data'!MG161","v":0},{"$f":"'Raw Data'!MH161","v":0},{"$f":"'Raw Data'!MI161","v":0},{"$f":"'Raw Data'!MJ161","v":0},{"$f":"'Raw Data'!MK161","v":0},{"$f":"'Raw Data'!IC160","v":184},{"$f":"'Raw Data'!ID160","v":203},{"$f":"'Raw Data'!IE160","v":228},{"$f":"'Raw Data'!IF160","v":204},{"$f":"'Raw Data'!IG160","v":119},{"$f":"'Raw Data'!IH160","v":158},{"$f":"'Raw Data'!II160","v":145},{"$f":"'Raw Data'!IJ160","v":139},{"$f":"'Raw Data'!IK160","v":146},{"$f":"'Raw Data'!IL160","v":162},{"$f":"'Raw Data'!IM160","v":208},{"$f":"'Raw Data'!IN160","v":165}]
[2022,{"$nulls":137},{"$f":"'Raw Data'!IC161","v":190},{"$f":"'Raw Data'!ID161","v":121},{"$f":"'Raw Data'!IE161","v":199},{"$f":"'Raw Data'!IF161","v":217},{"$f":"'Raw Data'!IG161","v":182},{"$f":"'Raw Data'!IH161","v":126},{"$f":"'Raw Data'!II161","v":88},{"$f":"'Raw Data'!IJ161","v":116},{"$f":"'Raw Data'!IK161","v":84},{"$f":"'Raw Data'!IL161","v":140},{"$f":"'Raw Data'!IM161","v":209},{"$f":"'Raw Data'!IN161","v":233}]
[2023,{"$nulls":137},{"$f":"'Raw Data'!IC162","v":101},{"$f":"'Raw Data'!ID162","v":207},{"$f":"'Raw Data'!IE162","v":138},{"$f":"'Raw Data'!IF162","v":118},{"$f":"'Raw Data'!IG162","v":133},{"$f":"'Raw Data'!IH162","v":191},{"$f":"'Raw Data'!II162","v":89},{"$f":"'Raw Data'!IJ162","v":0},{"$f":"'Raw Data'!IK162","v":0},{"$f":"'Raw Data'!IL162","v":0},{"$f":"'Raw Data'!IM162","v":0},{"$f":"'Raw Data'!IN162","v":0}]
[]
[{"$nulls":145},"Lots / Land Avg Days on Market",null,null,null,"Lots Land Avg Days on Market"]
[{"$nulls":145},"Month / Year","Count","%Chg",null,"Month / Year","Count","%Chg"]
[{"$nulls":145},"Jul'23",{"$f":"EO34","v":89},{"$f":"(EQ38-EQ39)/EQ39","v":1.1363636363636364E-2},null,2023,{"$f":"SUM(EI34:EO34)/7","v":139.57142857142858},{"$f":"(EU38-EU39)/EU39","v":-0.13000890471950119}]
[{"$nulls":145},"Jul'22",{"$f":"EO33","v":88},{"$f":"(EQ39-EQ40)/EQ40","v":-0.39310344827586208},null,2022,{"$f":"SUM(EI33:EO33)/7","v":160.42857142857142},{"$f":"(EU39-EU40)/EU40","v":-9.5084609186140243E-2}]
[{"$nulls":145},"Jul'21",{"$f":"EO32","v":145},{"$f":"(EQ40-EQ41)/EQ41","v":-0.48581560283687941},null,2021,{"$f":"SUM(EI32:EO32)/7","v":177.28571428571428},{"$f":"(EU40-EU41)/EU41","v":-3.2735775526110678E-2}]
[{"$nulls":145},"Jul'20",{"$f":"EO31","v":282},null,null,2020,{"$f":"SUM(EI31:EO31)/7","v":183.28571428571428}]

{"sheet":"Total Under Contract","index":49,"n_rows":25,"n_cols":157,"rows_kept":25,"cut":false,"hidden":false,"merged":[[14,5,14,7]]}
["Total Under Contract"]
[null,"Jan","Feb","Mar","Apr","May","Jun","July","Aug","Sep","Oct","Nov","Dec"]
[2013,{"$nulls":8},{"$f":"'Raw Data'!DU29","v":363},{"$f":"'Raw Data'!DV29","v":379},{"$f":"'Raw Data'!DW29","v":377},{"$f":"'Raw Data'!DX29","v":271}]
[2014,{"$f":"'Raw Data'!DY29","v":333},{"$f":"'Raw Data'!DZ29","v":366},{"$f":"'Raw Data'!EA29","v":447},{"$f":"'Raw Data'!EB29","v":462},{"$f":"'Raw Data'!EC29","v":423},{"$f":"'Raw Data'!ED29","v":385},{"$f":"'Raw Data'!EE29","v":368},{"$f":"'Raw Data'!EF29","v":403},{"$f":"'Raw Data'!EG29","v":396},{"$f":"'Raw Data'!EH29","v":384},{"$f":"'Raw Data'!EI29","v":363},{"$f":"'Raw Data'!EJ29","v":269}]
[2015,{"$f":"'Raw Data'!EK29","v":330},{"$f":"'Raw Data'!EL29","v":367},{"$f":"'Raw Data'!EM29","v":412},{"$f":"'Raw Data'!EN29","v":475},{"$f":"'Raw Data'!EO29","v":429},{"$f":"'Raw Data'!EP29","v":391},{"$f":"'Raw Data'!EQ29","v":402},{"$f":"'Raw Data'!ER29","v":407},{"$f":"'Raw Data'!ES29","v":435},{"$f":"'Raw Data'!ET29","v":444},{"$f":"'Raw Data'!EU29","v":400},{"$f":"'Raw Data'!EV29","v":335}]
[2016,{"$f":"'Raw Data'!EW29","v":345},{"$f":"'Raw Data'!EX29","v":370},{"$f":"'Raw Data'!EY29","v":395},{"$f":"'Raw Data'!EZ29","v":434},{"$f":"'Raw Data'!FA29","v":445},{"$f":"'Raw Data'!FB29","v":389},{"$f":"'Raw Data'!FC29","v":416},{"$f":"'Raw Data'!FD29","v":431},{"$f":"'Raw Data'!FE29","v":426},{"$f":"'Raw Data'!FF29","v":366},{"$f":"'Raw Data'!FG29","v":370},{"$f":"'Raw Data'!FH29","v":267}]
[2017,{"$f":"'Raw Data'!FI29","v":330},{"$f":"'Raw Data'!FJ29","v":367},{"$f":"'Raw Data'!FK29","v":451},{"$f":"'Raw Data'!FL29","v":473},{"$f":"'Raw Data'!FM29","v":461},{"$f":"'Raw Data'!FN29","v":410},{"$f":"'Raw Data'!FO29","v":422},{"$f":"'Raw Data'!FP29","v":419},{"$f":"'Raw Data'!FQ29","v":442},{"$f":"'Raw Data'!FR29","v":413},{"$f":"'Raw Data'!FS29","v":390},{"$f":"'Raw Data'!FT29","v":280}]
[2018,{"$f":"'Raw Data'!FU29","v":304},{"$f":"'Raw Data'!FV29","v":394},{"$f":"'Raw Data'!FW29","v":414},{"$f":"'Raw Data'!FX29","v":439},{"$f":"'Raw Data'!FY29","v":435},{"$f":"'Raw Data'!FZ29","v":390},{"$f":"'Raw Data'!GA29","v":424},{"$f":"'Raw Data'!GB29","v":416},{"$f":"'Raw Data'!GC29","v":367},{"$f":"'Raw Data'!GD29","v":335},{"$f":"'Raw Data'!GE29","v":345},{"$f":"'Raw Data'!GF29","v":254}]
[2019,{"$f":"'Raw Data'!GG29","v":323},{"$f":"'Raw Data'!GH29","v":380},{"$f":"'Raw Data'!GI29","v":451},{"$f":"'Raw Data'!GJ29","v":459},{"$f":"'Raw Data'!GK29","v":423},{"$f":"'Raw Data'!GL29","v":405},{"$f":"'Raw Data'!GM29","v":454},{"$f":"'Raw Data'!GN29","v":435},{"$f":"'Raw Data'!GO29","v":430},{"$f":"'Raw Data'!GP29","v":471},{"$f":"'Raw Data'!GQ29","v":402},{"$f":"'Raw Data'!GR29","v":327}]
[2020,{"$f":"'Raw Data'!GS29","v":381},{"$f":"'Raw Data'!GT29","v":500},{"$f":"'Raw Data'!GU29","v":442},{"$f":"'Raw Data'!GV29","v":374},{"$f":"'Raw Data'!GW29","v":549},{"$f":"'Raw Data'!GX29","v":843},{"$f":"'Raw Data'!GY29","v":914},{"$f":"'Raw Data'!GZ29","v":989},{"$f":"'Raw Data'!HA29","v":978},{"$f":"'Raw Data'!HB29","v":926},{"$f":"'Raw Data'!HC29","v":841},{"$f":"'Raw Data'!HD29","v":709}]
[2021,{"$f":"'Raw Data'!HE29","v":766},{"$f":"'Raw Data'!HF29","v":825},{"$f":"'Raw Data'!HG29","v":883},{"$f":"'Raw Data'!HH29","v":923},{"$f":"'Raw Data'!HI29","v":856},{"$f":"'Raw Data'!HJ29","v":728},{"$f":"'Raw Data'!HK29","v":708},{"$f":"'Raw Data'!HL29","v":739},{"$f":"'Raw Data'!HM29","v":783},{"$f":"'Raw Data'!HN29","v":776},{"$f":"'Raw Data'!HO29","v":734},{"$f":"'Raw Data'!HP29","v":614}]
[2022,{"$f":"'Raw Data'!HQ29","v":651},{"$f":"'Raw Data'!HR29","v":711},{"$f":"'Raw Data'!HS29","v":686},{"$f":"'Raw Data'!HT29","v":663},{"$f":"'Raw Data'!HU29","v":557},{"$f":"'Raw Data'!HV29","v":482},{"$f":"'Raw Data'!HW29","v":488},{"$f":"'Raw Data'!HX29","v":483},{"$f":"'Raw Data'!HY29","v":471},{"$f":"'Raw Data'!HZ29","v":424},{"$f":"'Raw Data'!IA29","v":365},{"$f":"'Raw Data'!IB29","v":308}]
[2023,{"$f":"'Raw Data'!IC29","v":402},{"$f":"'Raw Data'!ID29","v":430},{"$f":"'Raw Data'!IE29","v":419},{"$f":"'Raw Data'!IF29","v":418},{"$f":"'Raw Data'!IG29","v":399},{"$f":"'Raw Data'!IH29","v":353},{"$f":"'Raw Data'!II29","v":373},{"$f":"'Raw Data'!IJ29","v":0},{"$f":"'Raw Data'!IK29","v":0},{"$f":"'Raw Data'!IL29","v":0},{"$f":"'Raw Data'!IM29","v":0},{"$f":"'Raw Data'!IN29","v":0}]
[]
[{"$nulls":5},"Total Under Contract"]
[{"$nulls":5},"Month / Year","Count","%Chg"]
[{"$nulls":5},2023,{"$f":"H13","v":373},{"$f":"(G17-G18)/G18","v":-0.23565573770491804}]
[{"$nulls":5},2022,{"$f":"H12","v":488},{"$f":"(G18-G19)/G19","v":-0.31073446327683618}]
[{"$nulls":5},2021,{"$f":"H11","v":708},{"$f":"(G19-G20)/G20","v":-0.22538293216630198}]
[{"$nulls":5},2020,{"$f":"H10","v":914}]
[]
[]
[]
[null,"2013-01-13","2013-02-13","2013-03-13","2013-04-13","2013-05-13","2013-06-13","2013-07-13","2013-08-13","2013-09-13","2013-10-13","2013-11-13","2013-12-13","2014-01-13","2014-02-13","2014-03-13","2014-04-13","2014-05-13","2014-06-13","2014-07-13","2014-08-13","2014-09-13","2014-10-13","2014-11-13","2014-12-13","2015-01-13","2015-02-13","2015-03-13","2015-04-13","2015-05-13","2015-06-13","2015-07-13","2015-08-13","2015-09-13","2015-10-13","2015-11-13","2015-12-13","2016-01-13","2016-02-13","2016-03-13","2016-04-13","2016-05-13","2016-06-13","2016-07-13","2016-08-13","2016-09-13","2016-10-13","2016-11-13","2016-12-13","2017-01-13","2017-02-13","2017-03-13","2017-04-13","2017-05-13","2017-06-13","2017-07-13","2017-08-13","2017-09-13","2017-10-13","2017-11-13","2017-12-13","2018-01-13","2018-02-13","2018-03-13","2018-04-13","2018-05-13","2018-06-13","2018-07-13","2018-08-13","2018-09-13","2018-10-13","2018-11-13","2018-12-13","2019-01-13","2019-02-13","2019-03-13","2019-04-13","2019-05-13","2019-06-13","2019-07-13","2019-08-13","2019-09-13","2019-10-13","2019-11-13","2019-12-13","2020-01-13","2020-02-13","2020-03-13","2020-04-13","2020-05-13","2020-06-13","2020-07-13","2020-08-13","2020-09-13","2020-10-13","2020-11-13","2020-12-13","2021-01-13","2021-02-13","2021-03-13","2021-04-13","2021-05-13","2021-06-13","2021-07-13","2021-08-13","2021-09-13","2021-10-13","2021-11-13","2021-12-13","2022-01-13","2022-02-13","2022-03-13","2022-04-13","2022-05-13","2022-06-13","2022-07-13","2022-08-13","2022-09-13","2022-10-13","2022-11-13","2022-12-13","2023-01-13","2023-02-13","2023-03-13","2023-04-13","2023-05-13","2023-06-13","2023-07-13","2023-08-13","2023-09-13","2023-10-13","2023-11-13","2023-12-13","2024-01-13","2024-02-13","2024-03-13","2024-04-13","2024-05-13","2024-06-13","2024-07-13","2024-08-13","2024-09-13","2024-10-13","2024-11-13","2024-12-13","2025-01-13","2025-02-13","2025-03-13","2025-04-13","2025-05-13","2025-06-13","2025-07-13","2025-08-13","2025-09-13","2025-10-13","2025-11-13","2025-12-13"]
["Under Contracts",{"$f":"B4","v":333},366,447,462,{"$f":"F4","v":423},{"$f":"G4","v":385},{"$f":"H4","v":368},403,396,384,363,269,{"$f":"B5","v":330},367,412,475,429,391,402,407,435,444,400,335,{"$f":"B5","v":330},367,412,475,429,391,402,407,435,444,400,335,{"$f":"B6","v":345},370,395,434,445,389,416,431,426,366,370,267,{"$f":"B7","v":330},367,451,473,461,410,422,419,442,413,390,280,{"$f":"B8","v":304},394,414,439,435,390,424,416,367,335,345,254,{"$f":"B9","v":323},380,451,459,423,405,454,435,430,471,402,327,{"$f":"B10","v":381},500,442,374,549,843,914,989,978,926,841,709,{"$f":"B11","v":766},{"$f":"C11","v":825},883,923,856,728,708,739,{"$f":"J11","v":783},{"$f":"K11","v":776},{"$f":"L11","v":734},{"$f":"M11","v":614},{"$f":"B12","v":651},{"$f":"C12","v":711},{"$f":"D12","v":686},663,557,482,488,483,471,424,365,308,{"$f":"B13","v":402},{"$f":"C13","v":430},{"$f":"D13","v":419},418,399,353,373,0,0,0,0,0,{"$f":"Z12","v":0},0,0,0,0,0,0,0,0,0,0,0,0,0,0,0,0,0,0,0,0,0,0,0]

{"sheet":"NC Numbers","index":54,"n_rows":227,"n_cols":15,"rows_kept":227,"cut":false,"hidden":false,"merged":[[183,8,183,9],[183,4,183,5],[182,0,182,9],[183,0,183,1],[183,12,183,13]]}
[null,"2023-01-20","2023-02-01","2023-03-25","2023-04-26","2023-05-28","2023-06-29","2023-07-31","2023-08-01","2023-09-03","2023-10-04","2023-11-23","2023-12-23","Total Building Permits"]
["Manteo-23",0,0,0,0,0,0,{"$nulls":6},{"$f":"SUM(B2:M2)","v":0},"Manteo-23"]
["Manteo-22",1,2,2,1,3,1,{"$nulls":6},{"$f":"SUM(B3:M3)","v":10},"Manteo-22"]
["Southern Shores - 23",3,2,1,2,1,2,{"$nulls":6},11,"Southern Shores - 23"]
["Southern Shores - 22",3,4,2,5,2,1,{"$nulls":6},17,"Southern Shores - 22"]
["Nags Head - 23",3,0,2,1,1,3,{"$nulls":6},10,"Nags Head - 23"]
["Nags Head - 22",0,1,2,1,1,1,{"$nulls":6},6,"Nags Head - 22"]
["Kill Devil Hills - 23",2,8,5,1,3,5,{"$nulls":6},24,"Kill Devil Hills - 23"]
["Kill Devil Hills - 22",11,6,10,7,8,6,{"$nulls":6},48,"Kill Devil Hills - 22"]
["Kitty Hawk -  23",1,3,1,2,1,1,{"$nulls":6},9,"Kitty Hawk -  23"]
["Kitty Hawk -  22",4,4,1,1,1,3,{"$nulls":6},14,"Kitty Hawk -  22"]
["Duck -23",1,0,1,2,1,0,{"$nulls":6},5,"Duck -23"]
["Duck - 22",2,2,4,3,0,1,{"$nulls":6},12,"Duck - 22"]
["Hatteras Island - 23",6,4,2,4,7,8,{"$nulls":6},31,"Hatteras Island - 23"]
["Hatteras Island - 22",8,5,9,3,5,8,{"$nulls":6},38,"Hatteras Island - 22"]
["Roanoke Island - 23",3,2,4,6,7,9,{"$nulls":6},31,"Roanoke Island - 23"]
["Roanoke Island -22",3,2,8,4,5,5,{"$nulls":6},27,"Roanoke Island -22"]
["KDH - UnIncorporated - 23",4,9,2,1,2,4,{"$nulls":6},22,"KDH - UnIncorporated - 23"]
["KDH - UnIncorporated -22",2,9,7,1,0,0,{"$nulls":6},19,"KDH - UnIncorporated -22"]
["2023 Total",{"$f":"SUM(B2+B4+B6+B8+B10+B12+B14+B16+B18)","v":23},{"$f":"SUM(C2+C4+C6+C8+C10+C12+C14+C16+C18)","v":28},{"$f":"SUM(D2+D4+D6+D8+D10+D12+D14+D16+D18)","v":18},{"$f":"SUM(E2+E4+E6+E8+E10+E12+E14+E16+E18)","v":19},23,32,0,0,0,0,0,0,143]
["2022 Total",{"$f":"SUM(B3+B5+B7+B9+B11+B13+B15+B17+B19)","v":34},35,45,26,25,26,0,0,0,0,0,0,191]
[]
[null,"2022-01-20","2022-02-21","2022-03-25","2022-04-26","2022-05-28","2022-06-29","2022-07-31","2022-08-01","2022-09-03","2022-10-04","2022-11-06","2022-12-07","Total Building Permits"]
["Manteo-22",1,2,2,1,3,1,0,2,0,0,0,0,{"$f":"SUM(B24:D24)","v":5}]
["Manteo-21",1,3,1,0,1,0,0,0,1,2,1,2,{"$f":"SUM(B25:D25)","v":5}]
["Southern Shores - 22",3,4,2,5,2,1,1,4,1,4,3,2,9]
["Southern Shores - 21",2,3,3,3,3,0,0,3,2,4,1,2,8]
["Nags Head - 22",0,1,2,1,1,1,0,5,3,3,1,2,3]
["Nags Head - 21",1,1,2,0,3,2,2,1,5,3,2,4,4]
["Kill Devil Hills - 22",11,6,10,7,8,6,3,19,4,7,6,3,27]
["Kill Devil Hills - 21",8,9,9,3,9,10,6,4,9,4,7,4,26]
["Kitty Hawk -  22",4,4,1,1,1,3,2,0,2,5,3,3,9]
["Kitty Hawk -  21",2,2,0,1,0,1,5,2,5,2,4,6,4]
["Duck -22",2,2,4,3,0,1,1,4,2,3,0,0,8]
["Duck - 21",1,2,1,1,0,4,0,0,0,2,3,1,4]
["Hatteras Island - 22",8,5,9,3,5,8,5,10,5,7,6,7,22]
["Hatteras Island - 21",9,5,5,4,6,8,5,5,4,3,6,8,19]
["Roanoke Island - 22",3,2,8,4,5,5,5,3,6,7,0,2,13]
["Roanoke Island -21",3,2,7,7,2,3,2,4,2,4,3,7,12]
["KDH - UnIncorporated - 22",2,9,7,1,0,0,1,3,2,7,2,0,18]
["KDH - UnIncorporated -21",3,8,4,6,1,2,1,2,1,3,3,1,15]
["2022 Total",{"$f":"SUM(B24+B26+B28+B30+B32+B34+B36+B38+B40)","v":34},35,{"$f":"SUM(D24+D26+D28+D30+D32+D34+D36+D38+D40)","v":45},26,25,26,18,50,25,43,21,19,114]
["2021 Total",{"$f":"SUM(B25+B27+B29+B31+B33+B35+B37+B39+B41)","v":30},35,32,25,25,30,21,21,29,27,30,35,97]
[]
[null,"2021-01-20","2021-02-21","2021-03-25","2021-04-26","2021-05-28","2021-06-29","2021-07-31","2021-08-21","2021-09-21","2021-10-21","2021-11-21","2021-12-21","Total Building Permits"]
["Manteo-21",1,3,1,0,1,0,0,0,1,2,1,2,{"$f":"SUM(B46:M46)","v":12}]
["Manteo-20",1,0,0,0,1,1,1,1,0,0,1,1,{"$f":"SUM(B47:M47)","v":7}]
["Southern Shores - 21",2,3,3,3,3,0,0,3,2,4,1,2,26]
["Southern Shores - 20",2,2,5,1,1,5,4,0,3,4,3,3,33]
["Nags Head - 21",1,1,2,0,3,2,2,1,5,3,2,4,26]
["Nags Head - 20",1,2,0,1,0,0,2,2,4,3,4,4,23]
["Kill Devil Hills - 21",8,9,9,3,9,10,6,4,9,4,7,4,82]
["Kill Devil Hills - 20",7,9,4,5,3,7,3,5,11,5,2,2,63]
["Kitty Hawk -  21",2,2,0,1,0,1,5,2,5,2,4,6,30]
["Kitty Hawk -  20",0,2,3,1,2,2,3,0,2,0,2,2,19]
["Duck -21",1,2,1,1,0,4,0,0,0,2,3,1,15]
["Duck - 20",0,1,2,2,1,0,1,1,0,3,4,4,19]
["Hatteras Island - 21",9,5,5,4,6,8,5,5,4,3,6,8,68]
["Hatteras Island - 20",5,0,2,5,2,2,4,2,1,3,6,6,38]
["Roanoke Island - 21",3,2,7,7,2,3,2,4,2,4,3,7,46]
["Roanoke Island -20",3,5,6,1,4,4,2,4,3,6,1,1,40]
["KDH - UnIncorporated - 21",3,8,4,6,1,2,1,2,1,3,3,1,35]
["KDH - UnIncorporated -20",0,1,4,0,1,1,5,8,8,2,2,2,34]
["2021 Total",{"$f":"SUM(B46+B48+B50+B52+B54+B56+B58+B60+B62)","v":30},35,32,25,25,30,21,21,29,27,30,35,340]
["2020 Total",{"$f":"SUM(B47+B49+B51+B53+B55+B57+B59+B61+B63)","v":19},22,26,16,15,22,25,23,32,26,25,25,276]
[]
[null,"2020-01-20","2020-02-20","2020-03-20","2020-04-20","2020-05-20","2020-06-20","2020-07-20","2020-08-20","2020-09-20","2020-10-20","2020-11-20","2020-12-20","Total Building Permits"]
["Manteo-20",1,0,0,0,1,1,1,1,0,0,3,1,{"$f":"SUM(B68:M68)","v":9}]
["Manteo-19",1,0,0,2,0,0,0,1,0,0,0,0,4]
["Southern Shores - 20",2,2,5,1,1,5,4,0,3,4,0,3,30]
["Southern Shores - 19",3,0,0,3,2,2,0,3,0,5,3,0,21]
["Nags Head - 20",1,2,0,1,0,0,2,2,4,3,0,4,19]
["Nags Head - 19",1,1,1,3,0,1,2,1,0,2,1,0,13]
["Kill Devil Hills - 20",7,9,4,5,3,7,3,5,11,5,8,2,69]
["Kill Devil Hills - 19",3,1,4,2,3,7,1,6,2,6,10,4,49]
["Kitty Hawk -  20",0,2,3,1,2,2,3,0,2,0,3,2,20]
["Kitty Hawk -  19",3,2,1,2,3,2,1,1,0,0,2,1,18]
["Duck -20",0,1,2,2,1,0,1,1,0,3,1,4,16]
["Duck - 19",3,1,0,0,0,4,0,1,0,2,0,1,12]
["Hatteras Island - 20",5,0,2,5,2,2,4,2,1,3,7,6,39]
["Hatteras Island - 19",2,3,2,2,0,2,3,5,3,8,8,6,44]
["Roanoke Island - 20",3,5,6,1,4,4,2,4,3,6,2,1,41]
["Roanoke Island -19",0,5,3,2,1,3,6,1,2,5,0,3,31]
["KDH - UnIncorporated - 20",0,1,4,0,1,1,5,8,8,2,7,2,39]
["KDH - UnIncorporated -19",1,3,4,2,0,2,1,3,2,1,3,3,25]
["2020 Total",{"$f":"SUM(B68+B70+B72+B74+B76+B78+B80+B82+B84)","v":19},22,26,16,15,22,25,23,32,26,31,25,282]
["2019 Total",{"$f":"SUM(B69+B71+B73+B75+B77+B79+B81+B83+B85)","v":17},16,15,18,9,23,14,22,9,29,27,18,217]
[]
[]
[]
[null,"2019-01-18","2019-02-18","2019-03-18","2019-04-18","2019-05-18","2019-06-18","2019-07-18","2019-08-18","2019-09-18","2019-10-18","2019-11-18","2019-12-18","Total Building Permits"]
["Manteo-19",1,0,0,2,0,0,0,1,0,0,0,0,{"$f":"SUM(B92:M92)","v":4}]
["Manteo-18",0,0,0,2,1,0,0,0,3,1,0,0,7]
["Southern Shores - 19",3,0,0,3,2,2,0,3,0,5,3,0,21]
["Southern Shores - 18",1,1,1,5,3,1,3,2,2,2,2,3,26]
["Nags Head - 19",1,1,1,3,0,1,2,1,0,2,1,0,13]
["Nags Head - 18",4,6,2,1,3,2,6,4,1,3,3,1,36]
["Kill Devil Hills - 19",3,1,4,2,3,7,1,6,2,6,10,4,49]
["Kill Devil Hills - 18",4,7,7,3,4,10,5,6,7,10,4,13,80]
["Kitty Hawk - 19",3,2,1,2,3,2,1,1,0,0,2,1,18]
["Kitty Hawk -  18",5,6,3,2,4,1,0,4,1,5,3,7,41]
["Duck -19",3,1,0,0,0,4,0,1,0,2,0,1,12]
["Duck - 18",0,1,2,0,1,0,2,1,2,1,1,1,12]
["Hatteras Island - 19",2,3,2,2,0,2,3,5,3,8,8,6,44]
["Hatteras Island - 18",3,2,2,3,4,4,5,4,2,1,3,2,35]
["Roanoke Island - 19",0,5,3,2,1,3,6,1,2,5,0,3,31]
["Roanoke Island -18",0,3,7,3,5,3,0,6,2,1,5,0,35]
["KDH - UnIncorporated - 19",1,3,4,2,0,2,1,3,2,1,3,3,25]
["KDH - UnIncorporated -18",6,4,6,2,2,5,2,3,2,3,4,0,6]
["2019 Total",{"$f":"SUM(B92+B94+B96+B98+B100+B102+B104+B106+B108)","v":17},16,15,18,9,23,14,22,9,29,27,18,{"$f":"SUM(B110:M110)","v":217}]
["2018 Total",{"$f":"SUM(B93+B95+B97+B99+B101+B103+B105+B107+B109)","v":23},30,30,21,27,26,23,30,22,27,25,27,{"$f":"SUM(B111:K111)","v":259}]
[]
[]
[]
[null,"2018-01-18","2018-02-18","2018-03-18","2018-04-18","2018-05-18","2018-06-18","2018-07-18","2018-08-18","2018-09-18","2018-10-18","2018-11-18","2018-12-18","Total Building Permits"]
["Manteo-18",0,0,0,2,1,0,0,0,3,1,0,0,{"$f":"SUM(B116:M116)","v":7}]
["Manteo-17",3,2,0,1,1,0,0,0,0,1,1,0,9]
["Southern Shores - 18",1,1,1,5,3,1,3,2,2,2,2,3,26]
["Southern Shores - 17",2,2,1,3,5,3,2,2,3,4,4,0,31]
["Nags Head - 18",4,6,2,1,3,2,6,4,1,3,3,1,36]
["Nags Head - 17",3,2,3,1,2,0,2,0,6,7,4,7,37]
["Kill Devil Hills - 18",4,7,7,3,4,10,5,6,7,10,4,13,80]
["Kill Devil Hills - 17",2,3,11,3,5,4,15,3,12,5,6,5,74]
["Kitty Hawk - 18",5,2,3,2,4,1,0,4,1,5,3,7,37]
["Kitty Hawk -  17",2,0,2,2,5,0,1,1,1,2,4,2,22]
["Duck -18",0,1,2,0,1,0,2,1,2,1,1,1,12]
["Duck - 17",0,3,0,0,2,3,1,0,1,1,0,2,13]
["Hatteras Island - 18",3,2,2,3,4,4,5,4,2,1,3,2,35]
["Hatteras Island - 17",0,2,4,2,2,8,2,4,3,4,5,2,38]
["Roanoke Island - 18",0,3,7,3,5,3,0,6,2,1,5,0,35]
["Roanoke Island -17",1,1,6,2,2,4,7,3,3,6,3,0,38]
["KDH - UnIncorporated - 18",6,4,6,2,2,5,2,3,2,3,4,0,39]
["KDH - UnIncorporated -17",4,6,4,4,3,1,5,1,3,4,4,1,40]
["2018 Total",{"$f":"SUM(B116+B118+B120+B122+B124+B126+B128+B130+B132)","v":23},26,30,21,27,26,23,30,22,27,25,{"$f":"SUM(M116+M118+M120+M124+M126+M128+M130+M132)","v":14},294]
["2017 Total",{"$f":"SUM(B117+B119+B121+B123+B125+B127+B129+B131+B133)","v":17},21,31,18,27,23,35,14,32,34,31,{"$f":"SUM(M117+M119+M121+M125+M127+M129+M131+M133)","v":14},297]
[]
[]
[]
[null,"2017-01-01","2017-02-01","2017-03-01","2017-04-01","2017-05-01","2017-06-01","2017-07-01","2017-08-01","2017-09-01","2017-10-01","2017-11-01","2017-12-01","Total Building Permits"]
["Manteo-17",3,2,0,1,1,0,0,0,0,1,1,0,{"$f":"SUM(B140:M140)","v":9}]
["Manteo-16",2,3,1,4,0,4,3,1,3,3,0,5,29]
["Southern Shores - 17",2,2,1,3,5,3,2,2,3,4,4,0,31]
["Southern Shores - 16",2,3,0,0,0,5,5,1,2,0,3,1,22]
["Nags Head - 17",3,2,3,1,2,0,2,0,6,7,4,7,37]
["Nags Head - 16",3,1,3,4,3,5,4,7,0,1,4,5,40]
["Kill Devil Hills - 17",2,3,11,3,5,4,15,3,12,5,6,5,74]
["Kill Devil Hills - 16",5,8,6,9,5,4,9,8,10,6,2,5,77]
["Kitty Hawk - 17",2,0,2,2,5,0,1,1,1,2,4,2,22]
["Kitty Hawk -  16",3,0,0,0,5,6,1,3,3,0,1,2,24]
["Duck -17",0,3,0,0,0,3,1,0,1,1,0,2,11]
["Duck - 16",0,1,1,0,0,1,2,0,1,3,0,1,10]
["Hatteras Island - 17",0,2,4,2,2,8,2,4,3,4,5,2,38]
["Hatteras Island - 16",5,2,4,4,7,3,5,3,3,4,7,5,52]
["Roanoke Island - 17",1,1,6,2,2,4,7,3,3,6,3,0,38]
["Roanoke Island -16",2,1,1,1,4,5,2,3,3,4,1,2,29]
["KDH - UnIncorporated - 17",4,6,4,4,3,1,5,1,3,4,4,1,40]
["KDH - UnIncorporated -16",6,4,2,2,4,5,3,1,2,5,1,1,36]
["2017 Total",{"$f":"SUM(B140+B142+B144+B146+B148+B150+B152+B154+B156)","v":17},21,31,18,25,23,35,14,32,34,31,{"$f":"SUM(M140+M142+M144+M148+M150+M152+M154+M156)","v":14},{"$f":"SUM(N140+N142+N144+N146+N148+N150+N152+N154+N156)","v":300}]
["2016 Total",{"$f":"SUM(B141+B143+B145+B147+B149+B151+B153+B155+B157)","v":28},23,18,24,28,38,34,27,27,26,19,27,319]
[]
[]
[null,"2017-01-01","2017-02-01","2017-03-01","2017-04-01","2017-05-01","2017-06-01","2017-07-01","2017-08-01","2017-09-01","2017-10-01","2017-11-01","2017-12-01","Total Building Permits"]
["Manteo-17",null,2,0,1,{"$nulls":8},{"$f":"SUM(B163:M163)","v":3}]
["Manteo-16",2,3,1,4,0,4,3,1,3,3,0,5,29]
["Southern Shores - 17",2,2,1,3,{"$nulls":8},8]
["Southern Shores - 16",2,3,0,0,0,5,5,1,2,0,3,1,22]
["Nags Head - 17",3,2,3,1,{"$nulls":8},9]
["Nags Head - 16",3,1,3,4,3,5,4,7,0,1,4,5,40]
["Kill Devil Hills - 17",2,3,11,3,{"$nulls":8},19]
["Kill Devil Hills - 16",5,8,6,9,5,4,9,8,10,6,2,5,77]
["Kitty Hawk - 17",2,0,2,2,{"$nulls":8},6]
["Kitty Hawk -  16",3,0,0,0,5,6,1,3,3,0,1,2,24]
["Duck -17",0,3,0,0,{"$nulls":8},3]
["Duck - 16",0,1,1,0,0,1,2,0,1,3,0,1,10]
["Hatteras Island - 17",0,2,4,0,{"$nulls":8},6]
["Hatteras Island - 16",5,2,4,4,7,3,5,3,3,4,7,5,52]
["Roanoke Island - 17",1,1,6,2,{"$nulls":8},10]
["Roanoke Island -16",2,1,1,1,4,5,2,3,3,4,1,2,29]
["KDH - UnIncorporated - 17",4,6,4,4,{"$nulls":8},18]
["KDH - UnIncorporated -16",6,4,2,2,4,5,3,1,2,5,1,1,36]
[null,{"$f":"SUM(B163+B165+B167+B171+B173+B175+B177+B179)","v":12},18,20,13,0,0,0,0,{"$f":"SUM(J140+J142+J144+J148+J150+J152+J154+J156)","v":20},{"$f":"SUM(K163+K165+K167+K171+K173+K175+K177+K179)","v":0},{"$f":"SUM(L163+L165+L167+L171+L173+L175+L177+L179)","v":0},{"$f":"SUM(M163+M165+M167+M171+M173+M175+M177+M179)","v":0},{"$f":"SUM(N163+N165+N167+N171+N173+N175+N177+N179)","v":63}]
[null,{"$f":"SUM(B164+B166+B168+B170+B172+B174+B176+B178+B180)","v":28},23,18,24,28,38,34,27,{"$f":"SUM(J141+J143+J145+J147+J149+J151+J153+J155+J157)","v":27},{"$f":"SUM(K164+K166+K168+K170+K172+K174+K176+K178+K180)","v":26},{"$f":"SUM(L164+L166+L168+L170+L172+L174+L176+L178+L180)","v":19},{"$f":"SUM(M164+M166+M168+M170+M172+M174+M176+M178+M180)","v":27},{"$f":"SUM(N164+N166+N168+N170+N172+N174+N176+N178+N180)","v":319}]
["Total Building Permits"]
[2020,null,null,null,2021,null,null,null,2022,null,null,null,2023]
["2021 Total",{"$f":"N64","v":340},null,null,"Manteo-20",{"$f":"B204","v":7},null,null,"Manteo-21",{"$f":"N25","v":5},null,null,"Manteo-22",{"$f":"N3","v":10}]
["2020 Total",{"$f":"N65","v":276},null,null,"Manteo-21",{"$f":"B203","v":12},null,null,"Manteo-22",{"$f":"N24","v":5},null,null,"Manteo-23",{"$f":"N2","v":0}]
["Kill Devil Hills - 21",{"$f":"N52","v":82},null,null,"Duck - 20",{"$f":"B202","v":19},null,null,"Duck - 21",{"$f":"N35","v":4},null,null,"Duck - 22",{"$f":"N13","v":12}]
["Kill Devil Hills - 20",{"$f":"N53","v":63},null,null,"Duck-21",{"$f":"B201","v":15},null,null,"Duck-22",{"$f":"N34","v":8},null,null,"Duck-23",{"$f":"N12","v":5}]
["KDH - UnIncorporated - 21",{"$f":"N62","v":35},null,null,"Kitty Hawk - 20",{"$f":"B200","v":19},null,null,"Kitty Hawk - 21",{"$f":"N33","v":4},null,null,"Kitty Hawk - 22",{"$f":"N11","v":14}]
["KDH - UnIncorporated -20",{"$f":"N63","v":34},null,null,"Kitty Hawk - 21",{"$f":"B199","v":30},null,null,"Kitty Hawk - 22",{"$f":"N32","v":9},null,null,"Kitty Hawk - 23",{"$f":"N10","v":9}]
["Roanoke Island - 21",{"$f":"N60","v":46},null,null,"Nags Head - 20",{"$f":"B198","v":23},null,null,"Nags Head - 21",{"$f":"N29","v":4},null,null,"Nags Head - 22",{"$f":"N7","v":6}]
["Roanoke Island -20",{"$f":"N61","v":40},null,null,"Nags Head - 21",{"$f":"B197","v":26},null,null,"Nags Head - 22",{"$f":"N28","v":3},null,null,"Nags Head - 23",{"$f":"N6","v":10}]
["Hatteras Island - 21",{"$f":"N58","v":68},null,null,"Southern Shores - 20",{"$f":"B196","v":33},null,null,"Southern Shores - 21",{"$f":"N27","v":8},null,null,"Southern Shores - 22",{"$f":"N5","v":17}]
["Hatteras Island - 20",{"$f":"N59","v":38},null,null,"Southern Shores - 21",{"$f":"N48","v":26},null,null,"Southern Shores - 22",{"$f":"N26","v":9},null,null,"Southern Shores - 23",{"$f":"N4","v":11}]
["Southern Shores - 21",{"$f":"N48","v":26},null,null,"Hatteras Island - 20",{"$f":"B194","v":38},null,null,"Hatteras Island - 21",{"$f":"N37","v":19},null,null,"Hatteras Island - 22",{"$f":"N15","v":38}]
["Southern Shores - 20",{"$f":"N49","v":33},null,null,"Hatteras Island - 21",{"$f":"B193","v":68},null,null,"Hatteras Island - 22",{"$f":"N36","v":22},null,null,"Hatteras Island - 23",{"$f":"N14","v":31}]
["Nags Head - 21",{"$f":"N50","v":26},null,null,"Roanoke Island - 20",{"$f":"B192","v":40},null,null,"Roanoke Island - 21",{"$f":"N39","v":12},null,null,"Roanoke Island - 22",{"$f":"N17","v":27}]
["Nags Head - 20",{"$f":"N51","v":23},null,null,"Roanoke Island -21",{"$f":"B191","v":46},null,null,"Roanoke Island -22",{"$f":"N38","v":13},null,null,"Roanoke Island -23",{"$f":"N16","v":31}]
["Kitty Hawk - 21",{"$f":"N54","v":30},null,null,"KDH - UnIncorporated - 20",{"$f":"B190","v":34},null,null,"KDH - UnIncorporated - 21",{"$f":"N41","v":15},null,null,"KDH - UnIncorporated - 22",{"$f":"N19","v":19}]
["Kitty Hawk -  20",{"$f":"N55","v":19},null,null,"KDH - UnIncorporated -21",{"$f":"B189","v":35},null,null,"KDH - UnIncorporated -22",{"$f":"N40","v":18},null,null,"KDH - UnIncorporated -23",{"$f":"N18","v":22}]
["Duck -21",{"$f":"N56","v":15},null,null,"Kill Devil Hills - 20",{"$f":"B188","v":63},null,null,"Kill Devil Hills - 21",{"$f":"N31","v":26},null,null,"Kill Devil Hills - 22",{"$f":"N9","v":48}]
["Duck - 20",{"$f":"N57","v":19},null,null,"Kill Devil Hills - 21",{"$f":"B187","v":82},null,null,"Kill Devil Hills - 22",{"$f":"N30","v":27},null,null,"Kill Devil Hills - 23",{"$f":"N8","v":24}]
["Manteo-21",{"$f":"N46","v":12},null,null,"2020 Total",{"$f":"B186","v":276},null,null,"2021 Total",{"$f":"N43","v":97},null,null,"2022 Total",{"$f":"N21","v":191}]
["Manteo-20",{"$f":"N47","v":7},null,null,"2021 Total",{"$f":"B185","v":340},null,null,"2022 Total",{"$f":"N42","v":114},null,null,"2023 Total",{"$f":"N20","v":143}]
[]
[]
[null,"Total Building Permits"]
["2020Total",{"$f":"N86","v":282}]
["2019 Total",{"$f":"N87","v":217}]
["Kill Devil Hills - 20",{"$f":"N74","v":69}]
["Kill Devil Hills - 19",{"$f":"N75","v":49}]
["KDH - UnIncorporated - 20",{"$f":"N84","v":39}]
["KDH - UnIncorporated -19",{"$f":"N85","v":25}]
["Roanoke Island - 20",{"$f":"N82","v":41}]
["Roanoke Island -19",{"$f":"N83","v":31}]
["Hatteras Island - 20",{"$f":"N80","v":39}]
["Hatteras Island - 19",{"$f":"N81","v":44}]
["Southern Shores - 20",{"$f":"N70","v":30}]
["Southern Shores - 19",{"$f":"N71","v":21}]
["Nags Head - 20",{"$f":"N72","v":19}]
["Nags Head - 19",{"$f":"N73","v":13}]
["Kitty Hawk - 20",{"$f":"N76","v":20}]
["Kitty Hawk -  19",{"$f":"N77","v":18}]
["Duck -20",{"$f":"N78","v":16}]
["Duck - 19",{"$f":"N79","v":12}]
["Manteo-20",{"$f":"N68","v":9}]
["Manteo-19",{"$f":"N69","v":4}]

{"sheet":"New Const Permits","index":55,"n_rows":41,"n_cols":21,"rows_kept":41,"cut":false,"hidden":true,"merged":[]}
[null,"2018-01-01","2018-02-01","2018-03-01","2018-04-01","2018-05-01","2018-06-01","2018-07-01","2018-08-01","2018-09-01","2018-10-01","2018-11-01","2018-12-01","Total Building Permits"]
["Manteo",{"$f":"'NC Numbers'!B116","v":0},0,0,2,1,{"$f":"'NC Numbers'!G116","v":0},0,{"$f":"'NC Numbers'!I116","v":0},3,1,0,0,{"$f":"SUM(B2:M2)","v":7}]
["Southern Shores",{"$f":"'NC Numbers'!B118","v":1},1,1,5,3,{"$f":"'NC Numbers'!G118","v":1},3,{"$f":"'NC Numbers'!I118","v":2},2,2,2,3,26]
["Nags Head",{"$f":"'NC Numbers'!B120","v":4},6,2,1,3,{"$f":"'NC Numbers'!G120","v":2},6,{"$f":"'NC Numbers'!I120","v":4},1,3,3,1,36]
["Kill Devil Hills",{"$f":"'NC Numbers'!B122","v":4},7,7,3,4,{"$f":"'NC Numbers'!G122","v":10},5,{"$f":"'NC Numbers'!I122","v":6},7,10,4,13,80]
["Kitty Hawk",{"$f":"'NC Numbers'!B124","v":5},6,3,2,4,{"$f":"'NC Numbers'!G124","v":1},0,{"$f":"'NC Numbers'!I124","v":4},1,5,3,7,41]
["Duck",{"$f":"'NC Numbers'!B126","v":0},1,2,0,1,{"$f":"'NC Numbers'!G126","v":0},2,{"$f":"'NC Numbers'!I126","v":1},2,1,1,1,12]
["Hatteras Island",{"$f":"'NC Numbers'!B128","v":3},2,2,3,4,{"$f":"'NC Numbers'!G128","v":4},5,{"$f":"'NC Numbers'!I128","v":4},2,1,3,2,35]
["Roanoke Island",{"$f":"'NC Numbers'!B130","v":0},3,7,3,5,{"$f":"'NC Numbers'!G130","v":3},{"$f":"'NC Numbers'!H130","v":0},{"$f":"'NC Numbers'!I130","v":6},2,1,5,0,35]
["KDH - UnIncorporated",{"$f":"'NC Numbers'!B132","v":6},4,6,2,2,{"$f":"'NC Numbers'!G132","v":5},2,{"$f":"'NC Numbers'!I132","v":3},2,3,4,0,39]
["Total",{"$f":"SUM(B2:B10)","v":23},30,30,21,27,26,23,30,22,27,25,27,311]
[]
[null,"2017-01-01","2017-02-01","2017-03-01","2017-04-01","2017-05-01","2017-06-01","2017-07-01","2017-08-01","2017-09-01","2017-10-01","2017-11-01","2017-12-01","Total Building Permits"]
["Manteo",3,2,0,1,1,0,0,0,0,1,1,0,{"$f":"SUM(B14:M14)","v":9}]
["Southern Shores",2,2,1,3,5,3,2,2,3,4,4,0,31]
["Nags Head",3,2,3,1,2,0,2,0,6,7,4,7,37]
["Kill Devil Hills",2,3,11,3,5,4,15,3,12,5,6,5,74]
["Kitty Hawk",2,0,2,2,5,0,1,1,1,2,4,2,22]
["Duck",0,3,0,0,0,3,1,0,1,1,0,2,11]
["Hatteras Island",0,2,4,2,2,8,2,4,3,4,5,2,38]
["Roanoke Island",1,1,6,2,2,4,7,3,3,6,3,0,38]
["KDH - UnIncorporated",4,6,4,4,3,1,5,1,3,4,4,1,40]
["Total",{"$f":"SUM(B14:B22)","v":17},21,31,18,25,23,35,14,32,34,31,19,300,null,{"$f":"SUM(B23:K23)","v":250}]
[]
[null,"2016-01-01","2016-02-01","2016-03-01","2016-04-01","2016-05-01","2016-06-01","2016-07-01","2016-08-01","2016-09-01","2016-10-01","2016-11-01","2016-12-01","Total Building Permits"]
["Manteo",2,3,1,4,0,4,3,1,3,3,0,5,{"$f":"SUM(B26:M26)","v":29}]
["Southern Shores",2,3,0,0,0,5,5,1,2,0,3,1,22]
["Nags Head",3,1,3,4,3,5,4,7,0,1,4,5,40]
["Kill Devil Hills",5,8,6,9,5,4,9,8,10,6,2,5,77]
["Kitty Hawk",3,0,0,0,5,6,1,3,3,0,1,2,24]
["Duck",0,1,1,0,0,1,2,0,1,3,0,1,10]
["Total",{"$f":"SUM(B26:B31)","v":15},16,11,17,13,25,24,20,19,13,10,19,202,null,{"$f":"SUM(B41:L41)","v":292}]
[]
[null,"2016-01-01","2016-02-01","2016-03-01","2016-04-01","2016-05-01","2016-06-01","2016-07-01","2016-08-01","2016-09-01","2016-10-01","2016-11-01","2016-12-01"]
["Hatteras Island",5,2,4,4,7,3,5,3,3,4,7,5,{"$f":"SUM(B35:M35)","v":52}]
["Roanoke Island",2,1,1,1,4,5,2,3,3,4,1,2,{"$f":"SUM(B36:M36)","v":29}]
["KDH - UnIncorporated",6,4,2,2,4,5,3,1,2,5,1,1,{"$f":"SUM(B37:M37)","v":36}]
[null,{"$f":"SUM(B35:B37)","v":13},7,7,7,15,13,10,7,8,13,9,8,{"$f":"SUM(B38:M38)","v":117}]
[]
[{"$nulls":15},"January","February","March","April","May","June"]
["Total",{"$f":"B32+B38","v":28},23,18,24,28,38,34,27,27,26,19,27,{"$f":"SUM(B41:M41)","v":319},null,{"$f":"B41","v":28},{"$f":"SUM(B41:C41)","v":51},{"$f":"SUM(B41:D41)","v":69},{"$f":"SUM(B41:E41)","v":93},{"$f":"SUM(B41:F41)","v":121},{"$f":"U32+U38","v":0}]

{"sheet":"DC New Const Value","index":62,"n_rows":100,"n_cols":17,"rows_kept":100,"cut":false,"hidden":false,"merged":[]}
[null,"2022-01-21","2022-02-21","2022-03-21","2022-04-21","2022-05-21","2022-06-21","2022-07-21","2022-08-21","2022-09-21","2022-10-21","2022-11-21","2022-12-21"]
["Manteo - 23",0,0,0,0,0,0,{"$nulls":6},{"$f":"SUM(B2:M2)","v":0},null,{"$f":"A2","v":"Manteo - 23"},{"$f":"N2","v":0}]
["Southern Shores-23",3001164,2376750,1000000,1800000,650000,1499233,{"$nulls":6},{"$f":"SUM(B3:M3)","v":10327147},null,"Southern Shores-23",10327147]
["Nags Head-23",1408426,0,2102000,575000,280000,1687121,{"$nulls":6},6052547,null,"Nags Head-23",6052547]
["Kill Devil Hills -23",795000,2230000,1150000,250000,895000,2243000,{"$nulls":6},7563000,null,"Kill Devil Hills -23",7563000]
["Kitty Hawk-23",186000,1183000,250000,745680,446491,400000,{"$nulls":6},3211171,null,"Kitty Hawk-23",3211171]
["Duck - 23",850000,0,503000,1700333,1200000,0,{"$nulls":6},4253333,null,"Duck - 23",4253333]
["Hatteras Island -23",3225100,2431220,653000,3189711,3546424,6085250,{"$nulls":6},19130705,null,"Hatteras Island -23",19130705]
["Roanoke Island -23",855000,895000,758525,1778286,2502367,1913948,{"$nulls":6},8703126,null,"Roanoke Island -23",8703126]
["KDH - UnIncorporated - 23",2060000,2025000,610400,135000,885000,1754000,{"$nulls":6},7469400,null,"KDH - UnIncorporated - 23",7469400]
[]
[]
[null,"2022-01-21","2022-02-21","2022-03-21","2022-04-21","2022-05-21","2022-06-21","2022-07-21","2022-08-21","2022-09-21","2022-10-21","2022-11-21","2022-12-21"]
["Manteo - 22",1300333,992626,889626,169300,1300000,724000,0,1215000,0,0,0,0,{"$f":"SUM(B14:M14)","v":6590885},null,{"$f":"A14","v":"Manteo - 22"},{"$f":"N14","v":6590885}]
["Southern Shores-22",1492849,2802305,1530500,3296800,952000,250000,1609109,2485000,850000,3740600,2450000,1500217,{"$f":"SUM(B15:M15)","v":22959380},null,"Southern Shores-22",22959380]
["Nags Head-22",0,315000,880000,702000,640000,379000,0,2568000,2910000,2184000,582000,1938733,13098733,null,"Nags Head-22",13098733]
["Kill Devil Hills -22",3760000,2055000,4591243,2146163,2387000,1940000,1035000,15116967,1573732,5690000,1948000,915000,43158105,null,"Kill Devil Hills -22",43158105]
["Kitty Hawk-22",700000,1730000,100000,425000,750000,1955000,1332000,0,1453000,1738231,1101400,1997258,13281889,null,"Kitty Hawk-22",13281889]
["Duck - 22",1043245,1278400,6338000,1853553,0,639000,990000,4400000,2155000,2337357,0,0,21034555,null,"Duck - 22",21034555]
["Hatteras Island -22",3750566,2270655,4005000,2349315,3005000,4453544,3927880,6330046,2280000,2956225,2891837,439028,38659096,null,"Hatteras Island -22",38659096]
["Roanoke Island -22",997000,800000,2956854,1236928,2195000,2412000,1866000,1380465,2536000,3295690,0,100238,19776175,null,"Roanoke Island -22",19776175]
["KDH - UnIncorporated - 22",825000,3317300,2553123,400000,0,0,150000,1788800,1460000,2243099,1125000,0,13862322,null,"KDH - UnIncorporated - 22",13862322]
[]
[]
[]
[null,"2021-01-21","2021-02-21","2021-03-21","2021-04-21","2021-05-21","2021-06-21","2021-07-21","2021-08-21","2021-09-21","2021-10-21","2021-11-21","2021-12-21"]
["Manteo - 21",360000,1588000,380000,0,855000,0,0,0,320000,917000,800000,1590000,{"$f":"SUM(B27:M27)","v":6810000},null,{"$f":"A27","v":"Manteo - 21"},{"$f":"N27","v":6810000}]
["Southern Shores-21",1072000,1896000,1380000,3282393,2425212,0,0,2150000,2421901,2730025,605587,1466600,{"$f":"SUM(B28:M28)","v":19429718},null,"Southern Shores-21",19429718]
["Nags Head-21",450000,1250000,1606000,0,1642628,1280000,1575000,700000,1995270,1605000,1523000,2441925,16068823,null,"Nags Head-21",16068823]
["Kill Devil Hills -21",2605000,2315000,2165125,657410,2320000,2660000,2060000,7245000,3201000,1210000,2310000,3066181,31814716,null,"Kill Devil Hills -21",31814716]
["Kitty Hawk-21",845000,623000,0,500000,0,95000,2803847,740000,1750000,780000,675000,1341622,10153469,null,"Kitty Hawk-21",10153469]
["Duck - 21",945700,1242014,612000,612000,0,2235800,0,0,0,899000,1971478,569225,9087217,null,"Duck - 21",9087217]
["Hatteras Island -21",3653200,1541925,2038350,1694500,2195568,2072000,2251000,2448481,1292000,770000,2651214,3429973,26038211,null,"Hatteras Island -21",26038211]
["Roanoke Island -21",153000,464624,2499000,1899382,270000,830000,788000,3484581,953073,1103000,955000,1870753,15270413,null,"Roanoke Island -21",15270413]
["KDH - UnIncorporated - 21",792500,1908600,2025000,156000,301900,380000,400000,1422000,285000,1000000,1600000,481800,10752800,null,"KDH - UnIncorporated - 21",10752800]
[{"$nulls":13},{"$f":"SUM(N27:N35)","v":145425367}]
[]
[null,"2020-01-20","2020-02-20","2020-03-20","2020-04-20","2020-05-20","2020-06-20","2020-07-20","2020-08-20","2020-09-20","2020-10-20","2020-11-20","2020-12-20","Total"]
["Manteo - 20",181000,0,0,0,450000,200000,395000,492787,0,0,1170000,610502,{"$f":"SUM(B39:M39)","v":3499289},null,{"$f":"A39","v":"Manteo - 20"},{"$f":"N39","v":3499289}]
["Southern Shores-20",700000,1258285,2176830,700000,175000,1545772,1912540,0,1356670,3176930,0,1575400,14577427,null,"Southern Shores-20",14577427]
["Nags Head-20",367797,1150000,572000,150000,0,0,686336,610000,1406000,1025000,0,2145000,8112133,null,"Nags Head-20",8112133]
["Kill Devil Hills -20",1294765,2769000,1025000,1167000,515000,1645000,540000,1025000,2738700,1045000,1785000,625000,16174465,null,"Kill Devil Hills -20",16174465]
["Kitty Hawk-20",0,743460,1175000,150000,1105200,515900,965000,0,1160000,0,1148957,845000,7808517,null,"Kitty Hawk-20",7808517]
["Duck - 20",0,525000,1230000,1300000,468000,0,443000,650000,0,2849901,615000,3006215,11087116,null,"Duck - 20",11087116]
["Hatteras Island -20",1457000,0,387750,1143700,750000,930000,1233570,435000,345000,700000,3911000,4104000,15397020,null,"Hatteras Island -20",15397020]
["Roanoke Island -20",645000,1015000,1528800,66800,976323,1000000,395000,1748000,1160000,1140000,717000,970000,11361923,null,"Roanoke Island -20",11361923]
["KDH - UnIncorporated - 20",0,250000,1160500,0,185000,190000,1620800,1337890,2551209,4450000,1677500,420000,13842899,null,"KDH - UnIncorporated - 20",13842899]
[null,{"$f":"SUM(B39:B47)","v":4645562},7710745,9255880,4677500,4624523,6026672,8191246,6298677,10717579,14386831,11024457,{"$f":"SUM(M39:M47)","v":14301117},101860789]
[]
[null,"2019-01-01","2019-02-01","2019-03-01","2019-04-01","2019-05-01","2019-06-01","2019-07-01","2019-08-01","2019-09-01","2019-10-01","2019-11-01","2019-12-01","Total"]
["Manteo - 19",175261,0,0,1425000,0,0,0,335000,0,0,0,0,{"$f":"SUM(B51:M51)","v":1935261},null,{"$f":"A51","v":"Manteo - 19"},{"$f":"N51","v":1935261}]
["Southern Shores-19",1710000,0,0,1158000,754000,639897,0,2635000,0,2022920,2219138,0,11138955,null,"Southern Shores-19",11138955]
["Nags Head-19",500000,185000,230000,1268000,0,200000,875000,900000,0,1632561,200000,0,5990561,null,"Nags Head-19",5990561]
["Kill Devil Hills -19",718000,65000,755000,540000,605000,8100000,150000,1856719,360000,4035000,5405000,1081000,23670719,null,"Kill Devil Hills -19",23670719]
["Kitty Hawk-19",963800,596246,280000,452655,1078912,485200,354000,360000,0,0,750000,350000,5670813,null,"Kitty Hawk-19",5670813]
["Duck - 19",1534500,507000,0,0,0,2890476,0,348000,0,871850,0,850938,7002764,null,"Duck - 19",7002764]
["Hatteras Island -19",975352,1000000,585000,375000,1435000,1100000,1201864,3926200,3341000,1819411,1627000,1834470,19220297,null,"Hatteras Island -19",19220297]
["Roanoke Island -19",0,1046697,1077750,325000,260000,637068,1290500,150000,420000,1208000,0,635000,7050015,null,"Roanoke Island -19",7050015]
["KDH - UnIncorporated - 19",500000,1275000,859000,200000,782500,480000,350000,551000,370000,230000,990500,1340000,7928000,null,"KDH - UnIncorporated - 19",7928000]
[null,{"$f":"SUM(B51:B59)","v":7076913},4674943,3786750,5743655,4915412,14532641,4221364,11061919,4491000,11819742,11191638,6091408,89607385]
[]
[null,"2018-01-01","2018-02-01","2018-03-01","2018-04-01","2018-05-01","2018-06-01","2018-07-01","2018-08-01","2018-09-01","2018-10-01","2018-11-01","2018-12-01","Total"]
["Manteo - 18",0,0,0,305000,203000,0,0,0,1334000,500000,0,0,{"$f":"SUM(B63:M63)","v":2342000},null,{"$f":"A63","v":"Manteo - 18"},{"$f":"N63","v":2342000}]
["Southern Shores-18",215000,440000,380000,2325000,1085156,170000,1350000,1303345,911104,1100000,967472,1080745,11327822,null,"Southern Shores-18",11327822]
["Nags Head-18",1908000,3631235,749500,400000,1661900,380000,1770000,2468539,240000,1336921,503000,225000,15274095,null,"Nags Head-18",15274095]
["Kill Devil Hills -18",655000,156067,1370000,548000,695000,1700000,935000,1393000,2939448,3429329,770000,6409470,21000314,null,"Kill Devil Hills -18",21000314]
["Kitty Hawk-18",1705000,775000,767000,398900,1185003,525000,0,1180000,400000,2500000,720000,3234543,13390446,null,"Kitty Hawk-18",13390446]
["Duck - 18",0,512900,1027518,0,622000,0,1661472,737092,590950,83700,650000,1200000,7085632,null,"Duck - 18",7085632]
["Hatteras Island -18",575720,860575,640000,740000,2152748,300000,1515000,1550000,700000,340000,770000,400000,10544043,null,"Hatteras Island -18",10544043]
["Roanoke Island -18",0,461900,1373095,850000,1043000,820000,0,1453461,600000,40000,1315000,0,7956456,null,"Roanoke Island -18",7956456]
["KDH - UnIncorporated - 18",1362640,2290000,1570000,556320,502000,1100000,442000,667500,910000,1163000,697000,0,11260460,null,"KDH - UnIncorporated - 18",11260460]
[null,{"$f":"SUM(B63:B71)","v":6421360},9127677,7877113,6123220,9149807,4995000,7673472,10752937,8625502,10492950,6392472,12549758,100181268]
[]
[null,"2017-01-01","2017-02-01","2017-03-01","2017-04-01","2017-05-01","2017-06-01","2017-07-01","2017-08-01","2017-09-01","2017-10-01","2017-11-01","2017-12-01","Total"]
["Manteo - 17 ",1020048,585900,0,240000,174000,0,0,0,0,586600,358712,0,{"$f":"SUM(B75:M75)","v":2965260},null,{"$f":"A75","v":"Manteo - 17 "},{"$f":"SUM(B75:M75)","v":2965260}]
["Southern Shores - 17",839125,1823301,295000,899000,3646156,729957,715000,640435,1696000,2350032,3085000,0,16719006,null,"Southern Shores - 17",16719006]
["Nags Head - 17",1789000,527976,1060000,381000,800976,0,320000,0,3170000,2449200,1112000,3731000,15341152,null,"Nags Head - 17",15341152]
["Kill Devil Hills - 17",285000,534816,1987722,540000,856633,804000,3965042,535932,5400063,952300,1745000,909900,18516408,null,"Kill Devil Hills - 17",18516408]
["Kitty Hawk - 17",678671,0,440000,645000,1724608,0,350000,200000,539502,641126,674000,935000,6827907,null,"Kitty Hawk - 17",6827907]
["Duck - 17",0,1700000,0,0,0,2255517,445000,0,497000,732000,0,1525819,7155336,null,"Duck - 17",7155336]
["Hatteras Island - 17",0,541949,1286000,862000,314000,1912000,670000,1021388,536000,1470000,1260000,399000,10272337,null,"Hatteras Island - 17",10272337]
["Roanoke Island - 17",247328,265000,1122660,280000,480000,602615,2278500,302504,395380,944200,850000,0,7768187,null,"Roanoke Island - 17",7768187]
["KDH - UnIncorporated - 17",1325000,1229000,831000,660000,538000,125000,751004,1420000,601555,1105300,457000,142000,9184859,null,"KDH - UnIncorporated - 17",9184859]
[null,{"$f":"SUM(B75:B83)","v":6184172},7207942,7022382,4507000,8534373,6429089,9494546,4120259,12835500,11230758,9541712,7642719,94750452]
[]
[null,"2016-01-01","2016-02-01","2016-03-01","2016-04-01","2016-05-01","2016-06-01","2016-07-01","2016-08-01","2016-09-01","2016-10-01","2016-11-01","2016-12-01","Total"]
["Manteo",306600,689000,200500,956000,0,645600,731925,300000,1394000,667402,0,1161000,{"$f":"SUM(B87:M87)","v":7052027}]
["Southern Shores",686750,1035000,0,0,0,4129000,1861950,198800,1404589,0,1659000,180000,11155089]
["Nags Head",842046,434407,410000,3289700,536000,1890000,2401000,4322500,0,175000,1814200,1714825,17829678]
["Kill Devil Hills",1238400,1377790,1060000,1368253,2734816,854817,1525633,2494000,2235600,1118817,492993,3648247,20149366]
["Kitty Hawk",1288000,0,0,0,1287208,1016110,250000,993979,787664,0,320000,670000,6612961]
["Duck",0,200000,320000,0,0,290000,1064775,0,425000,1984000,0,185000,4468775]
["Hatteras Island",1200950,438000,1440000,1614000,3115750,1550000,1673000,915000,889000,575000,1865000,2315000,17590700]
["Roanoke Island",402000,670000,144000,170000,495000,871112,496365,556091,799298,685500,385000,430000,6104366]
["KDH - UnIncorporated",1145370,1295000,235000,1157200,613675,1233000,525000,150000,540000,960000,110880,200000,8165125]
[null,{"$f":"SUM(B87:B95)","v":7110116},6139197,3809500,8555153,8782449,12479639,10529648,9930370,8475151,6165719,6647073,10504072,99128087]
[]
["Total New Residential Permits","2016-01-01","2016-02-01","2016-03-01","2016-04-01","2016-05-01","2016-06-01","2016-07-01","2016-08-01","2016-09-01","2016-10-01","2016-11-01","2016-12-01"]
["2016 Total",{"$f":"B96","v":7110116},6139197,3809500,8555153,8782449,12479639,10529648,9930370,8475151,6165719,6647073,10504072,{"$f":"SUM(B99:M99)","v":99128087}]
["2017 Total",{"$f":"B84","v":6184172},7207942,7022382,4507000,8534373,6429089,9494546,4120259,12835500,11230758,9541712,7642719,{"$f":"SUM(B100:M100)","v":94750452}]

{"sheet":"YOY DC Building Permit Value","index":66,"n_rows":65,"n_cols":174,"rows_kept":65,"cut":false,"hidden":false,"merged":[]}
[null,"January","February","March","April","May","June","July","August","September","October","November","December","Total"]
["Value of Building Permits 2011",7496431,10091737,9567503,7514044,9168320,7497577,6014554,17464009,6404517,8141008,12026299,7396434,{"$f":"SUM(B2:M2)","v":108782433}]
["Value of Building Permits 2012",11053585,11510484,9874647,9356821,14492084,8279059,6146971,9403855,10399466,10329348,17182456,14855371,132884147,{"$nulls":159},366]
["Value of Building Permits 2013",11784344,8412801,5455805,8345530,7183277,7580929,7991742,8481667,11287830,19996613,11086748,7017579,114624865,{"$nulls":159},106]
["Value of Building Permits 2014",8867725,13575305,8780089,9562610,10522773,8732971,8240251,11455718,16752135,19824407,18791870,15463647,150569501,{"$nulls":159},340]
["Value of Building Permits 2015",20367498,11411754,9508690,12183268,7159202,16733750,10854489,16074136,15588572,12684339,18527629,18580573,169673900,{"$nulls":158},205,210]
["Value of Building Permits 2016",12150980,13909600,11171053,15561096,14779185,19351104,18145808,14756059,11391372,14880732.82,18709973,21094438,185901400.81999999,{"$nulls":159},251]
["Value of Building Permints 2017",12457177.9,18120230.460000001,14055555.15,18183137,13363267,13437572.93,13199184,9452058,12835500,11230758,9541712,7642818,153518970.44,{"$nulls":159},73]
["Value of Building Permints 2018",15101652,19018127,16962409,12653144,14656773,13524248,13714399,19053065,16045148,18905974,13207652,20266475,193109066,{"$nulls":159},127]
["Value of Building Permints 2019",27814697,11397493,14022815,13242804,12161104,20030635,12512145,16546975,8881735.9299999997,19908988,17441436,13093397,187054224.93000001]
["Value of Building Permints 2020",13190553,17892110,16882175,9207760,14697086,16867475,14550684,11899373,22600227,22766036,18330004,14301116,193184599]
["Value of Building Permints 2021",21115682,22240673,22334389,20007060,17344248,16723021,19588957,23275886,23695753,21771672,23444221,25700155,257241717]
["Value of Building Permints 2022",26303873,27158091,36492482,24278535,21835517,24108451,35671149,47823992,32771622,45930287,28348098,23182917,{"$f":"SUM(B13:M13)","v":373905014}]
["Value of Building Permints 2023",30594013,25817254,43531108,33110346,29985015,39623680,{"$nulls":6},{"$f":"SUM(B14:M14)","v":202661416}]
[]
["Value of Building Permits 2011",7496431,10091737,9567503,7514044,9168320,7497577,6014554,17464009,6404517,8141008,12026299,7396434,{"$f":"SUM(B16:M16)","v":108782433}]
["Value of Building Permits 2012",11053585,11510484,9874647,9356821,14492084,8279059,6146971,9403855,10399466,10329348,17182456,14855371,132884147,{"$nulls":159},366]
["Value of Building Permits 2013",11784344,8412801,5455805,8345530,7183277,7580929,7991742,8481667,11287830,19996613,11086748,7017579,114624865,{"$nulls":159},106]
["Value of Building Permits 2014",8867725,13575305,8780089,9562610,10522773,8732971,8240251,11455718,16752135,19824407,18791870,15463647,150569501,{"$nulls":159},340]
["Value of Building Permits 2015",20367498,11411754,9508690,12183268,7159202,16733750,10854489,16074136,15588572,12684339,18527629,18580573,169673900,{"$nulls":158},205,210]
["Value of Building Permits 2016",12150980,13909600,11171053,15561096,14779185,19351104,18145808,14756059,11391372,14880732.82,18709973,21094438,185901400.81999999,{"$nulls":159},251]
["Value of Building Permints 2017",12457177.9,18120230.460000001,14055555.15,18183137,13363267,13437572.93,13199184,9452058,12835500,11230758,9541712,7642818,153518970.44,{"$nulls":159},73]
["Value of Building Permints 2018",15101652,19018127,16962409,12653144,14656773,13524248,13714399,19053065,16045148,18905974,13207652,20266475,193109066,{"$nulls":159},127]
["Value of Building Permints 2019",27814697,11397493,14022815,13242804,12161104,20030635,12512145,16546975,8881735.9299999997,19908988,17441436,13093397,187054224.93000001]
["Value of Building Permints 2020",13190553,17892110,16882175,9207760,14697086,16867475,14550684,11899373,22600227,22766036,18330004,14301116,193184599]
["Value of Building Permints 2021",21115682,22240673,22334389,20007060,17344248,16723021,19588957,23275886,23695753,21771672,23444221,25700155,257241717]
["Value of Building Permints 2022",26303873,27158091,36492482,24278535,21835517,24108451,35671149,47823992,32771622,45930287,28348098,23182917,{"$f":"SUM(B27:M27)","v":373905014}]
[]
[null,"Y-O-Y Total Building Permit Comparision as of April 2020",{"$nulls":171},10]
[2011,{"$f":"SUM(B2:G2)","v":51335612},{"$nulls":171},1]
[2012,64566680]
[2013,48762686]
[2014,60041473]
[2015,77364162]
[2016,86923018,{"$nulls":171},9]
[2017,89616940.439999998,{"$nulls":171},5]
[2018,91916353,{"$nulls":171},64]
[2019,98669548,{"$nulls":171},760]
[2020,88737159,{"$nulls":171},1497]
[2021,119765073,{"$nulls":171},9]
[2022,160176949,{"$nulls":171},2]
[2023,202661416,{"$nulls":171},0]
[{"$nulls":173},402]
[{"$nulls":173},7]
[{"$nulls":173},15]
{"$rows_empty":17}
[{"$nulls":173},150]
[{"$nulls":173},58]
[{"$nulls":173},2]

{"sheet":"NC Building Permit Data","index":67,"n_rows":38,"n_cols":174,"rows_kept":38,"cut":false,"hidden":true,"merged":[[0,4,0,5]]}
[null,"2017 - Total Residential New Construction Building Permits",null,null,"YOY Building Permit Value"]
["Manteo",{"$f":"'New Const Permits'!N14","v":9},null,null,"Value of Building Permits 2015",{"$f":"'YOY DC Building Permit Value'!E20","v":12183268}]
["Southern Shores",{"$f":"'New Const Permits'!N15","v":31},null,null,"Value of Building Permits 2016",{"$f":"'YOY DC Building Permit Value'!E21","v":15561096},{"$nulls":167},366]
["Nags Head",{"$f":"'New Const Permits'!N16","v":37},null,null,"Value of Building Permints 2017",{"$f":"'YOY DC Building Permit Value'!E22","v":18183137},{"$nulls":167},106]
["Kill Devil Hills",{"$f":"'New Const Permits'!N17","v":74},{"$nulls":171},340]
["Kitty Hawk",{"$f":"'New Const Permits'!N18","v":22},{"$nulls":170},205,210]
["Duck",{"$f":"'New Const Permits'!N19","v":11},{"$nulls":171},251]
["Total",{"$f":"'New Const Permits'!#REF!","v":{"$error":"#REF!"}},{"$nulls":171},73]
[{"$nulls":173},127]
[null,"YTD 2017 Total Residential New Construction Building Permit Value",{"$nulls":171},10]
["Kill Devil Hills",{"$f":"'DC New Const Value'!N78","v":18516408},{"$nulls":171},1]
["Southern Shores",{"$f":"'DC New Const Value'!N76","v":16719006}]
["Hatteras Island",{"$f":"'DC New Const Value'!N81","v":10272337}]
["KDH - UnIncorporated",{"$f":"'DC New Const Value'!N83","v":9184859}]
["Roanoke Island",{"$f":"'DC New Const Value'!N82","v":7768187}]
["Nags Head",{"$f":"'DC New Const Value'!N77","v":15341152},{"$nulls":171},9]
["Duck",{"$f":"'DC New Const Value'!N80","v":7155336},{"$nulls":171},5]
["Kitty Hawk",{"$f":"'DC New Const Value'!N79","v":6827907},{"$nulls":171},64]
["Manteo",{"$f":"'DC New Const Value'!N75","v":2965260},{"$nulls":171},760]
[null,{"$f":"'DC New Const Value'!N84","v":94750452},{"$nulls":171},1497]
[{"$nulls":173},9]
[]
[null,"YTD 2016 Total Residential New Construction Building Permit Value"]
["Kill Devil Hills",{"$f":"'DC New Const Value'!N90","v":20149366}]
["Nags Head",{"$f":"'DC New Const Value'!N89","v":17829678}]
["Hatteras Island",{"$f":"'DC New Const Value'!N93","v":17590700}]
["Southern Shores",{"$f":"'DC New Const Value'!N88","v":11155089}]
["KDH - UnIncorporated",{"$f":"'DC New Const Value'!N95","v":8165125}]
["Manteo",{"$f":"'DC New Const Value'!N87","v":7052027}]
["Kitty Hawk",{"$f":"'DC New Const Value'!N91","v":6612961}]
["Roanoke Island",{"$f":"'DC New Const Value'!N94","v":6104366}]
["Duck",{"$f":"'DC New Const Value'!N92","v":4468775}]
[null,{"$f":"SUM(B24:B32)","v":99128087}]
[]
[]
[{"$nulls":173},150]
[{"$nulls":173},58]
[{"$nulls":173},2]

{"sheet":"Total CC Permit Value y-o-y","index":70,"n_rows":121,"n_cols":14,"rows_kept":121,"cut":false,"hidden":false,"merged":[[42,0,42,12],[62,0,62,12],[21,0,21,12],[0,0,0,12]]}
["Currituck 2023"]
[null,"2022-01-21","2022-02-21","2022-03-21","2022-04-21","2022-05-21","2022-06-21","2022-07-21","2022-08-21","2022-09-21","2022-10-21","2022-11-21","2022-12-21"]
["Aydlett",626000,0,0,805600,270000,582600,{"$nulls":6},{"$f":"SUM(B3:M3)","v":2284200}]
["Barco",150000,0,450000,0,0,0,{"$nulls":6},{"$f":"SUM(B4:M4)","v":600000}]
["Corova",1390127,2892900,2728971,1882920,8667395,200000,{"$nulls":6},{"$f":"SUM(B5:M5)","v":17762313}]
["Coinjock",282200,200000,180000,49900,350000,675000,{"$nulls":6},{"$f":"SUM(B6:M6)","v":1737100}]
["Corolla",2639000,2964058,2375000,5128382,7656812,7259325,{"$nulls":6},{"$f":"SUM(B7:M7)","v":28022577}]
["Currituck",0,601385,0,250000,300000,250000,{"$nulls":6},{"$f":"SUM(B8:M8)","v":1401385}]
["Gibbs Woods",0,0,0,0,0,0,{"$nulls":6},0]
["Grandy",535000,450000,75000,305960,225000,675000,{"$nulls":6},2265960]
["Jarvisburg",100000,1750000,95000,0,0,0,{"$nulls":6},1945000]
["Harbinger",0,500000,0,0,0,0,{"$nulls":6},500000]
["Knotts Island",200000,0,0,0,0,0,{"$nulls":6},200000]
["Moyock",5878570,2566527,6762648,3675981,539472,3949032,{"$nulls":6},23372230]
["Point Harbor",0,0,0,0,0,0,{"$nulls":6},0]
["Popular Branch",0,0,0,0,0,0,{"$nulls":6},0]
["Powells Point",0,0,400000,991653,0,0,{"$nulls":6},1391653]
["Shawboro",0,0,0,0,900000,0,{"$nulls":6},900000]
["Total",{"$f":"SUM(B3:B18)","v":11800897},{"$f":"SUM(C3:C18)","v":11924870},{"$f":"SUM(D3:D18)","v":13066619},13090396,18908679,13590957,0,0,0,0,0,0,{"$f":"SUM(N3:N18)","v":82382418}]
[]
[]
["Currituck 2022"]
[null,"2022-01-21","2022-02-21","2022-03-21","2022-04-21","2022-05-21","2022-06-21","2022-07-21","2022-08-21","2022-09-21","2022-10-21","2022-11-21","2022-12-21"]
["Aydlett",250000,0,1144500,400000,0,352000,0,400000,0,0,185000,250000,{"$f":"SUM(B24:D24)","v":1394500}]
["Barco",200000,160000,170000,400000,0,0,12000000,0,0,0,0,400000,{"$f":"SUM(B25:D25)","v":530000}]
["Corova",1049000,937371,1757000,1310000,539900,3275520,2984000,2445420,3400340,542420,4185746,542420,3743371]
["Coinjock",0,0,100000,0,0,190000,0,1325000,260000,973000,350000,0,100000]
["Corolla",89077878,1551000,8007649,4609000,10750000,3988000,1813000,5341897,4316000,7422755,3640000,1845458,98636527]
["Currituck",300000,0,200000,0,0,750000,0,460000,391000,400000,0,0,500000]
["Gibbs Woods",0,0,0,0,0,0,0,0,0,404000,0,0,0]
["Grandy",1275000,863583,875000,1439000,998000,0,855000,445000,1050000,495000,1355000,415000,3013583]
["Jarvisburg",0,0,0,0,0,0,635000,0,0,0,125000,175000,0]
["Harbinger",970500,0,0,365000,0,0,125000,742990,0,0,0,350000,970500]
["Knotts Island",0,0,174000,200000,0,0,0,85000,0,915000,0,150000,174000]
["Moyock",2058709,1787137,2966491,1347425,670415,3243297,5083937,6032153,5323736,2381306,1895006,2552833,6812337]
["Point Harbor",220000,298000,0,0,0,240000,0,0,0,0,0,0,518000]
["Popular Branch",0,0,0,400000,993500,0,0,220000,0,250000,0,0,0]
["Powells Point",0,429000,0,0,450000,0,0,0,460000,0,500000,327900,429000]
["Shawboro",0,200000,0,0,0,0,0,0,0,0,615441,250000,200000]
["Total",{"$f":"SUM(B24:B39)","v":95401087},6226091,15394640,10470425,14401815,12038817,23495937,17497460,{"$f":"SUM(J24:J39)","v":15201076},{"$f":"SUM(K24:K39)","v":13783481},{"$f":"SUM(L24:L39)","v":12851193},{"$f":"SUM(M24:M39)","v":7258611},{"$f":"SUM(N24:N39)","v":117021818}]
[]
[]
["Currituck 2021"]
[null,"2021-01-21","2021-02-21","2021-03-21","2021-04-21","2021-05-21","2021-06-21","2021-07-21","2021-08-21","2021-09-21","2021-10-21","2021-11-21","2021-12-21"]
["Aydlett",560000,1349000,160000,0,1218000,610000,475000,330000,440000,419000,110000,0,{"$f":"SUM(B45:M45)","v":5671000}]
["Barco",0,0,0,725000,135000,549000,0,null,null,0,0,0,{"$f":"SUM(B46:M46)","v":1409000}]
["Corova",710000,1526000,1257750,0,0,5911832,790278,300000,910000,1738000,4699961,1608600,19452421]
["Coinjock",0,0,0,0,275000,0,0,null,100000,270000,0,0,645000]
["Corolla",3450441,2215000,2881000,4860357,5315418,3755431,6793771,null,5832642,11347804,2030000,6221493,54703357]
["Currituck",0,0,679900,459980,0,165000,null,745000,1395000,0,275000,573800,4293680]
["Gibbs Woods",0,0,0,0,442710,439330,172735,null,null,0,0,0,1054775]
["Grandy",630500,300000,110000,0,390000,387000,320000,null,195000,1190440,200000,0,3722940]
["Jarvisburg",0,null,120000,0,0,0,0,null,null,401000,0,565000,1086000]
["Harbinger",0,495000,0,0,0,380000,0,null,null,568000,0,0,1443000]
["Knotts Island",0,0,0,1349505,0,0,376000,null,638000,154000,369000,0,2886505]
["Moyock",15465507,7609919,7228525,5164901,4908222,10744466,4207771,692000,3239600,1624800,2218290,5175295,68279296]
["Point Harbor",0,450000,0,0,0,125000,0,null,null,0,200000,275900,1050900]
["Popular Branch",0,null,0,200000,0,0,1040000,null,null,0,590000,250000,2080000]
["Powells Point",300000,1064000,0,0,0,0,0,580000,1945000,360000,495000,100000,4844000]
["Shawboro",225000,0,0,380000,869400,325000,220000,null,null,null,2475000,450000,4944400]
["Total",{"$f":"SUM(B45:B60)","v":21341448},15008919,12437175,13139743,13553750,23392059,14395555,2647000,{"$f":"SUM(J45:J60)","v":14695242},{"$f":"SUM(K45:K60)","v":18073044},{"$f":"SUM(L45:L60)","v":13662251},{"$f":"SUM(M45:M60)","v":15220088},177566274]
[]
["Currituck 2020"]
[null,"2020-01-21","2020-02-21","2020-03-21","2020-04-21","2020-05-21","2020-06-21","2020-07-21","2020-08-21","2020-09-21","2020-10-21","2020-11-21","2020-12-21"]
["Aydlett",405800,300000,160000,0,0,250000,0,0,338000,0,300000,0,{"$f":"SUM(B65:M65)","v":1753800}]
["Barco",0,0,0,0,0,0,0,0,195000,235000,0,0,430000]
["Corova",900000,0,1257750,400000,0,0,0,100000,305000,1442000,915000,140000,5459750]
["Coinjock",0,0,0,130000,0,0,400600,0,0,300000,0,450000,1280600]
["Corolla",759936,2956418,3046000,900000,1200000,5,625000,1790000,3311754,2952000,4685000,6393634,28619747]
["Currituck",379000,0,859900,268700,401000,1691700,180000,1406500,292000,410000,759497,2269538,8917835]
["Gibbs Woods",0,0,0,0,0,0,0,0,0,0,0,0,0]
["Grandy",393000,362000,110000,150000,0,0,403000,347000,475000,916500,742000,835000,4733500]
["Jarvisburg",0,0,120000,120000,0,0,145000,0,390000,493300,0,0,1268300]
["Harbinger",0,0,0,375000,0,250000,0,0,0,0,380000,0,1005000]
["Knotts Island",0,0,0,270000,0,448100,0,0,150000,200000,156000,0,1224100]
["Moyock",3487400,3023000,7142085,5732600,4929100,7833337,6916200,4172460,7970553,8535323,5628611,5590114,70960783]
["Point Harbor",368066,0,0,null,0,0,0,0,0,0,0,0,368066]
["Popular Branch",0,0,0,191000,0,250000,0,0,173000,0,0,0,614000]
["Powells Point",150000,0,0,687960,0,0,700000,608000,null,239000,0,0,2384960]
["Shawboro",0,0,0,0,523000,324900,205000,180000,672500,0,0,850000,2755400]
[null,{"$f":"SUM(B65:B80)","v":6843202},6641418,12695735,9225260,7053100,11048042,9574800,8603960,14272807,15723123,13566108,16528286,131775841]
[]
[]
[null,2021,2022,2023]
["Aydlett",{"$f":"SUM(B45:M45)","v":5671000},{"$f":"SUM(B24:H24)","v":2146500},{"$f":"N3","v":2284200}]
["Barco",1409000,12930000,{"$f":"N4","v":600000}]
["Corova",19452421,11852791,17762313]
["Coinjock",645000,290000,1737100]
["Corolla",54703357,119796527,28022577]
["Currituck",4293680,1250000,1401385]
["Gibbs Woods",1054775,0,0]
["Grandy",3722940,6305583,2265960]
["Jarvisburg",1086000,635000,1945000]
["Harbinger",1443000,1460500,500000]
["Knotts Island",2886505,374000,200000]
["Moyock",68279296,17157411,23372230]
["Point Harbor",1050900,758000,0]
["Popular Branch",2080000,1393500,0]
["Powels Point",4844000,879000,1391653]
["Shawboro",4944400,200000,900000]
["Total",177566274,{"$f":"SUM(C85:C100)","v":177428812},{"$f":"SUM(D85:D100)","v":82382418}]
[]
[]
[null,2020]
["Aydlett",{"$f":"SUM(B85:M85)","v":10101700}]
["Barco",14939000]
["Corova",49067525]
["Coinjock",2672100]
["Corolla",202522461]
["Currituck",6945065]
["Gibbs Woods",1054775]
["Grandy",12294483]
["Jarvisburg",3666000]
["Harbinger",3403500]
["Knotts Island",3460505]
["Moyock",108808937]
["Point Harbor",1808900]
["Popular Branch",3473500]
["Powels Point",7114653]
["Shawboro",6044400]
["Total",437377504]

{"sheet":"Total CC Permits y-o-y","index":73,"n_rows":121,"n_cols":14,"rows_kept":121,"cut":false,"hidden":false,"merged":[[43,0,43,12],[63,0,63,12],[21,0,21,12],[0,0,0,12]]}
["Currituck 2023"]
[null,"2022-01-21","2022-02-21","2022-03-21","2022-04-21","2022-05-21","2022-06-21","2022-07-21","2022-08-21","2022-09-21","2022-10-21","2022-11-21","2022-12-21"]
["Aydlett",1,0,0,2,1,1,{"$nulls":6},{"$f":"SUM(B3:M3)","v":5}]
["Barco",1,0,1,0,0,0,{"$nulls":6},2]
["Corova",2,2,7,5,7,1,{"$nulls":6},24]
["Coinjock",1,1,1,1,2,4,{"$nulls":6},10]
["Corolla",3,3,5,6,7,18,{"$nulls":6},42]
["Currituck",0,2,0,1,1,1,{"$nulls":6},5]
["Gibbs Woods",0,0,0,0,0,0,{"$nulls":6},0]
["Grandy",3,1,1,1,0,2,{"$nulls":6},8]
["Harbinger",0,1,0,0,1,0,{"$nulls":6},2]
["Jarvisburg",1,10,1,0,0,1,{"$nulls":6},13]
["Knotts Island",1,0,0,0,0,0,{"$nulls":6},1]
["Moyock",22,11,28,16,22,13,{"$nulls":6},112]
["Point Harbor",0,0,0,0,0,0,{"$nulls":6},0]
["Popular Branch",0,0,0,0,0,0,{"$nulls":6},0]
["Powells Point",0,0,1,3,0,0,{"$nulls":6},4]
["Shawboro",0,0,0,0,2,0,{"$nulls":6},2]
[null,{"$f":"SUM(B3:B18)","v":35},31,45,35,43,41,0,0,{"$f":"SUM(J3:J18)","v":0},{"$f":"SUM(K3:K18)","v":0},{"$f":"SUM(L3:L18)","v":0},{"$f":"SUM(M3:M18)","v":0},230]
[]
[]
["Currituck 2022"]
[null,"2022-01-21","2022-02-21","2022-03-21","2022-04-21","2022-05-21","2022-06-21","2022-07-21","2022-08-21","2022-09-21","2022-10-21","2022-11-21","2022-12-21"]
["Aydlett",1,0,3,1,0,1,0,1,0,0,1,1,{"$f":"SUM(B24:M24)","v":9}]
["Barco",1,1,1,1,0,0,6,0,0,0,0,2,12]
["Corova",2,2,5,3,2,3,6,3,6,1,5,1,39]
["Coinjock",0,0,1,0,0,1,0,1,2,2,2,0,9]
["Corolla",11,3,12,6,12,8,3,10,5,11,4,4,89]
["Currituck",1,0,1,0,0,2,0,1,1,1,0,0,7]
["Gibbs Woods",0,0,4,0,0,0,0,0,0,1,0,0,5]
["Grandy",4,0,0,5,5,0,3,2,4,2,3,2,30]
["Harbinger",2,0,0,1,0,0,1,1,0,0,0,1,6]
["Jarvisburg",0,0,0,0,0,0,2,0,0,0,1,2,5]
["Knotts Island",0,0,1,10,0,0,0,1,0,2,0,1,15]
["Moyock",9,10,13,3,3,12,16,20,18,10,7,9,130]
["Point Harbor",1,1,0,0,0,1,0,0,0,0,0,0,3]
["Popular Branch",0,0,0,1,3,0,0,1,0,1,0,0,6]
["Powells Point",0,1,0,0,2,0,0,0,1,0,1,1,6]
["Shawboro",0,1,0,0,0,0,0,0,0,0,1,1,3]
[null,{"$f":"SUM(B24:B39)","v":32},19,41,31,27,28,37,41,{"$f":"SUM(J24:J39)","v":37},{"$f":"SUM(K24:K39)","v":31},{"$f":"SUM(L24:L39)","v":25},{"$f":"SUM(M24:M39)","v":25},374]
[]
[]
[]
["Currituck 2021"]
[null,"2021-01-21","2021-02-21","2021-03-21","2021-04-21","2021-05-21","2021-06-21","2021-07-21","2021-08-21","2021-09-21","2021-10-21","2021-11-21","2021-12-21"]
["Aydlett",2,4,1,0,4,1,2,1,2,1,1,0,{"$f":"SUM(B46:K46)","v":18}]
["Barco",0,0,0,0,1,3,0,0,0,0,0,0,{"$f":"SUM(B47:K47)","v":4}]
["Corova",2,0,4,2,2,9,1,1,3,4,5,3,28]
["Coinjock",0,0,null,0,1,0,1,0,1,1,0,0,4]
["Corolla",8,4,6,7,10,5,9,0,7,18,3,9,74]
["Currituck",0,0,2,2,0,1,0,2,4,0,1,2,11]
["Gibbs Woods",0,0,0,0,2,2,1,0,0,0,0,0,5]
["Grandy",2,2,1,0,2,2,2,0,1,5,1,0,17]
["Harbinger",0,0,0,0,0,1,0,0,0,1,0,0,2]
["Jarvisburg",0,0,1,0,0,0,0,0,1,1,0,2,3]
["Knotts Island",0,0,0,6,0,0,1,0,2,1,1,1,10]
["Moyock",57,29,33,18,17,30,13,1,9,4,9,17,211]
["Point Harbor",0,1,0,0,0,1,0,0,0,0,1,1,2]
["Popular Branch",0,0,0,1,0,0,3,0,0,0,2,1,4]
["Powells Point",1,4,0,0,0,0,0,2,0,1,1,1,8]
["Shawboro",0,0,0,1,2,1,1,0,9,0,5,1,14]
[null,{"$f":"SUM(B46:B61)","v":72},44,48,37,41,56,34,7,{"$f":"SUM(J46:J61)","v":39},{"$f":"SUM(K46:K61)","v":37},{"$f":"SUM(L46:L61)","v":30},{"$f":"SUM(M46:M61)","v":38},{"$f":"SUM(B62:K62)","v":415}]
[]
["Currituck 2020"]
[null,"2020-01-21","2020-02-21","2020-03-21","2020-04-21","2020-05-21","2020-06-21","2020-07-21","2020-08-21","2020-09-21","2020-10-21","2020-11-21","2020-12-21"]
["Aydlett",1,2,1,0,0,1,0,0,1,0,1,0,{"$f":"SUM(B66:M66)","v":7}]
["Barco",0,0,0,0,0,0,0,0,1,1,0,0,2]
["Corova",2,0,4,1,0,0,0,1,1,4,2,1,16]
["Coinjock",0,0,0,1,0,0,0,0,0,1,0,2,4]
["Corolla",5,4,7,2,1,5,2,6,8,7,9,12,68]
["Currituck",2,0,3,1,2,8,1,4,1,1,5,3,31]
["Gibbs Woods",0,0,0,0,0,0,0,0,0,0,0,0,0]
["Grandy",1,2,1,1,0,0,2,3,2,5,3,4,24]
["Harbinger",0,0,0,1,0,1,0,0,0,0,1,0,3]
["Jarvisburg",0,0,1,1,0,2,1,0,3,4,0,0,12]
["Knotts Island",0,0,0,2,0,2,0,0,1,1,1,0,7]
["Moyock",12,12,33,23,25,34,27,19,31,36,19,25,296]
["Point Harbor",1,0,0,0,0,0,0,0,0,0,0,0,1]
["Popular Branch",0,0,0,1,0,2,0,0,1,0,0,0,4]
["Powells Point",1,0,0,2,0,0,2,1,3,1,0,0,10]
["Shawboro",0,0,0,0,1,1,1,1,null,null,0,4,8]
[null,{"$f":"SUM(B66:B81)","v":25},20,50,36,29,56,36,35,53,61,41,51,493]
[]
[null,2021,2022,2023]
["Aydlett",{"$f":"SUM(B46:K46)","v":18},{"$f":"SUM(B24:F24)","v":5},{"$f":"N3","v":5}]
["Barco",4,4,{"$f":"N4","v":2}]
["Corova",28,14,24]
["Coinjock",4,1,10]
["Corolla",74,44,42]
["Currituck",11,2,5]
["Gibbs Woods",{"$f":"SUM(B52:K52)","v":5},4,0]
["Grandy",17,14,8]
["Harbinger",2,3,2]
["Jarvisburg",3,0,13]
["Knotts Island",10,11,1]
["Moyock",211,38,112]
["Point Harbor",2,2,0]
["Popular Branch",4,4,0]
["Powells Point",8,3,4]
["Shawboro",14,1,2]
["Total",{"$f":"SUM(B62:K62)","v":415},{"$f":"SUM(C85:C100)","v":150},230]
[]
[]
[null,2020,2021]
["Aydlett",{"$f":"SUM(B86:M86)","v":10},{"$f":"SUM(B66:M66)","v":7}]
["Barco",66,2]
["Corova",15,16]
["Coinjock",160,4]
["Corolla",18,68]
["Currituck",9,31]
["Gibbs Woods",39,0]
["Grandy",7,24]
["Harbinger",16,3]
["Jarvisburg",22,12]
["Knotts Island",361,7]
["Moyock",4,296]
["Point Harbor",8,1]
["Popular Branch",15,4]
["Powells Point",17,10]
["Shawboro",795,8]
["Total",0,493]

{"sheet":"Data Tables","index":74,"n_rows":139,"n_cols":174,"rows_kept":139,"cut":false,"hidden":false,"merged":[[91,1,91,10],[92,1,92,10],[93,1,93,4],[93,6,93,10],[94,1,94,10],[95,1,95,2],[96,1,96,2],[97,1,97,2],[81,1,81,2],[82,1,82,2],[83,1,83,2],[84,1,84,2],[85,1,85,2],[86,1,86,2],[87,1,87,2],[88,1,88,2],[89,1,89,2],[138,1,138,2],[127,1,127,2],[128,1,128,2],[129,1,129,2],[130,1,130,2],[131,1,131,2],[132,1,132,2],[133,1,133,2],[49,1,49,2],[50,1,50,2],[51,1,51,2],[52,1,52,2],[53,1,53,2],[54,1,54,2],[55,1,55,2],[56,1,56,2],[57,1,57,2],[58,1,58,2],[59,1,59,10],[60,1,60,10],[61,1,61,10],[62,6,62,10],[62,1,62,4],[63,1,63,2],[123,1,123,10],[124,1,124,4],[124,6,124,10],[125,1,125,10],[126,1,126,2],[134,1,134,2],[135,1,135,2],[136,1,136,2],[137,1,137,2],[113,1,113,2],[114,1,114,2],[115,1,115,2],[116,1,116,2],[117,1,117,2],[118,1,118,2],[119,1,119,2],[120,1,120,2],[122,1,122,10],[103,1,103,2],[105,1,105,10],[106,1,106,10],[107,1,107,10],[108,1,108,2],[109,1,109,2],[110,1,110,2],[111,1,111,2],[112,1,112,2],[46,1,46,2],[47,1,47,2],[48,1,48,2],[98,1,98,2],[99,1,99,2],[100,1,100,2],[101,1,101,2],[102,1,102,2],[64,1,64,2],[65,1,65,2],[66,1,66,2],[67,1,67,2],[68,1,68,2],[69,1,69,2],[70,1,70,2],[71,1,71,2],[72,1,72,2],[73,1,73,2],[74,1,74,2],[75,1,75,2],[77,1,77,10],[78,1,78,10],[79,1,79,10],[80,1,80,10],[35,1,35,2],[36,1,36,2],[37,1,37,2],[38,1,38,2],[39,1,39,2],[40,1,40,2],[42,1,42,10],[43,1,43,10],[45,1,45,10],[26,1,26,2],[27,1,27,2],[28,1,28,2],[29,1,29,2],[30,1,30,2],[31,1,31,2],[32,1,32,2],[33,1,33,2],[34,1,34,2],[18,1,18,2],[19,1,19,2],[21,1,21,10],[22,1,22,10],[23,1,23,4],[23,6,23,10],[23,14,23,17],[24,1,24,2],[25,1,25,2],[9,1,9,2],[10,1,10,2],[11,1,11,2],[12,1,12,2],[13,1,13,2],[14,1,14,2],[15,1,15,2],[16,1,16,2],[17,1,17,2],[0,1,0,12],[1,1,1,12],[2,1,2,12],[3,1,3,2],[4,1,4,2],[5,1,5,2],[6,1,6,2],[7,1,7,2],[8,1,8,2]]}
[null,"ALL SALES"]
[null,"2022 updated 07.27.23              2023 Data updated 08.07.23"]
[{"$nulls":173},366]
[null,null,null,"Qty Sold","% Chg","Volume Sold","% Chg","Average Sale","% Chg","Median Sale","% Chg","Qty Active","% Chg",{"$nulls":160},106]
[null,"Residential",{"$nulls":171},340]
[null,"Current Period",null,1097,null,738862036,null,673529,null,542500,null,456,{"$nulls":160},205,210]
[null,"One year Ago",null,1626,null,1204003817,null,740469,null,571595,null,561,null,"Active = Active + UC / SH",{"$nulls":159},251]
[null,"Increase / (Decrease)",null,{"$f":"D6-D7","v":-529},{"$f":"D8/D7","v":-0.3253382533825338},{"$f":"F6-F7","v":-465141781},{"$f":"F8/F7","v":-0.38632915812425533},{"$f":"H6-H7","v":-66940},{"$f":"H8/H7","v":-9.0402164033875826E-2},{"$f":"J6-J7","v":-29095},{"$f":"J8/J7","v":-5.0901424959980408E-2},{"$f":"L6-L7","v":-105},{"$f":"L8/L7","v":-0.18716577540106952},{"$nulls":160},73]
[null,"Lots / Land",{"$nulls":171},127]
[null,"Current Period ",null,304,null,53546045,null,176138,null,128750,null,352,{"$nulls":161},10]
[null,"One Year Ago",null,460,null,73463493,null,159703,null,125000,null,467,{"$nulls":161},1]
[null,"Increase / (Decrease)",null,{"$f":"D10-D11","v":-156},{"$f":"D12/D11","v":-0.33913043478260868},{"$f":"F10-F11","v":-19917448},{"$f":"F12/F11","v":-0.27112035089319808},{"$f":"H10-H11","v":16435},{"$f":"H12/H11","v":0.10290977627220528},{"$f":"J10-J11","v":3750},{"$f":"J12/J11","v":0.03},{"$f":"L10-L11","v":-115},{"$f":"L12/L11","v":-0.24625267665952891}]
[null,"Commercial"]
[null,"Current Period ",null,14,null,13759990,null,289000,null,462000,null,31]
[null,"One Year Ago",null,33,null,30730000,null,931212,null,660000,null,45]
[null,"Increase / (Decrease)",null,{"$f":"D14-D15","v":-19},{"$f":"D16/D15","v":-0.5757575757575758},{"$f":"F14-F15","v":-16970010},{"$f":"F16/F15","v":-0.5522294175073218},{"$f":"H14-H15","v":-642212},{"$f":"H16/H15","v":-0.68965176565594088},{"$f":"J14-J15","v":-198000},{"$f":"J16/J15","v":-0.3},{"$f":"L14-L15","v":-14},{"$f":"L16/L15","v":-0.31111111111111112},{"$nulls":160},9]
[null,"All Classes",{"$nulls":171},5]
[null,"Current Period ",null,{"$f":"D6+D10+D14","v":1415},null,{"$f":"F6+F10+F14","v":806168071},null,569730,null,465000,null,{"$f":"L6+L10+L14","v":839},{"$nulls":161},64]
[null,"One Year Ago",null,{"$f":"D7+D11+D15","v":2119},null,{"$f":"F7+F11+F15","v":1308197310},null,617365,null,460000,null,{"$f":"L7+L11+L15","v":1073},{"$nulls":161},760]
[null,"Increase / (Decrease)",null,{"$f":"D18-D19","v":-704},{"$f":"D20/D19","v":-0.33223218499292118},{"$f":"F18-F19","v":-502029239},{"$f":"F20/F19","v":-0.38375651376320291},{"$f":"H18-H19","v":-47635},{"$f":"H20/H19","v":-7.7158569079879807E-2},{"$f":"J18-J19","v":5000},{"$f":"J20/J19","v":1.0869565217391304E-2},{"$f":"L18-L19","v":-234},{"$f":"L20/L19","v":-0.21808014911463186},{"$nulls":160},1497]
[{"$nulls":173},9]
[null,"2022 updated 07.14.23              2023 Data updated 08.07.23",{"$nulls":171},2]
[null,"All Classes",{"$nulls":171},0]
[null,"Previous Period (Aug 2021 to July 2022)",null,null,null,"vs","Current Period ( Aug 2022 to July 2023)",{"$nulls":166},402]
[null,null,null,"Qty Sold","% Chg","Volume Sold","% Chg","Average Sale","% Chg","Median Sale","% Chg",{"$nulls":162},7]
[null,"Residential",{"$nulls":171},15]
[null,"Current Period",null,1941,null,1296111912,null,667754,null,539000]
[null,"Previous Period",null,2858,null,1994908136,null,698008,null,540000]
[null,"Increase / (Decrease)",null,{"$f":"D27-D28","v":-917},{"$f":"D29/D28","v":-0.32085374387683696},{"$f":"F27-F28","v":-698796224},{"$f":"F29/F28","v":-0.35028992633272815},{"$f":"H27-H28","v":-30254},{"$f":"H29/H28","v":-4.3343342769710379E-2},{"$f":"J27-J28","v":-1000},{"$f":"J29/J28","v":-1.8518518518518519E-3}]
[null,"Lots / Land"]
[null,"Current Period ",null,527,null,96098203,null,182349,null,130000]
[null,"Previous Period",null,853,null,141915017,null,166371,null,120000]
[null,"Increase / (Decrease)",null,{"$f":"D31-D32","v":-326},{"$f":"D33/D32","v":-0.3821805392731536},{"$f":"F31-F32","v":-45816814},{"$f":"F33/F32","v":-0.32284683445445383},{"$f":"H31-H32","v":15978},{"$f":"H33/H32","v":9.603837207205583E-2},{"$f":"J31-J32","v":10000},{"$f":"J33/J32","v":8.3333333333333329E-2}]
[null,"Commercial"]
[null,"Current Period ",null,26,null,20598844,null,792263,null,438500]
[null,"Previous Period",null,52,null,46570400,null,895584,null,603500]
[null,"Increase / (Decrease)",null,{"$f":"D35-D36","v":-26},{"$f":"D37/D36","v":-0.5},{"$f":"F35-F36","v":-25971556},{"$f":"F37/F36","v":-0.5576837647948053},{"$f":"H35-H36","v":-103321},{"$f":"H37/H36","v":-0.11536717940472362},{"$f":"J35-J36","v":-165000},{"$f":"J37/J36","v":-0.27340513670256833}]
[null,"All Classes"]
[null,"Current Period ",null,{"$f":"D27+D31+D35","v":2494},null,{"$f":"F27+F31+F35","v":1412808959},null,566483,null,465000]
[null,"Previous Period",null,{"$f":"D28+D32+D36","v":3763},null,{"$f":"F28+F32+F36","v":2183393553},null,580226,null,445000]
[null,"Increase / (Decrease)",null,{"$f":"D39-D40","v":-1269},{"$f":"D41/D40","v":-0.33723093276640975},{"$f":"F39-F40","v":-770584594},{"$f":"F41/F40","v":-0.35292977436028916},{"$f":"H39-H40","v":-13743},{"$f":"H41/H40","v":-2.3685598370290196E-2},{"$f":"J39-J40","v":20000},{"$f":"J41/J40","v":4.49438202247191E-2}]
[]
[null,"RESIDENTIAL"]
[null,"2022 updated 07.14.23              2023 Data updated 08.07.23",{"$nulls":171},150]
[{"$nulls":173},58]
[null,"Year to Date Comparison - Residential Property",{"$nulls":171},2]
[null,null,null,"Qty Sold","% Chg","Volume Sold","% Chg","Average Sale","% Chg","Median Sale","% Chg"]
[null,"Single Family Detached"]
[null,"Current Period",null,893,null,655847901,null,734432,null,590000]
[null,"One year Ago",null,1370,null,1074681998,null,784439,null,615500]
[null,"Increase / (Decrease)",null,{"$f":"D49-D50","v":-477},{"$f":"D51/D50","v":-0.34817518248175183},{"$f":"F49-F50","v":-418834097},{"$f":"F51/F50","v":-0.3897284013126272},{"$f":"H49-H50","v":-50007},{"$f":"H51/H50","v":-6.3748742732067126E-2},{"$f":"J49-J50","v":-25500},{"$f":"J51/J50","v":-4.1429731925264016E-2}]
[null,"Condominium"]
[null,"Current Period ",null,139,null,61783042,null,444482,null,417500]
[null,"One Year Ago",null,146,null,61691235,null,422542,null,387500]
[null,"Increase / (Decrease)",null,{"$f":"D53-D54","v":-7},{"$f":"D55/D54","v":-4.7945205479452052E-2},{"$f":"F53-F54","v":91807},{"$f":"F55/F54","v":1.4881692674818391E-3},{"$f":"H53-H54","v":21940},{"$f":"H55/H54","v":5.1923832423759059E-2},{"$f":"J53-J54","v":30000},{"$f":"J55/J54","v":7.7419354838709681E-2}]
[null,"All Residential"]
[null,"Current Period ",null,{"$f":"D6","v":1097},null,{"$f":"F6","v":738862036},null,{"$f":"H6","v":673529},null,{"$f":"J6","v":542500}]
[null,"One Year Ago",null,{"$f":"D7","v":1626},null,{"$f":"F7","v":1204003817},null,{"$f":"H7","v":740469},null,{"$f":"J7","v":571595}]
[null,"Increase / (Decrease)",null,{"$f":"D57-D58","v":-529},{"$f":"D59/D58","v":-0.3253382533825338},{"$f":"F57-F58","v":-465141781},{"$f":"F59/F58","v":-0.38632915812425533},{"$f":"H57-H58","v":-66940},{"$f":"H59/H58","v":-9.0402164033875826E-2},{"$f":"J57-J58","v":-29095},{"$f":"J59/J58","v":-5.0901424959980408E-2}]
[]
[null,"2022 updated 07.14.23              2023 Data updated 08.07.23"]
[null,"12 Months of Data / 12 Months of Data"]
[null,"Previous Period (Aug 2021 to July 2022)",null,null,null,"vs","Current Period ( Aug 2022 to July 2023)"]
[null,null,null,"Qty Sold","% Chg","Volume Sold","% Chg","Average Sale","% Chg","Median Sale","% Chg"]
[null,"Single Family Detached"]
[null,"Current Period",null,1596,null,1159294432,null,726374,null,590000]
[null,"Previous Period",null,2438,null,1831543730,null,751248,null,585000]
[null,"Increase / (Decrease)",null,{"$f":"D66-D67","v":-842},{"$f":"D68/D67","v":-0.34536505332239542},{"$f":"F66-F67","v":-672249298},{"$f":"F68/F67","v":-0.3670397200944801},{"$f":"H66-H67","v":-24874},{"$f":"H68/H67","v":-3.3110237897471938E-2},{"$f":"J66-J67","v":5000},{"$f":"J68/J67","v":8.5470085470085479E-3}]
[null,"Condominium"]
[null,"Current Period ",null,222,null,95185500,null,428763,null,400000]
[null,"Previous Period",null,274,null,109989025,null,401419,null,374000]
[null,"Increase / (Decrease)",null,{"$f":"D70-D71","v":-52},{"$f":"D72/D71","v":-0.18978102189781021},{"$f":"F70-F71","v":-14803525},{"$f":"F72/F71","v":-0.134590928504003},{"$f":"H70-H71","v":27344},{"$f":"H72/H71","v":6.8118350152832824E-2},{"$f":"J70-J71","v":26000},{"$f":"J72/J71","v":6.9518716577540107E-2}]
[null,"All Residential"]
[null,"Current Period ",null,{"$f":"D27","v":1941},null,{"$f":"F27","v":1296111912},null,{"$f":"H27","v":667754},null,{"$f":"J27","v":539000}]
[null,"Previous Period",null,{"$f":"D28","v":2858},null,{"$f":"F28","v":1994908136},null,{"$f":"H28","v":698008},null,{"$f":"J28","v":540000}]
[null,"Increase / (Decrease)",null,{"$f":"D74-D75","v":-917},{"$f":"D76/D75","v":-0.32085374387683696},{"$f":"F74-F75","v":-698796224},{"$f":"F76/F75","v":-0.35028992633272815},{"$f":"H74-H75","v":-30254},{"$f":"H76/H75","v":-4.3343342769710379E-2},{"$f":"J74-J75","v":-1000},{"$f":"J76/J75","v":-1.8518518518518519E-3}]
[]
[null,"LAND"]
[null,"Land Sales"]
[null,"2022 updated 07.14.23              2023 Data updated 08.07.23"]
[null,"Year to Date Comparison - Land Listings"]
[null,null,null,"Qty Sold","% Chg","Volume Sold","% Chg","Average Sale","% Chg","Median Sale","% Chg"]
[null,"Land - Residential"]
[null,"Current Period",null,256,null,44061910,null,172116,null,131250]
[null,"One Year Ago",null,347,null,62258991,null,179420,null,133500]
[null,"Increase / Decrease",null,{"$f":"D84-D85","v":-91},{"$f":"D86/D85","v":-0.26224783861671469},{"$f":"F84-F85","v":-18197081},{"$f":"F86/F85","v":-0.29228037119971956},{"$f":"H84-H85","v":-7304},{"$f":"H86/H85","v":-4.0708951064541303E-2},{"$f":"J84-J85","v":-2250},{"$f":"J86/J85","v":-1.6853932584269662E-2}]
[null,"All Land"]
[null,"Current Period",null,{"$f":"D10","v":304},null,{"$f":"F10","v":53546045},null,{"$f":"H10","v":176138},null,{"$f":"J10","v":128750}]
[null,"One year Ago",null,{"$f":"D11","v":460},null,{"$f":"F11","v":73463493},null,{"$f":"H11","v":159703},null,{"$f":"J11","v":125000}]
[null,"Increase / (Decrease)",null,{"$f":"D88-D89","v":-156},{"$f":"D90/D89","v":-0.33913043478260868},{"$f":"F88-F89","v":-19917448},{"$f":"F90/F89","v":-0.27112035089319808},{"$f":"H88-H89","v":16435},{"$f":"H90/H89","v":0.10290977627220528},{"$f":"J88-J89","v":3750},{"$f":"J90/J89","v":0.03}]
[]
[null,"2022 updated 07.14.23             2023 Data updated 08.03.23"]
[null,"All Land"]
[null,"Previous Period (Aug 2021 to July 2022)",null,null,null,"vs","Current Period ( Aug 2022 to July 2023)"]
[null,"Year to Year Comparison - Land Listings"]
[null,null,null,"Qty Sold","% Chg","Volume Sold","% Chg","Average Sale","% Chg","Median Sale","% Chg"]
[null,"Land - Residential"]
[null,"Current Period",null,457,null,81903613,null,179220,null,130000]
[null,"Previous Period",null,764,null,124320900,null,162723,null,124950]
[null,"Increase / Decrease",null,{"$f":"D98-D99","v":-307},{"$f":"D100/D99","v":-0.40183246073298429},{"$f":"F98-F99","v":-42417287},{"$f":"F100/F99","v":-0.34119192348189242},{"$f":"H98-H99","v":16497},{"$f":"H100/H99","v":0.10138087424641876},{"$f":"J98-J99","v":5050},{"$f":"J100/J99","v":4.0416166466586634E-2}]
[null,"All Land"]
[null,"Current Period",null,{"$f":"D31","v":527},null,{"$f":"F31","v":96098203},null,{"$f":"H31","v":182349},null,{"$f":"J31","v":130000}]
[null,"One year Ago",null,{"$f":"D32","v":853},null,{"$f":"F32","v":141915017},null,{"$f":"H32","v":166371},null,{"$f":"J32","v":120000}]
[null,"Increase / (Decrease)",null,{"$f":"D102-D103","v":-326},{"$f":"D104/D103","v":-0.3821805392731536},{"$f":"F102-F103","v":-45816814},{"$f":"F104/F103","v":-0.32284683445445383},{"$f":"H102-H103","v":15978},{"$f":"H104/H103","v":9.603837207205583E-2},{"$f":"J102-J103","v":10000},{"$f":"J104/J103","v":8.3333333333333329E-2}]
[]
[null,"DISTRESSED PROPERTY"]
[null,"2022 updated 07.14.23              2023 Data updated 08.03.23"]
[null,"Year to Date Comparison - Distressed Properties"]
[null,null,null,"Qty Sold","% Chg","Volume Sold","% Chg","Average Sale","% Chg","Median Sale","% Chg"]
[null,"Residential - Short Sale"]
[null,"Current Period",null,2,null,636000,null,318000,null,318000]
[null,"One year Ago",null,1,null,225000,null,225000,null,225000]
[null,"Increase / (Decrease)",null,{"$f":"D111-D112","v":1},{"$f":"D113/D112","v":1},{"$f":"F111-F112","v":411000},{"$f":"F113/F112","v":1.8266666666666667},{"$f":"H111-H112","v":93000},{"$f":"H113/H112","v":0.41333333333333333},{"$f":"J111-J112","v":93000},{"$f":"J113/J112","v":0.41333333333333333}]
[null,"Residential - Bank Owned"]
[null,"Current Period ",null,8,null,1329000,null,166162,null,105950]
[null,"One Year Ago",null,7,null,699750,null,99964,null,98000]
[null,"Increase / (Decrease)",null,{"$f":"D115-D116","v":1},{"$f":"D117/D116","v":0.14285714285714285},{"$f":"F115-F116","v":629250},{"$f":"F117/F116","v":0.89924973204715974},{"$f":"H115-H116","v":66198},{"$f":"H117/H116","v":0.66221839862350451},{"$f":"J115-J116","v":7950},{"$f":"J117/J116","v":8.1122448979591838E-2}]
[null,"All Residential - Distressed"]
[null,"Current Period ",null,{"$f":"D111+D115","v":10},null,{"$f":"F111+F115","v":1965000},null,{"$f":"H111+H115","v":484162},null,{"$f":"J111+J115","v":423950}]
[null,"One Year Ago",null,{"$f":"D112+D116","v":8},null,{"$f":"F112+F116","v":924750},null,{"$f":"H112+H116","v":324964},null,{"$f":"J112+J116","v":323000}]
[null,"Increase / (Decrease)",null,{"$f":"D119-D120","v":2},{"$f":"D121/D120","v":0.25},{"$f":"F119-F120","v":1040250},{"$f":"F121/F120","v":1.1248986212489862},{"$f":"H119-H120","v":159198},{"$f":"H121/H120","v":0.48989426521091567},{"$f":"J119-J120","v":100950},{"$f":"J121/J120","v":0.31253869969040249}]
[]
[null,"2022 updated 07.14.23              2023 Data updated 08.03.23"]
[null,"12 Months of Data / 12 Months of Data"]
[null,"Previous Period (Aug 2021 to July 2022)",null,null,null,"vs","Current Period ( Aug 2022 to July 2023)"]
[]
[null,null,null,"Qty Sold","% Chg","Volume Sold","% Chg","Average Sale","% Chg","Median Sale","% Chg"]
[null,"Residential - Short Sale"]
[null,"Current Period",null,2,null,636000,null,318000,null,318000]
[null,"Previous Period",null,3,null,2336000,null,778666,null,640000]
[null,"Increase / (Decrease)",null,{"$f":"D129-D130","v":-1},{"$f":"D131/D130","v":-0.33333333333333331},{"$f":"F129-F130","v":-1700000},{"$f":"F131/F130","v":-0.72773972602739723},{"$f":"H129-H130","v":-460666},{"$f":"H131/H130","v":-0.59160923939147203},{"$f":"J129-J130","v":-322000},{"$f":"J131/J130","v":-0.50312500000000004}]
[null,"Residential - Bank Owned"]
[null,"Current Period ",null,12,null,2220300,null,185025,null,110000]
[null,"Previous Period",null,16,null,2499335,null,156208,null,116917]
[null,"Increase / (Decrease)",null,{"$f":"D133-D134","v":-4},{"$f":"D135/D134","v":-0.25},{"$f":"F133-F134","v":-279035},{"$f":"F135/F134","v":-0.11164369722346144},{"$f":"H133-H134","v":28817},{"$f":"H135/H134","v":0.18447838779063813},{"$f":"J133-J134","v":-6917},{"$f":"J135/J134","v":-5.9161627479322937E-2}]
[null,"All Residential - Distressed"]
[null,"Current Period ",null,{"$f":"D129+D133","v":14},null,{"$f":"F129+F133","v":2856300},null,{"$f":"H129+H133","v":503025},null,{"$f":"J129+J133","v":428000}]
[null,"One Year Ago",null,{"$f":"D130+D134","v":19},null,{"$f":"F130+F134","v":4835335},null,{"$f":"H130+H134","v":934874},null,{"$f":"J130+J134","v":756917}]
[null,"Increase / (Decrease)",null,{"$f":"D137-D138","v":-5},{"$f":"D139/D138","v":-0.26315789473684209},{"$f":"F137-F138","v":-1979035},{"$f":"F139/F138","v":-0.40928601637735545},{"$f":"H137-H138","v":-431849},{"$f":"H139/H138","v":-0.46193283800811658},{"$f":"J137-J138","v":-328917},{"$f":"J139/J138","v":-0.43454830582481302}]

{"sheet":"Raw Data","index":75,"n_rows":162,"n_cols":253,"rows_kept":162,"cut":false,"hidden":false,"merged":[]}
["Date","2003-06-05","2003-07-05","2003-08-05","2003-09-05","2003-10-05","2003-11-05","2003-12-05","2004-01-05","2004-02-05","2004-03-05","2004-04-05","2004-05-05","2004-06-05","2004-07-05","2004-08-05","2004-09-05","2004-10-05","2004-11-05","2004-12-05","2005-01-05","2005-02-05","2005-03-05","2005-04-05","2005-05-05","2005-06-05","2005-07-05","2005-08-05","2005-09-05","2005-10-05","2005-11-05","2005-12-05","2006-01-05","2006-02-05","2006-03-05","2006-04-05","2006-05-06","2006-06-06","2006-07-06","2006-08-06","2006-09-06","2006-10-06","2006-11-06","2006-12-06","2007-01-06","2007-02-06","2007-03-06","2007-04-06","2007-05-06","2007-06-06","2007-07-06","2007-08-06","2007-09-06","2007-10-06","2007-11-06","2007-12-06","2008-01-06","2008-02-06","2008-03-06","2008-04-06","2008-05-06","2008-06-06","2008-07-06","2008-08-06","2008-09-06","2008-10-06","2008-11-06","2008-12-06","2009-01-06","2009-02-06","2009-03-06","2009-04-06","2009-05-06","2009-06-06","2009-07-06","2009-08-06","2009-09-06","2009-10-06","2009-11-06","2009-12-06","2010-01-06","2010-02-06","2010-03-06","2010-04-06","2010-05-06","2010-06-06","2010-07-06","2010-08-06","2010-09-06","2010-10-06","2010-11-06","2010-12-06","2011-01-06","2011-02-06","2011-03-06","2011-04-06","2011-05-06","2011-06-06","2011-07-06","2011-08-06","2011-09-06","2011-10-06","2011-11-06","2011-12-06","2012-01-06","2012-02-06","2012-03-06","2012-04-06","2012-05-06","2012-06-06","2012-07-06","2012-08-06","2012-09-06","2012-10-06","2012-11-06","2012-12-06","2013-01-06","2013-02-06","2013-03-06","2013-04-06","2013-05-06","2013-06-06","2013-07-06","2013-08-06","2013-09-06","2013-10-06","2013-11-06","2013-12-06","2014-01-06","2014-02-06","2014-03-06","2014-04-06","2014-05-06","2014-06-06","2014-07-06","2014-08-06","2014-09-06","2014-10-06","2014-11-06","2014-12-06","2015-01-06","2015-02-06","2015-03-06","2015-04-06","2015-05-06","2015-06-06","2015-07-06","2015-08-06","2015-09-06","2015-10-06","2015-11-06","2015-12-06","2016-01-06","2016-02-06","2016-03-06","2016-04-06","2016-05-06","2016-06-06","2016-07-06","2016-08-06","2016-09-06","2016-10-06","2016-11-06","2016-12-06","2017-01-06","2017-02-06","2017-03-06","2017-04-06","2017-05-06","2017-06-06","2017-07-06","2017-08-06","2017-09-06","2017-10-06","2017-11-06","2017-12-06","2018-01-06","2018-02-06","2018-03-06","2018-04-06","2018-05-06","2018-06-06","2018-07-06","2018-08-06","2018-09-06","2018-10-06","2018-11-06","2018-12-06","2019-01-06","2019-02-06","2019-03-06","2019-04-06","2019-05-06","2019-06-06","2019-07-06","2019-08-06","2019-09-06","2019-10-06","2019-11-06","2019-12-01","2020-01-06","2020-02-06","2020-03-06","2020-04-06","2020-05-06","2020-06-06","2020-07-06","2020-08-06","2020-09-06","2020-10-06","2020-11-06","2020-12-06","2021-01-06","2021-02-06","2021-03-06","2021-04-06","2021-05-06","2021-06-06","2021-07-06","2021-08-06","2021-09-06","2021-10-06","2021-11-06","2021-12-06","2022-01-06","2022-02-06","2022-03-06","2022-04-06","2022-05-06","2022-06-06","2022-07-06","2022-08-06","2022-09-06","2022-10-06","2022-11-06","2022-12-06","2023-01-06","2023-02-06","2023-03-06","2023-04-06","2023-05-06","2023-06-06","2023-07-06","2023-08-06","2023-09-06","2023-10-06","2023-11-06","2023-12-06","2024-01-06"]
["Hot Sheet Data"]
["New Listings",{"$nulls":14},233,303,282,296,196,328,367,411,451,385,424,474,591,560,618,631,480,637,721,833,809,792,659,549,573,567,502,453,333,670,639,744,678,637,510,537,569,492,544,479,314,571,579,592,467,426,466,424,458,498,442,341,249,497,497,584,445,499,484,435,414,448,401,308,233,361,424,573,516,398,400,324,369,339,298,300,198,340,364,470,365,353,342,282,252,264,398,340,268,361,467,477,441,381,324,349,346,328,342,268,215,416,337,435,465,388,351,353,377,342,425,347,213,373,378,514,455,437,382,368,360,361,331,276,198,394,378,464,458,419,359,344,326,418,331,296,245,326,394,440,449,335,384,305,304,367,256,270,213,343,358,471,366,397,325,329,347,310,366,275,204,283,354,457,390,429,368,356,405,269,404,320,224,409,433,564,479,397,321,339,385,321,431,335,214,401,423,384,151,387,418,448,411,482,429,346,254,357,411,478,524,488,395,485,413,373,342,289,217,321,321,440,426,415,437,367,317,258,234,229,151,212,255,275,264,285,267,312]
["BOM",{"$nulls":14},0,0,0,0,0,18,38,68,76,51,72,77,104,70,118,96,93,180,102,131,137,157,127,163,191,194,180,182,164,200,131,188,181,188,132,205,160,174,221,158,150,252,168,193,158,154,156,181,149,169,147,116,118,230,137,183,124,117,101,137,126,100,153,144,117,210,126,150,132,116,123,152,126,123,118,129,139,207,101,145,130,115,147,117,99,127,147,98,110,197,169,127,116,122,106,133,117,138,120,85,100,190,106,108,113,113,120,126,100,109,133,92,94,161,125,135,99,129,94,105,89,108,139,73,102,132,67,107,100,129,109,113,115,93,123,102,127,154,109,97,109,95,104,117,140,120,118,97,119,142,106,104,108,115,96,101,98,108,106,97,86,121,81,103,98,103,114,153,105,93,134,101,65,116,107,98,107,131,95,106,117,93,115,78,70,123,83,121,80,117,131,156,158,149,131,88,106,113,85,112,94,95,91,101,92,76,90,86,61,84,63,84,65,73,53,82,68,71,64,47,67,81,55,48,55,58,60,52]
["Price Changes",{"$nulls":14},0,0,0,0,0,39,87,105,122,167,178,198,242,234,328,343,254,438,378,433,522,676,665,653,665,563,562,357,271,415,375,533,489,599,592,570,603,531,539,415,309,490,456,518,567,511,472,533,493,499,552,468,359,469,492,600,476,460,472,506,472,448,529,360,322,385,365,498,507,436,483,456,433,435,441,328,270,404,333,440,355,415,420,355,317,342,437,379,288,405,362,391,387,411,404,384,280,323,392,321,249,419,370,398,419,428,395,433,372,364,441,338,273,327,337,357,427,481,425,408,423,502,404,305,227,297,287,362,390,447,382,425,409,358,323,272,203,311,272,336,393,355,349,317,354,333,281,252,190,268,276,306,305,291,291,300,330,328,340,245,207,233,269,341,303,380,328,332,339,275,378,310,191,350,319,381,421,432,378,375,389,261,376,255,191,325,283,204,96,218,266,230,208,212,228,163,130,140,96,135,158,150,167,169,204,175,156,110,77,82,83,113,147,171,238,215,234,235,187,182,104,168,115,154,132,161,150,183]
["Sold",{"$nulls":14},0,0,0,0,0,184,181,258,308,401,344,279,244,284,311,229,169,162,116,176,153,207,157,123,171,123,176,101,125,97,122,112,143,171,140,123,129,133,121,130,101,87,98,110,124,135,136,114,128,126,101,80,83,53,78,101,88,126,142,121,134,137,140,129,135,99,93,124,160,170,168,148,129,143,138,136,155,99,107,169,167,157,177,146,132,138,132,122,140,116,143,227,186,206,182,151,173,176,177,165,140,115,146,180,213,194,187,202,184,172,164,147,189,133,117,146,189,231,200,201,174,201,192,153,202,129,142,184,193,241,227,218,187,198,198,176,198,145,130,184,201,217,238,201,204,211,193,167,197,141,149,235,219,254,295,185,224,207,235,208,208,153,112,232,225,267,245,209,228,178,215,162,192,144,163,218,229,253,232,232,243,199,224,150,219,179,181,236,181,178,251,452,403,445,460,378,400,335,298,447,444,440,430,369,329,313,333,340,319,285,248,387,344,331,290,233,265,231,207,195,168,141,174,242,215,229,245,169]
["Under Contract",{"$nulls":14}," ",0,0,0,0,27,96,256,326,363,377,323,294,286,309,247,199,263,180,203,197,198,129,133,166,130,126,146,137,136,134,163,163,161,124,157,147,116,118,108,90,114,131,138,159,150,125,147,133,107,101,73,73,89,117,124,150,139,130,138,151,136,178,109,99,110,137,165,195,171,185,144,196,148,155,162,88,133,173,199,170,151,166,191,112,127,144,138,130,184,197,188,211,222,170,188,192,189,172,128,100,215,175,217,179,205,187,173,158,153,141,157,128,114,125,163,180,154,155,144,167,151,146,103,137,121,128,370,287,237,239,247,233,243,229,177,168,189,212,266,265,291,219,269,277,228,192,202,147,231,217,352,282,298,248,262,280,270,251,221,149,204,245,298,286,281,236,299,260,182,220,196,128,221,251,309,291,287,265,308,281,238,323,223,184,263,346,265,112,410,626,583,562,534,517,387,326,450,383,558,512,467,366,382,429,410,400,349,263,349,365,400,360,289,255,295,311,261,221,162,135,263,246,261,256,255,217,238]
["Withdrawn",{"$nulls":14},0,0,0,0,0,6,6,7,12,14,31,47,32,62,65,90,92,214,130,184,199,193,183,194,229,202,224,185,149,185,145,221,187,153,174,170,178,132,186,151,149,140,137,145,111,162,162,108,111,164,138,87,116,149,128,184,110,151,127,103,117,145,114,102,138,92,100,95,125,73,143,99,108,119,128,96,81,86,67,74,105,85,74,56,68,89,89,100,83,103,78,80,96,74,79,74,74,64,53,72,115,75,55,82,73,104,110,66,81,88,122,74,54,92,104,65,94,84,93,80,80,67,111,55,100,71,68,84,71,82,78,68,84,114,71,92,118,126,117,66,71,97,80,100,81,93,114,103,98,78,73,62,62,98,328,62,56,67,73,84,77,66,54,73,92,81,105,93,65,59,108,83,75,89,72,113,115,109,105,67,88,86,97,64,116,141,79,116,56,66,120,63,115,72,59,56,43,72,64,65,40,51,40,51,50,51,61,49,39,53,38,57,49,42,54,85,57,59,52,63,58,51,65,65,35,62,42,47]
["Expired",{"$nulls":14},0,0,0,0,0,21,29,44,30,20,36,33,41,52,71,46,60,188,231,259,279,275,312,356,394,473,507,395,480,642,299,411,323,400,301,508,401,464,440,448,444,754,426,385,400,436,322,408,339,367,414,281,386,699,261,407,248,254,206,350,258,294,340,277,346,554,284,291,237,206,270,332,259,292,306,227,292,504,172,209,202,226,198,221,203,227,278,160,248,117,167,207,167,170,200,253,187,253,236,140,240,345,142,196,146,140,164,202,179,162,220,156,195,335,165,179,151,208,154,182,187,237,279,196,226,362,116,151,147,177,154,193,138,153,207,177,205,340,113,116,126,130,127,178,149,162,173,134,168,232,102,133,117,115,185,120,114,121,127,109,172,213,82,106,93,115,138,151,99,102,166,137,150,246,107,104,80,142,127,115,119,151,124,112,150,225,92,50,93,102,97,92,58,71,58,40,69,100,47,39,25,34,29,46,33,36,65,55,46,82,30,20,24,35,21,39,36,42,44,58,87,101,24,22,25,27,42,19]
["UC / SH",{"$nulls":130},0,131,135,145,144,157,160,142,94,144,146,80,25,19,23,25,28,30,20,22,16,20,12,10,19,20,14,17,17,23,9,16,10,18,15,16,12,12,12,10,6,4,10,7,7,11,14,8,8,6,12,7,11,7,11,10,4,9,8,15,11,4,7,5,11,6,7,6,4,8,7,5,4,14,10,9,6,10,9,2,3,6,2,4,5,2,2,1,2,5,3,8,4,4,3,5,4,6,5,5,5,2,1,0,1,3,1,3,2,1,5,6]
["Rented",{"$nulls":107},5,2,3,2,0,3,9,1,1,6,6,2,3,0,2,4,3,5,5,3,4,5,9,5,3,5,3,1,4,2,1,0,5,5,0,3,1,4,6,1,0,1,3,2,4,3,7,5,3,8,2,1,3,3,1,5,1,2,5,5,1,2,1,2,0,1,3,1,2,0,3,0,0,0,1,0,0,0,0,2,0,1,3,0,1,1,1,1,1,0,0,0,2,1,1,0,0,0,4,0,0,0,1,0,1,2,0,0,0,1,0,1,1,0,0,1,1,0,1,0,1,0,0,0,0,0,1,1,1,1,3,0,1,1,0]
["TOM",{"$nulls":196},0,0,3,2,3,0,2,3,6,6,12,7,10,2,3,3,9,8,7,5,6,5,6,14,4,8,4,5,22,13,3,11,10,4,20,12,5,3,3,4,10,7,5,6,3,0]
["Total ",{"$nulls":14},{"$f":"SUM(P3:P9)","v":233},303,282,296,196,623,804,1149,1325,1401,1462,1431,1548,1548,1820,1682,1347,2082,1858,2219,2296,2498,2232,2171,2389,2252,2277,1819,1659,2345,1845,2372,2164,2309,{"$f":"SUM(AX3:AX9)","v":1973},2270,2187,2042,2169,1889,1557,2408,1995,2081,1986,1974,1839,1915,1811,1930,1895,1446,1384,2186,1710,2183,1641,1746,1662,1790,1672,1708,1855,1429,1390,1811,1529,1896,1872,1570,1772,1655,1620,1599,1584,1378,1223,1773,1317,1706,1494,1502,1524,1368,1183,1314,{"$f":"SUM(CX3:CX11)","v":1625},1337,1267,1483,1583,1697,1604,1591,1467,1535,1371,1471,1495,1188,1160,1776,1337,1622,1610,1575,1514,1557,1455,1393,1651,1316,1149,1539,1356,1568,1600,1858,1643,1636,1625,1788,1764,1304,1286,1655,1337,1802,1674,1752,1575,1639,1521,1607,1503,1317,1282,1615,1362,1522,1638,1543,1523,1506,1527,1540,1339,1242,1147,1454,1298,1684,1476,1581,1782,1370,1457,1415,1509,1249,1111,1286,1211,1621,1495,1662,1546,1601,1512,1165,1636,1319,1031,1584,1461,1805,1733,1756,1531,1548,1634,1356,{"$f":"SUM(GP3:GP12)","v":1697},1223,1151,1669,1498,1382,775,1495,1925,2043,1933,1982,1901,1463,1334,1577,1397,1846,1809,1732,1527,1609,1559,1454,1454,1294,1031,1266,1173,1520,1422,1374,1363,1325,1313,1171,1015,940,775,1025,946,1080,989,1085,1032,1026]
["Active Data",{"$nulls":69},"1905-07-02",{"$nulls":11},"1905-07-02",{"$nulls":11},"1905-07-03",{"$nulls":11},"1905-07-04",{"$nulls":12},"1905-07-05",{"$nulls":20},"1905-07-07"]
["Total Active Listings"]
["Date","2003-06-01","2003-07-01","2003-08-01","2003-09-01","2003-10-01","2003-11-01","2003-12-01","2004-01-01","2004-02-01","2004-03-01","2004-04-01","2004-05-01","2004-06-01","2004-07-01","2004-08-01","2004-09-01","2004-10-01","2004-11-01","2004-12-01","2005-01-01","2005-02-01","2005-03-01","2005-04-01","2005-05-01","2005-06-01","2005-07-01","2005-08-01","2005-09-01","2005-10-01","2005-11-01","2005-12-01","2006-01-01","2006-02-01","2006-03-01","2006-04-01","2006-05-01","2006-06-01","2006-07-01","2006-08-01","2006-09-01","2006-10-01","2006-11-01","2006-12-01","2007-01-01","2007-02-01","2007-03-01","2007-04-01","2007-05-01","2007-06-01","2007-07-01","2007-08-01","2007-09-01","2007-10-01","2007-11-01","2007-12-01","2008-01-01","2008-02-01","2008-03-03","2008-04-01","2008-05-01","2008-06-01","2008-07-01","2008-08-01","2008-09-01","2008-10-01","2008-11-01","2008-12-01","2009-01-01","2009-02-01","2009-03-01","2009-04-01","2009-05-01","2009-06-01","2009-07-01","2009-08-01","2009-09-01","2009-10-01","2009-11-01","2009-12-01","2010-01-01","2010-02-01","2010-03-01","2010-04-09","2010-05-18","2010-06-26","2010-07-10","2010-08-10","2010-09-10","2010-10-10","2010-11-10","2010-12-10","2011-01-10","2011-02-10","2011-03-10","2011-04-10","2011-05-10","2011-06-10","2011-07-10","2011-08-10","2011-09-10","2011-10-10","2011-11-10","2011-12-10","2012-01-10","2012-02-10","2012-03-10","2012-04-10","2012-05-10","2012-06-10","2012-07-10","2012-08-10","2012-09-10","2012-10-10","2012-11-10","2012-12-10","2013-01-10","2013-02-10","2013-03-10","2013-04-10","2013-05-10","2013-06-10","2013-07-10","2013-08-10","2013-09-10","2013-10-10","2013-11-10","2013-12-10","2014-01-10","2014-02-10","2014-03-10","2014-04-10","2014-05-10","2014-06-10","2014-07-10","2014-08-10","2014-09-10","2014-10-10","2014-11-10","2014-12-10","2015-01-10","2015-02-10","2015-03-10","2015-04-10","2015-05-10","2015-06-10","2015-07-10","2015-08-10","2015-09-10","2015-10-10","2015-11-10","2015-12-10","2016-01-10","2016-02-10","2016-03-10","2016-04-10","2016-05-10","2016-06-10","2016-07-10","2016-08-10","2016-09-10","2016-10-10","2016-11-10","2016-12-10","2017-01-10","2017-02-10","2017-03-10","2017-04-10","2017-05-10","2017-06-10","2017-07-10","2017-08-10","2017-09-10","2017-10-10","2017-11-10","2017-12-10","2018-01-10","2018-02-10","2018-03-10","2018-04-10","2018-05-10","2018-06-10","2018-07-10","2018-08-10","2018-09-10","2018-10-10","2018-11-10","2018-12-10","2019-01-10","2019-02-10","2019-03-10","2019-04-10","2019-05-10","2019-06-10","2019-07-10","2019-08-10","2019-09-10","2019-10-10","2019-11-10","2019-12-10","2020-01-10","2020-02-10","2020-03-10","2020-04-10","2020-05-10","2020-06-10","2020-07-10","2020-08-10","2020-09-10","2020-10-10","2020-11-10","2020-12-10","2021-01-10","2021-02-10","2021-03-10","2021-04-10","2021-05-10","2021-06-10","2021-07-10","2021-08-10","2021-09-10","2021-10-10","2021-11-10","2021-12-10","2022-01-10","2022-02-10","2022-03-10","2022-04-10","2022-05-10","2022-06-10","2022-07-10","2022-08-10","2022-09-10","2022-10-10","2022-11-10","2022-12-10","2023-01-10","2023-02-10","2023-03-10","2023-04-10","2023-05-10","2023-06-10","2023-07-10","2023-08-10","2023-09-10","2023-10-10","2023-11-10","2023-12-10","2024-01-10"]
["Commercial Rental Listings",{"$nulls":127},1,3,8,8,8,7,8,10,11,12,14,13,14,13,12,13,10,10,9,7,11,10,13,11,11,10,5,4,8,8,9,8,5,5,7,6,6,8,8,4,9,10,11,10,12,9,9,9,5,4,3,5,7,8,8,7,6,8,8,11,13,14,11,8,8,7,7,9,9,8,0,6,8,8,8,7,7,7,6,5,5,4,7,7,6,6,7,6,6,5,2,2,1,0,0,0,0,0,0,0,0,2,2,2,2,4,3,2,1,1,1,1,0,0,1]
["Residential Rental Listings",{"$nulls":101},0,2,9,10,8,1,1,1,3,5,10,17,10,9,15,10,3,6,2,6,3,7,8,9,11,9,11,5,7,5,6,7,7,10,5,4,8,8,3,6,3,1,4,4,1,3,3,9,7,7,7,10,6,7,5,4,3,6,7,7,10,7,9,8,8,7,2,2,1,4,4,5,2,2,4,1,0,1,2,2,2,4,3,6,5,3,6,6,6,2,1,1,1,2,2,9,10,12,11,11,7,6,6,5,0,0,0,0,0,1,2,0,0,0,0,0,0,1,0,0,0,0,0,0,0,0,0,0,0,0,0,0,0,2,1,0,0,0,0,0,0]
["All Active Commercial Listings",{"$nulls":50},113,120,121,132,124,108,115,115,110,107,107,101,108,103,107,108,98,108,113,127,128,138,141,143,145,151,145,151,142,144,151,136,132,133,126,123,124,116,113,112,109,110,128,142,147,145,146,147,147,141,138,138,116,135,139,131,136,132,113,128,129,130,138,127,124,129,130,135,134,131,126,127,132,131,132,135,134,133,132,133,126,114,127,125,131,132,130,125,114,119,115,105,103,105,101,105,95,99,94,98,88,89,75,78,78,74,74,83,75,73,74,85,69,71,73,67,68,68,63,65,63,57,64,65,58,58,57,58,54,50,55,53,59,58,58,59,54,56,54,59,61,57,51,55,62,68,67,61,50,46,45,43,44,46,49,50,49,52,54,53,45,46,51,47,48,55,58,54,46,46,41,41,37,43,41,45,46,49,45,45,37,38,35,36,33,36,35,30,25,28,31,31]
["All Active Land Listings",{"$nulls":50},1710,1631,1630,1667,1611,1428,1477,1508,1559,1550,1520,1510,1463,1600,1537,1534,1314,1304,1364,1328,1388,1465,1535,1575,1577,1553,1500,1525,1343,1320,1289,1367,1412,1380,1367,1359,1325,1268,1235,1200,1065,1101,1094,1143,1139,1147,1167,1182,1146,1133,1131,1115,1022,1032,1153,1185,1195,1235,1227,1210,1146,1157,1124,1117,972,1009,1006,989,1080,1100,1103,1121,1166,1164,1140,1127,1048,1061,1056,1140,1140,1185,1190,1178,1155,1086,1057,1040,944,956,987,979,1018,1058,1068,1060,1052,1056,1064,1044,955,929,946,940,972,940,952,927,897,882,852,823,764,784,804,824,817,811,800,808,795,764,760,741,679,680,658,680,695,708,740,739,746,748,763,774,702,722,763,785,835,866,841,841,854,839,819,793,707,732,752,763,756,763,722,699,664,669,627,603,541,541,586,561,576,572,590,583,568,532,476,466,411,404,385,424,400,435,465,467,470,451,448,390,384,381,382,373,372,357,343,352]
["All Active Residential Listings",{"$nulls":50},2719,2712,2667,2657,2599,2350,2454,2499,2627,2527,2553,2559,2420,2500,2500,2487,2226,2331,2373,2468,2476,2484,2439,2423,2419,2383,2373,2289,2028,2084,2181,2282,2324,2362,2283,2280,2191,2132,2030,1984,1801,1847,1892,1965,1949,1963,1938,1880,1849,1784,1872,1770,1706,1726,1784,1836,1860,1873,1805,1815,1798,1782,1806,1772,1640,1714,1783,1830,1899,1895,1851,1826,1821,1818,1908,1863,1700,1792,1892,2067,2053,2104,2095,2016,2119,2074,2054,2044,1767,1870,1954,1914,1940,1930,1902,1859,1853,1819,1780,1717,1569,1598,1667,1765,1821,1742,1744,1685,1644,1642,1621,1531,1418,1454,1506,1513,1545,1555,1526,1513,1513,1484,1497,1452,1354,1369,1434,1508,1496,1514,1469,1463,1528,1506,1531,1519,1441,1496,1558,1651,1673,1627,1579,1506,1499,1472,1490,1500,1341,1336,1330,1360,1324,1247,975,881,723,689,656,623,560,447,418,380,392,402,424,477,501,484,428,380,311,284,267,266,326,413,529,561,548,510,509,529,455,391,373,356,371,382,412,456]
["RES Under Contract / Continue to Show ",{"$nulls":123},130,137,112,72,107,127,174,154,150,136,166,155,166,171,170,117,152,160,50,43,34,30,31,25,25,29,25,18,22,18,12,18,20,18,17,20,25,19,23,15,15,12,14,19,15,18,15,9,7,9,9,7,11,6,8,7,7,10,8,9,8,8,12,7,9,11,10,11,7,5,4,8,7,8,7,5,6,6,4,8,14,10,8,8,10,10,5,4,4,5,2,4,2,2,1,1,3,3,3,2,3,3,2,4,1,0,1,2,1,0,0,0,0,1,0,0,0,2,5]
["LND Under Contract / Continue to Show",{"$nulls":123},33,26,35,18,56,61,58,76,74,65,28,31,31,19,27,14,19,25,5,3,3,2,4,4,5,8,9,9,7,4,2,3,6,4,6,2,1,1,1,2,4,4,4,3,1,1,1,1,1,2,2,1,1,2,2,1,1,1,1,0,0,0,0,0,0,1,2,3,3,2,3,2,1,1,0,0,0,0,0,0,0,0,0,0,0,0,0,0,0,0,0,0,0,0,0,0,1,0,1,0,0,0,0,0,0,0,1,0,1,1,0,0,0,0,0,0,0,0,0]
["COM Under Contract / Continue to Show",{"$nulls":123},0,3,9,5,3,2,3,3,2,2,0,1,2,0,5,3,3,5,1,0,1,0,0,0,0,1,1,0,0,0,0,0,0,0,0,0,0,0,0,0,0,0,0,0,0,0,0,0,0,0,0,0,0,0,0,0,0,0,0,0,0,0,0,1,1,1,1,1,0,0,0,0,0,0,1,1,1,0,0,0,0,0,0,0,0,0,0,0,0,0,0,0,0,0,0,0,0,0,0,0,1,1,0,1,0,0,0,0,0,0,0,0,0,0,0,0,0,0,0]
["Monthly Under Contract (Market Monitor)",{"$nulls":123},200,213,221,176,167,176,212,229,197,182,174,216,197,194,161,135,156,177,356,429,391,359,367,378,405,406,365,308,316,348,381,413,419,367,393,409,400,346,346,250,311,351,433,451,445,391,406,409,434,402,379,272,292,386,404,431,427,379,415,407,359,327,333,246,313,367,438,444,413,398,447,425,422,462,394,321,374,494,438,366,535,833,906,981,968,916,836,705,762,820,881,919,854,726,707,738,779,773,730,612,647,707,684,658,556,482,486,481,469,423,365,308,402,429,419,418,399,351,368]
["Short Sale Inventory",{"$nulls":94},190,173,177,178,175,169,186,120,152,126,150,162,160,161,153,145,129,127,132,132,134,133,139,136,132,120,105,98,93,89,91,87,78,91,96,91,86,85,80,84,87,85,83,87,66,80,82,82,74,57,54,52,46,46,46,39,35,36,36,32,31,30,32,30,34,17,30,31,22,18,22,18,15,18,19,15,10,10,7,8,10,7,9,13,8,7,4,9,12,10,9,6,7,4,6,6,8,8,4,5,7,4,5,5,5,7,6,8,11,10,3,6,6,5,1,4,3,4,5,3,3,2,2,2,1,2,2,0,3,2,0,1,0,0,0,0,0,0,0,0,0,0,0,0,0,0,0,0]
["Bank Owned Inventory",{"$nulls":94},83,78,71,61,69,60,65,62,85,75,78,74,82,69,68,60,56,61,64,80,84,67,63,56,60,58,51,47,40,53,56,58,48,42,40,44,37,39,41,40,47,46,36,30,32,32,28,22,17,20,24,18,18,23,22,19,20,22,23,22,25,23,26,22,23,19,25,24,23,21,18,14,11,14,16,10,13,11,15,16,20,16,16,19,17,15,14,16,14,15,12,13,16,16,16,12,13,10,7,11,13,5,15,19,16,14,10,9,12,14,7,7,4,2,0,3,3,1,1,0,1,2,3,2,0,2,2,0,3,4,3,0,0,2,1,0,2,0,2,1,2,0,0,2,4,0,3,3]
["Total",null,1578,{"$nulls":11},1632,{"$nulls":10},2434,{"$nulls":25},{"$f":"SUM(AZ19:AZ21)","v":4542},4463,4418,4456,4334,3886,4046,4122,4296,4184,4180,4170,3991,4203,4144,4129,3638,3743,3850,3923,3992,4087,4115,4141,4141,4087,4018,3965,3513,3548,3621,3785,3868,3875,3776,3762,3640,3516,3378,3296,2975,3058,3114,3250,3235,3255,3251,3209,3142,3058,{"$f":"SUM(CX18:CX21)","v":3141},3023,2846,2902,3086,3160,3192,3241,3146,3156,3078,3079,3085,3026,2745,{"$f":"SUM(DM19:DM21)","v":2852},2919,2954,3113,3126,3080,3074,3119,{"$f":"SUM(DU19:DU25)","v":3476},3559,3502,3153,3319,3446,3787,3781,3826,3797,3687,3808,3688,3625,3572,3094,3275,3423,3410,3536,3522,3462,3426,3407,3409,3382,3259,2947,2961,3058,3178,3305,3201,3159,3111,3047,3023,2913,2809,2518,2639,2750,2855,2903,2895,2799,2808,2790,2747,2734,2648,2371,2411,2543,2660,2684,2707,2654,2679,2749,2679,2687,2697,2451,2597,2755,2946,3028,2973,2876,2856,2850,2809,2847,2756,2425,2495,2627,2608,2498,{"$f":"SUM(GW19:GW27)","v":2629},2599,2557,2435,2395,2264,2127,1861,1805,1886,1874,1943,{"$f":"SUM(HI19:HI27)","v":1889},1805,1826,1855,1849,1725,1621,1379,1388,{"$f":"SUM(HR19:HR27)","v":1407},1422,1435,1456,1522,1561,1540,{"$f":"SUM(HY19:HY27)","v":1470},1418,1321,1182,1210,1220,{"$f":"SUM(IE19:IE27)","v":1180},{"$f":"SUM(IF19:IF27)","v":1190},{"$f":"SUM(IG19:IG27)","v":1166},{"$f":"SUM(IH19:IH27)","v":1142},{"$f":"SUM(II19:II27)","v":1215}]
["Calculated Under Contract",{"$nulls":123},{"$f":"DU25+DU24+DU23+DU22","v":363},379,377,271,333,366,447,462,423,385,368,403,396,384,363,269,330,367,412,475,429,391,402,407,435,444,400,335,345,370,395,434,445,389,416,431,426,366,370,267,330,367,451,473,461,410,422,419,442,413,390,280,304,394,414,439,435,390,424,416,367,335,345,254,323,380,451,459,423,405,454,435,430,471,402,327,381,500,442,374,549,843,914,989,978,926,841,709,766,825,883,923,{"$f":"HI25+HI24+HI23+HI22","v":856},728,708,739,783,776,734,614,651,{"$f":"HR25+HR24+HR23+HR22","v":711},686,663,557,482,488,483,{"$f":"HY25+HY24+HY23+HY22","v":471},424,365,308,402,430,{"$f":"IE25+IE24+IE23+IE22","v":419},{"$f":"IF25+IF24+IF23+IF22","v":418},{"$f":"IG25+IG24+IG23+IG22","v":399},{"$f":"IH25+IH24+IH23+IH22","v":353},{"$f":"II25+II24+II23+II22","v":373}]
[{"$nulls":51},{"$f":"AZ36","v":"2007-08-06"},"2007-09-06","2007-10-06","2007-11-06","2007-12-06","2008-01-06","2008-02-06","2008-03-06","2008-04-06","2008-05-06","2008-06-06","2008-07-06","2008-08-06","2008-09-06","2008-10-06","2008-11-06","2008-12-06","2009-01-06","2009-02-06","2009-03-06","2009-04-06","2009-05-06","2009-06-06","2009-07-06","2009-08-06","2009-09-06","2009-10-06","2009-11-06","2009-12-06","2010-01-06","2010-02-06","2010-03-06","2010-04-06","2010-05-06","2010-06-06","2010-07-06","2010-08-06","2010-09-06","2010-10-06","2010-11-06","2010-12-06","2011-01-06","2011-02-06","2011-03-06","2011-04-06","2011-05-06","2011-06-06","2011-07-06","2011-08-06","2011-09-06","2011-10-06","2011-11-06","2011-12-06","2012-01-06","2012-02-06","2012-03-06","2012-04-06","2012-05-06","2012-06-06","2012-07-06","2012-08-06","2012-09-06","2012-10-06","2012-11-06","2012-12-06","2013-01-06","2013-02-06","2013-03-06","2013-04-06","2013-05-06","2013-06-06","2013-07-06","2013-08-06","2013-09-06","2013-10-06","2013-11-06","2013-12-06","2014-01-06","2014-02-06","2014-03-06","2014-04-06","2014-05-06","2014-06-06","2014-07-06","2014-08-06","2014-09-06","2014-10-06","2014-11-06","2014-12-06","2015-01-06","2015-02-06","2015-03-06","2015-04-06","2015-05-06","2015-06-06","2015-07-06","2015-08-06","2015-09-06","2015-10-06","2015-11-06","2015-12-06","2016-01-06","2016-02-06","2016-03-06","2016-04-06","2016-05-06","2016-06-06","2016-07-06","2016-08-06","2016-09-06","2016-10-06","2016-11-06","2016-12-06","2017-01-06","2017-02-06","2017-03-06","2017-04-06","2017-05-06","2017-06-06","2017-07-06","2017-08-06","2017-09-06"]
["Total Active Resindential Listings",{"$nulls":50},{"$f":"AZ21-AZ22","v":2719},2712,2667,2657,2599,2350,2454,2499,2627,2527,2553,2559,2420,2500,2500,2487,2226,2331,2373,2468,2476,2484,2439,2423,2419,2383,2373,2289,2028,2084,2181,2282,2324,2362,2283,2280,2191,2132,2030,1984,1801,1847,1892,1965,1949,1963,1938,1880,1849,1784,1872,1770,1706,1726,1784,1836,1860,1873,1805,1815,1798,1782,1806,1772,1640,1714,1783,1830,1899,1895,1851,1826,1821,1688,1771,1751,1628,1685,1765,1893,1899,1954,1959,1850,1964,1908,1883,1874,1650,1718,1794,1864,1897,1896,1872,1828,1828,1794,1751,1692,1551,1576,1649,1753,1803,1722,1726,1668,1624,1617,1602,1508,1403,1439,1494,1499,1526,1540,1508,1498,1504,1477,1488,1443,1347,1358,1428,1500,1489,1507,1459,1455,1519,1498,1523,1507,1434,1487,1547,1641,1662,1620,1574,1502,1491,1465,1482,1493,1336,1330,1324,1356,1316,1233,965,873,715,679,646,618,556,443,413,359,388,400,{"$f":"HJ21-HJ22","v":422},{"$f":"HK21-HK22","v":476},{"$f":"HL21-HL22","v":500},497,425,377,309,281,261,{"$f":"HS21-HS22","v":264},322,412,529,560,546,509,509,529,455,391,372,{"$f":"IE21-IE22","v":356},{"$f":"IF21-IF22","v":371},{"$f":"IG21-IG22","v":382},{"$f":"IH21-IH22","v":410},{"$f":"II21-II22","v":451}]
["Total Active Land Listings",{"$nulls":50},{"$f":"AZ20-AZ23","v":1710},1631,1630,1667,1611,1428,1477,1508,1559,1550,1520,1510,1463,1600,1537,1534,1314,1304,1364,1328,1388,1465,1535,1575,1577,1553,1500,1525,1343,1320,1289,1367,1412,1380,1367,1359,1325,1268,1235,1200,1065,1101,1094,1143,1139,1147,1167,1182,1146,1133,1131,1115,1022,1032,1153,1185,1195,1235,1227,1210,1146,1157,1124,1117,972,1009,1006,989,1080,1100,1103,1121,1166,1131,1114,1092,1030,1005,995,1082,1064,1111,1125,1150,1124,1055,1038,1013,930,937,962,974,1015,1055,1066,1056,1048,1051,1056,1035,946,922,942,938,969,934,948,921,895,881,851,822,762,780,800,820,814,810,799,807,794,763,758,739,678,679,656,678,694,707,739,738,746,748,763,774,702,722,762,783,832,863,839,838,852,838,818,793,707,732,752,763,756,763,722,699,664,669,627,603,541,541,586,557,576,{"$f":"HI20-HI23","v":572},{"$f":"HJ20-HJ23","v":590},{"$f":"HK20-HK23","v":583},568,542,476,{"$f":"HO20-HO23","v":465},{"$f":"HP20-HP23","v":411},{"$f":"HQ20-HQ23","v":404},391,{"$f":"HS20-HS23","v":424},400,435,465,466,470,450,447,390,384,381,{"$f":"ID20-ID23","v":382},373,372,357,343,352]
["Total Active Commercial Listings",{"$nulls":50},{"$f":"AZ19-AZ24","v":113},120,121,132,124,108,115,115,110,107,107,101,108,103,107,108,98,108,113,127,128,138,141,143,145,151,145,151,142,144,151,136,132,133,126,123,124,116,113,112,109,110,128,142,147,145,146,147,147,141,138,138,116,135,139,131,136,132,113,128,129,130,138,127,124,129,130,135,134,131,126,127,132,131,129,126,129,130,130,130,123,112,125,125,130,130,130,120,111,116,110,104,103,104,101,105,95,99,93,97,88,89,75,78,78,74,74,83,75,73,74,85,69,71,73,67,68,68,63,65,63,57,64,65,58,58,57,58,54,50,55,53,59,58,58,59,53,55,53,58,60,57,51,55,62,68,67,60,49,45,45,43,44,46,49,50,49,52,54,53,45,46,51,50,48,{"$f":"HI19-HI24","v":55},{"$f":"HJ19-HJ24","v":58},{"$f":"HK19-HK24","v":54},46,46,41,{"$f":"HO19-HO24","v":41},{"$f":"HP19-HP24","v":37},{"$f":"HQ19-HQ24","v":42},42,{"$f":"HS19-HS24","v":45},45,49,45,45,37,38,35,36,33,36,{"$f":"ID19-ID24","v":35},30,25,28,31,31]
["Total Inventory",{"$nulls":50},{"$f":"SUM(AZ31:AZ33)","v":4542},4463,4418,4456,4334,3886,4046,4122,4296,4184,4180,4170,3991,4203,4144,4129,3638,3743,3850,3923,3992,4087,4115,4141,4141,4087,4018,3965,3513,3548,3621,3785,3868,3875,3776,3762,3640,3516,3378,3296,2975,3058,3114,3250,3235,3255,3251,3209,3142,3058,3141,3023,2844,2893,3076,3152,3191,3240,3145,3153,3073,3069,3068,3016,2736,2852,2919,2954,3113,3126,3080,3074,3119,2950,3014,2969,2787,2820,2890,3105,3086,3177,3209,3125,3218,3093,3051,3007,2691,2771,2866,2942,3015,3055,3039,2989,2971,2944,2900,2824,2585,2587,2666,2769,2850,2730,2748,2672,2594,2571,2527,2415,2234,2290,2367,2386,2408,2418,2370,2370,2361,2297,2310,2247,2083,2095,2141,2236,2237,2264,2253,2246,2324,2304,2344,2340,2189,2264,2362,2482,2554,2540,2464,2395,2405,2371,2367,2346,2092,2107,2121,2162,2116,2042,1736,1622,1428,1400,1327,1274,1142,1030,1050,966,1012,1027,1070,1113,1114,{"$f":"SUM(HM31:HM33)","v":1085},{"$f":"SUM(HN31:HN33)","v":942},{"$f":"SUM(HO31:HO33)","v":883},{"$f":"SUM(HP31:HP33)","v":757},{"$f":"SUM(HQ31:HQ33)","v":727},{"$f":"SUM(HR31:HR33)","v":694},733,767,896,1039,1071,1053,{"$f":"SUM(HY31:HY33)","v":997},991,955,872,808,789,759,768,767,784,834,0,0,0,0,0,0]
[]
[{"$nulls":15},{"$f":"P1","v":"2004-08-05"},"2004-09-05","2004-10-05","2004-11-05","2004-12-05","2005-01-05","2005-02-05","2005-03-05","2005-04-05","2005-05-05","2005-06-05","2005-07-05","2005-08-05","2005-09-05","2005-10-05","2005-11-05","2005-12-05","2006-01-05","2006-02-05","2006-03-05","2006-04-05","2006-05-06","2006-06-06","2006-07-06","2006-08-06","2006-09-06","2006-10-06","2006-11-06","2006-12-06","2007-01-06","2007-02-06","2007-03-06","2007-04-06","2007-05-06","2007-06-06","2007-07-06","2007-08-06","2007-09-06","2007-10-06","2007-11-06","2007-12-06","2008-01-06","2008-02-06","2008-03-06","2008-04-06","2008-05-06","2008-06-06","2008-07-06","2008-08-06","2008-09-06","2008-10-06","2008-11-06","2008-12-06","2009-01-06","2009-02-06","2009-03-06","2009-04-06","2009-05-06","2009-06-06","2009-07-06","2009-08-06","2009-09-06","2009-10-06","2009-11-06","2009-12-06","2010-01-06","2010-02-06","2010-03-06","2010-04-06","2010-05-06","2010-06-06","2010-07-06","2010-08-06","2010-09-06","2010-10-06","2010-11-06","2010-12-06","2011-01-06","2011-02-06","2011-03-06","2011-04-06","2011-05-06","2011-06-06","2011-07-06","2011-08-06","2011-09-06","2011-10-06","2011-11-06","2011-12-06","2012-01-06","2012-02-06","2012-03-06","2012-04-06","2012-05-06","2012-06-06","2012-07-06","2012-08-06","2012-09-06","2012-10-06","2012-11-06","2012-12-06","2013-01-06","2013-02-06","2013-03-06","2013-04-06","2013-05-06","2013-06-06","2013-07-06","2013-08-06","2013-09-06","2013-10-06","2013-11-06","2013-12-06","2014-01-06","2014-02-06","2014-03-06","2014-04-06","2014-05-06","2014-06-06","2014-07-06","2014-08-06","2014-09-06","2014-10-06","2014-11-06","2014-12-06","2015-01-06","2015-02-06","2015-03-06","2015-04-06","2015-05-06","2015-06-06","2015-07-06","2015-08-06","2015-09-06","2015-10-06","2015-11-06","2015-12-06","2016-01-06","2016-02-06","2016-03-06","2016-04-06","2016-05-06","2016-06-06","2016-07-06","2016-08-06","2016-09-06","2016-10-06","2016-11-06","2016-12-06","2017-01-06","2017-02-06","2017-03-06","2017-04-06","2017-05-06","2017-06-06","2017-07-06","2017-08-06","2017-09-06","2017-10-06","2017-11-06","2017-12-06","2018-01-06","2018-02-06","2018-03-06","2018-04-06","2018-05-06","2018-06-01",{"$f":"GA1","v":"2018-07-06"},"2018-08-06","2018-09-06","2018-10-06","2018-11-06","2018-12-06","2019-01-06","2019-02-06","2019-03-06","2019-04-06","2019-05-06","2019-06-06","2019-07-06","2019-08-06","2019-09-06","2019-10-06","2019-11-06","2019-12-01","2020-01-06","2020-02-06","2020-03-06","2020-04-06","2020-05-06","2020-06-06","2020-07-06","2020-08-06","2020-09-06","2020-10-06","2020-11-06","2020-12-06","2021-01-06","2021-02-06","2021-03-06","2021-04-06","2021-05-06","2021-06-06","2021-07-06","2021-08-06","2021-09-06","2021-10-06","2021-11-06","2021-12-06","2022-01-06",{"$f":"HR1","v":"2022-02-06"},"2022-03-06","2022-04-06","2022-05-06","2022-06-06","2022-07-06","2022-08-06",{"$f":"HY1","v":"2022-09-06"},{"$f":"HZ1","v":"2022-10-06"},{"$f":"IA1","v":"2022-11-06"},{"$f":"IB1","v":"2022-12-06"},{"$f":"IC1","v":"2023-01-06"},"2023-02-23","2023-03-23","2023-04-23","2023-05-23","2023-06-23","2023-07-23","2023-08-23","2023-09-23","2023-10-23","2023-11-23","2023-12-23","2024-01-23"]
["New Res",{"$nulls":14},151,181,177,183,121,215,214,265,288,249,235,307,366,365,418,400,287,425,469,534,457,523,440,358,384,371,316,305,233,444,389,487,461,437,336,366,385,322,333,338,193,405,362,397,340,296,313,307,275,285,307,246,177,367,320,398,297,293,281,280,268,297,282,207,146,266,309,385,358,305,279,226,234,250,224,222,146,243,264,319,253,248,226,191,172,190,283,233,177,247,270,325,282,276,198,251,238,244,246,190,158,270,245,306,289,275,246,233,229,236,301,224,140,278,281,331,337,282,262,248,251,264,258,196,141,293,269,353,324,283,255,242,240,276,238,191,174,179,286,357,324,239,261,228,231,280,206,198,166,260,268,331,297,290,243,245,253,244,281,205,154,227,294,362,294,324,268,271,305,207,316,253,165,313,334,405,350,279,266,255,281,253,346,266,162,297,310,297,154,309,325,343,300,360,325,274,194,248,289,383,386,349,270,371,312,279,209,220,155,230,244,313,316,315,327,276,229,199,184,187,112,150,182,201,202,219,202,236]
["New Land",{"$nulls":14},82,121,101,112,71,111,145,140,156,123,185,161,214,171,180,218,172,191,236,266,330,255,204,176,170,186,176,132,85,215,240,247,195,188,166,158,162,153,185,128,106,158,198,189,117,123,141,105,167,199,117,88,68,112,165,164,133,178,192,147,129,130,104,86,66,85,97,180,151,79,115,86,125,82,68,68,46,91,78,127,102,99,98,83,68,62,106,100,84,85,183,141,119,100,113,87,93,67,73,63,45,118,77,109,166,110,94,110,131,95,108,99,66,79,85,158,109,145,99,106,86,77,66,64,51,84,100,101,125,119,92,85,79,127,84,88,60,48,93,72,114,88,104,68,66,74,44,49,41,71,83,129,65,101,97,76,75,61,70,65,44,53,57,87,87,97,96,75,87,55,75,60,49,81,89,145,122,111,54,75,87,55,69,65,44,95,105,77,42,71,85,99,106,111,92,63,341,101,159,124,128,127,116,429,391,88,66,59,56,83,71,120,98,93,102,85,85,55,43,37,37,53,70,83,61,59,61,71]
["New Commercial",{"$nulls":14},0,1,4,1,4,2,8,6,7,13,4,6,11,24,20,13,21,21,16,33,22,14,15,15,19,10,10,16,15,11,10,10,22,12,8,13,22,17,26,13,15,8,19,6,10,7,12,12,16,5,18,7,4,18,12,22,15,28,11,8,17,21,15,15,21,10,18,8,7,14,6,12,10,7,6,10,6,6,22,24,10,6,17,8,12,11,9,7,6,17,9,9,7,2,11,5,11,12,13,12,12,16,11,19,4,3,7,10,8,7,9,16,5,10,8,11,6,4,16,10,15,19,5,8,3,14,3,7,6,13,7,15,4,10,1,10,9,12,8,8,6,2,13,7,3,9,3,17,5,6,4,6,4,4,2,5,5,3,14,5,5,1,3,7,6,5,3,8,11,6,10,6,6,10,8,11,7,5,1,8,12,11,8,3,2,6,7,7,2,7,8,6,5,9,12,5,25,7,10,7,10,12,9,25,32,6,2,10,5,7,6,6,11,6,6,6,3,4,5,5,2,7,3,1,1,6,4,4]
["Residential Rental",{"$nulls":102},1,12,5,2,3,3,2,7,4,5,10,3,0,12,4,1,6,3,4,2,9,4,7,8,1,9,7,9,3,6,4,4,5,4,1,6,3,2,6,0,1,4,4,1,2,2,9,6,4,5,7,3,8,7,6,1,4,4,3,4,1,4,1,5,4,0,1,2,4,1,1,0,0,0,0,1,1,1,0,1,2,1,2,0,1,2,1,1,0,0,0,1,3,0,8,1,5,1,0,3,0,0,0,0,0,0,0,1,1,1,0,0,0,0,0,0,2,0,0,0,1,1,0,0,1,1,0,0,0,0,0,0,0,2,0,3,0,1,0,0]
["Commercial Rental",{"$nulls":127},1,2,5,0,0,1,0,3,1,1,2,0,1,0,3,2,0,1,1,1,3,0,4,0,1,0,0,2,2,0,1,0,0,0,2,0,2,2,0,1,2,3,2,2,1,0,0,1,0,0,0,2,2,1,1,0,0,1,1,3,3,1,2,0,2,0,0,2,2,0,0,1,21,1,0,0,0,0,0,0,2,0,3,1,0,0,1,0,0,0,3,0,0,0,0,0,0,0,1,0,0,2,0,0,0,2,0,0,0,0,0,0,0,0,1]
["Total",{"$nulls":14},{"$f":"SUM(P37:P39)","v":233},303,282,296,196,328,367,411,451,385,424,474,591,560,618,631,480,637,721,833,809,792,659,549,573,567,502,453,333,670,639,744,678,637,510,537,569,492,544,479,314,571,579,592,467,426,466,424,458,489,442,341,249,497,497,584,445,499,484,435,414,448,401,308,233,361,424,573,516,398,400,324,369,339,298,300,198,340,364,470,365,353,341,282,252,263,398,340,{"$f":"SUM(CZ37:CZ40)","v":268},361,467,477,411,381,324,350,346,328,342,{"$f":"SUM(DK37:DK39)","v":265},{"$f":"SUM(DL37:DL40)","v":215},416,337,435,465,391,351,355,377,342,425,347,212,{"$f":"SUM(DY37:DY41)","v":377},383,514,455,437,382,368,360,365,331,276,198,394,378,464,458,419,359,344,326,418,332,299,247,245,394,440,454,338,384,305,304,367,256,270,213,343,358,471,371,397,346,330,339,310,366,275,204,281,354,457,390,429,368,356,405,269,404,320,224,409,433,564,479,397,321,339,385,321,431,335,214,420,423,384,198,387,418,448,411,482,429,346,562,357,458,515,524,488,{"$f":"SUM(HJ37:HJ41)","v":395},828,737,373,0,289,217,321,{"$f":"SUM(HR37:HR41)","v":321},440,426,415,437,367,317,{"$f":"SUM(HY37:HY41)","v":258},{"$f":"SUM(HZ37:HZ41)","v":234},{"$f":"SUM(IA37:IA41)","v":229},{"$f":"SUM(IB37:IB41)","v":151},{"$f":"SUM(IC37:IC41)","v":212},{"$f":"SUM(ID37:ID41)","v":255},288,264,285,267,312,0,0,0,0,0,0,0,0,0,0]
["Sold Data"]
["Sold Properties",{"$nulls":19},"2005-01-01","2005-02-01","2005-03-01","2005-04-01","2005-05-01","2005-06-01","2005-07-01","2005-08-01","2005-09-01","2005-10-01","2005-11-01","2005-12-01","2006-01-01","2006-02-01","2006-03-01","2006-04-01","2006-05-01","2006-06-01","2006-07-01","2006-08-01","2006-09-01","2006-10-01","2006-11-01","2006-12-01","2007-01-01","2007-02-01","2007-03-01","2007-04-01","2007-05-01","2007-06-01","2007-07-01","2007-08-01","2007-09-01","2007-10-01","2007-11-01","2007-12-01","2008-01-01","2008-02-01","2008-03-03","2008-04-01","2008-05-01","2008-06-01","2008-07-01","2008-08-01","2008-09-01","2008-10-08","2008-11-14","2008-12-21","2009-01-27","2009-02-09","2009-03-09","2009-04-09","2009-05-09","2009-06-09","2009-07-09","2009-08-09","2009-09-09","2009-10-09","2009-11-09","2009-12-09","2010-01-09","2010-02-09","2010-03-09","2010-04-09","2010-05-09","2010-06-09","2010-07-09","2010-08-09","2010-09-09","2010-10-09","2010-11-09","2010-12-09","2011-01-09","2011-02-09","2011-03-09","2011-04-09","2011-05-09","2011-06-09","2011-07-09","2011-08-09","2011-09-09","2011-10-09","2011-11-09","2011-12-09","2012-01-09","2012-02-09","2012-03-09","2012-04-09","2012-05-09","2012-06-09","2012-07-09","2012-08-09","2012-09-09","2012-10-09","2012-11-09","2012-12-09","2013-01-09","2013-02-09","2013-03-09","2013-04-09","2013-05-09","2013-06-09","2013-07-09","2013-08-09","2013-09-09","2013-10-09","2013-11-09","2013-12-09","2014-01-09","2014-02-09","2014-03-09","2014-04-09","2014-05-09","2014-06-09","2014-07-09","2014-08-09","2014-09-09","2014-10-09","2014-11-09","2014-12-09","2015-01-09","2015-02-09","2015-03-09","2015-04-09","2015-05-09","2015-06-09","2015-07-09","2015-08-09","2015-09-09","2015-10-09","2015-11-09","2015-12-09","2016-01-09","2016-02-09","2016-03-09","2016-04-09","2016-05-09","2016-06-09","2016-07-09","2016-08-09","2016-09-09","2016-10-09","2016-11-09","2016-12-09","2017-01-09","2017-02-09","2017-03-09","2017-04-09","2017-05-09","2017-06-09","2017-07-09","2017-08-09","2017-09-09","2017-10-09","2017-11-09","2017-12-09","2018-01-09","2018-02-09","2018-03-09","2018-04-09","2018-05-09","2018-06-09","2018-07-09","2018-08-09","2018-09-09","2018-10-09","2018-11-09","2018-12-09","2019-01-09","2019-02-09","2019-03-09","2019-04-09","2019-05-09","2019-06-09","2019-07-09","2019-08-09","2019-09-09","2019-10-09","2019-11-09","2019-12-09","2020-01-09","2020-02-09","2020-03-09","2020-04-09","2020-05-09","2020-06-09","2020-07-09","2020-08-09","2020-09-09","2020-10-09","2020-11-09","2020-12-09","2021-01-09","2021-02-09","2021-03-09","2021-04-09","2021-05-09","2021-06-09","2021-07-09","2021-08-09","2021-09-09","2021-10-09","2021-11-09","2021-12-09","2022-01-09","2022-02-09","2022-03-09","2022-04-09","2022-05-09","2022-06-09","2022-07-09","2022-08-09","2022-09-09","2022-10-09","2022-11-09","2022-12-09","2023-01-09","2023-02-09","2023-03-09","2023-04-09","2023-05-09","2023-06-09","2023-07-09","2023-08-09","2023-09-09","2023-10-09","2023-11-09","2023-12-09","2024-01-09","2024-02-09","2024-03-09","2024-04-09","2024-05-09"]
["Residential",{"$nulls":18},2357,149,119,190,208,286,234,167,178,177,162,126,108,97,93,122,118,151,117,83,106,93,119,81,89,76,103,100,119,137,117,103,106,104,95,93,82,57,75,96,92,111,110,94,103,93,85,60,69,42,68,84,81,111,114,105,105,104,106,106,100,86,72,113,136,151,137,125,99,109,115,106,125,83,87,130,137,124,142,127,105,113,109,74,102,94,112,171,131,165,146,121,125,146,134,129,109,89,91,136,168,157,150,161,136,127,114,115,125,106,88,115,149,192,147,122,127,142,144,118,157,96,105,140,153,202,185,171,146,143,159,143,148,111,92,138,158,175,185,155,159,159,145,140,173,112,129,180,180,203,218,136,171,162,166,164,164,118,89,187,186,219,188,172,189,142,176,135,166,119,123,184,189,217,190,185,201,162,189,206,174,148,146,198,154,150,221,396,322,358,372,310,316,263,237,377,349,337,326,263,234,230,253,267,240,225,182,300,265,247,235,171,201,179,161,161,131,101,137,193,166,185,189,126]
["Land",{"$nulls":19},96,61,91,106,111,114,69,83,115,71,77,55,63,22,48,33,53,34,38,31,21,52,20,35,19,19,11,22,33,23,17,20,28,26,35,19,30,22,13,29,22,25,17,24,33,16,20,13,9,9,15,6,15,28,16,29,33,34,22,24,12,20,12,26,18,28,21,30,33,23,30,29,15,18,37,27,32,33,18,27,23,18,45,38,19,30,50,51,40,35,30,46,29,40,30,27,25,52,44,41,36,34,39,44,38,48,30,59,22,26,30,38,33,51,75,46,53,48,34,35,32,31,40,38,37,42,44,39,51,39,28,46,32,37,43,38,39,48,46,44,51,44,26,23,29,19,54,33,45,76,49,52,44,66,42,38,35,22,43,36,44,53,37,39,35,36,26,24,21,37,30,37,35,39,45,39,35,32,43,41,29,33,38,25,27,27,55,78,80,86,71,80,68,57,67,93,99,103,97,89,81,75,70,76,56,61,80,75,81,51,56,62,49,43,31,36,38,36,43,48,41,55,43]
["Commercial",{"$nulls":19},1,3,3,4,4,6,4,4,1,14,1,3,2,1,6,2,3,5,2,2,9,5,0,1,2,0,1,2,1,0,3,3,1,0,2,0,0,1,1,3,2,1,3,1,0,0,0,1,2,1,2,1,0,0,1,0,0,0,1,11,1,1,1,2,1,3,2,0,1,0,0,1,1,2,2,3,3,2,2,0,2,5,3,0,3,1,6,4,1,1,0,2,1,3,6,4,1,3,0,4,1,3,2,4,7,2,2,5,5,3,1,2,6,2,4,1,6,0,1,10,1,6,4,2,2,0,3,2,4,0,6,4,2,1,3,5,3,5,0,1,1,4,1,6,0,1,1,6,6,1,0,1,0,2,2,6,0,1,2,3,4,4,0,0,1,3,1,2,4,3,4,3,1,3,2,3,2,3,1,4,2,2,0,2,2,3,1,3,7,2,2,5,4,4,3,3,4,3,9,6,2,5,3,3,4,5,7,4,3,4,6,2,3,3,3,1,2,1,6,1,3,1,0]
["Total",{"$nulls":19},{"$f":"SUM(U45:U47)","v":246},{"$f":"SUM(V45:V47)","v":183},284,318,401,354,240,265,293,247,204,166,162,116,176,153,207,156,123,139,123,176,101,125,97,122,112,143,171,140,123,129,133,121,130,101,87,98,110,124,135,136,114,128,126,101,80,83,53,78,101,88,126,142,122,134,137,140,129,135,99,93,126,164,170,{"$f":"SUM(CH45:CH47)","v":168},148,129,143,138,136,155,99,107,169,167,159,177,147,132,138,132,122,140,116,143,227,186,206,182,151,173,176,177,165,140,115,146,180,213,194,187,202,184,172,164,147,189,133,117,146,189,231,200,201,174,201,192,153,202,129,142,184,193,241,227,218,187,198,{"$f":"SUM(ET45:ET47)","v":198},177,198,145,130,184,201,217,238,201,204,211,193,167,202,141,149,235,219,254,295,185,224,206,234,208,208,153,112,232,225,267,245,209,228,178,215,162,192,144,163,218,229,253,232,232,243,199,224,250,219,179,181,236,181,179,251,452,403,445,460,383,401,335,{"$f":"SUM(HF45:HF47)","v":298},447,445,440,432,369,329,313,333,340,319,285,248,387,344,331,290,233,265,231,207,195,168,141,174,242,215,229,245,169,0,0,0,0,0,0,0]
[]
["Residential How Sold",{"$nulls":49},"2007-07-01","2007-08-01","2007-09-01","2007-10-01","2007-11-01","2007-12-01","2008-01-01","2008-02-01","2008-03-03","2008-04-01","2008-05-01","2008-06-01","2008-07-01","2008-08-01","2008-09-01","2008-10-01","2008-11-01","2008-12-01","2009-01-01","2009-02-01","2009-03-01","2009-04-01","2009-05-01","2009-06-01","2009-07-01","2009-08-01","2009-09-01","2009-10-01","2009-11-01","2009-12-01","2010-01-01","2010-02-01","2010-03-01","2010-04-01","2010-05-01","2010-06-01","2010-07-01","2010-08-01","2010-09-01","2010-10-01","2010-11-01","2010-12-01","2011-01-01","2011-02-01","2011-03-01","2011-04-01","2011-05-01","2011-06-01","2011-07-01","2011-08-01","2011-09-01","2011-10-01","2011-11-01","2011-12-01","2012-01-01","2012-02-01","2012-03-01","2012-04-01","2012-05-01","2012-06-01","2012-07-01","2012-08-01","2012-09-01","2012-10-01","2012-11-01","2012-12-01","2013-01-01","2013-02-01","2013-03-01","2013-04-01","2013-05-01","2013-06-01","2013-07-01","2013-08-01","2013-09-01","2013-10-01","2013-11-01","2013-12-01","2014-01-01","2014-02-01","2014-03-01","2014-04-01","2014-05-01","2014-06-01","2014-07-01","2014-08-01","2014-09-01","2014-10-01","2014-11-01","2014-12-01","2015-01-01","2015-02-01","2015-03-01","2015-04-01","2015-05-01","2015-06-01","2015-07-01","2015-08-01","2015-09-01","2015-10-01","2015-11-01","2015-12-01","2016-01-01","2016-02-01","2016-03-01","2016-04-01","2016-05-01","2016-06-01","2016-07-01","2016-08-01","2016-09-01","2016-10-01","2016-11-01","2016-12-01","2017-01-01","2017-02-01","2017-03-01","2017-04-01","2017-05-01","2017-06-01","2017-07-01","2017-08-01","2017-09-01","2017-10-01","2017-11-01","2017-12-01","2018-01-01","2018-02-01","2018-03-01","2018-04-01","2018-05-01","2018-06-01","2018-07-01","2018-08-01","2018-09-01","2018-10-01","2018-11-01","2018-12-01","2019-01-01","2019-02-01","2019-03-01","2019-04-01","2019-05-01","2019-06-01","2019-07-01","2019-08-01","2019-09-01","2019-10-01","2019-11-01","2019-12-01","2020-01-01","2020-02-01","2020-03-01","2020-04-01","2020-05-01","2020-06-01","2020-07-01","2020-08-01","2020-09-01","2020-10-01","2020-11-01","2020-12-01","2021-01-01","2021-02-01","2021-03-01","2021-04-01","2021-05-01","2021-06-01","2021-07-01","2021-08-01","2021-09-01","2021-10-01","2021-11-01","2021-12-01","2022-01-01","2022-02-01","2022-03-01","2022-04-01","2022-05-01","2022-06-01","2022-07-01","2022-08-01","2022-09-01","2022-10-01","2022-11-01","2022-12-01","2023-01-01","2023-02-01","2023-03-01","2023-04-01","2023-05-01","2023-06-01","2023-07-01","2023-08-01","2023-09-01","2023-10-01","2023-11-01","2023-12-01","2024-01-01","2024-02-01","2024-03-01","2024-04-01","2024-05-01"]
["Conventional",{"$nulls":55},44,58,80,65,89,83,66,74,62,58,34,49,25,42,63,48,76,77,67,64,70,67,69,69,60,50,66,85,88,82,77,68,76,70,66,73,56,52,80,97,77,95,82,66,66,62,50,66,56,65,108,73,102,91,66,85,84,83,86,68,62,48,83,99,99,89,93,83,76,77,68,74,72,47,69,90,127,87,71,67,85,100,75,106,64,63,87,99,127,117,108,85,93,108,99,98,80,57,96,110,120,124,101,104,110,91,110,120,71,78,115,121,119,136,92,111,113,111,114,109,74,49,130,128,147,119,116,121,94,115,87,117,78,77,114,127,143,112,107,128,97,125,139,123,92,82,136,107,86,130,269,237,260,245,233,236,185,162,259,239,215,201,177,144,145,170,186,167,155,123,201,164,158,137,111,114,110,93,105,83,67,82,123,87,122,114,74]
["Cash",{"$nulls":55},12,11,8,21,17,18,19,23,19,23,16,13,10,14,9,20,15,24,21,24,22,24,19,24,18,15,27,35,45,26,31,20,18,27,56,32,35,26,31,28,30,28,28,29,32,30,19,23,26,29,43,38,46,34,40,25,43,35,32,24,17,29,36,42,37,29,46,36,40,26,32,34,28,28,22,38,44,31,30,36,32,31,27,32,17,26,30,28,43,34,36,35,33,35,26,31,44,26,21,37,29,33,37,34,27,36,22,31,25,33,44,38,44,42,24,40,31,33,32,30,26,22,35,30,41,32,25,40,28,34,27,20,23,24,50,26,38,42,42,39,25,30,35,29,33,34,35,22,32,54,76,46,55,81,43,40,37,50,82,68,71,73,44,52,55,47,45,41,46,39,61,64,57,55,40,63,43,46,36,37,21,31,39,56,42,42,37]
["FHA",{"$nulls":19},"2013 updated 03/07/14   2014 Data updated 03/07/14",{"$nulls":35},0,2,4,1,3,2,3,2,7,1,3,3,5,6,6,9,10,8,10,6,6,9,10,5,2,3,10,6,5,15,8,7,6,7,6,9,2,3,7,4,4,4,4,7,7,4,2,3,5,10,7,12,4,5,4,5,5,4,4,3,2,3,2,9,2,7,5,4,3,6,6,4,1,2,4,4,2,8,7,5,6,3,1,3,5,3,6,7,10,7,8,6,6,8,6,9,3,3,7,1,8,10,3,6,6,4,3,5,3,4,9,5,10,7,10,8,6,8,7,2,5,4,8,9,8,7,7,12,12,8,4,7,6,5,5,6,10,12,14,13,12,11,9,8,7,5,9,9,9,7,12,8,6,12,5,8,9,7,12,10,7,10,9,7,4,8,5,4,2,5,7,8,3,9,6,4,3,7,5,3,4,9,7,6,5,6,3]
["Jumbo",{"$nulls":116},1,3,3,0,4,1,0,0,0,0,2,1,2,3,5,3,1,3,2,2,1,1,4,2,3,3,5,5,5,4,4,2,1,3,1,2,0,3,2,3,2,1,0,2,2,1,4,2,1,2,5,7,5,2,2,1,0,2,3,3,5,5,2,5,6,4,3,3,7,3,8,3,4,6,8,5,4,2,4,5,5,6,5,2,3,4,1,4,5,9,7,14,14,10,15,13,4,10,19,22,20,12,12,10,10,11,14,13,7,18,11,11,10,7,5,6,3,2,1,2,2,5,1,5,4,2]
["USDA",{"$nulls":115},1,4,2,6,2,3,3,3,2,1,1,1,0,1,1,3,4,2,2,1,1,4,4,1,1,2,1,1,3,3,3,1,1,0,0,2,1,1,2,2,4,2,1,1,6,1,0,0,3,1,2,1,3,6,0,4,0,1,3,1,0,1,2,3,0,0,2,0,1,1,0,2,0,2,1,3,1,4,4,2,3,3,3,1,4,2,0,4,2,4,3,1,1,4,1,1,1,0,0,1,1,1,5,0,1,2,0,1,0,0,1,0,0,0,0,0,0,1,0,0,3,0,1,0,0,0,2]
["Other",{"$nulls":55},0,2,1,1,1,5,4,4,5,1,4,1,1,2,3,2,4,2,5,3,3,4,3,1,3,2,4,8,6,85,4,3,2,8,4,8,3,0,7,5,5,3,7,2,4,5,3,6,6,6,6,5,5,6,7,9,7,9,3,7,3,4,4,6,3,1,7,3,2,2,2,5,2,2,5,6,5,7,2,8,6,3,3,2,2,1,5,1,4,6,1,4,2,4,8,2,8,0,2,1,1,6,3,4,2,1,2,3,4,5,2,2,5,6,2,2,1,4,1,4,4,1,3,2,2,3,3,4,2,3,6,4,3,1,1,1,5,1,4,5,7,2,1,1,0,5,2,4,2,7,5,6,6,2,0,4,5,3,4,2,6,1,4,7,2,6,5,4,1,4,2,2,4,7,2,3,2,4,3,3,4,2,2,4,1,7,2]
["VA",{"$nulls":21},188,null,71087429,null,378124,null,275000,null,1892,{"$nulls":25},1,2,3,4,1,2,2,1,0,2,3,3,1,4,3,2,6,3,2,8,3,2,5,1,3,2,6,2,7,9,5,1,4,3,2,3,1,4,5,3,6,12,5,1,4,8,0,4,2,1,6,3,6,7,4,1,7,3,4,7,4,2,5,2,11,12,6,7,4,2,6,5,3,4,8,3,7,11,6,3,10,2,7,9,5,7,8,12,9,13,11,11,6,3,1,5,7,5,7,5,10,8,9,10,6,10,2,10,4,6,6,8,15,14,6,4,10,9,5,15,6,7,4,12,16,21,15,9,5,8,8,8,4,10,7,18,15,15,12,10,13,13,13,7,9,15,13,7,14,14,22,13,16,14,14,11,13,11,10,9,15,15,12,12,13,10,15,9,8,4,10,16,14,17,5,12,3,7,10,4,0,11,16,12,10,16,6]
["Total",{"$nulls":21},180,null,57659940,null,320333,null,250000,null,1830,{"$nulls":19},{"$f":"SUM(AY51:AY57)","v":0},0,0,0,0,0,57,75,96,92,111,110,94,104,93,85,60,69,42,68,84,81,111,114,105,105,104,106,106,100,86,72,113,136,151,217,125,99,106,115,134,125,97,85,130,137,122,142,126,105,113,109,74,102,95,111,170,131,163,143,121,125,146,134,129,109,89,91,135,167,154,145,161,136,127,114,115,125,107,86,112,149,192,147,121,122,142,144,118,157,96,105,140,153,201,185,171,146,143,159,143,148,145,92,138,158,175,185,155,159,159,145,140,173,112,128,180,180,203,216,136,171,162,166,164,164,118,89,187,186,219,188,172,189,145,176,135,166,117,123,184,189,217,190,185,201,162,189,206,174,147,146,199,154,149,221,396,318,358,372,306,315,263,237,377,348,337,{"$f":"SUM(HJ51:HJ57)","v":321},263,234,230,253,267,240,225,182,300,265,247,235,171,201,167,161,161,131,101,137,193,166,185,189,126]
[]
["Sold Residential by Price Range",{"$nulls":19},"Current Period (March 2013 to Feb 2014",{"$nulls":4},"Previous Period (March 2012 to Feb 2013)",{"$nulls":25},"2007-08-01","2007-09-01","2007-10-01","2007-11-01","2007-12-01","2008-01-01","2008-02-01","2008-03-01","2008-04-01","2008-05-01","2008-06-01","2008-07-01","2008-08-01","2008-09-01","2008-10-01","2008-11-01","2008-12-01","2009-01-01","2009-02-01","2009-03-01","2009-04-01","2009-05-01","2009-06-01","2009-07-01","2009-08-01","2009-09-01","2009-10-01","2009-11-01","2009-12-01","2010-01-01","2010-02-01","2010-03-01","2010-04-01","2010-05-01","2010-06-01","2010-07-01","2010-08-01","2010-09-01","2010-10-01","2010-11-01","2010-12-01","2011-01-01","2011-02-01","2011-03-01","2011-04-01","2011-05-01","2011-06-01","2011-07-01","2011-08-01","2011-09-01","2011-10-01","2011-11-01","2011-12-01","2012-01-01","2012-02-01","2012-03-01","2012-04-01","2012-05-01","2012-06-01","2012-07-01","2012-08-01","2012-09-01","2012-10-01","2012-11-01","2012-12-01","2013-01-01","2013-02-01","2013-03-01","2013-04-01","2013-05-01","2013-06-01","2013-07-01","2013-08-01","2013-09-01","2013-10-01","2013-11-01","2013-12-01","2014-01-01","2014-02-01","2014-03-01","2014-04-01","2014-05-01","2014-06-01","2014-07-01","2014-08-01","2014-09-01","2014-10-01","2014-11-01","2014-12-01","2015-01-01","2015-02-01","2015-03-01","2015-04-01","2015-05-01","2015-06-01","2015-07-01","2015-08-01","2015-09-01","2015-10-01","2015-11-01","2015-12-01","2016-01-01","2016-02-01","2016-03-01","2016-04-01","2016-05-01","2016-06-01","2016-07-01","2016-08-01","2016-09-01","2016-10-01","2016-11-01","2016-12-01","2017-01-01","2017-02-01","2017-03-01","2017-04-01","2017-05-01","2017-06-01","2017-07-01","2017-08-01","2017-09-01","2017-10-01","2017-11-01","2017-12-01","2018-01-01","2018-02-01","2018-03-01","2018-04-01","2018-05-01","2018-06-01","2018-07-01","2018-08-01","2018-09-01","2018-10-01","2018-11-01","2018-12-01","2019-01-01","2019-02-01","2019-03-01","2019-04-01","2019-05-01","2019-06-01","2019-07-01","2019-08-01","2019-09-01","2019-10-01","2019-11-01","2019-12-01","2020-01-01","2020-02-01","2020-03-01","2020-04-01","2020-05-01","2020-06-01","2020-07-01","2020-08-01","2020-09-01","2020-10-01","2020-11-01","2020-12-01","2021-01-01","2021-02-01","2021-03-01","2021-04-01","2021-05-01","2021-06-01","2021-07-01","2021-08-01","2021-09-01","2021-10-01","2021-11-01","2021-12-01","2022-01-01","2022-02-01","2022-03-01","2022-04-01","2022-05-01","2022-06-01","2022-07-01","2022-08-01","2022-09-01","2022-10-01","2022-11-01","2022-12-01","2023-01-01","2023-02-01","2023-03-01","2023-04-01","2023-05-01","2023-06-01","2023-07-01","2023-08-01","2023-09-01","2023-10-01","2023-11-01","2023-12-01","2024-01-01","2024-02-01","2024-03-01","2024-04-01","2024-05-01"]
["$200,000 - $499,999",{"$nulls":63},49,44,38,32,22,37,48,41,63,57,59,65,63,59,58,52,47,40,63,74,85,72,67,51,59,69,57,46,45,35,57,81,52,78,62,57,62,55,35,49,56,54,77,75,87,81,67,69,84,74,73,55,41,45,65,98,85,74,81,76,66,59,66,67,53,37,56,68,100,81,72,64,86,91,69,98,54,57,68,85,126,105,99,72,88,107,89,86,69,63,78,109,116,122,103,105,95,104,92,111,71,86,119,114,119,144,87,112,110,112,101,107,73,60,118,133,148,109,112,115,97,111,90,99,62,77,116,119,139,121,122,142,100,134,130,107,98,97,122,110,94,137,252,183,201,171,152,149,145,137,176,167,153,125,114,93,105,110,121,99,87,69,105,97,90,91,64,85,55,51,67,52,41,64,84,63,76,62,44]
["Below $199,999K",{"$nulls":21},1579,null,561862046,null,355834,null,275000,{"$nulls":35},21,20,9,16,8,16,17,18,24,29,32,23,28,20,26,20,12,13,23,35,33,38,35,29,25,28,25,44,32,25,42,30,26,38,48,32,29,37,26,29,22,36,44,37,41,36,34,39,47,32,30,25,31,34,40,48,38,42,53,39,39,32,32,33,28,29,33,40,45,2,34,40,39,29,31,29,23,28,44,35,49,36,48,45,35,33,31,31,48,18,33,23,31,29,31,30,33,26,26,26,19,20,33,23,40,30,21,30,26,28,30,21,21,15,31,23,27,33,21,35,22,31,17,21,23,22,24,31,29,27,33,29,29,17,26,20,20,24,29,13,18,39,37,27,28,37,15,20,15,13,30,27,31,22,20,23,15,13,18,9,8,6,20,7,3,12,11,14,7,9,8,9,2,12,2,12,6,11,10]
["$500,000 - $749,999",{"$nulls":21},1570,null,564310631,null,359433,null,280000,{"$nulls":35},15,14,11,14,10,11,14,17,15,16,8,10,7,18,16,16,15,15,18,19,24,16,19,15,14,12,17,21,12,15,18,19,32,15,7,9,8,11,7,10,10,14,28,8,22,13,11,7,9,17,17,18,10,6,19,11,17,15,13,13,15,11,10,15,18,11,12,21,30,14,7,15,10,14,11,14,15,14,16,18,12,28,13,22,10,13,11,19,16,4,14,15,18,18,14,17,21,7,16,21,16,7,17,30,24,25,19,18,19,22,24,18,14,6,21,18,28,27,26,28,12,18,18,23,21,15,30,28,33,28,18,18,17,24,30,32,18,15,31,22,25,29,66,82,87,109,75,89,65,53,83,74,75,86,73,66,56,74,61,61,52,42,80,77,71,68,46,55,56,45,48,35,27,39,57,48,57,53,39]
["$750,000 and Above",{"$nulls":63},8,7,2,7,2,4,5,5,9,12,6,7,6,9,6,12,12,4,9,8,9,11,4,5,8,6,5,14,8,10,12,7,12,11,9,7,14,6,6,14,7,7,21,11,13,13,9,10,6,11,9,11,7,6,11,9,14,14,14,8,7,12,7,10,8,9,11,20,17,13,8,3,7,10,7,16,4,6,12,15,14,16,11,7,10,5,12,12,12,7,13,11,10,16,7,7,10,8,6,15,6,15,11,13,20,17,9,11,7,4,9,18,10,8,17,12,16,19,13,11,11,16,10,23,11,9,14,11,16,14,12,12,16,14,20,15,11,10,17,9,12,16,41,26,42,55,64,57,38,35,88,80,78,88,56,52,54,56,67,70,78,63,95,84,83,64,50,47,49,56,38,35,31,22,50,43,46,63,33]
[{"$nulls":89},{"$f":"SUM(CL61:CL64)","v":115},104,125,97,85,129,137,122,142,126,105,113,109,74,102,95,111,170,131,163,143,121,125,146,134,129,109,89,91,135,166,154,145,161,136,127,114,115,125,107,86,112,149,192,110,121,122,142,144,118,157,96,105,140,153,201,185,171,146,143,158,143,148,145,92,138,158,175,185,155,159,159,145,140,173,112,128,180,180,203,216,136,171,162,166,164,164,118,89,187,186,219,188,172,189,142,176,135,166,117,123,184,189,217,190,185,201,162,189,206,174,147,146,199,154,149,221,396,318,358,372,306,315,263,238,377,348,337,321,{"$f":"SUM(HK61:HK64)","v":263},234,230,253,267,239,225,{"$f":"SUM(HR61:HR64)","v":180},300,265,247,235,171,201,{"$f":"SUM(HY61:HY64)","v":167},{"$f":"SUM(HZ61:HZ64)","v":161},{"$f":"SUM(IA61:IA64)","v":161},{"$f":"SUM(IB61:IB64)","v":131},{"$f":"SUM(IC61:IC64)","v":101},{"$f":"SUM(ID61:ID64)","v":137},193,166,185,189,126,0,0,0,0,0,0,0,0,0,0]
["Residential Sold Data"]
["Total Average Sale Price",{"$nulls":31},507584,448472,344712,526335,522710,575889,474002,467820,465019,473337,506294,496384,532451,454558,562736,531631,462580,428284,434397,437335,429249,491789,506294,482500,515446,570199,302450,391386,438957,435930,501898,379874,370092,387889,396965,444173,414034,372480,391139,405580,370649,417667,332757,355412,280000,330000,367549,481398,451377,408349,386598,283500,385495,365943,331833,275450,361865,352065,348343,378591,388798,407416,371203,374113,431991,362472,316863,314391,405580,317643,333254,411801,370741,348355,412362,337186,349265,378091,378878,327597,295935,366492,388418,431401,326127,314665,379384,319663,371414,372450,358845,329408,306203,383585,342405,372046,392065,349976,391074,435374,392669,371633,351247,303837,343288,361132,342350,402759,293223,358251,336945,397372,340012,403782,331603,351395,355690,309539,379797,380843,426842,363445,379449,372897,362336,388450,347995,346598,351734,353644,365359,395274,412247,385976,369762,401042,403833,388478,395374,355968,376051,346594,374534,434910,351673,424444,400295,390869,438104,414252,418554,373293,359545,390986,397900,451876,410227,386500,397695,412075,394673,409902,369758,373816,413273,402082,438268,421379,406071,371718,435388,415048,405862,395114,443748,475269,490079,535611,567366,578292,528590,529619,596636,606262,642117,688595,628784,611258,619187,667132,617710,698947,725669,772979,740515,751899,765320,711955,712237,614297,693245,711033,632584,694886,713297,566966,699538,652373,690943,748942,616768]
["Total Median Sale Price",{"$nulls":18},3870000,{"$nulls":11},425000,{"$nulls":12},395000,{"$nulls":10},365000,399000,310000,298825,317000,374000,332000,399950,275000,325000,315000,334575,380000,290000,292000,355000,350000,270000,315450,260000,285000,277759,300000,284540,337000,393950,307500,314900,283500,288200,305000,270000,269900,288000,352065,288000,296900,282000,295000,279876,350000,347450,285950,260000,255000,305000,239000,255500,264250,285000,279000,300000,287800,280000,285000,273000,255000,255000,282500,315000,300000,235742,271513,280000,275000,295000,299000,265000,259750,250000,329500,280000,280000,273750,274000,270000,269900,293500,283000,271500,261250,286000,288500,279000,315000,258500,312000,269500,290000,270000,296000,239750,277450,275000,279000,319500,278000,300000,286000,303400,317500,289000,315000,300000,286000,289000,284500,299450,327500,306000,310000,312500,321750,288000,316000,305000,310000,320000,304500,317500,345000,273975,305000,325000,319250,342000,313750,333500,320000,294193,325000,339000,341500,329900,318500,332500,339900,399100,335000,315000,313000,318750,335000,344000,371000,342000,332000,347900,332500,350000,343000,366500,412500,423200,456500,477500,480000,430000,450000,473000,454950,470000,529000,490000,500000,495000,507000,480000,546500,573910,570000,577250,560000,595000,545000,550000,507000,595000,600000,519654,515000,582500,470000,550000,544950,539000,599000,559499]
["Total Sale Volumn",{"$nulls":31},47205399,42604901,34471262,65265602,69520550,71410330,39816189,47717662,39526640,55853877,40503552,44178183,40466294,46819475,55710954,62732539,62448361,50109260,59946824,45920200,57090150,46714300,40503552,39565039,29895912,34091850,38789750,40704191,47407365,44900829,43655189,40686545,37749435,35297989,30566326,31291849,17389450,25328675,32464567,32852000,39288899,45943450,33608526,34830434,35700844,38765085,36754930,42705700,38818500,28584449,42139213,47052654,56282280,46474846,38824552,33043860,37634009,39431307,35531023,47323910,31881469,34630380,47885276,51253523,52702977,51471051,39291126,30810405,45425058,34305520,23661088,39944789,34849705,37622376,64782870,44171441,56930290,54067033,40109155,40622120,42910709,48155487,50105950,46591321,29025378,28634562,51596237,53703510,58312054,55867599,57774133,44799538,38887863,43728710,39376616,46505857,41558956,30797923,44973561,64870853,75392586,54630189,42500893,38587393,47717101,50919644,48613801,61219467,37825852,36899888,47172437,60797939,67662469,74699702,63168186,51303745,50863793,48597661,54310986,56364805,47379563,33437008,52363972,58917871,63408941,71863377,53939277,55109188,55925776,51278488,51150392,68382407,46171775,49404971,66557269,72187652,81978227,83911384,53770962,60870546,60920419,57534728,61423739,71325400,53806022,37775593,74855305,72701705,95944777,77879484,71991330,70552463,51055445,68813556,53716537,75011518,47996645,47520857,73175948,77882329,85644128,77881539,68405376,75137084,66950.350000000006,75993539,90283404,73319980,59692538,52783977,86642322,63917397,60473571,87099309,175725314,151135811,175448586,199247577,173614022,182162109,139019355,125519815,224932131,210979465,216393628,221039293,165370385,143034410,142413206,168784558,164928718,167048527,163275539,140682279,222154531,199253257,189034064,167309528,131792618,123473834,115771984,114476319,101846155,91030096,72043087,77678473,135010870,105684431,127769028,141557759,77712888]
[]
["Under Contract"]
["Dollar Value Under Contract",{"$nulls":201},227889952,136137604,220563624,351494963,414282303,451492385,482844778,438981787,436028142,358951929,402884259,464392561,468015132,520885652,474954283,378889770,361824070,401156985,424593544,419696907,427568236,375288215,398969296,434972539,420342722,404419509,342572368,288232722,"No Data",312376556,301904923,264251525,227469914,190956590,232024963,254832656,245855997,257858679,245444760,202536373,220158821]
[]
["SFD Units Sold",{"$nulls":16},175,129,155,130,105,171,175,243,202,145,155,155,139,107,92,75,80,107,104,113,103,74,79,72,95,62,72,72,82,87,110,106,101,81,86,93,87,70,74,52,67,83,77,97,94,77,83,77,77,52,65,39,60,80,75,96,101,91,88,86,84,90,86,85,66,102,105,122,121,98,91,94,100,90,112,72,78,112,123,111,127,101,93,99,93,61,89,81,97,149,118,140,123,102,114,125,117,109,93,77,79,121,155,140,135,143,114,105,99,95,114,89,75,92,120,167,133,102,88,132,128,100,144,86,94,110,140,177,155,152,122,120,128,124,131,97,77,115,138,153,155,135,127,134,125,119,157,99,114,159,155,170,189,113,134,146,142,141,146,100,79,159,154,189,161,146,156,118,154,121,142,105,104,158,170,188,166,156,171,138,162,174,146,125,126,175,131,128,175,327,262,306,314,272,265,233,203,316,295,278,292,220,199,192,205,228,214,197,150,255,226,217,203,145,164,143,143,137,102,79,106,162,133,149,162,102]
["SF Average Sale Price",{"$nulls":137},348749,403894,377759,368089,371453,417715,357918,425298,390414,386939,382138,330612,411667,400025,450235,393220,409497,390808,382516,415650,356000,370791,368114,375030,387024,411661,402664,401694,389781,427190,438714,407628,396292,384602,388913,364059,399668,453535,499754,452416,431692,415138,471307,445051,450583,405866,386920,416056,414278,483931,431612,423809,420729,429602,441817,428957,395856,400303,444503,429749,468389,449360,437368,401324,462903,447895,441108,443331,493801,524771,532799,587363,598289,633409,554333,468830,651191,659288,724151,734613,680786,660624,667564,723847,664693,725821,775718,854864,810672,801753,815970,766103,764108,667851,744490,757506,673071,786902,781719,627634,746793,707063,759777,805612,674644]
["SF Median Sale Price",{"$nulls":16},419000,480000,415000,452000,495000,496000,510000,534500,507500,409500,410000,420000,450000,425000,419950,433000,341250,398000,454790,417500,529000,368200,369350,419500,410000,443250,418750,385000,327000,425000,412000,430000,395000,342900,357450,350000,415000,357500,406339,381206,320000,345000,360000,375000,362500,359000,300000,375000,325000,334575,394000,290000,292000,362500,375000,292500,325000,265000,297500,322500,335000,310000,367000,399000,336000,322500,317500,314475,322000,301500,300000,317250,368952,318750,341500,408300,347450,308500,360000,360000,300000,295000,274900,315000,247000,269000,265900,307500,295000,310000,298000,294500,304400,317500,292500,277000,295000,346500,330000,260000,300000,305000,284250,323000,303000,277000,270000,263000,338000,290000,300000,295425,275000,289200,294750,320000,299900,285000,292500,288500,299000,285500,318000,335000,317500,283880,300750,280000,300000,279000,325000,288500,284500,328500,286000,325000,288000,325000,340000,325000,330000,309000,310000,294450,290000,310500,335000,309000,311500,329000,339000,326000,325000,330000,324000,324950,327000,325000,350000,321500,325000,340000,335000,370000,330000,346500,346450,311000,348500,356000,354500,339000,332750,347250,345000,349950,342500,332500,331780,347250,351000,359000,384500,370000,356000,365000,360000,373750,364570,398000,459000,457500,508000,500000,515000,449000,469000,507500,510000,522500,562000,530300,545000,503750,526000,525500,546750,660000,637000,635000,620000,650000,581000,608000,549450,635000,650000,560000,565000,629900,500000,573750,585000,590000,627500,602450]
["SF Total Sale Volumn",{"$nulls":137},34874968,58160744,32487302,34600388,40859937,58480164,63351569,65919802,59342997,47206655,45856644,42318411,51046736,52403405,43672813,30278008,47092242,53931631,58524991,64425853,48062722,47090538,49327376,46878814,46055968,64630824,39863792,45793159,61975269,66214502,74581407,77041766,44781072,51536746,56781360,51696358,56353209,66216150,44975482,35740893,68639041,63931325,89077027,71653212,65785181,63315213,45656607,64072756,50127737,68718308,45319345,44076157,66475229,73032429,77421778,71206894,61753626,68451884,61726450,69619469,81499762,65606580,54671002,50566907,81008040,58674257,56461931,77582925,161473118,137490006,163036734,184432143,162734700,167853489,129159800,115472571,205776563,194490148,201314064,212574055,149773059,131464179,128172398,148388808,151550137,155325838,152816559,128229719,206721597,181196314,177065561,155518920,110795800,109527585,106462185,108323475,92210755,80264099,61755840,66529222,120980574,94039490,113206828,130509209,68813738]
[]
["Condo Units Sold",{"$nulls":16},18,9,11,15,8,12,23,25,19,14,15,13,13,10,11,14,6,10,10,14,14,4,12,10,14,5,5,6,9,8,10,15,11,12,11,12,6,9,5,5,5,10,5,13,9,13,13,10,4,5,2,1,5,2,3,4,7,8,13,12,9,4,7,4,1,4,24,22,12,15,5,9,7,10,9,7,6,10,11,4,12,20,8,8,12,9,8,10,10,13,8,19,16,10,7,12,12,14,10,6,7,7,7,13,10,13,12,11,12,14,10,12,8,13,17,15,8,11,18,5,7,18,9,4,7,17,7,15,21,9,9,15,15,11,9,9,11,12,13,15,22,18,22,14,12,17,13,11,11,14,18,26,22,16,23,10,14,15,13,13,9,22,26,27,21,18,29,18,15,9,18,5,8,22,11,23,15,19,21,16,13,20,18,13,12,16,20,12,24,39,43,36,36,23,34,19,15,43,29,31,14,22,24,23,27,21,16,21,22,25,31,20,22,20,21,12,12,17,16,12,19,25,22,26,18,17]
["Condo Average Sale Price",{"$nulls":137},278544,243861,183475,209714,243588,181310,226900,276216,224815,208865,261426,276900,217822,248588,280633,231818,221825,240769,205403,273817,310425,260972,251250,225695,263705,250506,272102,262478,231285,240347,232454,276869,251240,276839,228040,287605,260185,335184,207222,223433,256625,261053,246120,245960,225977,227318,266835,257533,295988,277695,307580,227250,263618,284590,284780,324916,271700,241661,254493,227250,125000,272250,272466,273950,244948,235175,254040,280539,262498,241965,275000,316375,337834,313629,327113,313024,360271,333841,358129,280457,401381,401466,380056,408014,356295,435937,371952,408772,355966,454969,412345,430789,409622,416836,424541,378125,428882,350243,435466,432660,453832,413206,450050,475791,449117]
["Condo Median Sale Price",{"$nulls":16},202500,330000,225000,250000,259250,255000,355000,290000,355000,244750,355000,335000,321000,270000,437000,337000,309950,418750,311250,346250,285750,252500,375000,373750,342500,299000,376000,302750,300000,332750,285000,247000,225000,330000,265000,229495,397500,245000,180000,483000,329500,197500,285900,325000,284000,570000,280000,264500,347500,395000,141225,400000,295000,369950,350000,228000,320000,206950,235000,230125,250500,255500,198000,227300,189000,157500,210000,237050,292325,252000,199000,257155,249542,190500,155000,259128,178833,134750,210000,144488,181600,152500,185000,277750,190000,160000,258000,232500,164000,229500,207525,205000,224000,177525,177000,177500,246750,214500,235000,113000,208900,140000,145000,181000,247000,189000,231500,255000,246750,203750,185000,194750,280000,238000,205000,180000,225000,190000,259500,238000,238000,249500,224750,192450,156500,245000,159500,205000,252500,169000,167500,259000,285000,169900,243000,220200,225000,197500,249000,195000,261250,265000,249450,284000,233450,225000,237375,284500,265000,277500,226250,236525,292009,236950,259000,209950,288750,284880,320000,189900,250000,238500,264750,239900,225000,247500,195000,254000,250000,320000,264605,263000,225000,234500,320000,262500,300000,232000,225000,226950,217500,302045,269000,284900,223000,202950,225000,237495,269750,260000,249000,262000,314500,285000,284000,320000,295000,339000,300000,349000,292000,387500,373700,342500,425000,315000,435000,365000,392500,340850,455000,381500,431750,363000,385000,433500,387250,390000,347000,462500,410000,399000,425500,395000,480500,417500]
["Condo Total Sale Volumn",{"$nulls":137},5013796,2194750,733900,1468000,4141000,1269175,3403500,5800550,2023340,1879790,3921400,4153500,2396050,2237300,2525700,2550000,2661900,3130000,3081050,6023974,5587655,5741400,3517500,2708340,4483000,3256583,2993125,2887262,3238000,4326250,6043811,6091118,4019850,6367300,2280400,4026470,3902780,4357400,2693890,2010900,5645764,6787380,6645250,5165160,4067599,6592250,4803038,3863000,2663900,4998510,1537900,1818000,5799600,31130500,6549950,4873745,5162300,5074900,4071900,2954250,6040900,4900500,3542067,3287400,3919182,4703500,3048490,6732940,10237453,10404505,9926552,11389534,7770200,10663390,6215150,4695395,15491668,9681400,11102010,3926400,8830400,9635200,8741300,11016400,7482199,6975000,7811000,8993000,8899150,14104050,8246900,9477376,8192450,8753558,5094500,4537500,7291000,5603900,5225600,8220551,11345800,9090541,11701300,8564250,7635000]
[{"$nulls":190},0,{"$nulls":17},"."]
[{"$nulls":66},"2008-11-01","2008-12-01","2009-01-01","2009-02-01","2009-03-01","2009-04-01","2009-05-01","2009-06-01","2009-07-01","2009-08-01","2009-09-01","2009-10-01","2009-11-01","2009-12-01","2010-01-01","2010-02-01","2010-03-01","2010-04-01","2010-05-01","2010-06-01","2010-07-01","2010-08-01","2010-09-01","2010-10-01","2010-11-01","2010-12-01","2011-01-01","2011-02-01","2011-03-01","2011-04-01","2011-05-01","2011-06-01","2011-07-01","2011-08-01","2011-09-01","2011-10-01","2011-11-01","2011-12-01","2012-01-01","2012-02-01","2012-03-01","2012-04-01","2012-05-01","2012-06-01","2012-07-01","2012-08-01","2012-09-01","2012-10-01","2012-11-01","2012-12-01","2013-01-01","2013-02-01","2013-03-01","2013-04-01","2013-05-01","2013-06-01","2013-07-01","2013-08-01","2013-09-01","2013-10-01","2013-11-01","2013-12-01","2014-01-01","2014-02-01","2014-03-01","2014-04-01","2014-05-01","2014-06-01","2014-07-01","2014-08-01","2014-09-01","2014-10-01","2014-11-01","2014-12-01","2015-01-01","2015-02-01","2015-03-01","2015-04-01","2015-05-01","2015-06-01","2015-07-01","2015-08-01","2015-09-01","2015-10-01","2015-11-01","2015-12-01","2016-01-01","2016-02-01","2016-03-01","2016-04-01","2016-05-01","2016-06-01","2016-07-01","2016-08-01","2016-09-01","2016-10-01","2016-11-01","2016-12-01","2017-01-01","2017-02-01","2017-03-01","2017-04-01","2017-05-01","2017-06-01","2017-07-01","2017-08-01","2017-09-01","2017-10-01","2017-11-01","2017-12-01","2018-01-01","2018-02-01","2018-03-01","2018-04-01","2018-05-01","2018-06-01","2018-07-01","2018-08-01","2018-09-01","2018-10-01","2018-11-01","2018-12-01","2019-01-01","2019-02-01","2019-03-01","2019-04-01","2019-05-01","2019-06-01","2019-07-01","2019-08-01","2019-09-01","2019-10-01","2019-11-01","2019-12-01","2020-01-01","2020-02-01","2020-03-01","2020-04-01","2020-05-01","2020-06-01","2020-07-01","2020-08-01","2020-09-01","2020-10-01","2020-11-01","2020-12-01","2021-01-01","2021-02-01","2021-03-01","2021-04-01","2021-05-01","2021-06-01","2021-07-01","2021-08-01","2021-09-01","2021-10-01","2021-11-01","2021-12-01","2022-01-01","2022-02-01","2022-03-01","2022-04-01","2022-05-01","2022-06-01","2022-07-01","2022-08-01","2022-09-01","2022-10-01","2022-11-01","2022-12-01","2023-01-01","2023-02-01","2023-03-01","2023-04-01","2023-05-01","2023-06-01","2023-07-01","2023-08-01","2023-09-01","2023-10-01","2023-11-01","2023-12-01","2024-01-01","2024-02-01","2024-03-01","2024-04-01","2024-05-01"]
["Short Sale Sold",{"$nulls":65},2,7,2,4,10,9,6,11,9,5,7,8,10,14,13,8,16,22,12,11,9,11,6,9,14,14,10,14,19,17,25,20,15,9,16,15,12,14,14,20,17,10,18,13,12,18,21,8,16,11,11,11,12,10,16,16,15,14,9,5,5,15,4,1,7,13,12,6,6,6,6,10,1,16,7,5,4,4,9,14,7,6,5,2,7,4,5,4,1,2,2,4,3,2,1,1,3,3,5,2,2,0,5,4,0,1,3,6,0,0,1,1,1,2,0,0,1,1,1,0,0,3,0,1,1,1,0,1,1,1,0,1,0,1,1,1,0,0,0,2,0,2,1,1,0,0,2,0,1,1,0,1,1,1,0,0,0,1,0,0,1,0,0,0,0,0,0,0,0,0,0,1,0,1,0,0,0]
["Bank Owned Sold",{"$nulls":65},6,6,5,21,16,15,20,18,20,11,17,25,17,43,21,19,27,36,40,43,32,29,44,26,27,35,24,27,35,34,30,32,34,21,20,19,10,19,14,29,23,21,31,24,26,32,28,26,21,24,21,28,32,27,24,17,28,18,15,10,4,19,15,22,13,11,19,12,13,12,18,8,11,10,10,11,15,6,9,6,14,5,7,5,7,9,5,5,8,8,8,7,6,7,3,7,9,8,9,8,8,6,9,7,6,4,6,7,4,6,3,3,12,3,6,6,2,10,3,4,7,5,2,1,5,5,7,1,5,4,7,4,4,2,8,7,8,4,5,7,3,3,2,4,2,3,2,1,3,1,1,2,1,4,0,1,2,0,3,1,2,1,0,0,2,1,0,1,1,1,0,0,1,2,1,3,1]
[{"$nulls":94},"2011-03-11","2011-04-11","2011-05-11","2011-06-11","2011-07-11","2011-08-11","2011-09-11","2011-10-11","2011-11-11","2011-12-11","2012-01-11","2012-02-11","2012-03-11","2012-04-11","2012-05-11","2012-06-11","2012-07-11","2012-08-11","2012-09-11","2012-10-11","2012-11-11","2012-12-11","2013-01-11","2013-02-11","2013-03-11","2013-04-11","2013-05-11","2013-06-11","2013-07-11","2013-08-11","2013-09-11","2013-10-11","2013-11-11","2013-12-11","2014-01-11","2014-02-11","2014-03-11","2014-04-11","2014-05-11","2014-06-11","2014-07-11","2014-08-11","2014-09-11","2014-10-11","2014-11-11","2014-12-11","2015-01-11","2015-02-11","2015-03-11","2015-04-11","2015-05-11","2015-06-11","2015-07-11","2015-08-11","2015-09-11","2015-10-11","2015-11-11","2015-12-11"]
["Short Sales in Active Inventory",{"$nulls":93},"Short Sales in Active Inventory",{"$f":"CR26","v":190},173,177,178,175,169,186,120,152,126,150,162,160,161,153,145,129,127,132,132,134,133,139,136,132,120,105,98,93,89,91,87,78,91,96,91,86,85,80,84,87,85,83,87,66,80,82,82,74,57,54,52,46,46,46,39,35,36,36,32,31,30,32,30,34,17,30,31,22,18,22,18,15,18,19,15,10,10,7,8,10,7,9,13,8,7,4,9,12,10,9,6,7,4,6,6,8,8,4,5,7,4,5,5,5,7,6,8,11,10,3,6,6,5,1,4,3,4,5,3,3,2,{"$f":"HJ26","v":2},2,1,2,2,0,3,2,{"$f":"HR26","v":0},1,0,0,0,0,0,{"$f":"HY26","v":0},0,0,0,0,{"$f":"ID26","v":0},0,0,0,0,0,0,0,0,0,0,0,0,0,0,0]
["Bank Owned in Active Inventory",{"$nulls":93},"Bank Owned in Active Inventory",{"$f":"CR27","v":83},78,71,61,69,60,65,62,85,75,78,74,82,69,68,60,56,61,64,80,84,67,63,56,60,58,51,47,40,53,56,58,48,42,40,44,37,39,41,40,47,46,36,30,32,32,28,22,17,20,24,18,18,23,22,19,20,22,23,22,25,23,26,22,23,19,25,24,23,21,18,14,11,14,16,10,13,11,15,16,20,16,16,19,17,15,14,16,14,15,12,13,16,16,16,12,13,10,7,11,13,5,15,19,16,14,10,9,12,14,7,7,4,2,0,3,3,1,1,0,1,2,{"$f":"HJ27","v":3},2,0,2,2,0,3,4,{"$f":"HR27","v":3},0,0,2,1,0,2,0,2,1,2,0,{"$f":"ID27","v":0},2,4,0,3,3,0,0,0,0,0,0,0,0,0,0]
["Total",{"$nulls":94},{"$f":"SUM(CR88:CR89)","v":273},251,248,239,244,229,251,182,237,201,228,236,242,230,221,205,185,188,196,212,218,200,202,192,192,178,156,145,133,142,147,145,126,133,136,135,123,124,121,124,134,131,119,117,98,112,110,104,91,77,78,70,64,69,68,58,55,58,59,54,56,53,58,52,57,36,55,55,45,39,40,32,26,32,35,25,23,21,22,24,30,23,25,32,25,22,18,25,26,25,21,19,23,20,22,18,21,18,11,16,20,9,20,24,21,21,16,17,23,24,10,13,10,7,1,7,6,5,6,3,4,4,{"$f":"SUM(HJ88:HJ89)","v":5},4,1,4,4,0,6,6,{"$f":"SUM(HR88:HR89)","v":3},1,0,2,1,0,2,{"$f":"SUM(HY88:HY89)","v":0},{"$f":"SUM(HZ88:HZ89)","v":2},{"$f":"SUM(IA88:IA89)","v":1},{"$f":"SUM(IB88:IB89)","v":2},{"$f":"SUM(IC88:IC89)","v":0},{"$f":"SUM(ID88:ID89)","v":0},2,4,0,3,3,0,0,0,0,0,0,0,0,0,0]
[]
["Land Sold Data",{"$nulls":91},"2011-01-01","2011-02-01","2011-03-01","2011-04-01","2011-05-01","2011-06-01","2011-07-01","2011-08-01","2011-09-01","2011-10-01","2011-11-01","2011-12-01","2012-01-01","2012-02-01","2012-03-01","2012-04-01","2012-05-01","2012-06-01","2012-07-01","2012-08-01","2012-09-01","2012-10-01","2012-11-01","2012-12-01","2013-01-01","2013-02-01","2013-03-01","2013-04-01","2013-05-01","2013-06-01","2013-07-01","2013-08-01","2013-09-01","2013-10-01","2013-11-01","2013-12-01","2014-01-01","2014-02-01","2014-03-01","2014-04-01","2014-05-01","2014-06-01","2014-07-01","2014-08-01","2014-09-01","2014-10-01","2014-11-01","2014-12-01","2015-01-01","2015-02-01","2015-03-01","2015-04-01","2015-05-01","2015-06-01","2015-07-01","2015-08-01","2015-09-01","2015-10-01","2015-11-01","2015-12-01","2016-01-01","2016-02-01","2016-03-01","2016-04-01","2016-05-01","2016-06-01","2016-07-01","2016-08-01","2016-09-01","2016-10-01","2016-11-01","2016-12-01","2017-01-01","2017-02-01","2017-03-01","2017-04-01","2017-05-01","2017-06-01","2017-07-01","2017-08-01","2017-09-01","2017-10-01","2017-11-01","2017-12-01","2018-01-01","2018-02-01","2018-03-01","2018-04-01","2018-05-01","2018-06-01","2018-07-01","2018-08-01","2018-09-01","2018-10-01","2018-11-01","2018-12-01","2019-01-01"]
["Total Average Sale Price",{"$nulls":91},155163,146894,145281,140425,118989,111978,283737,101553,72103,125117,103268,72371,93388,181117,71616,98564,159695,183782,105136,118420,92017,196584,84545,130848,88501,77247,105227,82163,90498,211961,138629,117793,96721,104522,90513,52211,136446,155116,133855,109600,90929,129189,72870,133052,151821,167868,94117,132045,110204,102623,87975,101099,216373,111462,178079,86702,160944,81685,237153,120910,76851,90406,190946,96831,104817,103856,289971,106252,138723,92843,163523,144460,100048,116157,114108,141193,103777,93727,93689,101173,133354,124331,130892,126380,144135,116451,153531,108688,118595,120586,219840,137428,107766,119177,133434,123000,145685,111560,117766,80586,108102,94658,95844,170225,165212,130693,120530,118280,119750,133486,86317,122183,140240,111700,112682,116675,133471,148784,142764,148240,145714,159957,161844,151254,110453,158496,149607,156534,157615,188693,179468,195770,155367,136429,157210,193148,150081,157656,166514,160426,177062,250600,196932,187848,190311,175977,145315,182202,189726,156384,199692]
["Total Median Sale Price",{"$nulls":91},105000,73800,80000,90000,85000,98000,100437,104000,65000,95000,45125,61250,67500,115000,55000,54000,60000,63000,73500,72150,65000,109000,63500,92000,61000,50000,57050,65000,64100,92500,87500,65000,74000,56000,73500,26250,89000,65000,80000,63500,7200,78000,38000,71500,65000,91000,62800,70700,72000,84000,70750,70000,87500,79500,92000,72000,66720,75000,58450,55000,76450,70000,64500,59000,80000,77750,78950,75000,70000,64750,98750,55000,83000,95000,71250,49000,95000,75500,75000,82900,77500,80250,69250,61900,110000,103500,100000,79500,69000,85000,133000,90000,85000,92500,102500,72000,115000,95000,50000,50000,68750,76000,70000,95500,90000,87500,115000,78000,134791,70000,77000,112500,95000,95000,76000,95000,99900,110000,95000,89000,119000,100000,107500,114000,80000,95000,105000,110000,115000,125000,137450,114950,112250,107000,128050,129900,129750,115750,147000,115050,110111,140000,160000,155000,128750,126250,99000,130000,110000,133690,163000]
["Total Sale Volumn",{"$nulls":91},2327450,2644100,5375400,3791500,3807677,3695300,5107275,2741940,1658369,2127000,4543800,2750113,1681000,5252400,3509200,5026798,6387800,6432400,3154100,5447330,2668500,7863364,2536350,3532900,2124035,3939605,4630005,3368710,3257950,7206700,5406549,5065139,3675400,7863364,2534380,3080500,2865375,3722800,3881000,3836000,3000675,6588649,5139575,5854320,7894700,8057704,3200000,4621575,3271350,3078700,3519025,3740695,7356695,4458500,7657400,3381378,8208152,3185718,6640300,5078250,2459250,3345030,8210679,3679600,4087900,4985100,13338700,4675100,7074900,4085100,4251600,3322600,2801350,2207000,6161850,4659400,4669996,7029590,4590800,5261044,5867700,8205875,5235700,4549700,5044750,2561935,6601850,3912800,4981000,6391080,8134101,5359701,3771810,4290400,3469300,2829000,3059400,4127725,3533000,2981700,3675500,3691690,4313000,6638801,5782430,4182200,2182800,4849500,3774150,4405050,3280075,2932399,3786500,3015900,5972150,8867351,10544252,12498900,9993500,11859260,9617130,9117600,10843551,14066700,10934900,15849600,14511950,13931527,12766850,14152000,12562820,14878527,8700560,8185782,12576800,14486150,12006509,7882800,9324800,9946450,8499003,10775800,6104900,6762550,7231855,6335180,6103250,8563500,7778800,8599190,8586770]
[]
["Land Type Sold",{"$nulls":19},"Current Period (March 2013 to Feb 2014",{"$nulls":4},"Previous Period (March 2012 to Feb 2013)",{"$nulls":25},"2007-08-01","2007-09-01","2007-10-01","2007-11-01","2007-12-01","2008-01-01","2008-02-01","2008-03-01","2008-04-01","2008-05-01","2008-06-01","2008-07-01","2008-08-01","2008-09-01","2008-10-01","2008-11-01","2008-12-01","2009-01-01","2009-02-01","2009-03-01","2009-04-01","2009-05-01","2009-06-01","2009-07-01","2009-08-01","2009-09-01","2009-10-01","2009-11-01","2009-12-01","2010-01-01","2010-02-01","2010-03-01","2010-04-01","2010-05-01","2010-06-01","2010-07-01","2010-08-01","2010-09-01","2010-10-01","2010-11-01","2010-12-01","2011-01-01","2011-02-01","2011-03-01","2011-04-01","2011-05-01","2011-06-01","2011-07-01","2011-08-01","2011-09-01","2011-10-01","2011-11-01","2011-12-01","2012-01-01","2012-02-01","2012-03-01","2012-04-01","2012-05-01","2012-06-01","2012-07-01","2012-08-01","2012-09-01","2012-10-01","2012-11-01","2012-12-01","2013-01-01","2013-02-01","2013-03-01","2013-04-01","2013-05-01","2013-06-01","2013-07-01","2013-08-01","2013-09-01","2013-10-01","2013-11-01","2013-12-01","2014-01-01","2014-02-01","2014-03-01","2014-04-01","2014-05-01","2014-06-01","2014-07-01","2014-08-01","2014-09-01","2014-10-01","2014-11-01","2014-12-01","2015-01-01","2015-02-01","2015-03-01","2015-04-01","2015-05-01","2015-06-01","2015-07-01","2015-08-01","2015-09-01","2015-10-01","2015-11-01","2015-12-01","2016-01-01","2016-02-01","2016-03-01","2016-04-01","2016-05-01","2016-06-01","2016-07-01","2016-08-01","2016-09-01","2016-10-01","2016-11-01","2016-12-01","2017-01-01","2017-02-01","2017-03-01","2017-04-01","2017-05-01","2017-06-01","2017-07-01","2017-08-01","2017-09-01","2017-10-01","2017-11-01","2017-12-01","2018-01-01","2018-02-01","2018-03-01","2018-04-01","2018-05-01","2018-06-01","2018-07-01","2018-08-01","2018-09-01","2018-10-01","2018-11-01","2018-12-01","2019-01-01","2019-02-01","2019-03-01","2019-04-01","2019-05-01","2019-06-01","2019-07-01","2019-08-01","2019-09-01","2019-10-01","2019-11-01","2019-12-01","2020-01-01","2020-02-01","2020-03-01","2020-04-01","2020-05-01","2020-06-01","2020-07-01","2020-08-01","2020-09-01","2020-10-01","2020-11-01","2020-12-01","2021-01-01","2021-02-01","2021-03-01","2021-04-01","2021-05-01","2021-06-01","2021-07-01","2021-08-01","2021-09-01","2021-10-01","2021-11-01","2021-12-01","2022-01-01","2022-02-01","2022-03-01","2022-04-01","2022-05-01","2022-06-01","2022-07-01","2022-08-01","2022-09-01","2022-10-01","2022-11-01","2022-12-01","2023-01-01","2023-02-01","2023-03-01","2023-04-01","2023-05-01","2023-06-01","2023-07-01","2023-08-01","2023-09-01","2023-10-01","2023-11-01","2023-12-01","2024-01-01","2024-02-01","2024-03-01","2024-04-01","2024-05-01"]
["Residential",{"$nulls":55},29,18,13,26,{"$nulls":20},29,18,13,26,18,21,16,24,31,15,18,13,14,16,36,24,30,32,16,25,21,18,30,25,17,31,37,48,33,33,30,43,26,35,28,23,19,32,38,36,35,31,38,41,35,53,23,55,21,19,28,34,31,46,70,39,51,41,29,30,27,29,39,37,34,35,36,37,47,36,26,34,29,33,38,35,33,47,40,42,47,40,24,20,27,16,47,27,44,61,47,45,40,61,38,33,30,18,37,35,39,50,34,36,34,34,25,22,18,33,25,35,34,37,41,35,33,29,37,38,22,33,30,22,21,24,49,71,73,80,65,79,63,53,65,86,92,97,84,80,73,68,64,68,50,54,66,67,75,47,51,54,44,40,29,33,33,27,36,39,34,47,39]
["Comm / Industrial",{"$nulls":55},1,0,0,0,{"$nulls":20},1,0,0,0,1,3,1,0,2,0,1,0,1,0,1,1,0,0,0,0,0,0,2,1,0,0,2,2,1,0,0,1,0,5,2,3,5,16,4,4,0,2,0,0,1,1,0,3,0,0,1,0,1,3,0,2,0,1,1,2,3,0,0,0,1,1,1,0,1,1,0,4,0,1,1,1,3,0,1,0,0,1,0,1,0,2,2,0,0,10,1,2,1,0,0,0,0,0,4,0,2,0,2,0,1,1,1,0,0,0,3,0,0,0,1,2,0,0,0,2,0,0,1,1,0,0,0,0,1,1,1,0,1,0,1,2,1,3,3,2,2,1,1,3,2,1,4,2,1,1,3,1,2,2,0,2,3,4,1,0,2,2,1]
["Boat Slip",{"$nulls":55},0,1,0,0,{"$nulls":20},0,1,0,0,0,0,0,0,0,1,0,0,0,2,0,1,2,0,0,1,0,0,13,8,1,0,10,0,5,1,0,0,1,0,0,0,0,1,0,1,1,0,1,2,2,1,0,1,0,2,0,1,0,2,2,2,0,4,2,1,0,0,1,0,0,0,3,1,2,0,0,1,2,1,0,0,1,1,3,1,3,1,0,1,0,1,3,2,1,0,0,2,0,3,1,1,1,3,1,0,0,1,0,1,0,1,0,0,1,1,1,1,0,0,1,0,0,3,2,0,0,0,4,1,4,0,1,2,2,2,1,0,1,2,1,2,2,1,4,2,1,2,0,1,1,3,1,1,2,1,0,1,1,0,1,0,0,1,1,0,3,1,2]
["Acreage",{"$nulls":55},0,3,0,3,{"$nulls":20},0,3,0,3,2,1,0,0,0,0,1,0,0,0,0,1,0,1,2,1,2,0,0,4,0,0,1,1,1,1,0,1,1,0,0,1,0,2,2,0,0,1,0,0,0,1,4,0,0,3,0,0,1,0,1,1,1,2,2,2,1,1,0,0,1,4,3,1,0,2,2,3,1,2,4,2,2,0,2,1,1,2,2,1,2,0,2,4,1,4,1,3,3,2,1,2,4,1,1,0,1,2,1,0,0,0,0,1,2,3,1,1,0,2,2,2,2,0,4,1,1,0,3,1,2,3,3,3,3,1,4,1,3,2,0,3,4,2,6,5,5,4,5,4,3,3,9,5,3,2,2,6,1,1,1,1,2,4,4,8,2,5,1]
["Misc",{"$nulls":199},0,0,0,0,0,0,2,2,1,2,null,0,0,0,0,0,0,0,0,0,0,0,0,0,0,0,0,0,0,0,0,0,0,0,0,0,0,0,0,0,0,0,0]
["Total Units Sold",{"$nulls":55},{"$f":"SUM(BE98:BE101)","v":30},22,13,29,0,0,0,0,0,0,0,0,0,0,0,0,0,0,0,0,0,0,0,0,30,22,13,29,21,25,17,24,{"$f":"SUM(CK98:CK101)","v":33},16,20,13,15,18,37,27,32,33,18,27,23,18,45,38,18,31,50,51,40,35,30,45,28,40,30,27,24,51,44,41,{"$f":"SUM(DQ98:DQ101)","v":36},34,39,43,38,56,27,59,21,24,29,35,33,51,73,44,52,48,34,35,31,30,40,37,36,40,43,39,50,39,28,42,{"$f":"SUM(EW98:EW101)","v":32},37,43,38,39,48,46,44,51,44,26,23,29,19,54,33,46,75,49,52,44,66,40,36,35,22,43,35,42,53,37,37,{"$f":"SUM(GC98:GC101)","v":35},36,26,23,21,37,30,37,34,39,45,39,35,32,43,41,{"$f":"SUM(GS98:GS102)","v":23},{"$f":"SUM(GT98:GT102)","v":33},38,25,27,27,55,78,80,86,71,80,68,57,67,93,99,103,{"$f":"SUM(HK98:HK102)","v":97},89,81,75,70,76,56,{"$f":"SUM(HR98:HR102)","v":61},80,75,81,51,56,62,{"$f":"SUM(HY98:HY102)","v":48},{"$f":"SUM(HZ98:HZ102)","v":43},{"$f":"SUM(IA98:IA102)","v":31},{"$f":"SUM(IB98:IB102)","v":36},{"$f":"SUM(IC98:IC102)","v":38},{"$f":"SUM(ID98:ID102)","v":36},42,47,41,55,43,0,0,0,0,0,0,0,0,0,0]
[]
["Commercial Sold Data"]
["Units",{"$nulls":141},4,1,2,0,3,2,4,0,5,4,2,1,2,5,3,5,0,1,1,4,1,5,0,1,1,6,6,1,0,1,0,2,2,6,0,1,2,3,4,3,0,0,1,3,1,3,4,3,4,3,1,3,1,3,2,3,1,4,2,2,0,2,2,3,1,3,7,2,2,5,4,4,3,3,4,3,9,6,2,5,3,3,4,5,7,4,3,4,6,2,3,3,3,1,2,1,6,1,2,1,0]
["Total Average Sale Price",{"$nulls":140},113966,301000,134500,505000,0,411666,617500,583250,0,694500,624750,1640000,208897,705000,515000,1235333,582124,0,134000,340000,183750,320000,243400,0,110000,511000,305000,311250,800000,0,234000,0,198250,455000,524066,0,575000,922500,342500,365156,595833,0,0,370000,485833,160000,437500,571125,286333,527500,513333,350000,355000,489500,125000,642500,901666,130000,301250,431250,1100000,0,510000,360000,1373633,510000,527000,348714,392500,362000,729000,393375,443750,256000,347500,512375,850000,785166,1029333,530250,771600,630000,951966,1560000,879000,967000,745250,471666,497000,1157000,774000,449951,515000,441666,1845000,2654500,623000,802498,750000,348000,370000,0]
["Total Median Sale Price",{"$nulls":140},119000,305000,134500,505000,0,435000,617500,247500,0,493500,480000,1640000,208897,705000,320000,675000,200000,0,134000,340000,135000,320000,250000,0,110000,511000,324875,293750,800000,0,234000,0,198250,455000,344750,0,575000,922500,225000,356500,290000,0,0,370000,460000,160000,437500,455000,130000,450000,400000,350000,300000,489500,239000,642500,1100000,130000,255000,431250,1100000,0,510000,550000,647500,510000,575000,365000,392500,362000,430000,402000,532000,350000,368500,522250,510000,757500,467500,530250,450000,450000,760000,532500,660000,730000,776000,395000,497500,706000,387000,549854,470000,365000,1845000,2654500,625000,446000,750000,348000,370000,0]
["Total Sale Volumn",{"$nulls":140},683800,1204000,134500,1010000,0,1235000,1235000,2333000,0,3472500,2499000,3280000,208897,1410000,2575000,3706000,2910620,0,134000,340000,735000,320000,1217000,0,110000,511000,1830000,1867500,800000,0,234000,0,396500,910000,3144400,0,5750000,1845000,1027500,1460625,1787500,0,0,370000,1457500,160000,875000,2284500,859000,2110000,1540000,350000,1065000,979000,2464000,1285000,2705000,130000,1205000,862500,2200000,0,1020000,1100000,4120900,510000,1581000,2441000,785000,724000,3645000,1573500,1775000,5506000,1042500,2049500,2550000,7066500,6176000,1060500,3858000,1890000,2855900,6240000,4395000,6769000,2981000,1415000,1988000,6942000,387000,1349854,1545000,1325000,1845000,5309000,625000,4814990,750000,696000,370000,0]
["Residential Price / SQFT"]
[{"$nulls":236},"January","February","March","April","May","June","Augy","August","September","October","November","December"]
[2009,{"$nulls":234},2009,213.32,203.73,202.1,215.98,196.85,205.7,202.33,207.43,189.5,167.37,186.35,211.52]
[2010,{"$nulls":234},2010,200.29,178.04,176.08,188.89,211.08,187.99,191.37,182.79,189.73,192.71,177.07,180.9]
[2011,{"$nulls":234},2011,185.85,183.74,197.21,183.15,186.97,162.72999999999999,162.08000000000001,162.25,177.71,155.44,175.24,165.95]
[2012,{"$nulls":234},2012,163.74,158.38999999999999,177.35,176.04,171.77,158.62,158.85,163.63999999999999,158.21,169.43,183.21,178.99]
[2013,{"$nulls":234},2013,153.63,143.28,167.48,156.33000000000001,182.69,165.93,167.24,172.27,163.34,181.41,173.15,172.22]
[2014,{"$nulls":234},2014,169.84,165.27,164.02,175,180.33,175.67,159.03,164.11,170.42,177.12,181.19,179.21]
[2015,{"$nulls":234},2015,164.68,181.32,179.89,184.31,177.38,176.27,166.99,172.72,177.21,176.75,177.87,183.29]
[2016,{"$nulls":234},2016,187.52,182.08,180.7,183.47,184.88,176.61,181.42,182.96,180.63,179.36,187.09,188.42]
[2017,{"$nulls":234},2017,188.33,190,186.32,194.52,186.88,199.37,192.57,187.96,193.7,178.97,197.64,205.61]
[2018,{"$nulls":234},2018,188.25,199.07,192.74,197.21,190.2,201.49,192.05,196.28,191.31,200.35,199.4,211.82]
[2019,{"$nulls":234},2019,193.75,184.26,205.74,193.05,193.44,195.42,184.67,204.31,195.19,197.75,206.55,203.06]
[2020,{"$nulls":234},2020,196.69,195.26,207.95,209.44,198.29,194.29,209.22,213.24,162.47999999999999,229.99,236.69,242.66]
[2021,{"$nulls":234},2021,237.52,245.52,252.33,255.75,262.18,275.73,268.08999999999997,281.8,290.67,289.16000000000003,297.16000000000003,302.05]
[2022,{"$nulls":234},2022,310.64,340.41,319.95,342.32,335.53,331.96,331.11,318.64,337.83,336.67,311.29000000000002,320.14]
[2023,{"$nulls":234},2023,332.14,317.22000000000003,336.5,336.21,344.38,342.46,311.95999999999998]
["Average DOM",{"$nulls":21},{"$f":"W62+#REF!+#REF!","v":{"$error":"#REF!"}},null,null,null,301984,null,235000]
[{"$nulls":26},"2739-01-03",null,"2543-05-28",{"$nulls":207},"Jan","Feb","Mar","Apr","May","Jun","Aug","Aug","Sep","Oct","Nov","Dec"]
[2006,{"$nulls":235},163]
[2007,{"$nulls":235},199]
[2008,{"$nulls":235},195]
[2009,{"$nulls":235},192]
[2010,{"$nulls":235},229]
[2011,{"$nulls":235},197]
[2012,{"$nulls":235},273]
[2013,{"$nulls":234},2013,0,178,201,246,215,213,232,219,231,237,212,216]
[2014,{"$nulls":234},2014,206,202,206,231,212,227,218,191,199,212,205,234]
[2015,{"$nulls":234},2015,237,233,212,237,197,218,212,190,215,235,216,216]
[2016,{"$nulls":234},2016,214,197,198,207,209,182,224,197,203,185,254,211]
[2017,{"$nulls":234},2017,223,191,192,160,135,137,119,142,120,147,141,120]
[2018,{"$nulls":234},2018,170,117,123,133,132,126,129,137,110,117,118,110]
[2019,{"$nulls":234},2019,104,122,106,118,108,127,119,136,112,103,111,125]
[2020,{"$nulls":234},2020,109,119,121,96,115,97,126,131,114,115,94,81]
[2021,{"$nulls":234},2021,92,71,71,52,51,46,34,41,28,38,47,50]
[2022,{"$nulls":234},2022,44,43,39,38,27,23,33,27,35,39,49,51]
[2023,{"$nulls":234},2023,64,55,64,45,53,50,41]
[]
["Lots / Land Average DOM",{"$nulls":21},{"$f":"W81+#REF!+#REF!","v":{"$error":"#REF!"}},null,null,null,301984,null,235000]
[{"$nulls":26},"2739-01-03",null,"2543-05-28",{"$nulls":207},"Jan","Feb","Mar","Apr","May","Jun","Aug","Aug","Sep","Oct","Nov","Dec"]
[2007,{"$nulls":235},163]
[2008,{"$nulls":235},199]
[2009,{"$nulls":235},195]
[2010,{"$nulls":235},192]
[2011,{"$nulls":235},229]
[2012,{"$nulls":235},197]
[2017,{"$nulls":234},2017,244,284,238,235,284,196,304,192,351,247,166,196]
[2018,{"$nulls":234},2018,296,172,200,311,249,246,200,173,164,327,401,203]
[2019,{"$nulls":234},2019,141,224,162,279,253,195,237,370,195,181,145,245]
[2020,{"$nulls":234},2020,174,104,195,189,150,189,282,189,276,254,211,176]
[2021,{"$nulls":234},2021,184,203,228,204,119,158,145,139,146,162,208,165]
[2022,{"$nulls":234},2022,190,121,199,217,182,126,88,116,84,140,209,233]
[2023,{"$nulls":234},2023,101,207,138,118,133,191,89]

{"sheet":"Sheet1","index":76,"n_rows":6,"n_cols":37,"rows_kept":6,"cut":false,"hidden":false,"merged":[]}
["Sold Residential by Price Range","2021-01-01","2021-02-01","2021-03-01","2021-04-01","2021-05-01","2021-06-01","2021-07-01","2021-08-01","2021-09-01","2021-10-01","2021-11-01","2021-12-01","2022-01-01","2022-02-01","2022-03-01","2022-04-01","2022-05-01","2022-06-01","2022-07-01","2022-08-01","2022-09-01","2022-10-01","2022-11-01","2022-12-01","2023-01-01","2023-02-01","2023-03-01","2023-04-01","2023-05-01","2023-06-01","2023-07-01","2023-08-01","2023-09-01","2023-10-01","2023-11-01","2023-12-01"]
["$200,000 - $499,999",{"$f":"'Raw Data'!HE61","v":145},{"$f":"'Raw Data'!HF61","v":137},{"$f":"'Raw Data'!HG61","v":176},{"$f":"'Raw Data'!HH61","v":167},{"$f":"'Raw Data'!HI61","v":153},{"$f":"'Raw Data'!HJ61","v":125},{"$f":"'Raw Data'!HK61","v":114},{"$f":"'Raw Data'!HL61","v":93},{"$f":"'Raw Data'!HM61","v":105},{"$f":"'Raw Data'!HN61","v":110},{"$f":"'Raw Data'!HO61","v":121},{"$f":"'Raw Data'!HP61","v":99},{"$f":"'Raw Data'!HQ61","v":87},{"$f":"'Raw Data'!HR61","v":69},{"$f":"'Raw Data'!HS61","v":105},{"$f":"'Raw Data'!HT61","v":97},{"$f":"'Raw Data'!HU61","v":90},{"$f":"'Raw Data'!HV61","v":91},{"$f":"'Raw Data'!HW61","v":64},{"$f":"'Raw Data'!HX61","v":85},{"$f":"'Raw Data'!HY61","v":55},{"$f":"'Raw Data'!HZ61","v":51},{"$f":"'Raw Data'!IA61","v":67},{"$f":"'Raw Data'!IB61","v":52},{"$f":"'Raw Data'!IC61","v":41},{"$f":"'Raw Data'!ID61","v":64},{"$f":"'Raw Data'!IE61","v":84},{"$f":"'Raw Data'!IF61","v":63},{"$f":"'Raw Data'!IG61","v":76},{"$f":"'Raw Data'!IH61","v":62},{"$f":"'Raw Data'!II61","v":44},{"$f":"'Raw Data'!IJ61","v":0},{"$f":"'Raw Data'!IK61","v":0},{"$f":"'Raw Data'!IL61","v":0},{"$f":"'Raw Data'!IM61","v":0},{"$f":"'Raw Data'!IN61","v":0}]
["Below $199,999K",{"$f":"'Raw Data'!HE62","v":15},{"$f":"'Raw Data'!HF62","v":13},{"$f":"'Raw Data'!HG62","v":30},{"$f":"'Raw Data'!HH62","v":27},{"$f":"'Raw Data'!HI62","v":31},{"$f":"'Raw Data'!HJ62","v":22},{"$f":"'Raw Data'!HK62","v":20},{"$f":"'Raw Data'!HL62","v":23},{"$f":"'Raw Data'!HM62","v":15},{"$f":"'Raw Data'!HN62","v":13},{"$f":"'Raw Data'!HO62","v":18},{"$f":"'Raw Data'!HP62","v":9},{"$f":"'Raw Data'!HQ62","v":8},{"$f":"'Raw Data'!HR62","v":6},{"$f":"'Raw Data'!HS62","v":20},{"$f":"'Raw Data'!HT62","v":7},{"$f":"'Raw Data'!HU62","v":3},{"$f":"'Raw Data'!HV62","v":12},{"$f":"'Raw Data'!HW62","v":11},{"$f":"'Raw Data'!HX62","v":14},{"$f":"'Raw Data'!HY62","v":7},{"$f":"'Raw Data'!HZ62","v":9},{"$f":"'Raw Data'!IA62","v":8},{"$f":"'Raw Data'!IB62","v":9},{"$f":"'Raw Data'!IC62","v":2},{"$f":"'Raw Data'!ID62","v":12},{"$f":"'Raw Data'!IE62","v":2},{"$f":"'Raw Data'!IF62","v":12},{"$f":"'Raw Data'!IG62","v":6},{"$f":"'Raw Data'!IH62","v":11},{"$f":"'Raw Data'!II62","v":10},{"$f":"'Raw Data'!IJ62","v":0},{"$f":"'Raw Data'!IK62","v":0},{"$f":"'Raw Data'!IL62","v":0},{"$f":"'Raw Data'!IM62","v":0},{"$f":"'Raw Data'!IN62","v":0}]
["$500,000 - $749,999",{"$f":"'Raw Data'!HE63","v":65},{"$f":"'Raw Data'!HF63","v":53},{"$f":"'Raw Data'!HG63","v":83},{"$f":"'Raw Data'!HH63","v":74},{"$f":"'Raw Data'!HI63","v":75},{"$f":"'Raw Data'!HJ63","v":86},{"$f":"'Raw Data'!HK63","v":73},{"$f":"'Raw Data'!HL63","v":66},{"$f":"'Raw Data'!HM63","v":56},{"$f":"'Raw Data'!HN63","v":74},{"$f":"'Raw Data'!HO63","v":61},{"$f":"'Raw Data'!HP63","v":61},{"$f":"'Raw Data'!HQ63","v":52},{"$f":"'Raw Data'!HR63","v":42},{"$f":"'Raw Data'!HS63","v":80},{"$f":"'Raw Data'!HT63","v":77},{"$f":"'Raw Data'!HU63","v":71},{"$f":"'Raw Data'!HV63","v":68},{"$f":"'Raw Data'!HW63","v":46},{"$f":"'Raw Data'!HX63","v":55},{"$f":"'Raw Data'!HY63","v":56},{"$f":"'Raw Data'!HZ63","v":45},{"$f":"'Raw Data'!IA63","v":48},{"$f":"'Raw Data'!IB63","v":35},{"$f":"'Raw Data'!IC63","v":27},{"$f":"'Raw Data'!ID63","v":39},{"$f":"'Raw Data'!IE63","v":57},{"$f":"'Raw Data'!IF63","v":48},{"$f":"'Raw Data'!IG63","v":57},{"$f":"'Raw Data'!IH63","v":53},{"$f":"'Raw Data'!II63","v":39},{"$f":"'Raw Data'!IJ63","v":0},{"$f":"'Raw Data'!IK63","v":0},{"$f":"'Raw Data'!IL63","v":0},{"$f":"'Raw Data'!IM63","v":0},{"$f":"'Raw Data'!IN63","v":0}]
["$750,000 and Above",{"$f":"'Raw Data'!HE64","v":38},{"$f":"'Raw Data'!HF64","v":35},{"$f":"'Raw Data'!HG64","v":88},{"$f":"'Raw Data'!HH64","v":80},{"$f":"'Raw Data'!HI64","v":78},{"$f":"'Raw Data'!HJ64","v":88},{"$f":"'Raw Data'!HK64","v":56},{"$f":"'Raw Data'!HL64","v":52},{"$f":"'Raw Data'!HM64","v":54},{"$f":"'Raw Data'!HN64","v":56},{"$f":"'Raw Data'!HO64","v":67},{"$f":"'Raw Data'!HP64","v":70},{"$f":"'Raw Data'!HQ64","v":78},{"$f":"'Raw Data'!HR64","v":63},{"$f":"'Raw Data'!HS64","v":95},{"$f":"'Raw Data'!HT64","v":84},{"$f":"'Raw Data'!HU64","v":83},{"$f":"'Raw Data'!HV64","v":64},{"$f":"'Raw Data'!HW64","v":50},{"$f":"'Raw Data'!HX64","v":47},{"$f":"'Raw Data'!HY64","v":49},{"$f":"'Raw Data'!HZ64","v":56},{"$f":"'Raw Data'!IA64","v":38},{"$f":"'Raw Data'!IB64","v":35},{"$f":"'Raw Data'!IC64","v":31},{"$f":"'Raw Data'!ID64","v":22},{"$f":"'Raw Data'!IE64","v":50},{"$f":"'Raw Data'!IF64","v":43},{"$f":"'Raw Data'!IG64","v":46},{"$f":"'Raw Data'!IH64","v":63},{"$f":"'Raw Data'!II64","v":33},{"$f":"'Raw Data'!IJ64","v":0},{"$f":"'Raw Data'!IK64","v":0},{"$f":"'Raw Data'!IL64","v":0},{"$f":"'Raw Data'!IM64","v":0},{"$f":"'Raw Data'!IN64","v":0}]
["Total",{"$f":"'Raw Data'!HE65","v":263},{"$f":"'Raw Data'!HF65","v":238},{"$f":"'Raw Data'!HG65","v":377},{"$f":"'Raw Data'!HH65","v":348},{"$f":"'Raw Data'!HI65","v":337},{"$f":"'Raw Data'!HJ65","v":321},{"$f":"'Raw Data'!HK65","v":263},{"$f":"'Raw Data'!HL65","v":234},{"$f":"'Raw Data'!HM65","v":230},{"$f":"'Raw Data'!HN65","v":253},{"$f":"'Raw Data'!HO65","v":267},{"$f":"'Raw Data'!HP65","v":239},{"$f":"'Raw Data'!HQ65","v":225},{"$f":"'Raw Data'!HR65","v":180},{"$f":"'Raw Data'!HS65","v":300},{"$f":"'Raw Data'!HT65","v":265},{"$f":"'Raw Data'!HU65","v":247},{"$f":"'Raw Data'!HV65","v":235},{"$f":"'Raw Data'!HW65","v":171},{"$f":"'Raw Data'!HX65","v":201},{"$f":"'Raw Data'!HY65","v":167},{"$f":"'Raw Data'!HZ65","v":161},{"$f":"'Raw Data'!IA65","v":161},{"$f":"'Raw Data'!IB65","v":131},{"$f":"'Raw Data'!IC65","v":101},{"$f":"'Raw Data'!ID65","v":137},{"$f":"'Raw Data'!IE65","v":193},{"$f":"'Raw Data'!IF65","v":166},{"$f":"'Raw Data'!IG65","v":185},{"$f":"'Raw Data'!IH65","v":189},{"$f":"'Raw Data'!II65","v":126},{"$f":"'Raw Data'!IJ65","v":0},{"$f":"'Raw Data'!IK65","v":0},{"$f":"'Raw Data'!IL65","v":0},{"$f":"'Raw Data'!IM65","v":0},{"$f":"'Raw Data'!IN65","v":0}]